Workbook

Sheet ATTAINMENET LEVEL
F5: DIRECT ASSESSMENT METHOD
E8: 1 | F8: Enter the CO's for the respective internal which you have asked
E9: 2 | F9: Enter the maximum marks given to each CO in the marks cell
E10: 3 | F10: Enter the marks scored by the students below respective CO
E11: 4 | F11: Enter the parameters asked ( Total strentgh, Assign target percentage…)
E12: 5 | F12: SEE- Exam marks is same for all COs of that subject | G12: Tough Subject 60%
E13: 6 | F13: Target may be same or different for different CO | G13: Easy Subject 70%
E14: 7 | F14: Target may be different for different subjects, theritical/problematic subject, example
D20: Attainment Levels of COs
D21: Course Name:DESIGN LAB Course Code:15MEL76
D22: Assessment Methods | E22: Target-Attainment Levels | G22: Attainement
D23: Internal Assessment(CIE) | E23: Level 1 | F23: 60% of students scoring more than 50% marks in internal assessment tools | G23: Level 3
E24: Level 2 | F24: 70% of students scoring more than 50% marks in internal assessment tools
E25: Level 3 | F25: 80% of students scoring more than 50% marks in internal assessment tools
D28: Assessment Methods | E28: Target-Attainment Levels | G28: Attainement
D29: University Assessment (SEE) | E29: Level 1 | F29: 60% of students scoring more than 40% marks in internal assessment tools | G29: Level 3
E30: Level 2 | F30: 70% of students scoring more than 40% marks in internal assessment tools
E31: Level 3 | F31: 80% of students scoring more than 40% marks in internal assessment tools

Sheet TEST MARKS 
A1: Sapthagiri College of Engineering
A2: Department of Mechanical Engineering
A3: SEM & SEC : 7 'A&B' SEC | C3: Subject: DESIGN LAB | I3: Subject Code: 15MEL76
A4: NAME OF THE FACULTY :Dr.Tulsidas,Chetan B P,Pramod S V | F4: YEAR : 2018-19 ODD SEM | I4: SCHEME :2015
A5: Sl. No. | B5: Name of the student | C5: USN | D5: INTERNALS | J5: ASSIGNMENT'S | P5: EXTERNAL EXAM
D7: Q1 or 2 | E7: Q3 or 4 | F7: Q1 or 2 | G7: Q3 or 4 | H7: Q1 or 2 | I7: Q3 or 4
D8: CO1 | E8: CO2 | F8: CO3 | G8: CO4 | H8: CO5 | I8: CO6 | J8: CO1 | K8: CO2 | L8: CO3 | M8: CO4 | N8: CO5 | O8: CO6 | P8: CO1,CO2,CO3,CO4,CO5,CO6
D9: 20 | E9: 20 | F9: 20 | G9: 20 | H9: 20 | I9: 20 | J9: 25 | K9: 25 | L9: 25 | M9: 25 | N9: 25 | O9: 25 | P9: 80
A10: 1 | B10: AFTAB AHMED WALA | C10: 1SG15ME004 | D10: 16 | E10: 16 | F10: 16 | G10: 16 | H10: 16 | I10: 16 | P10: 47
A11: 2 | B11: AJEYA.V | C11: 1SG15ME006 | D11: 20 | E11: 20 | F11: 20 | G11: 20 | H11: 20 | I11: 20 | P11: 74
A12: 3 | B12: AJITH S P | C12: 1SG15ME007 | D12: 17 | E12: 17 | F12: 17 | G12: 17 | H12: 17 | I12: 17 | P12: 55
A13: 4 | B13: AKSHAY S | C13: 1SG15ME008 | D13: 17 | E13: 17 | F13: 17 | G13: 17 | H13: 17 | I13: 17 | P13: 66
A14: 5 | B14: AMITH.R | C14: 1SG15ME010 | D14: 16 | E14: 16 | F14: 16 | G14: 16 | H14: 16 | I14: 16 | P14: 66
A15: 6 | B15: ANIL KUMAR C | C15: 1SG15ME011 | D15: 18 | E15: 18 | F15: 18 | G15: 18 | H15: 18 | I15: 18 | P15: 68
A16: 7 | B16: ANIRUDH R K | C16: 1SG15ME012 | D16: 18 | E16: 18 | F16: 18 | G16: 18 | H16: 18 | I16: 18 | P16: 51
A17: 8 | B17: ARJUN S | C17: 1SG15ME013 | D17: 18 | E17: 18 | F17: 18 | G17: 18 | H17: 18 | I17: 18 | J17: 25 | K17: 25 | L17: 25 | M17: 25 | N17: 25 | O17: 25 | P17: 69
A18: 9 | B18: ASHISH SHARMA | C18: 1SG15ME014 | D18: 15 | E18: 15 | F18: 15 | G18: 15 | H18: 15 | I18: 15 | P18: 37
A19: 10 | B19: AYAN GUHA RAOY | C19: 1SG15ME015 | D19: 16 | E19: 16 | F19: 16 | G19: 16 | H19: 16 | I19: 16 | P19: 67
A20: 11 | B20: BHARATH .V | C20: 1SG15ME017 | D20: 20 | E20: 20 | F20: 20 | G20: 20 | H20: 20 | I20: 20 | P20: 75
A21: 12 | B21: C KARTHIK | C21: 1SG15ME018 | D21: 16 | E21: 16 | F21: 16 | G21: 16 | H21: 16 | I21: 16 | P21: 47
A22: 13 | B22: CHETHAN I P | C22: 1SG15ME020 | D22: 19 | E22: 19 | F22: 19 | G22: 19 | H22: 19 | I22: 19 | P22: 68
A23: 14 | B23: DAYANANDA M | C23: 1SG15ME021 | D23: 16 | E23: 16 | F23: 16 | G23: 16 | H23: 16 | I23: 16 | P23: 60
A24: 15 | B24: DEEPU H S | C24: 1SG15ME022 | D24: 20 | E24: 20 | F24: 20 | G24: 20 | H24: 20 | I24: 20 | P24: 79
A25: 16 | B25: DEVARAJ HIREMATH | C25: 1SG15ME023 | D25: 17 | E25: 17 | F25: 17 | G25: 17 | H25: 17 | I25: 17 | P25: 60
A26: 17 | B26: DHANANJAYA V | C26: 1SG15ME024 | D26: 18 | E26: 18 | F26: 18 | G26: 18 | H26: 18 | I26: 18 | P26: 60
A27: 18 | B27: DHANRAJ M | C27: 1SG15ME025 | D27: 19 | E27: 19 | F27: 19 | G27: 19 | H27: 19 | I27: 19 | P27: 66
A28: 19 | B28: DHARSHAN M J | C28: 1SG15ME026 | D28: 19 | E28: 19 | F28: 19 | G28: 19 | H28: 19 | I28: 19 | P28: 62
A29: 20 | B29: DILIP M | C29: 1SG15ME028 | D29: 20 | E29: 20 | F29: 20 | G29: 20 | H29: 20 | I29: 20 | P29: 39
... A37: 28 | B37: JOHN PATRICK .G | C37: 1SG15ME043 | D37: 20 | E37: 20 | F37: 20 | G37: 20 | H37: 20 | I37: 20 | P37: 65
A38: 29 | B38: KISHAN SHARMA | C38: 1SG15ME044 | D38: 18 | E38: 18 | F38: 18 | G38: 18 | H38: 18 | I38: 18 | J38: 23 | K38: 23 | L38: 23 | M38: 23 | N38: 23 | O38: 23 | P38: 48
A39: 30 | B39: KUMAR P G | C39: 1SG15ME046 | D39: 20 | E39: 20 | F39: 20 | G39: 20 | H39: 20 | I39: 20 | J39: 21 | K39: 21 | L39: 21 | M39: 21 | N39: 21 | O39: 21 | P39: 65
A40: 31 | B40: KUMAR ROHAN | C40: 1SG15ME047 | D40: 20 | E40: 20 | F40: 20 | G40: 20 | H40: 20 | I40: 20 | P40: 66
A41: 32 | B41: K.SAISOMASEKHAR | C41: 1SG15ME048 | D41: 18 | E41: 18 | F41: 18 | G41: 18 | H41: 18 | I41: 18 | P41: 32
A42: 33 | B42: KUSHAL S | C42: 1SG15ME049 | D42: 19 | E42: 19 | F42: 19 | G42: 19 | H42: 19 | I42: 19 | P42: 62
A43: 34 | B43: LIKITH P S | C43: 1SG15ME050 | D43: 18 | E43: 18 | F43: 18 | G43: 18 | H43: 18 | I43: 18 | P43: 46
A44: 35 | B44: MADAN KUMAR L | C44: 1SG15ME052 | D44: 20 | E44: 20 | F44: 20 | G44: 20 | H44: 20 | I44: 20 | P44: 54
A45: 36 | B45: MANJUNATH M | C45: 1SG15ME053 | D45: 20 | E45: 20 | F45: 20 | G45: 20 | H45: 20 | I45: 20 | P45: 58
A46: 37 | B46: MD REHAN NASIM | C46: 1SG15ME054 | D46: 18 | E46: 18 | F46: 18 | G46: 18 | H46: 18 | I46: 18 | P46: 34
A47: 38 | B47: MITHUN RAGHUNANDAN | C47: 1SG15ME055 | D47: 20 | E47: 20 | F47: 20 | G47: 20 | H47: 20 | I47: 20 | P47: 74
A48: 39 | B48: DHANUSH N | C48: 1SG15ME057 | D48: 20 | E48: 20 | F48: 20 | G48: 20 | H48: 20 | I48: 20 | P48: 60
A49: 40 | B49: NAGARJUN S TAKKALAKI | C49: 1SG15ME058 | D49: 20 | E49: 20 | F49: 20 | G49: 20 | H49: 20 | I49: 20 | P49: 54
A50: 41 | B50: NAGARJUN M | C50: 1SG15ME059 | D50: 20 | E50: 20 | F50: 20 | G50: 20 | H50: 20 | I50: 20 | P50: 39
A51: 42 | B51: NISCHITH A G | C51: 1SG15ME060 | D51: 20 | E51: 20 | F51: 20 | G51: 20 | H51: 20 | I51: 20 | P51: 66
... A75: 66 | B75: SANTHOSHA | C75: 1SG15ME083 | D75: 18 | E75: 18 | F75: 18 | G75: 18 | H75: 18 | I75: 18 | P75: 65
A76: 67 | B76: SAURABH RAJESH PARAVE | C76: 1SG15ME084 | D76: 19 | E76: 19 | F76: 19 | G76: 19 | H76: 19 | I76: 19 | J76: 23 | K76: 23 | L76: 23 | M76: 23 | N76: 23 | O76: 23 | P76: 35
A77: 68 | B77: SHARATH.A.R | C77: 1SG15ME089 | D77: 18 | E77: 18 | F77: 18 | G77: 18 | H77: 18 | I77: 18 | P77: 24
A78: 69 | B78: SHASHANK H PRASAD | C78: 1SG15ME091 | D78: 19 | E78: 19 | F78: 19 | G78: 19 | H78: 19 | I78: 19 | P78: 60
A79: 70 | B79: SHUBHAM MAJHI | C79: 1SG15ME092 | D79: 18 | E79: 18 | F79: 18 | G79: 18 | H79: 18 | I79: 18 | P79: 56
A80: 71 | B80: SRIDHAR N S | C80: 1SG15ME094 | D80: 18 | E80: 18 | F80: 18 | G80: 18 | H80: 18 | I80: 18 | P80: 72
A81: 72 | B81: SUKRUTH C | C81: 1SG15ME095 | D81: 18 | E81: 18 | F81: 18 | G81: 18 | H81: 18 | I81: 18 | P81: 32
A82: 73 | B82: SUKRUTH K | C82: 1SG15ME096 | D82: 18 | E82: 18 | F82: 18 | G82: 18 | H82: 18 | I82: 18 | P82: 64
A83: 74 | B83: SUMUKH G K | C83: 1SG15ME098 | D83: 18 | E83: 18 | F83: 18 | G83: 18 | H83: 18 | I83: 18 | P83: 66
A84: 75 | B84: SYED ABEED | C84: 1SG15ME099 | D84: 20 | E84: 20 | F84: 20 | G84: 20 | H84: 20 | I84: 20 | P84: 68
A85: 76 | B85: VIGNESH K M | C85: 1SG15ME101 | D85: 18 | E85: 18 | F85: 18 | G85: 18 | H85: 18 | I85: 18 | P85: 56
A86: 77 | B86: YOGESH GOWDA H | C86: 1SG15ME104 | D86: 18 | E86: 18 | F86: 18 | G86: 18 | H86: 18 | I86: 18 | P86: 35
A87: 78 | B87: YOGESH B | C87: 1SG15ME105 | D87: 18 | E87: 18 | F87: 18 | G87: 18 | H87: 18 | I87: 18 | P87: 32
A88: 79 | B88: AKSHAY S R | C88: 1SG16ME400 | D88: 20 | E88: 20 | F88: 20 | G88: 20 | H88: 20 | I88: 20 | P88: 53
... A102: 93 | B102: MANJUNATH B G | C102: 1SG16ME418 | D102: 18 | E102: 18 | F102: 18 | G102: 18 | H102: 18 | I102: 18 | P102: 70
A103: 94 | B103: MANOJ KUMAR J | C103: 1SG16ME420 | D103: 18 | E103: 18 | F103: 18 | G103: 18 | H103: 18 | I103: 18 | J103: 23 | K103: 23 | L103: 23 | M103: 23 | N103: 23 | O103: 23 | P103: 68
A104: 95 | B104: MOUNESH | C104: 1SG16ME421 | D104: 19 | E104: 19 | F104: 19 | G104: 19 | H104: 19 | I104: 19 | P104: 70
A105: 96 | B105: P K MUSTAFA | C105: 1SG16ME422 | D105: 18 | E105: 18 | F105: 18 | G105: 18 | H105: 18 | I105: 18 | P105: 71
A106: 97 | B106: NAGARAJ BHAT | C106: 1SG16ME423 | D106: 19 | E106: 19 | F106: 19 | G106: 19 | H106: 19 | I106: 19 | P106: 74
A107: 98 | B107: NIVEDITHA SHREE N | C107: 1SG16ME424 | D107: 18 | E107: 18 | F107: 18 | G107: 18 | H107: 18 | I107: 18 | P107: 64
A108: 99 | B108: POORVIK S | C108: 1SG16ME426 | D108: 18 | E108: 18 | F108: 18 | G108: 18 | H108: 18 | I108: 18 | P108: 68
A109: 100 | B109: PRASHANTH KUMAR V | C109: 1SG16ME427 | D109: 18 | E109: 18 | F109: 18 | G109: 18 | H109: 18 | I109: 18 | P109: 60
A110: 101 | B110: PRAVEEN N S | C110: 1SG16ME428 | D110: 19 | E110: 19 | F110: 19 | G110: 19 | H110: 19 | I110: 19 | P110: 70
A111: 102 | B111: PUNITH A N | C111: 1SG16ME429 | D111: 18 | E111: 18 | F111: 18 | G111: 18 | H111: 18 | I111: 18 | P111: 68
A112: 103 | B112: SANDEEP R P | C112: 1SG16ME430 | D112: 18 | E112: 18 | F112: 18 | G112: 18 | H112: 18 | I112: 18 | P112: 71
A113: 104 | B113: RAJESHA K H | C113: 1SG16ME431 | D113: 17 | E113: 17 | F113: 17 | G113: 17 | H113: 17 | I113: 17 | P113: 70
A114: 105 | B114: RAKESH KUMAR | C114: 1SG16ME432 | D114: 19 | E114: 19 | F114: 19 | G114: 19 | H114: 19 | I114: 19 | P114: 70
A115: 106 | B115: RAKSHITH K L | C115: 1SG16ME433 | D115: 19 | E115: 19 | F115: 19 | G115: 19 | H115: 19 | I115: 19 | P115: 70
... A118: 109 | B118: SHRAVANI S | C118: 1SG16ME438 | D118: 18 | E118: 18 | F118: 18 | G118: 18 | H118: 18 | I118: 18 | P118: 65
A119: 110 | B119: SHREERAM A | C119: 1SG16ME439 | D119: 20 | E119: 20 | F119: 20 | G119: 20 | H119: 20 | I119: 20 | J119: 24 | K119: 24 | L119: 24 | M119: 24 | N119: 24 | O119: 24 | P119: 70
A120: 111 | B120: SHRIDHAR A S | C120: 1SG16ME440 | D120: 18 | E120: 18 | F120: 18 | G120: 18 | H120: 18 | I120: 18 | P120: 70
A121: 112 | B121: VIJAY M R | C121: 1SG16ME442 | D121: 20 | E121: 20 | F121: 20 | G121: 20 | H121: 20 | I121: 20 | P121: 72
A122: 113 | B122: VINAY M | C122: 1SG16ME443 | D122: 17 | E122: 17 | F122: 17 | G122: 17 | H122: 17 | I122: 17 | P122: 71
A123: 114 | B123: YASHAVANTH A S | C123: 1SG16ME444 | D123: 18 | E123: 18 | F123: 18 | G123: 18 | H123: 18 | I123: 18 | P123: 71
A124: 115
A125: 116
A126: 117
A127: 118
A128: 119
A129: 120
D131: CO1 | E131: CO2 | F131: CO3 | G131: CO4 | H131: CO5 | I131: CO6 | J131: CO1 | K131: CO2 | L131: CO3 | M131: CO4 | N131: CO5 | O131: CO6 | P131: CO1,CO2,CO3,CO4,CO5,CO6
D132: =COUNTIF(D8:I8,"CO1") -> 1 | E132: =COUNTIF(D8:I8,"CO2") -> 1 | F132: =COUNTIF(D8:I8,"CO3") -> 1 | G132: =COUNTIF(D8:I8,"CO4") -> 1 | H132: =COUNTIF(D8:I8,"CO5") -> 1 | I132: =COUNTIF(D8:I8,"CO6") -> 1 | J132: =COUNTIF(J131:O131,"CO1") -> 1 | K132: =COUNTIF(J131:O131,"CO2") -> 1 | L132: =COUNTIF(J131:O131,"CO3") -> 1 | M132: =COUNTIF(J131:O131,"CO4") -> 1 | N132: =COUNTIF(J131:O131,"CO5") -> 1 | O132: =COUNTIF(J131:O131,"CO6") -> 1 | P132: =P9 -> 80
C133: CO's TOTAL | D133: =SUMIF($D$8:$I$8,D131,$D$9:$I$9) -> 20 | E133: =SUMIF($D$8:$I$8,E131,$D$9:$I$9) -> 20 | F133: =SUMIF($D$8:$I$8,F131,$D$9:$I$9) -> 20 | G133: =SUMIF($D$8:$I$8,G131,$D$9:$I$9) -> 20 | H133: =SUMIF($D$8:$I$8,H131,$D$9:$I$9) -> 20 | I133: =SUMIF($D$8:$I$8,I131,$D$9:$I$9) -> 20 | J133: =SUMIF($J$8:$O$8,J131,$J$9:$O$9) -> 25 | K133: =SUMIF($J$8:$O$8,K131,$J$9:$O$9) -> 25 | L133: =SUMIF($J$8:$O$8,L131,$J$9:$O$9) -> 25 | M133: =SUMIF($J$8:$O$8,M131,$J$9:$O$9) -> 25 | N133: =SUMIF($J$8:$O$8,N131,$J$9:$O$9) -> 25 | O133: =SUMIF($J$8:$O$8,O131,$J$9:$O$9) -> 25 | P133: =P132 -> 80
B136: TOTAL NO OF STUDENTS | D136: 114
B137: IA TEST TARGET PERCENTAGE | D137: 85 | E137: %
B138: ASSIGN TARGET PERCENTAGE | D138: 80 | E138: %
B139: SEE(EXAM) TARGET PERCENTAGE | D139: 50 | E139: %
B140: TARGET PERCENTAGE | D140: 80 | E140: %
B141: MAXIMUM MARKS IN EXAM | D141: 80

Sheet TEST -CO 
A6: Sl. No. | B6: Name of the student | C6: USN | J6: ATTAINMENT (%) | P6: Y OR N
D8: I | E8: I | F8: II | G8: IV | H8: V | I8: VI | J8: ='TEST MARKS '!D133 -> 20 | K8: ='TEST MARKS '!E133 -> 20 | L8: ='TEST MARKS '!F133 -> 20 | M8: ='TEST MARKS '!G133 -> 20 | N8: ='TEST MARKS '!H133 -> 20 | O8: ='TEST MARKS '!I133 -> 20 | P8: I | Q8: I | R8: II | S8: II | T8: III | U8: III
D9: CO1 | E9: CO2 | F9: CO3 | G9: CO4 | H9: CO5 | I9: CO6 | J9: CO1 | K9: CO2 | L9: =F9 -> CO3 | M9: =G9 -> CO4 | N9: =H9 -> CO5 | O9: =I9 -> CO6 | P9: =J9 -> CO1 | Q9: =K9 -> CO2 | R9: =L9 -> CO3 | S9: =M9 -> CO4 | ... U9: =O9 -> CO6
A10: ='TEST MARKS '!A10 -> 1 | B10: AFTAB AHMED WALA | C10: 1SG15ME004 | D10: =SUMIF('TEST MARKS '!$D$8:$I$8,$D$9,'TEST MARKS '!D10:I10) -> 16 | E10: =SUMIF('TEST MARKS '!$D$8:$I$8,$E$9,'TEST MARKS '!D10:I10) -> 16 | F10: =SUMIF('TEST MARKS '!$D$8:$I$8,$F$9,'TEST MARKS '!D10:I10) -> 16 | G10: =SUMIF('TEST MARKS '!$D$8:$I$8,$G$9,'TEST MARKS '!D10:I10) -> 16 | H10: =SUMIF('TEST MARKS '!$D$8:$I$8,$H$9,'TEST MARKS '!D10:I10) -> 16 | I10: =SUMIF('TEST MARKS '!$D$8:$I$8,$I$9,'TEST MARKS '!D10:I10) -> 16 | J10: =D10*100/$J$8 -> 80 | K10: =E10*100/$K$8 -> 80 | L10: =F10*100/$L$8 -> 80 | M10: =G10*100/$M$8 -> 80 | N10: =H10*100/$N$8 -> 80 | O10: =I10*100/$O$8 -> 80 | P10: =IF(J10<'TEST MARKS '!$D$137,"N","Y") -> N | Q10: =IF(K10<'TEST MARKS '!$D$137,"N","Y") -> N | R10: =IF(L10<'TEST MARKS '!$D$137,"N","Y") -> N | S10: =IF(M10<'TEST MARKS '!$D$137,"N","Y") -> N | T10: =IF(N10<'TEST MARKS '!$D$137,"N","Y") -> N | U10: =IF(O10<'TEST MARKS '!$D$137,"N","Y") -> N
A11: 2 | B11: AJEYA.V | C11: 1SG15ME006 | D11: =SUMIF('TEST MARKS '!$D$8:$I$8,$D$9,'TEST MARKS '!D11:I11) -> 20 | E11: =SUMIF('TEST MARKS '!$D$8:$I$8,$E$9,'TEST MARKS '!D11:I11) -> 20 | F11: =SUMIF('TEST MARKS '!$D$8:$I$8,$F$9,'TEST MARKS '!D11:I11) -> 20 | G11: =SUMIF('TEST MARKS '!$D$8:$I$8,$G$9,'TEST MARKS '!D11:I11) -> 20 | H11: =SUMIF('TEST MARKS '!$D$8:$I$8,$H$9,'TEST MARKS '!D11:I11) -> 20 | I11: =SUMIF('TEST MARKS '!$D$8:$I$8,$I$9,'TEST MARKS '!D11:I11) -> 20 | J11: =D11*100/$J$8 -> 100 | K11: =E11*100/$K$8 -> 100 | L11: =F11*100/$L$8 -> 100 | M11: =G11*100/$M$8 -> 100 | N11: =H11*100/$N$8 -> 100 | O11: =I11*100/$O$8 -> 100 | P11: =IF(J11<'TEST MARKS '!$D$137,"N","Y") -> Y | Q11: =IF(K11<'TEST MARKS '!$D$137,"N","Y") -> Y | R11: =IF(L11<'TEST MARKS '!$D$137,"N","Y") -> Y | S11: =IF(M11<'TEST MARKS '!$D$137,"N","Y") -> Y | T11: =IF(N11<'TEST MARKS '!$D$137,"N","Y") -> Y | U11: =IF(O11<'TEST MARKS '!$D$137,"N","Y") -> Y
A12: 3 | B12: AJITH S P | C12: 1SG15ME007 | D12: =SUMIF('TEST MARKS '!$D$8:$I$8,$D$9,'TEST MARKS '!D12:I12) -> 17 | E12: =SUMIF('TEST MARKS '!$D$8:$I$8,$E$9,'TEST MARKS '!D12:I12) -> 17 | F12: =SUMIF('TEST MARKS '!$D$8:$I$8,$F$9,'TEST MARKS '!D12:I12) -> 17 | G12: =SUMIF('TEST MARKS '!$D$8:$I$8,$G$9,'TEST MARKS '!D12:I12) -> 17 | H12: =SUMIF('TEST MARKS '!$D$8:$I$8,$H$9,'TEST MARKS '!D12:I12) -> 17 | I12: =SUMIF('TEST MARKS '!$D$8:$I$8,$I$9,'TEST MARKS '!D12:I12) -> 17 | J12: =D12*100/$J$8 -> 85 | K12: =E12*100/$K$8 -> 85 | L12: =F12*100/$L$8 -> 85 | M12: =G12*100/$M$8 -> 85 | N12: =H12*100/$N$8 -> 85 | O12: =I12*100/$O$8 -> 85 | P12: =IF(J12<'TEST MARKS '!$D$137,"N","Y") -> Y | Q12: =IF(K12<'TEST MARKS '!$D$137,"N","Y") -> Y | R12: =IF(L12<'TEST MARKS '!$D$137,"N","Y") -> Y | S12: =IF(M12<'TEST MARKS '!$D$137,"N","Y") -> Y | T12: =IF(N12<'TEST MARKS '!$D$137,"N","Y") -> Y | U12: =IF(O12<'TEST MARKS '!$D$137,"N","Y") -> Y
A13: 4 | B13: AKSHAY S | C13: 1SG15ME008 | D13: =SUMIF('TEST MARKS '!$D$8:$I$8,$D$9,'TEST MARKS '!D13:I13) -> 17 | E13: =SUMIF('TEST MARKS '!$D$8:$I$8,$E$9,'TEST MARKS '!D13:I13) -> 17 | F13: =SUMIF('TEST MARKS '!$D$8:$I$8,$F$9,'TEST MARKS '!D13:I13) -> 17 | G13: =SUMIF('TEST MARKS '!$D$8:$I$8,$G$9,'TEST MARKS '!D13:I13) -> 17 | H13: =SUMIF('TEST MARKS '!$D$8:$I$8,$H$9,'TEST MARKS '!D13:I13) -> 17 | I13: =SUMIF('TEST MARKS '!$D$8:$I$8,$I$9,'TEST MARKS '!D13:I13) -> 17 | J13: =D13*100/$J$8 -> 85 | K13: =E13*100/$K$8 -> 85 | L13: =F13*100/$L$8 -> 85 | M13: =G13*100/$M$8 -> 85 | N13: =H13*100/$N$8 -> 85 | O13: =I13*100/$O$8 -> 85 | P13: =IF(J13<'TEST MARKS '!$D$137,"N","Y") -> Y | Q13: =IF(K13<'TEST MARKS '!$D$137,"N","Y") -> Y | R13: =IF(L13<'TEST MARKS '!$D$137,"N","Y") -> Y | S13: =IF(M13<'TEST MARKS '!$D$137,"N","Y") -> Y | T13: =IF(N13<'TEST MARKS '!$D$137,"N","Y") -> Y | U13: =IF(O13<'TEST MARKS '!$D$137,"N","Y") -> Y
A14: 5 | B14: AMITH.R | C14: 1SG15ME010 | D14: =SUMIF('TEST MARKS '!$D$8:$I$8,$D$9,'TEST MARKS '!D14:I14) -> 16 | E14: =SUMIF('TEST MARKS '!$D$8:$I$8,$E$9,'TEST MARKS '!D14:I14) -> 16 | F14: =SUMIF('TEST MARKS '!$D$8:$I$8,$F$9,'TEST MARKS '!D14:I14) -> 16 | G14: =SUMIF('TEST MARKS '!$D$8:$I$8,$G$9,'TEST MARKS '!D14:I14) -> 16 | H14: =SUMIF('TEST MARKS '!$D$8:$I$8,$H$9,'TEST MARKS '!D14:I14) -> 16 | I14: =SUMIF('TEST MARKS '!$D$8:$I$8,$I$9,'TEST MARKS '!D14:I14) -> 16 | J14: =D14*100/$J$8 -> 80 | K14: =E14*100/$K$8 -> 80 | L14: =F14*100/$L$8 -> 80 | M14: =G14*100/$M$8 -> 80 | N14: =H14*100/$N$8 -> 80 | O14: =I14*100/$O$8 -> 80 | P14: =IF(J14<'TEST MARKS '!$D$137,"N","Y") -> N | Q14: =IF(K14<'TEST MARKS '!$D$137,"N","Y") -> N | R14: =IF(L14<'TEST MARKS '!$D$137,"N","Y") -> N | S14: =IF(M14<'TEST MARKS '!$D$137,"N","Y") -> N | T14: =IF(N14<'TEST MARKS '!$D$137,"N","Y") -> N | U14: =IF(O14<'TEST MARKS '!$D$137,"N","Y") -> N
A15: 6 | B15: ANIL KUMAR C | C15: 1SG15ME011 | D15: =SUMIF('TEST MARKS '!$D$8:$I$8,$D$9,'TEST MARKS '!D15:I15) -> 18 | E15: =SUMIF('TEST MARKS '!$D$8:$I$8,$E$9,'TEST MARKS '!D15:I15) -> 18 | F15: =SUMIF('TEST MARKS '!$D$8:$I$8,$F$9,'TEST MARKS '!D15:I15) -> 18 | G15: =SUMIF('TEST MARKS '!$D$8:$I$8,$G$9,'TEST MARKS '!D15:I15) -> 18 | H15: =SUMIF('TEST MARKS '!$D$8:$I$8,$H$9,'TEST MARKS '!D15:I15) -> 18 | I15: =SUMIF('TEST MARKS '!$D$8:$I$8,$I$9,'TEST MARKS '!D15:I15) -> 18 | J15: =D15*100/$J$8 -> 90 | K15: =E15*100/$K$8 -> 90 | L15: =F15*100/$L$8 -> 90 | M15: =G15*100/$M$8 -> 90 | N15: =H15*100/$N$8 -> 90 | O15: =I15*100/$O$8 -> 90 | P15: =IF(J15<'TEST MARKS '!$D$137,"N","Y") -> Y | Q15: =IF(K15<'TEST MARKS '!$D$137,"N","Y") -> Y | R15: =IF(L15<'TEST MARKS '!$D$137,"N","Y") -> Y | S15: =IF(M15<'TEST MARKS '!$D$137,"N","Y") -> Y | T15: =IF(N15<'TEST MARKS '!$D$137,"N","Y") -> Y | U15: =IF(O15<'TEST MARKS '!$D$137,"N","Y") -> Y
A16: 7 | B16: ANIRUDH R K | C16: 1SG15ME012 | D16: =SUMIF('TEST MARKS '!$D$8:$I$8,$D$9,'TEST MARKS '!D16:I16) -> 18 | E16: =SUMIF('TEST MARKS '!$D$8:$I$8,$E$9,'TEST MARKS '!D16:I16) -> 18 | F16: =SUMIF('TEST MARKS '!$D$8:$I$8,$F$9,'TEST MARKS '!D16:I16) -> 18 | G16: =SUMIF('TEST MARKS '!$D$8:$I$8,$G$9,'TEST MARKS '!D16:I16) -> 18 | H16: =SUMIF('TEST MARKS '!$D$8:$I$8,$H$9,'TEST MARKS '!D16:I16) -> 18 | I16: =SUMIF('TEST MARKS '!$D$8:$I$8,$I$9,'TEST MARKS '!D16:I16) -> 18 | J16: =D16*100/$J$8 -> 90 | K16: =E16*100/$K$8 -> 90 | L16: =F16*100/$L$8 -> 90 | M16: =G16*100/$M$8 -> 90 | N16: =H16*100/$N$8 -> 90 | O16: =I16*100/$O$8 -> 90 | P16: =IF(J16<'TEST MARKS '!$D$137,"N","Y") -> Y | Q16: =IF(K16<'TEST MARKS '!$D$137,"N","Y") -> Y | R16: =IF(L16<'TEST MARKS '!$D$137,"N","Y") -> Y | S16: =IF(M16<'TEST MARKS '!$D$137,"N","Y") -> Y | T16: =IF(N16<'TEST MARKS '!$D$137,"N","Y") -> Y | U16: =IF(O16<'TEST MARKS '!$D$137,"N","Y") -> Y
A17: =SUMIF('TEST MARKS '!A15:F15,A16,'TEST MARKS '!A17:F17) -> 0 | B17: ARJUN S | C17: 1SG15ME013 | D17: =SUMIF('TEST MARKS '!$D$8:$I$8,$D$9,'TEST MARKS '!D17:I17) -> 18 | E17: =SUMIF('TEST MARKS '!$D$8:$I$8,$E$9,'TEST MARKS '!D17:I17) -> 18 | F17: =SUMIF('TEST MARKS '!$D$8:$I$8,$F$9,'TEST MARKS '!D17:I17) -> 18 | G17: =SUMIF('TEST MARKS '!$D$8:$I$8,$G$9,'TEST MARKS '!D17:I17) -> 18 | H17: =SUMIF('TEST MARKS '!$D$8:$I$8,$H$9,'TEST MARKS '!D17:I17) -> 18 | I17: =SUMIF('TEST MARKS '!$D$8:$I$8,$I$9,'TEST MARKS '!D17:I17) -> 18 | J17: =D17*100/$J$8 -> 90 | K17: =E17*100/$K$8 -> 90 | L17: =F17*100/$L$8 -> 90 | M17: =G17*100/$M$8 -> 90 | N17: =H17*100/$N$8 -> 90 | O17: =I17*100/$O$8 -> 90 | P17: =IF(J17<'TEST MARKS '!$D$137,"N","Y") -> Y | Q17: =IF(K17<'TEST MARKS '!$D$137,"N","Y") -> Y | R17: =IF(L17<'TEST MARKS '!$D$137,"N","Y") -> Y | S17: =IF(M17<'TEST MARKS '!$D$137,"N","Y") -> Y | T17: =IF(N17<'TEST MARKS '!$D$137,"N","Y") -> Y | U17: =IF(O17<'TEST MARKS '!$D$137,"N","Y") -> Y
A18: 9 | B18: ASHISH SHARMA | C18: 1SG15ME014 | D18: =SUMIF('TEST MARKS '!$D$8:$I$8,$D$9,'TEST MARKS '!D18:I18) -> 15 | E18: =SUMIF('TEST MARKS '!$D$8:$I$8,$E$9,'TEST MARKS '!D18:I18) -> 15 | F18: =SUMIF('TEST MARKS '!$D$8:$I$8,$F$9,'TEST MARKS '!D18:I18) -> 15 | G18: =SUMIF('TEST MARKS '!$D$8:$I$8,$G$9,'TEST MARKS '!D18:I18) -> 15 | H18: =SUMIF('TEST MARKS '!$D$8:$I$8,$H$9,'TEST MARKS '!D18:I18) -> 15 | I18: =SUMIF('TEST MARKS '!$D$8:$I$8,$I$9,'TEST MARKS '!D18:I18) -> 15 | J18: =D18*100/$J$8 -> 75 | K18: =E18*100/$K$8 -> 75 | L18: =F18*100/$L$8 -> 75 | M18: =G18*100/$M$8 -> 75 | N18: =H18*100/$N$8 -> 75 | O18: =I18*100/$O$8 -> 75 | P18: =IF(J18<'TEST MARKS '!$D$137,"N","Y") -> N | Q18: =IF(K18<'TEST MARKS '!$D$137,"N","Y") -> N | R18: =IF(L18<'TEST MARKS '!$D$137,"N","Y") -> N | S18: =IF(M18<'TEST MARKS '!$D$137,"N","Y") -> N | T18: =IF(N18<'TEST MARKS '!$D$137,"N","Y") -> N | U18: =IF(O18<'TEST MARKS '!$D$137,"N","Y") -> N
A19: 10 | B19: AYAN GUHA RAOY | C19: 1SG15ME015 | D19: =SUMIF('TEST MARKS '!$D$8:$I$8,$D$9,'TEST MARKS '!D19:I19) -> 16 | E19: =SUMIF('TEST MARKS '!$D$8:$I$8,$E$9,'TEST MARKS '!D19:I19) -> 16 | F19: =SUMIF('TEST MARKS '!$D$8:$I$8,$F$9,'TEST MARKS '!D19:I19) -> 16 | G19: =SUMIF('TEST MARKS '!$D$8:$I$8,$G$9,'TEST MARKS '!D19:I19) -> 16 | H19: =SUMIF('TEST MARKS '!$D$8:$I$8,$H$9,'TEST MARKS '!D19:I19) -> 16 | I19: =SUMIF('TEST MARKS '!$D$8:$I$8,$I$9,'TEST MARKS '!D19:I19) -> 16 | J19: =D19*100/$J$8 -> 80 | K19: =E19*100/$K$8 -> 80 | L19: =F19*100/$L$8 -> 80 | M19: =G19*100/$M$8 -> 80 | N19: =H19*100/$N$8 -> 80 | O19: =I19*100/$O$8 -> 80 | P19: =IF(J19<'TEST MARKS '!$D$137,"N","Y") -> N | Q19: =IF(K19<'TEST MARKS '!$D$137,"N","Y") -> N | R19: =IF(L19<'TEST MARKS '!$D$137,"N","Y") -> N | S19: =IF(M19<'TEST MARKS '!$D$137,"N","Y") -> N | T19: =IF(N19<'TEST MARKS '!$D$137,"N","Y") -> N | U19: =IF(O19<'TEST MARKS '!$D$137,"N","Y") -> N
A20: 11 | B20: BHARATH .V | C20: 1SG15ME017 | D20: =SUMIF('TEST MARKS '!$D$8:$I$8,$D$9,'TEST MARKS '!D20:I20) -> 20 | E20: =SUMIF('TEST MARKS '!$D$8:$I$8,$E$9,'TEST MARKS '!D20:I20) -> 20 | F20: =SUMIF('TEST MARKS '!$D$8:$I$8,$F$9,'TEST MARKS '!D20:I20) -> 20 | G20: =SUMIF('TEST MARKS '!$D$8:$I$8,$G$9,'TEST MARKS '!D20:I20) -> 20 | H20: =SUMIF('TEST MARKS '!$D$8:$I$8,$H$9,'TEST MARKS '!D20:I20) -> 20 | I20: =SUMIF('TEST MARKS '!$D$8:$I$8,$I$9,'TEST MARKS '!D20:I20) -> 20 | J20: =D20*100/$J$8 -> 100 | K20: =E20*100/$K$8 -> 100 | L20: =F20*100/$L$8 -> 100 | M20: =G20*100/$M$8 -> 100 | N20: =H20*100/$N$8 -> 100 | O20: =I20*100/$O$8 -> 100 | P20: =IF(J20<'TEST MARKS '!$D$137,"N","Y") -> Y | Q20: =IF(K20<'TEST MARKS '!$D$137,"N","Y") -> Y | R20: =IF(L20<'TEST MARKS '!$D$137,"N","Y") -> Y | S20: =IF(M20<'TEST MARKS '!$D$137,"N","Y") -> Y | T20: =IF(N20<'TEST MARKS '!$D$137,"N","Y") -> Y | U20: =IF(O20<'TEST MARKS '!$D$137,"N","Y") -> Y
A21: 12 | B21: C KARTHIK | C21: 1SG15ME018 | D21: =SUMIF('TEST MARKS '!$D$8:$I$8,$D$9,'TEST MARKS '!D21:I21) -> 16 | E21: =SUMIF('TEST MARKS '!$D$8:$I$8,$E$9,'TEST MARKS '!D21:I21) -> 16 | F21: =SUMIF('TEST MARKS '!$D$8:$I$8,$F$9,'TEST MARKS '!D21:I21) -> 16 | G21: =SUMIF('TEST MARKS '!$D$8:$I$8,$G$9,'TEST MARKS '!D21:I21) -> 16 | H21: =SUMIF('TEST MARKS '!$D$8:$I$8,$H$9,'TEST MARKS '!D21:I21) -> 16 | I21: =SUMIF('TEST MARKS '!$D$8:$I$8,$I$9,'TEST MARKS '!D21:I21) -> 16 | J21: =D21*100/$J$8 -> 80 | K21: =E21*100/$K$8 -> 80 | L21: =F21*100/$L$8 -> 80 | M21: =G21*100/$M$8 -> 80 | N21: =H21*100/$N$8 -> 80 | O21: =I21*100/$O$8 -> 80 | P21: =IF(J21<'TEST MARKS '!$D$137,"N","Y") -> N | Q21: =IF(K21<'TEST MARKS '!$D$137,"N","Y") -> N | R21: =IF(L21<'TEST MARKS '!$D$137,"N","Y") -> N | S21: =IF(M21<'TEST MARKS '!$D$137,"N","Y") -> N | T21: =IF(N21<'TEST MARKS '!$D$137,"N","Y") -> N | U21: =IF(O21<'TEST MARKS '!$D$137,"N","Y") -> N
A22: 13 | B22: CHETHAN I P | C22: 1SG15ME020 | D22: =SUMIF('TEST MARKS '!$D$8:$I$8,$D$9,'TEST MARKS '!D22:I22) -> 19 | E22: =SUMIF('TEST MARKS '!$D$8:$I$8,$E$9,'TEST MARKS '!D22:I22) -> 19 | F22: =SUMIF('TEST MARKS '!$D$8:$I$8,$F$9,'TEST MARKS '!D22:I22) -> 19 | G22: =SUMIF('TEST MARKS '!$D$8:$I$8,$G$9,'TEST MARKS '!D22:I22) -> 19 | H22: =SUMIF('TEST MARKS '!$D$8:$I$8,$H$9,'TEST MARKS '!D22:I22) -> 19 | I22: =SUMIF('TEST MARKS '!$D$8:$I$8,$I$9,'TEST MARKS '!D22:I22) -> 19 | J22: =D22*100/$J$8 -> 95 | K22: =E22*100/$K$8 -> 95 | L22: =F22*100/$L$8 -> 95 | M22: =G22*100/$M$8 -> 95 | N22: =H22*100/$N$8 -> 95 | O22: =I22*100/$O$8 -> 95 | P22: =IF(J22<'TEST MARKS '!$D$137,"N","Y") -> Y | Q22: =IF(K22<'TEST MARKS '!$D$137,"N","Y") -> Y | R22: =IF(L22<'TEST MARKS '!$D$137,"N","Y") -> Y | S22: =IF(M22<'TEST MARKS '!$D$137,"N","Y") -> Y | T22: =IF(N22<'TEST MARKS '!$D$137,"N","Y") -> Y | U22: =IF(O22<'TEST MARKS '!$D$137,"N","Y") -> Y
A23: 14 | B23: DAYANANDA M | C23: 1SG15ME021 | D23: =SUMIF('TEST MARKS '!$D$8:$I$8,$D$9,'TEST MARKS '!D23:I23) -> 16 | E23: =SUMIF('TEST MARKS '!$D$8:$I$8,$E$9,'TEST MARKS '!D23:I23) -> 16 | F23: =SUMIF('TEST MARKS '!$D$8:$I$8,$F$9,'TEST MARKS '!D23:I23) -> 16 | G23: =SUMIF('TEST MARKS '!$D$8:$I$8,$G$9,'TEST MARKS '!D23:I23) -> 16 | H23: =SUMIF('TEST MARKS '!$D$8:$I$8,$H$9,'TEST MARKS '!D23:I23) -> 16 | I23: =SUMIF('TEST MARKS '!$D$8:$I$8,$I$9,'TEST MARKS '!D23:I23) -> 16 | J23: =D23*100/$J$8 -> 80 | K23: =E23*100/$K$8 -> 80 | L23: =F23*100/$L$8 -> 80 | M23: =G23*100/$M$8 -> 80 | N23: =H23*100/$N$8 -> 80 | O23: =I23*100/$O$8 -> 80 | P23: =IF(J23<'TEST MARKS '!$D$137,"N","Y") -> N | Q23: =IF(K23<'TEST MARKS '!$D$137,"N","Y") -> N | R23: =IF(L23<'TEST MARKS '!$D$137,"N","Y") -> N | S23: =IF(M23<'TEST MARKS '!$D$137,"N","Y") -> N | T23: =IF(N23<'TEST MARKS '!$D$137,"N","Y") -> N | U23: =IF(O23<'TEST MARKS '!$D$137,"N","Y") -> N
A24: 15 | B24: DEEPU H S | C24: 1SG15ME022 | D24: =SUMIF('TEST MARKS '!$D$8:$I$8,$D$9,'TEST MARKS '!D24:I24) -> 20 | E24: =SUMIF('TEST MARKS '!$D$8:$I$8,$E$9,'TEST MARKS '!D24:I24) -> 20 | F24: =SUMIF('TEST MARKS '!$D$8:$I$8,$F$9,'TEST MARKS '!D24:I24) -> 20 | G24: =SUMIF('TEST MARKS '!$D$8:$I$8,$G$9,'TEST MARKS '!D24:I24) -> 20 | H24: =SUMIF('TEST MARKS '!$D$8:$I$8,$H$9,'TEST MARKS '!D24:I24) -> 20 | I24: =SUMIF('TEST MARKS '!$D$8:$I$8,$I$9,'TEST MARKS '!D24:I24) -> 20 | J24: =D24*100/$J$8 -> 100 | K24: =E24*100/$K$8 -> 100 | L24: =F24*100/$L$8 -> 100 | M24: =G24*100/$M$8 -> 100 | N24: =H24*100/$N$8 -> 100 | O24: =I24*100/$O$8 -> 100 | P24: =IF(J24<'TEST MARKS '!$D$137,"N","Y") -> Y | Q24: =IF(K24<'TEST MARKS '!$D$137,"N","Y") -> Y | R24: =IF(L24<'TEST MARKS '!$D$137,"N","Y") -> Y | S24: =IF(M24<'TEST MARKS '!$D$137,"N","Y") -> Y | T24: =IF(N24<'TEST MARKS '!$D$137,"N","Y") -> Y | U24: =IF(O24<'TEST MARKS '!$D$137,"N","Y") -> Y
A25: 16 | B25: DEVARAJ HIREMATH | C25: 1SG15ME023 | D25: =SUMIF('TEST MARKS '!$D$8:$I$8,$D$9,'TEST MARKS '!D25:I25) -> 17 | E25: =SUMIF('TEST MARKS '!$D$8:$I$8,$E$9,'TEST MARKS '!D25:I25) -> 17 | F25: =SUMIF('TEST MARKS '!$D$8:$I$8,$F$9,'TEST MARKS '!D25:I25) -> 17 | G25: =SUMIF('TEST MARKS '!$D$8:$I$8,$G$9,'TEST MARKS '!D25:I25) -> 17 | H25: =SUMIF('TEST MARKS '!$D$8:$I$8,$H$9,'TEST MARKS '!D25:I25) -> 17 | I25: =SUMIF('TEST MARKS '!$D$8:$I$8,$I$9,'TEST MARKS '!D25:I25) -> 17 | J25: =D25*100/$J$8 -> 85 | K25: =E25*100/$K$8 -> 85 | L25: =F25*100/$L$8 -> 85 | M25: =G25*100/$M$8 -> 85 | N25: =H25*100/$N$8 -> 85 | O25: =I25*100/$O$8 -> 85 | P25: =IF(J25<'TEST MARKS '!$D$137,"N","Y") -> Y | Q25: =IF(K25<'TEST MARKS '!$D$137,"N","Y") -> Y | R25: =IF(L25<'TEST MARKS '!$D$137,"N","Y") -> Y | S25: =IF(M25<'TEST MARKS '!$D$137,"N","Y") -> Y | T25: =IF(N25<'TEST MARKS '!$D$137,"N","Y") -> Y | U25: =IF(O25<'TEST MARKS '!$D$137,"N","Y") -> Y
A26: 17 | B26: DHANANJAYA V | C26: 1SG15ME024 | D26: =SUMIF('TEST MARKS '!$D$8:$I$8,$D$9,'TEST MARKS '!D26:I26) -> 18 | E26: =SUMIF('TEST MARKS '!$D$8:$I$8,$E$9,'TEST MARKS '!D26:I26) -> 18 | F26: =SUMIF('TEST MARKS '!$D$8:$I$8,$F$9,'TEST MARKS '!D26:I26) -> 18 | G26: =SUMIF('TEST MARKS '!$D$8:$I$8,$G$9,'TEST MARKS '!D26:I26) -> 18 | H26: =SUMIF('TEST MARKS '!$D$8:$I$8,$H$9,'TEST MARKS '!D26:I26) -> 18 | I26: =SUMIF('TEST MARKS '!$D$8:$I$8,$I$9,'TEST MARKS '!D26:I26) -> 18 | J26: =D26*100/$J$8 -> 90 | K26: =E26*100/$K$8 -> 90 | L26: =F26*100/$L$8 -> 90 | M26: =G26*100/$M$8 -> 90 | N26: =H26*100/$N$8 -> 90 | O26: =I26*100/$O$8 -> 90 | P26: =IF(J26<'TEST MARKS '!$D$137,"N","Y") -> Y | Q26: =IF(K26<'TEST MARKS '!$D$137,"N","Y") -> Y | R26: =IF(L26<'TEST MARKS '!$D$137,"N","Y") -> Y | S26: =IF(M26<'TEST MARKS '!$D$137,"N","Y") -> Y | T26: =IF(N26<'TEST MARKS '!$D$137,"N","Y") -> Y | U26: =IF(O26<'TEST MARKS '!$D$137,"N","Y") -> Y
A27: 18 | B27: DHANRAJ M | C27: 1SG15ME025 | D27: =SUMIF('TEST MARKS '!$D$8:$I$8,$D$9,'TEST MARKS '!D27:I27) -> 19 | E27: =SUMIF('TEST MARKS '!$D$8:$I$8,$E$9,'TEST MARKS '!D27:I27) -> 19 | F27: =SUMIF('TEST MARKS '!$D$8:$I$8,$F$9,'TEST MARKS '!D27:I27) -> 19 | G27: =SUMIF('TEST MARKS '!$D$8:$I$8,$G$9,'TEST MARKS '!D27:I27) -> 19 | H27: =SUMIF('TEST MARKS '!$D$8:$I$8,$H$9,'TEST MARKS '!D27:I27) -> 19 | I27: =SUMIF('TEST MARKS '!$D$8:$I$8,$I$9,'TEST MARKS '!D27:I27) -> 19 | J27: =D27*100/$J$8 -> 95 | K27: =E27*100/$K$8 -> 95 | L27: =F27*100/$L$8 -> 95 | M27: =G27*100/$M$8 -> 95 | N27: =H27*100/$N$8 -> 95 | O27: =I27*100/$O$8 -> 95 | P27: =IF(J27<'TEST MARKS '!$D$137,"N","Y") -> Y | Q27: =IF(K27<'TEST MARKS '!$D$137,"N","Y") -> Y | R27: =IF(L27<'TEST MARKS '!$D$137,"N","Y") -> Y | S27: =IF(M27<'TEST MARKS '!$D$137,"N","Y") -> Y | T27: =IF(N27<'TEST MARKS '!$D$137,"N","Y") -> Y | U27: =IF(O27<'TEST MARKS '!$D$137,"N","Y") -> Y
A28: 19 | B28: DHARSHAN M J | C28: 1SG15ME026 | D28: =SUMIF('TEST MARKS '!$D$8:$I$8,$D$9,'TEST MARKS '!D28:I28) -> 19 | E28: =SUMIF('TEST MARKS '!$D$8:$I$8,$E$9,'TEST MARKS '!D28:I28) -> 19 | F28: =SUMIF('TEST MARKS '!$D$8:$I$8,$F$9,'TEST MARKS '!D28:I28) -> 19 | G28: =SUMIF('TEST MARKS '!$D$8:$I$8,$G$9,'TEST MARKS '!D28:I28) -> 19 | H28: =SUMIF('TEST MARKS '!$D$8:$I$8,$H$9,'TEST MARKS '!D28:I28) -> 19 | I28: =SUMIF('TEST MARKS '!$D$8:$I$8,$I$9,'TEST MARKS '!D28:I28) -> 19 | J28: =D28*100/$J$8 -> 95 | K28: =E28*100/$K$8 -> 95 | L28: =F28*100/$L$8 -> 95 | M28: =G28*100/$M$8 -> 95 | N28: =H28*100/$N$8 -> 95 | O28: =I28*100/$O$8 -> 95 | P28: =IF(J28<'TEST MARKS '!$D$137,"N","Y") -> Y | Q28: =IF(K28<'TEST MARKS '!$D$137,"N","Y") -> Y | R28: =IF(L28<'TEST MARKS '!$D$137,"N","Y") -> Y | S28: =IF(M28<'TEST MARKS '!$D$137,"N","Y") -> Y | T28: =IF(N28<'TEST MARKS '!$D$137,"N","Y") -> Y | U28: =IF(O28<'TEST MARKS '!$D$137,"N","Y") -> Y
A29: 20 | B29: DILIP M | C29: 1SG15ME028 | D29: =SUMIF('TEST MARKS '!$D$8:$I$8,$D$9,'TEST MARKS '!D29:I29) -> 20 | E29: =SUMIF('TEST MARKS '!$D$8:$I$8,$E$9,'TEST MARKS '!D29:I29) -> 20 | F29: =SUMIF('TEST MARKS '!$D$8:$I$8,$F$9,'TEST MARKS '!D29:I29) -> 20 | G29: =SUMIF('TEST MARKS '!$D$8:$I$8,$G$9,'TEST MARKS '!D29:I29) -> 20 | H29: =SUMIF('TEST MARKS '!$D$8:$I$8,$H$9,'TEST MARKS '!D29:I29) -> 20 | I29: =SUMIF('TEST MARKS '!$D$8:$I$8,$I$9,'TEST MARKS '!D29:I29) -> 20 | J29: =D29*100/$J$8 -> 100 | K29: =E29*100/$K$8 -> 100 | L29: =F29*100/$L$8 -> 100 | M29: =G29*100/$M$8 -> 100 | N29: =H29*100/$N$8 -> 100 | O29: =I29*100/$O$8 -> 100 | P29: =IF(J29<'TEST MARKS '!$D$137,"N","Y") -> Y | Q29: =IF(K29<'TEST MARKS '!$D$137,"N","Y") -> Y | R29: =IF(L29<'TEST MARKS '!$D$137,"N","Y") -> Y | S29: =IF(M29<'TEST MARKS '!$D$137,"N","Y") -> Y | T29: =IF(N29<'TEST MARKS '!$D$137,"N","Y") -> Y | U29: =IF(O29<'TEST MARKS '!$D$137,"N","Y") -> Y
... A57: 48 | B57: RAGHAVA SURYA.M | C57: 1SG15ME071 | D57: =SUMIF('TEST MARKS '!$D$8:$I$8,$D$9,'TEST MARKS '!D57:I57) -> 18 | E57: =SUMIF('TEST MARKS '!$D$8:$I$8,$E$9,'TEST MARKS '!D57:I57) -> 18 | F57: =SUMIF('TEST MARKS '!$D$8:$I$8,$F$9,'TEST MARKS '!D57:I57) -> 18 | G57: =SUMIF('TEST MARKS '!$D$8:$I$8,$G$9,'TEST MARKS '!D57:I57) -> 18 | H57: =SUMIF('TEST MARKS '!$D$8:$I$8,$H$9,'TEST MARKS '!D57:I57) -> 18 | I57: =SUMIF('TEST MARKS '!$D$8:$I$8,$I$9,'TEST MARKS '!D57:I57) -> 18 | J57: =D57*100/$J$8 -> 90 | K57: =E57*100/$K$8 -> 90 | L57: =F57*100/$L$8 -> 90 | M57: =G57*100/$M$8 -> 90 | N57: =H57*100/$N$8 -> 90 | O57: =I57*100/$O$8 -> 90 | P57: =IF(J57<'TEST MARKS '!$D$137,"N","Y") -> Y | Q57: =IF(K57<'TEST MARKS '!$D$137,"N","Y") -> Y | R57: =IF(L57<'TEST MARKS '!$D$137,"N","Y") -> Y | S57: =IF(M57<'TEST MARKS '!$D$137,"N","Y") -> Y | T57: =IF(N57<'TEST MARKS '!$D$137,"N","Y") -> Y | U57: =IF(O57<'TEST MARKS '!$D$137,"N","Y") -> Y
A58: 49 | B58: RAHUL N DIXIT | C58: 1SG15ME072 | D58: =SUMIF('TEST MARKS '!$D$8:$I$8,$D$9,'TEST MARKS '!E58:I58) -> 20 | E58: =SUMIF('TEST MARKS '!$D$8:$I$8,$E$9,'TEST MARKS '!E58:I58) -> 20 | F58: =SUMIF('TEST MARKS '!$D$8:$I$8,$F$9,'TEST MARKS '!E58:I58) -> 20 | G58: =SUMIF('TEST MARKS '!$D$8:$I$8,$G$9,'TEST MARKS '!E58:I58) -> 20 | H58: =SUMIF('TEST MARKS '!$D$8:$I$8,$H$9,'TEST MARKS '!E58:I58) -> 20 | I58: =SUMIF('TEST MARKS '!$D$8:$I$8,$I$9,'TEST MARKS '!E58:I58) -> 0 | J58: =D58*100/$J$8 -> 100 | K58: =E58*100/$K$8 -> 100 | L58: =F58*100/$L$8 -> 100 | M58: =G58*100/$M$8 -> 100 | N58: =H58*100/$N$8 -> 100 | O58: =I58*100/$O$8 -> 0 | P58: =IF(J58<'TEST MARKS '!$D$137,"N","Y") -> Y | Q58: =IF(K58<'TEST MARKS '!$D$137,"N","Y") -> Y | R58: =IF(L58<'TEST MARKS '!$D$137,"N","Y") -> Y | S58: =IF(M58<'TEST MARKS '!$D$137,"N","Y") -> Y | T58: =IF(N58<'TEST MARKS '!$D$137,"N","Y") -> Y | U58: =IF(O58<'TEST MARKS '!$D$137,"N","Y") -> N
A59: 50 | B59: RAHUL V | C59: 1SG15ME073 | D59: =SUMIF('TEST MARKS '!$D$8:$I$8,$D$9,'TEST MARKS '!D59:I59) -> 20 | E59: =SUMIF('TEST MARKS '!$D$8:$I$8,$E$9,'TEST MARKS '!D59:I59) -> 20 | F59: =SUMIF('TEST MARKS '!$D$8:$I$8,$F$9,'TEST MARKS '!D59:I59) -> 20 | G59: =SUMIF('TEST MARKS '!$D$8:$I$8,$G$9,'TEST MARKS '!D59:I59) -> 20 | H59: =SUMIF('TEST MARKS '!$D$8:$I$8,$H$9,'TEST MARKS '!D59:I59) -> 20 | I59: =SUMIF('TEST MARKS '!$D$8:$I$8,$I$9,'TEST MARKS '!D59:I59) -> 20 | J59: =D59*100/$J$8 -> 100 | K59: =E59*100/$K$8 -> 100 | L59: =F59*100/$L$8 -> 100 | M59: =G59*100/$M$8 -> 100 | N59: =H59*100/$N$8 -> 100 | O59: =I59*100/$O$8 -> 100 | P59: =IF(J59<'TEST MARKS '!$D$137,"N","Y") -> Y | Q59: =IF(K59<'TEST MARKS '!$D$137,"N","Y") -> Y | R59: =IF(L59<'TEST MARKS '!$D$137,"N","Y") -> Y | S59: =IF(M59<'TEST MARKS '!$D$137,"N","Y") -> Y | T59: =IF(N59<'TEST MARKS '!$D$137,"N","Y") -> Y | U59: =IF(O59<'TEST MARKS '!$D$137,"N","Y") -> Y
A60: 51 | B60: RAJATH G MOODITHAYA | C60: 1SG15ME074 | D60: =SUMIF('TEST MARKS '!$D$8:$I$8,$D$9,'TEST MARKS '!D60:I60) -> 19 | E60: =SUMIF('TEST MARKS '!$D$8:$I$8,$E$9,'TEST MARKS '!D60:I60) -> 19 | F60: =SUMIF('TEST MARKS '!$D$8:$I$8,$F$9,'TEST MARKS '!D60:I60) -> 19 | G60: =SUMIF('TEST MARKS '!$D$8:$I$8,$G$9,'TEST MARKS '!D60:I60) -> 19 | H60: =SUMIF('TEST MARKS '!$D$8:$I$8,$H$9,'TEST MARKS '!D60:I60) -> 19 | I60: =SUMIF('TEST MARKS '!$D$8:$I$8,$I$9,'TEST MARKS '!D60:I60) -> 19 | J60: =D60*100/$J$8 -> 95 | K60: =E60*100/$K$8 -> 95 | L60: =F60*100/$L$8 -> 95 | M60: =G60*100/$M$8 -> 95 | N60: =H60*100/$N$8 -> 95 | O60: =I60*100/$O$8 -> 95 | P60: =IF(J60<'TEST MARKS '!$D$137,"N","Y") -> Y | Q60: =IF(K60<'TEST MARKS '!$D$137,"N","Y") -> Y | R60: =IF(L60<'TEST MARKS '!$D$137,"N","Y") -> Y | S60: =IF(M60<'TEST MARKS '!$D$137,"N","Y") -> Y | T60: =IF(N60<'TEST MARKS '!$D$137,"N","Y") -> Y | U60: =IF(O60<'TEST MARKS '!$D$137,"N","Y") -> Y
A61: 52 | B61: RAMESH P | C61: 1SG15ME076 | D61: =SUMIF('TEST MARKS '!$D$8:$I$8,$D$9,'TEST MARKS '!D61:I61) -> 19 | E61: =SUMIF('TEST MARKS '!$D$8:$I$8,$E$9,'TEST MARKS '!D61:I61) -> 19 | F61: =SUMIF('TEST MARKS '!$D$8:$I$8,$F$9,'TEST MARKS '!D61:I61) -> 19 | G61: =SUMIF('TEST MARKS '!$D$8:$I$8,$G$9,'TEST MARKS '!D61:I61) -> 19 | H61: =SUMIF('TEST MARKS '!$D$8:$I$8,$H$9,'TEST MARKS '!D61:I61) -> 19 | I61: =SUMIF('TEST MARKS '!$D$8:$I$8,$I$9,'TEST MARKS '!D61:I61) -> 19 | J61: =D61*100/$J$8 -> 95 | K61: =E61*100/$K$8 -> 95 | L61: =F61*100/$L$8 -> 95 | M61: =G61*100/$M$8 -> 95 | N61: =H61*100/$N$8 -> 95 | O61: =I61*100/$O$8 -> 95 | P61: =IF(J61<'TEST MARKS '!$D$137,"N","Y") -> Y | Q61: =IF(K61<'TEST MARKS '!$D$137,"N","Y") -> Y | R61: =IF(L61<'TEST MARKS '!$D$137,"N","Y") -> Y | S61: =IF(M61<'TEST MARKS '!$D$137,"N","Y") -> Y | T61: =IF(N61<'TEST MARKS '!$D$137,"N","Y") -> Y | U61: =IF(O61<'TEST MARKS '!$D$137,"N","Y") -> Y
A62: 53 | B62: RAVI KUDLAPPA CHELUWADI | C62: 1SG15ME077 | D62: =SUMIF('TEST MARKS '!$D$8:$I$8,$D$9,'TEST MARKS '!D62:I62) -> 15 | E62: =SUMIF('TEST MARKS '!$D$8:$I$8,$E$9,'TEST MARKS '!D62:I62) -> 15 | F62: =SUMIF('TEST MARKS '!$D$8:$I$8,$F$9,'TEST MARKS '!D62:I62) -> 15 | G62: =SUMIF('TEST MARKS '!$D$8:$I$8,$G$9,'TEST MARKS '!D62:I62) -> 15 | H62: =SUMIF('TEST MARKS '!$D$8:$I$8,$H$9,'TEST MARKS '!D62:I62) -> 15 | I62: =SUMIF('TEST MARKS '!$D$8:$I$8,$I$9,'TEST MARKS '!D62:I62) -> 15 | J62: =D62*100/$J$8 -> 75 | K62: =E62*100/$K$8 -> 75 | L62: =F62*100/$L$8 -> 75 | M62: =G62*100/$M$8 -> 75 | N62: =H62*100/$N$8 -> 75 | O62: =I62*100/$O$8 -> 75 | P62: =IF(J62<'TEST MARKS '!$D$137,"N","Y") -> N | Q62: =IF(K62<'TEST MARKS '!$D$137,"N","Y") -> N | R62: =IF(L62<'TEST MARKS '!$D$137,"N","Y") -> N | S62: =IF(M62<'TEST MARKS '!$D$137,"N","Y") -> N | T62: =IF(N62<'TEST MARKS '!$D$137,"N","Y") -> N | U62: =IF(O62<'TEST MARKS '!$D$137,"N","Y") -> N
A63: 54 | B63: CHANDRUCHUD S | C63: 1SG14ME025 | D63: =SUMIF('TEST MARKS '!$D$8:$I$8,$D$9,'TEST MARKS '!D63:I63) -> 18 | E63: =SUMIF('TEST MARKS '!$D$8:$I$8,$E$9,'TEST MARKS '!D63:I63) -> 18 | F63: =SUMIF('TEST MARKS '!$D$8:$I$8,$F$9,'TEST MARKS '!D63:I63) -> 18 | G63: =SUMIF('TEST MARKS '!$D$8:$I$8,$G$9,'TEST MARKS '!D63:I63) -> 18 | H63: =SUMIF('TEST MARKS '!$D$8:$I$8,$H$9,'TEST MARKS '!D63:I63) -> 18 | I63: =SUMIF('TEST MARKS '!$D$8:$I$8,$I$9,'TEST MARKS '!D63:I63) -> 18 | J63: =D63*100/$J$8 -> 90 | K63: =E63*100/$K$8 -> 90 | L63: =F63*100/$L$8 -> 90 | M63: =G63*100/$M$8 -> 90 | N63: =H63*100/$N$8 -> 90 | O63: =I63*100/$O$8 -> 90 | P63: =IF(J63<'TEST MARKS '!$D$137,"N","Y") -> Y | Q63: =IF(K63<'TEST MARKS '!$D$137,"N","Y") -> Y | R63: =IF(L63<'TEST MARKS '!$D$137,"N","Y") -> Y | S63: =IF(M63<'TEST MARKS '!$D$137,"N","Y") -> Y | T63: =IF(N63<'TEST MARKS '!$D$137,"N","Y") -> Y | U63: =IF(O63<'TEST MARKS '!$D$137,"N","Y") -> Y
A64: 55 | B64: JAIWANTH G C | C64: 1SG14ME039 | D64: =SUMIF('TEST MARKS '!$D$8:$I$8,$D$9,'TEST MARKS '!D64:I64) -> 18 | E64: =SUMIF('TEST MARKS '!$D$8:$I$8,$E$9,'TEST MARKS '!D64:I64) -> 18 | F64: =SUMIF('TEST MARKS '!$D$8:$I$8,$F$9,'TEST MARKS '!D64:I64) -> 18 | G64: =SUMIF('TEST MARKS '!$D$8:$I$8,$G$9,'TEST MARKS '!D64:I64) -> 18 | H64: =SUMIF('TEST MARKS '!$D$8:$I$8,$H$9,'TEST MARKS '!D64:I64) -> 18 | I64: =SUMIF('TEST MARKS '!$D$8:$I$8,$I$9,'TEST MARKS '!D64:I64) -> 18 | J64: =D64*100/$J$8 -> 90 | K64: =E64*100/$K$8 -> 90 | L64: =F64*100/$L$8 -> 90 | M64: =G64*100/$M$8 -> 90 | N64: =H64*100/$N$8 -> 90 | O64: =I64*100/$O$8 -> 90 | P64: =IF(J64<'TEST MARKS '!$D$137,"N","Y") -> Y | Q64: =IF(K64<'TEST MARKS '!$D$137,"N","Y") -> Y | R64: =IF(L64<'TEST MARKS '!$D$137,"N","Y") -> Y | S64: =IF(M64<'TEST MARKS '!$D$137,"N","Y") -> Y | T64: =IF(N64<'TEST MARKS '!$D$137,"N","Y") -> Y | U64: =IF(O64<'TEST MARKS '!$D$137,"N","Y") -> Y
A65: 56 | B65: M S SOMANNA | C65: 1SG15ME108 | D65: =SUMIF('TEST MARKS '!$D$8:$I$8,$D$9,'TEST MARKS '!D65:I65) -> 19 | E65: =SUMIF('TEST MARKS '!$D$8:$I$8,$E$9,'TEST MARKS '!D65:I65) -> 19 | F65: =SUMIF('TEST MARKS '!$D$8:$I$8,$F$9,'TEST MARKS '!D65:I65) -> 19 | G65: =SUMIF('TEST MARKS '!$D$8:$I$8,$G$9,'TEST MARKS '!D65:I65) -> 19 | H65: =SUMIF('TEST MARKS '!$D$8:$I$8,$H$9,'TEST MARKS '!D65:I65) -> 19 | I65: =SUMIF('TEST MARKS '!$D$8:$I$8,$I$9,'TEST MARKS '!D65:I65) -> 19 | J65: =D65*100/$J$8 -> 95 | K65: =E65*100/$K$8 -> 95 | L65: =F65*100/$L$8 -> 95 | M65: =G65*100/$M$8 -> 95 | N65: =H65*100/$N$8 -> 95 | O65: =I65*100/$O$8 -> 95 | P65: =IF(J65<'TEST MARKS '!$D$137,"N","Y") -> Y | Q65: =IF(K65<'TEST MARKS '!$D$137,"N","Y") -> Y | R65: =IF(L65<'TEST MARKS '!$D$137,"N","Y") -> Y | S65: =IF(M65<'TEST MARKS '!$D$137,"N","Y") -> Y | T65: =IF(N65<'TEST MARKS '!$D$137,"N","Y") -> Y | U65: =IF(O65<'TEST MARKS '!$D$137,"N","Y") -> Y
A66: 57 | B66: AKSHAY P SHETTY | C66: 1SG15ME106 | D66: =SUMIF('TEST MARKS '!$D$8:$I$8,$D$9,'TEST MARKS '!D66:I66) -> 19 | E66: =SUMIF('TEST MARKS '!$D$8:$I$8,$E$9,'TEST MARKS '!D66:I66) -> 19 | F66: =SUMIF('TEST MARKS '!$D$8:$I$8,$F$9,'TEST MARKS '!D66:I66) -> 19 | G66: =SUMIF('TEST MARKS '!$D$8:$I$8,$G$9,'TEST MARKS '!D66:I66) -> 19 | H66: =SUMIF('TEST MARKS '!$D$8:$I$8,$H$9,'TEST MARKS '!D66:I66) -> 19 | I66: =SUMIF('TEST MARKS '!$D$8:$I$8,$I$9,'TEST MARKS '!D66:I66) -> 19 | J66: =D66*100/$J$8 -> 95 | K66: =E66*100/$K$8 -> 95 | L66: =F66*100/$L$8 -> 95 | M66: =G66*100/$M$8 -> 95 | N66: =H66*100/$N$8 -> 95 | O66: =I66*100/$O$8 -> 95 | P66: =IF(J66<'TEST MARKS '!$D$137,"N","Y") -> Y | Q66: =IF(K66<'TEST MARKS '!$D$137,"N","Y") -> Y | R66: =IF(L66<'TEST MARKS '!$D$137,"N","Y") -> Y | S66: =IF(M66<'TEST MARKS '!$D$137,"N","Y") -> Y | T66: =IF(N66<'TEST MARKS '!$D$137,"N","Y") -> Y | U66: =IF(O66<'TEST MARKS '!$D$137,"N","Y") -> Y
A67: 58 | B67: RANJITH K S | C67: 1SG16ME445 | D67: =SUMIF('TEST MARKS '!$D$8:$I$8,$D$9,'TEST MARKS '!D67:I67) -> 19 | E67: =SUMIF('TEST MARKS '!$D$8:$I$8,$E$9,'TEST MARKS '!D67:I67) -> 19 | F67: =SUMIF('TEST MARKS '!$D$8:$I$8,$F$9,'TEST MARKS '!D67:I67) -> 19 | G67: =SUMIF('TEST MARKS '!$D$8:$I$8,$G$9,'TEST MARKS '!D67:I67) -> 19 | H67: =SUMIF('TEST MARKS '!$D$8:$I$8,$H$9,'TEST MARKS '!D67:I67) -> 19 | I67: =SUMIF('TEST MARKS '!$D$8:$I$8,$I$9,'TEST MARKS '!D67:I67) -> 19 | J67: =D67*100/$J$8 -> 95 | K67: =E67*100/$K$8 -> 95 | L67: =F67*100/$L$8 -> 95 | M67: =G67*100/$M$8 -> 95 | N67: =H67*100/$N$8 -> 95 | O67: =I67*100/$O$8 -> 95 | P67: =IF(J67<'TEST MARKS '!$D$137,"N","Y") -> Y | Q67: =IF(K67<'TEST MARKS '!$D$137,"N","Y") -> Y | R67: =IF(L67<'TEST MARKS '!$D$137,"N","Y") -> Y | S67: =IF(M67<'TEST MARKS '!$D$137,"N","Y") -> Y | T67: =IF(N67<'TEST MARKS '!$D$137,"N","Y") -> Y | U67: =IF(O67<'TEST MARKS '!$D$137,"N","Y") -> Y
A68: 59 | B68: YANDAPALLI GANESH | C68: 1SG15ME107 | D68: =SUMIF('TEST MARKS '!$D$8:$I$8,$D$9,'TEST MARKS '!D68:I68) -> 19 | E68: =SUMIF('TEST MARKS '!$D$8:$I$8,$E$9,'TEST MARKS '!D68:I68) -> 19 | F68: =SUMIF('TEST MARKS '!$D$8:$I$8,$F$9,'TEST MARKS '!D68:I68) -> 19 | G68: =SUMIF('TEST MARKS '!$D$8:$I$8,$G$9,'TEST MARKS '!D68:I68) -> 19 | H68: =SUMIF('TEST MARKS '!$D$8:$I$8,$H$9,'TEST MARKS '!D68:I68) -> 19 | I68: =SUMIF('TEST MARKS '!$D$8:$I$8,$I$9,'TEST MARKS '!D68:I68) -> 19 | J68: =D68*100/$J$8 -> 95 | K68: =E68*100/$K$8 -> 95 | L68: =F68*100/$L$8 -> 95 | M68: =G68*100/$M$8 -> 95 | N68: =H68*100/$N$8 -> 95 | O68: =I68*100/$O$8 -> 95 | P68: =IF(J68<'TEST MARKS '!$D$137,"N","Y") -> Y | Q68: =IF(K68<'TEST MARKS '!$D$137,"N","Y") -> Y | R68: =IF(L68<'TEST MARKS '!$D$137,"N","Y") -> Y | S68: =IF(M68<'TEST MARKS '!$D$137,"N","Y") -> Y | T68: =IF(N68<'TEST MARKS '!$D$137,"N","Y") -> Y | U68: =IF(O68<'TEST MARKS '!$D$137,"N","Y") -> Y
A69: 60 | B69: RUDERSH P | C69: 1SG15ME109 | D69: =SUMIF('TEST MARKS '!$D$8:$I$8,$D$9,'TEST MARKS '!D69:I69) -> 19 | E69: =SUMIF('TEST MARKS '!$D$8:$I$8,$E$9,'TEST MARKS '!D69:I69) -> 19 | F69: =SUMIF('TEST MARKS '!$D$8:$I$8,$F$9,'TEST MARKS '!D69:I69) -> 19 | G69: =SUMIF('TEST MARKS '!$D$8:$I$8,$G$9,'TEST MARKS '!D69:I69) -> 19 | H69: =SUMIF('TEST MARKS '!$D$8:$I$8,$H$9,'TEST MARKS '!D69:I69) -> 19 | I69: =SUMIF('TEST MARKS '!$D$8:$I$8,$I$9,'TEST MARKS '!D69:I69) -> 19 | J69: =D69*100/$J$8 -> 95 | K69: =E69*100/$K$8 -> 95 | L69: =F69*100/$L$8 -> 95 | M69: =G69*100/$M$8 -> 95 | N69: =H69*100/$N$8 -> 95 | O69: =I69*100/$O$8 -> 95 | P69: =IF(J69<'TEST MARKS '!$D$137,"N","Y") -> Y | Q69: =IF(K69<'TEST MARKS '!$D$137,"N","Y") -> Y | R69: =IF(L69<'TEST MARKS '!$D$137,"N","Y") -> Y | S69: =IF(M69<'TEST MARKS '!$D$137,"N","Y") -> Y | T69: =IF(N69<'TEST MARKS '!$D$137,"N","Y") -> Y | U69: =IF(O69<'TEST MARKS '!$D$137,"N","Y") -> Y
A70: 61 | B70: RAVISHANKAR .G | C70: 1SG15ME078 | D70: =SUMIF('TEST MARKS '!$D$8:$I$8,$D$9,'TEST MARKS '!D70:I70) -> 20 | E70: =SUMIF('TEST MARKS '!$D$8:$I$8,$E$9,'TEST MARKS '!D70:I70) -> 20 | F70: =SUMIF('TEST MARKS '!$D$8:$I$8,$F$9,'TEST MARKS '!D70:I70) -> 20 | G70: =SUMIF('TEST MARKS '!$D$8:$I$8,$G$9,'TEST MARKS '!D70:I70) -> 20 | H70: =SUMIF('TEST MARKS '!$D$8:$I$8,$H$9,'TEST MARKS '!D70:I70) -> 20 | I70: =SUMIF('TEST MARKS '!$D$8:$I$8,$I$9,'TEST MARKS '!D70:I70) -> 20 | J70: =D70*100/$J$8 -> 100 | K70: =E70*100/$K$8 -> 100 | L70: =F70*100/$L$8 -> 100 | M70: =G70*100/$M$8 -> 100 | N70: =H70*100/$N$8 -> 100 | O70: =I70*100/$O$8 -> 100 | P70: =IF(J70<'TEST MARKS '!$D$137,"N","Y") -> Y | Q70: =IF(K70<'TEST MARKS '!$D$137,"N","Y") -> Y | R70: =IF(L70<'TEST MARKS '!$D$137,"N","Y") -> Y | S70: =IF(M70<'TEST MARKS '!$D$137,"N","Y") -> Y | T70: =IF(N70<'TEST MARKS '!$D$137,"N","Y") -> Y | U70: =IF(O70<'TEST MARKS '!$D$137,"N","Y") -> Y
... A123: 114 | B123: YASHAVANTH A S | C123: 1SG16ME444 | D123: =SUMIF('TEST MARKS '!$D$8:$I$8,$D$9,'TEST MARKS '!D123:I123) -> 18 | E123: =SUMIF('TEST MARKS '!$D$8:$I$8,$E$9,'TEST MARKS '!D123:I123) -> 18 | F123: =SUMIF('TEST MARKS '!$D$8:$I$8,$F$9,'TEST MARKS '!D123:I123) -> 18 | G123: =SUMIF('TEST MARKS '!$D$8:$I$8,$G$9,'TEST MARKS '!D123:I123) -> 18 | H123: =SUMIF('TEST MARKS '!$D$8:$I$8,$H$9,'TEST MARKS '!D123:I123) -> 18 | I123: =SUMIF('TEST MARKS '!$D$8:$I$8,$I$9,'TEST MARKS '!D123:I123) -> 18 | J123: =D123*100/$J$8 -> 90 | K123: =E123*100/$K$8 -> 90 | L123: =F123*100/$L$8 -> 90 | M123: =G123*100/$M$8 -> 90 | N123: =H123*100/$N$8 -> 90 | O123: =I123*100/$O$8 -> 90 | P123: =IF(J123<'TEST MARKS '!$D$137,"N","Y") -> Y | Q123: =IF(K123<'TEST MARKS '!$D$137,"N","Y") -> Y | R123: =IF(L123<'TEST MARKS '!$D$137,"N","Y") -> Y | S123: =IF(M123<'TEST MARKS '!$D$137,"N","Y") -> Y | T123: =IF(N123<'TEST MARKS '!$D$137,"N","Y") -> Y | U123: =IF(O123<'TEST MARKS '!$D$137,"N","Y") -> Y
A124: 115 | B124: ='TEST MARKS '!B124 -> 0 | C124: ='TEST MARKS '!C124 -> 0 | D124: =SUMIF('TEST MARKS '!$D$8:$I$8,$D$9,'TEST MARKS '!D124:I124) -> 0 | E124: =SUMIF('TEST MARKS '!$D$8:$I$8,$E$9,'TEST MARKS '!D124:I124) -> 0 | F124: =SUMIF('TEST MARKS '!$D$8:$I$8,$F$9,'TEST MARKS '!D124:I124) -> 0 | G124: =SUMIF('TEST MARKS '!$D$8:$I$8,$G$9,'TEST MARKS '!D124:I124) -> 0 | H124: =SUMIF('TEST MARKS '!$D$8:$I$8,$H$9,'TEST MARKS '!D124:I124) -> 0 | I124: =SUMIF('TEST MARKS '!$D$8:$I$8,$I$9,'TEST MARKS '!D124:I124) -> 0 | J124: =D124*100/$J$8 -> 0 | K124: =E124*100/$K$8 -> 0 | L124: =F124*100/$L$8 -> 0 | M124: =G124*100/$M$8 -> 0 | N124: =H124*100/$N$8 -> 0 | O124: =I124*100/$O$8 -> 0 | P124: =IF(J124<'TEST MARKS '!$D$137,"N","Y") -> N | Q124: =IF(K124<'TEST MARKS '!$D$137,"N","Y") -> N | R124: =IF(L124<'TEST MARKS '!$D$137,"N","Y") -> N | S124: =IF(M124<'TEST MARKS '!$D$137,"N","Y") -> N | T124: =IF(N124<'TEST MARKS '!$D$137,"N","Y") -> N | U124: =IF(O124<'TEST MARKS '!$D$137,"N","Y") -> N
A125: 116 | B125: ='TEST MARKS '!B125 -> 0 | C125: ='TEST MARKS '!C125 -> 0 | D125: =SUMIF('TEST MARKS '!$D$8:$I$8,$D$9,'TEST MARKS '!D125:I125) -> 0 | E125: =SUMIF('TEST MARKS '!$D$8:$I$8,$E$9,'TEST MARKS '!D125:I125) -> 0 | F125: =SUMIF('TEST MARKS '!$D$8:$I$8,$F$9,'TEST MARKS '!D125:I125) -> 0 | G125: =SUMIF('TEST MARKS '!$D$8:$I$8,$G$9,'TEST MARKS '!D125:I125) -> 0 | H125: =SUMIF('TEST MARKS '!$D$8:$I$8,$H$9,'TEST MARKS '!D125:I125) -> 0 | I125: =SUMIF('TEST MARKS '!$D$8:$I$8,$I$9,'TEST MARKS '!D125:I125) -> 0 | J125: =D125*100/$J$8 -> 0 | K125: =E125*100/$K$8 -> 0 | L125: =F125*100/$L$8 -> 0 | M125: =G125*100/$M$8 -> 0 | N125: =H125*100/$N$8 -> 0 | O125: =I125*100/$O$8 -> 0 | P125: =IF(J125<'TEST MARKS '!$D$137,"N","Y") -> N | Q125: =IF(K125<'TEST MARKS '!$D$137,"N","Y") -> N | R125: =IF(L125<'TEST MARKS '!$D$137,"N","Y") -> N | S125: =IF(M125<'TEST MARKS '!$D$137,"N","Y") -> N | T125: =IF(N125<'TEST MARKS '!$D$137,"N","Y") -> N | U125: =IF(O125<'TEST MARKS '!$D$137,"N","Y") -> N
A126: 117 | B126: ='TEST MARKS '!B126 -> 0 | C126: ='TEST MARKS '!C126 -> 0 | D126: =SUMIF('TEST MARKS '!$D$8:$I$8,$D$9,'TEST MARKS '!D126:I126) -> 0 | E126: =SUMIF('TEST MARKS '!$D$8:$I$8,$E$9,'TEST MARKS '!D126:I126) -> 0 | F126: =SUMIF('TEST MARKS '!$D$8:$I$8,$F$9,'TEST MARKS '!D126:I126) -> 0 | G126: =SUMIF('TEST MARKS '!$D$8:$I$8,$G$9,'TEST MARKS '!D126:I126) -> 0 | H126: =SUMIF('TEST MARKS '!$D$8:$I$8,$H$9,'TEST MARKS '!D126:I126) -> 0 | I126: =SUMIF('TEST MARKS '!$D$8:$I$8,$I$9,'TEST MARKS '!D126:I126) -> 0 | J126: =D126*100/$J$8 -> 0 | K126: =E126*100/$K$8 -> 0 | L126: =F126*100/$L$8 -> 0 | M126: =G126*100/$M$8 -> 0 | N126: =H126*100/$N$8 -> 0 | O126: =I126*100/$O$8 -> 0 | P126: =IF(J126<'TEST MARKS '!$D$137,"N","Y") -> N | Q126: =IF(K126<'TEST MARKS '!$D$137,"N","Y") -> N | R126: =IF(L126<'TEST MARKS '!$D$137,"N","Y") -> N | S126: =IF(M126<'TEST MARKS '!$D$137,"N","Y") -> N | T126: =IF(N126<'TEST MARKS '!$D$137,"N","Y") -> N | U126: =IF(O126<'TEST MARKS '!$D$137,"N","Y") -> N
A127: 118 | B127: ='TEST MARKS '!B127 -> 0 | C127: ='TEST MARKS '!C127 -> 0 | D127: =SUMIF('TEST MARKS '!$D$8:$I$8,$D$9,'TEST MARKS '!D127:I127) -> 0 | E127: =SUMIF('TEST MARKS '!$D$8:$I$8,$E$9,'TEST MARKS '!D127:I127) -> 0 | F127: =SUMIF('TEST MARKS '!$D$8:$I$8,$F$9,'TEST MARKS '!D127:I127) -> 0 | G127: =SUMIF('TEST MARKS '!$D$8:$I$8,$G$9,'TEST MARKS '!D127:I127) -> 0 | H127: =SUMIF('TEST MARKS '!$D$8:$I$8,$H$9,'TEST MARKS '!D127:I127) -> 0 | I127: =SUMIF('TEST MARKS '!$D$8:$I$8,$I$9,'TEST MARKS '!D127:I127) -> 0 | J127: =D127*100/$J$8 -> 0 | K127: =E127*100/$K$8 -> 0 | L127: =F127*100/$L$8 -> 0 | M127: =G127*100/$M$8 -> 0 | N127: =H127*100/$N$8 -> 0 | O127: =I127*100/$O$8 -> 0 | P127: =IF(J127<'TEST MARKS '!$D$137,"N","Y") -> N | Q127: =IF(K127<'TEST MARKS '!$D$137,"N","Y") -> N | R127: =IF(L127<'TEST MARKS '!$D$137,"N","Y") -> N | S127: =IF(M127<'TEST MARKS '!$D$137,"N","Y") -> N | T127: =IF(N127<'TEST MARKS '!$D$137,"N","Y") -> N | U127: =IF(O127<'TEST MARKS '!$D$137,"N","Y") -> N
A128: 119 | B128: ='TEST MARKS '!B128 -> 0 | C128: ='TEST MARKS '!C128 -> 0 | D128: =SUMIF('TEST MARKS '!$D$8:$I$8,$D$9,'TEST MARKS '!D128:I128) -> 0 | E128: =SUMIF('TEST MARKS '!$D$8:$I$8,$E$9,'TEST MARKS '!D128:I128) -> 0 | F128: =SUMIF('TEST MARKS '!$D$8:$I$8,$F$9,'TEST MARKS '!D128:I128) -> 0 | G128: =SUMIF('TEST MARKS '!$D$8:$I$8,$G$9,'TEST MARKS '!D128:I128) -> 0 | H128: =SUMIF('TEST MARKS '!$D$8:$I$8,$H$9,'TEST MARKS '!D128:I128) -> 0 | I128: =SUMIF('TEST MARKS '!$D$8:$I$8,$I$9,'TEST MARKS '!D128:I128) -> 0 | J128: =D128*100/$J$8 -> 0 | K128: =E128*100/$K$8 -> 0 | L128: =F128*100/$L$8 -> 0 | M128: =G128*100/$M$8 -> 0 | N128: =H128*100/$N$8 -> 0 | O128: =I128*100/$O$8 -> 0 | P128: =IF(J128<'TEST MARKS '!$D$137,"N","Y") -> N | Q128: =IF(K128<'TEST MARKS '!$D$137,"N","Y") -> N | R128: =IF(L128<'TEST MARKS '!$D$137,"N","Y") -> N | S128: =IF(M128<'TEST MARKS '!$D$137,"N","Y") -> N | T128: =IF(N128<'TEST MARKS '!$D$137,"N","Y") -> N | U128: =IF(O128<'TEST MARKS '!$D$137,"N","Y") -> N
A129: 120 | B129: ='TEST MARKS '!B129 -> 0 | C129: ='TEST MARKS '!C129 -> 0 | D129: =SUMIF('TEST MARKS '!$D$8:$I$8,$D$9,'TEST MARKS '!D129:I129) -> 0 | E129: =SUMIF('TEST MARKS '!$D$8:$I$8,$E$9,'TEST MARKS '!D129:I129) -> 0 | F129: =SUMIF('TEST MARKS '!$D$8:$I$8,$F$9,'TEST MARKS '!D129:I129) -> 0 | G129: =SUMIF('TEST MARKS '!$D$8:$I$8,$G$9,'TEST MARKS '!D129:I129) -> 0 | H129: =SUMIF('TEST MARKS '!$D$8:$I$8,$H$9,'TEST MARKS '!D129:I129) -> 0 | I129: =SUMIF('TEST MARKS '!$D$8:$I$8,$I$9,'TEST MARKS '!D129:I129) -> 0 | J129: =D129*100/$J$8 -> 0 | K129: =E129*100/$K$8 -> 0 | L129: =F129*100/$L$8 -> 0 | M129: =G129*100/$M$8 -> 0 | N129: =H129*100/$N$8 -> 0 | O129: =I129*100/$O$8 -> 0 | P129: =IF(J129<'TEST MARKS '!$D$137,"N","Y") -> N | Q129: =IF(K129<'TEST MARKS '!$D$137,"N","Y") -> N | R129: =IF(L129<'TEST MARKS '!$D$137,"N","Y") -> N | S129: =IF(M129<'TEST MARKS '!$D$137,"N","Y") -> N | T129: =IF(N129<'TEST MARKS '!$D$137,"N","Y") -> N | U129: =IF(O129<'TEST MARKS '!$D$137,"N","Y") -> N
O131: NO OF Y | P131: =COUNTIF(P10:P129,"Y") -> 107 | Q131: =COUNTIF(Q10:Q129,"Y") -> 107 | R131: =COUNTIF(R10:R129,"Y") -> 107 | S131: =COUNTIF(S10:S129,"Y") -> 107 | T131: =COUNTIF(T10:T129,"Y") -> 107 | U131: =COUNTIF(U10:U129,"Y") -> 106
O132: ATTAINMENT | P132: =P131/'TEST MARKS '!$D$136 -> 0.93859649 | Q132: =Q131/'TEST MARKS '!$D$136 -> 0.93859649 | R132: =R131/'TEST MARKS '!$D$136 -> 0.93859649 | S132: =S131/'TEST MARKS '!$D$136 -> 0.93859649 | T132: =T131/'TEST MARKS '!$D$136 -> 0.93859649 | U132: =U131/'TEST MARKS '!$D$136 -> 0.92982456
O136: CO's | P136: CO1 | Q136: CO2 | R136: CO3 | S136: CO4 | T136: CO5 | U136: CO6
O137: IA MARKS ATTAINMENT | P137: =P131*100/'TEST MARKS '!$D$136 -> 93.859649 | Q137: =Q131*100/'TEST MARKS '!$D$136 -> 93.859649 | R137: =R131*100/'TEST MARKS '!$D$136 -> 93.859649 | S137: =S131*100/'TEST MARKS '!$D$136 -> 93.859649 | T137: =T131*100/'TEST MARKS '!$D$136 -> 93.859649 | U137: =U131*100/'TEST MARKS '!$D$136 -> 92.982456

Sheet Assignment CO 
B1: Sapthagiri College of Engineering
B2: Department of Mechanical Engineering
D3: Mechanics of Materials
B4: III Semester B Section Test marks for ODD Sem 2017-18 | P4: TARGET: 90% OF STUDENTS TO SCORE 80% and ABOVE
A5: Sl. No. | B5: Name of the student | C5: USN | J5: ASSIGNMENT ATTAINMENT (%) | P5: Y OR N
D7: I | E7: II | F7: III | G7: IV | H7: V | I7: V | J7: I | K7: II | L7: III | M7: IV | N7: V | O7: V | P7: I | Q7: II | R7: III | S7: IV | T7: V | U7: V
D8: CO1 | E8: CO2 | F8: CO3 | G8: CO4 | H8: CO5 | I8: CO6 | J8: CO1 | K8: CO2 | L8: CO3 | M8: CO4 | N8: CO5 | O8: CO6 | P8: CO1 | Q8: CO2 | R8: CO3 | S8: CO4 | T8: CO5 | U8: CO6
A9: ='TEST MARKS '!A10 -> 1 | B9: ='TEST MARKS '!#REF! -> #REF! | C9: ='TEST MARKS '!#REF! -> #REF! | D9: ='TEST MARKS '!#REF! -> #REF! | E9: ='TEST MARKS '!#REF! -> #REF! | F9: ='TEST MARKS '!#REF! -> #REF! | G9: ='TEST MARKS '!#REF! -> #REF! | H9: ='TEST MARKS '!#REF! -> #REF! | I9: ='TEST MARKS '!#REF! -> #REF! | J9: =D9/'TEST MARKS '!$J$133*100 -> #REF! | K9: =E9/'TEST MARKS '!$K$133*100 -> #REF! | L9: =F9/'TEST MARKS '!$L$133*100 -> #REF! | M9: =G9/'TEST MARKS '!$M$133*100 -> #REF! | N9: =H9/'TEST MARKS '!$N$133*100 -> #REF! | O9: =I9/'TEST MARKS '!$O$133*100 -> #REF! | P9: =IF(J9<'TEST MARKS '!$D$138,"N","Y") -> #REF! | Q9: =IF(K9<'TEST MARKS '!$D$138,"N","Y") -> #REF! | R9: =IF(L9<'TEST MARKS '!$D$138,"N","Y") -> #REF! | S9: =IF(M9<'TEST MARKS '!$D$138,"N","Y") -> #REF! | T9: =IF(N9<'TEST MARKS '!$D$138,"N","Y") -> #REF! | U9: =IF(O9<'TEST MARKS '!$D$138,"N","Y") -> #REF!
A10: ='TEST MARKS '!A11 -> 2 | B10: ='TEST MARKS '!#REF! -> #REF! | C10: ='TEST MARKS '!#REF! -> #REF! | D10: ='TEST MARKS '!#REF! -> #REF! | E10: ='TEST MARKS '!#REF! -> #REF! | F10: ='TEST MARKS '!#REF! -> #REF! | G10: ='TEST MARKS '!#REF! -> #REF! | H10: ='TEST MARKS '!#REF! -> #REF! | I10: ='TEST MARKS '!#REF! -> #REF! | J10: =D10/'TEST MARKS '!$J$133*100 -> #REF! | K10: =E10/'TEST MARKS '!$K$133*100 -> #REF! | L10: =F10/'TEST MARKS '!$L$133*100 -> #REF! | M10: =G10/'TEST MARKS '!$M$133*100 -> #REF! | N10: =H10/'TEST MARKS '!$N$133*100 -> #REF! | O10: =I10/'TEST MARKS '!$O$133*100 -> #REF! | P10: =IF(J10<'TEST MARKS '!$D$138,"N","Y") -> #REF! | Q10: =IF(K10<'TEST MARKS '!$D$138,"N","Y") -> #REF! | R10: =IF(L10<'TEST MARKS '!$D$138,"N","Y") -> #REF! | S10: =IF(M10<'TEST MARKS '!$D$138,"N","Y") -> #REF! | T10: =IF(N10<'TEST MARKS '!$D$138,"N","Y") -> #REF! | U10: =IF(O10<'TEST MARKS '!$D$138,"N","Y") -> #REF!
A11: ='TEST MARKS '!A12 -> 3 | B11: ='TEST MARKS '!B10 -> AFTAB AHMED WALA | C11: ='TEST MARKS '!C10 -> 1SG15ME004 | D11: ='TEST MARKS '!#REF! -> #REF! | E11: ='TEST MARKS '!#REF! -> #REF! | F11: ='TEST MARKS '!#REF! -> #REF! | G11: ='TEST MARKS '!#REF! -> #REF! | H11: ='TEST MARKS '!#REF! -> #REF! | I11: ='TEST MARKS '!#REF! -> #REF! | J11: =D11/'TEST MARKS '!$J$133*100 -> #REF! | K11: =E11/'TEST MARKS '!$K$133*100 -> #REF! | L11: =F11/'TEST MARKS '!$L$133*100 -> #REF! | M11: =G11/'TEST MARKS '!$M$133*100 -> #REF! | N11: =H11/'TEST MARKS '!$N$133*100 -> #REF! | O11: =I11/'TEST MARKS '!$O$133*100 -> #REF! | P11: =IF(J11<'TEST MARKS '!$D$138,"N","Y") -> #REF! | Q11: =IF(K11<'TEST MARKS '!$D$138,"N","Y") -> #REF! | R11: =IF(L11<'TEST MARKS '!$D$138,"N","Y") -> #REF! | S11: =IF(M11<'TEST MARKS '!$D$138,"N","Y") -> #REF! | T11: =IF(N11<'TEST MARKS '!$D$138,"N","Y") -> #REF! | U11: =IF(O11<'TEST MARKS '!$D$138,"N","Y") -> #REF!
A12: ='TEST MARKS '!A13 -> 4 | B12: ='TEST MARKS '!#REF! -> #REF! | C12: ='TEST MARKS '!#REF! -> #REF! | D12: ='TEST MARKS '!#REF! -> #REF! | E12: ='TEST MARKS '!#REF! -> #REF! | F12: ='TEST MARKS '!#REF! -> #REF! | G12: ='TEST MARKS '!#REF! -> #REF! | H12: ='TEST MARKS '!#REF! -> #REF! | I12: ='TEST MARKS '!#REF! -> #REF! | J12: =D12/'TEST MARKS '!$J$133*100 -> #REF! | K12: =E12/'TEST MARKS '!$K$133*100 -> #REF! | L12: =F12/'TEST MARKS '!$L$133*100 -> #REF! | M12: =G12/'TEST MARKS '!$M$133*100 -> #REF! | N12: =H12/'TEST MARKS '!$N$133*100 -> #REF! | O12: =I12/'TEST MARKS '!$O$133*100 -> #REF! | P12: =IF(J12<'TEST MARKS '!$D$138,"N","Y") -> #REF! | Q12: =IF(K12<'TEST MARKS '!$D$138,"N","Y") -> #REF! | R12: =IF(L12<'TEST MARKS '!$D$138,"N","Y") -> #REF! | S12: =IF(M12<'TEST MARKS '!$D$138,"N","Y") -> #REF! | T12: =IF(N12<'TEST MARKS '!$D$138,"N","Y") -> #REF! | U12: =IF(O12<'TEST MARKS '!$D$138,"N","Y") -> #REF!
A13: ='TEST MARKS '!A14 -> 5 | B13: ='TEST MARKS '!B11 -> AJEYA.V | C13: ='TEST MARKS '!C11 -> 1SG15ME006 | D13: ='TEST MARKS '!#REF! -> #REF! | E13: ='TEST MARKS '!#REF! -> #REF! | F13: ='TEST MARKS '!#REF! -> #REF! | G13: ='TEST MARKS '!#REF! -> #REF! | H13: ='TEST MARKS '!#REF! -> #REF! | I13: ='TEST MARKS '!#REF! -> #REF! | J13: =D13/'TEST MARKS '!$J$133*100 -> #REF! | K13: =E13/'TEST MARKS '!$K$133*100 -> #REF! | L13: =F13/'TEST MARKS '!$L$133*100 -> #REF! | M13: =G13/'TEST MARKS '!$M$133*100 -> #REF! | N13: =H13/'TEST MARKS '!$N$133*100 -> #REF! | O13: =I13/'TEST MARKS '!$O$133*100 -> #REF! | P13: =IF(J13<'TEST MARKS '!$D$138,"N","Y") -> #REF! | Q13: =IF(K13<'TEST MARKS '!$D$138,"N","Y") -> #REF! | R13: =IF(L13<'TEST MARKS '!$D$138,"N","Y") -> #REF! | S13: =IF(M13<'TEST MARKS '!$D$138,"N","Y") -> #REF! | T13: =IF(N13<'TEST MARKS '!$D$138,"N","Y") -> #REF! | U13: =IF(O13<'TEST MARKS '!$D$138,"N","Y") -> #REF!
A14: ='TEST MARKS '!A15 -> 6 | B14: ='TEST MARKS '!B12 -> AJITH S P | C14: ='TEST MARKS '!C12 -> 1SG15ME007 | D14: ='TEST MARKS '!#REF! -> #REF! | E14: ='TEST MARKS '!#REF! -> #REF! | F14: ='TEST MARKS '!#REF! -> #REF! | G14: ='TEST MARKS '!#REF! -> #REF! | H14: ='TEST MARKS '!#REF! -> #REF! | I14: ='TEST MARKS '!#REF! -> #REF! | J14: =D14/'TEST MARKS '!$J$133*100 -> #REF! | K14: =E14/'TEST MARKS '!$K$133*100 -> #REF! | L14: =F14/'TEST MARKS '!$L$133*100 -> #REF! | M14: =G14/'TEST MARKS '!$M$133*100 -> #REF! | N14: =H14/'TEST MARKS '!$N$133*100 -> #REF! | O14: =I14/'TEST MARKS '!$O$133*100 -> #REF! | P14: =IF(J14<'TEST MARKS '!$D$138,"N","Y") -> #REF! | Q14: =IF(K14<'TEST MARKS '!$D$138,"N","Y") -> #REF! | R14: =IF(L14<'TEST MARKS '!$D$138,"N","Y") -> #REF! | S14: =IF(M14<'TEST MARKS '!$D$138,"N","Y") -> #REF! | T14: =IF(N14<'TEST MARKS '!$D$138,"N","Y") -> #REF! | U14: =IF(O14<'TEST MARKS '!$D$138,"N","Y") -> #REF!
A15: ='TEST MARKS '!A16 -> 7 | B15: ='TEST MARKS '!B13 -> AKSHAY S | C15: ='TEST MARKS '!C13 -> 1SG15ME008 | D15: ='TEST MARKS '!#REF! -> #REF! | E15: ='TEST MARKS '!#REF! -> #REF! | F15: ='TEST MARKS '!#REF! -> #REF! | G15: ='TEST MARKS '!#REF! -> #REF! | H15: ='TEST MARKS '!#REF! -> #REF! | I15: ='TEST MARKS '!#REF! -> #REF! | J15: =D15/'TEST MARKS '!$J$133*100 -> #REF! | K15: =E15/'TEST MARKS '!$K$133*100 -> #REF! | L15: =F15/'TEST MARKS '!$L$133*100 -> #REF! | M15: =G15/'TEST MARKS '!$M$133*100 -> #REF! | N15: =H15/'TEST MARKS '!$N$133*100 -> #REF! | O15: =I15/'TEST MARKS '!$O$133*100 -> #REF! | P15: =IF(J15<'TEST MARKS '!$D$138,"N","Y") -> #REF! | Q15: =IF(K15<'TEST MARKS '!$D$138,"N","Y") -> #REF! | R15: =IF(L15<'TEST MARKS '!$D$138,"N","Y") -> #REF! | S15: =IF(M15<'TEST MARKS '!$D$138,"N","Y") -> #REF! | T15: =IF(N15<'TEST MARKS '!$D$138,"N","Y") -> #REF! | U15: =IF(O15<'TEST MARKS '!$D$138,"N","Y") -> #REF!
A16: ='TEST MARKS '!A17 -> 8 | B16: ='TEST MARKS '!B14 -> AMITH.R | C16: ='TEST MARKS '!C14 -> 1SG15ME010 | D16: ='TEST MARKS '!#REF! -> #REF! | E16: ='TEST MARKS '!#REF! -> #REF! | F16: ='TEST MARKS '!#REF! -> #REF! | G16: ='TEST MARKS '!#REF! -> #REF! | H16: ='TEST MARKS '!#REF! -> #REF! | I16: ='TEST MARKS '!#REF! -> #REF! | J16: =D16/'TEST MARKS '!$J$133*100 -> #REF! | K16: =E16/'TEST MARKS '!$K$133*100 -> #REF! | L16: =F16/'TEST MARKS '!$L$133*100 -> #REF! | M16: =G16/'TEST MARKS '!$M$133*100 -> #REF! | N16: =H16/'TEST MARKS '!$N$133*100 -> #REF! | O16: =I16/'TEST MARKS '!$O$133*100 -> #REF! | P16: =IF(J16<'TEST MARKS '!$D$138,"N","Y") -> #REF! | Q16: =IF(K16<'TEST MARKS '!$D$138,"N","Y") -> #REF! | R16: =IF(L16<'TEST MARKS '!$D$138,"N","Y") -> #REF! | S16: =IF(M16<'TEST MARKS '!$D$138,"N","Y") -> #REF! | T16: =IF(N16<'TEST MARKS '!$D$138,"N","Y") -> #REF! | U16: =IF(O16<'TEST MARKS '!$D$138,"N","Y") -> #REF!
A17: ='TEST MARKS '!A18 -> 9 | B17: ='TEST MARKS '!B15 -> ANIL KUMAR C | C17: ='TEST MARKS '!C15 -> 1SG15ME011 | D17: ='TEST MARKS '!#REF! -> #REF! | E17: ='TEST MARKS '!#REF! -> #REF! | F17: ='TEST MARKS '!#REF! -> #REF! | G17: ='TEST MARKS '!#REF! -> #REF! | H17: ='TEST MARKS '!#REF! -> #REF! | I17: ='TEST MARKS '!#REF! -> #REF! | J17: =D17/'TEST MARKS '!$J$133*100 -> #REF! | K17: =E17/'TEST MARKS '!$K$133*100 -> #REF! | L17: =F17/'TEST MARKS '!$L$133*100 -> #REF! | M17: =G17/'TEST MARKS '!$M$133*100 -> #REF! | N17: =H17/'TEST MARKS '!$N$133*100 -> #REF! | O17: =I17/'TEST MARKS '!$O$133*100 -> #REF! | P17: =IF(J17<'TEST MARKS '!$D$138,"N","Y") -> #REF! | Q17: =IF(K17<'TEST MARKS '!$D$138,"N","Y") -> #REF! | R17: =IF(L17<'TEST MARKS '!$D$138,"N","Y") -> #REF! | S17: =IF(M17<'TEST MARKS '!$D$138,"N","Y") -> #REF! | T17: =IF(N17<'TEST MARKS '!$D$138,"N","Y") -> #REF! | U17: =IF(O17<'TEST MARKS '!$D$138,"N","Y") -> #REF!
A18: ='TEST MARKS '!A19 -> 10 | B18: ='TEST MARKS '!B16 -> ANIRUDH R K | C18: ='TEST MARKS '!C16 -> 1SG15ME012 | D18: ='TEST MARKS '!#REF! -> #REF! | E18: ='TEST MARKS '!#REF! -> #REF! | F18: ='TEST MARKS '!#REF! -> #REF! | G18: ='TEST MARKS '!#REF! -> #REF! | H18: ='TEST MARKS '!#REF! -> #REF! | I18: ='TEST MARKS '!#REF! -> #REF! | J18: =D18/'TEST MARKS '!$J$133*100 -> #REF! | K18: =E18/'TEST MARKS '!$K$133*100 -> #REF! | L18: =F18/'TEST MARKS '!$L$133*100 -> #REF! | M18: =G18/'TEST MARKS '!$M$133*100 -> #REF! | N18: =H18/'TEST MARKS '!$N$133*100 -> #REF! | O18: =I18/'TEST MARKS '!$O$133*100 -> #REF! | P18: =IF(J18<'TEST MARKS '!$D$138,"N","Y") -> #REF! | Q18: =IF(K18<'TEST MARKS '!$D$138,"N","Y") -> #REF! | R18: =IF(L18<'TEST MARKS '!$D$138,"N","Y") -> #REF! | S18: =IF(M18<'TEST MARKS '!$D$138,"N","Y") -> #REF! | T18: =IF(N18<'TEST MARKS '!$D$138,"N","Y") -> #REF! | U18: =IF(O18<'TEST MARKS '!$D$138,"N","Y") -> #REF!
A19: ='TEST MARKS '!A20 -> 11 | B19: ='TEST MARKS '!B17 -> ARJUN S | C19: ='TEST MARKS '!C17 -> 1SG15ME013 | D19: ='TEST MARKS '!#REF! -> #REF! | E19: ='TEST MARKS '!#REF! -> #REF! | F19: ='TEST MARKS '!#REF! -> #REF! | G19: ='TEST MARKS '!#REF! -> #REF! | H19: ='TEST MARKS '!#REF! -> #REF! | I19: ='TEST MARKS '!#REF! -> #REF! | J19: =D19/'TEST MARKS '!$J$133*100 -> #REF! | K19: =E19/'TEST MARKS '!$K$133*100 -> #REF! | L19: =F19/'TEST MARKS '!$L$133*100 -> #REF! | M19: =G19/'TEST MARKS '!$M$133*100 -> #REF! | N19: =H19/'TEST MARKS '!$N$133*100 -> #REF! | O19: =I19/'TEST MARKS '!$O$133*100 -> #REF! | P19: =IF(J19<'TEST MARKS '!$D$138,"N","Y") -> #REF! | Q19: =IF(K19<'TEST MARKS '!$D$138,"N","Y") -> #REF! | R19: =IF(L19<'TEST MARKS '!$D$138,"N","Y") -> #REF! | S19: =IF(M19<'TEST MARKS '!$D$138,"N","Y") -> #REF! | T19: =IF(N19<'TEST MARKS '!$D$138,"N","Y") -> #REF! | U19: =IF(O19<'TEST MARKS '!$D$138,"N","Y") -> #REF!
A20: ='TEST MARKS '!A21 -> 12 | B20: ='TEST MARKS '!B18 -> ASHISH SHARMA | C20: ='TEST MARKS '!C18 -> 1SG15ME014 | D20: ='TEST MARKS '!#REF! -> #REF! | E20: ='TEST MARKS '!#REF! -> #REF! | F20: ='TEST MARKS '!#REF! -> #REF! | G20: ='TEST MARKS '!#REF! -> #REF! | H20: ='TEST MARKS '!#REF! -> #REF! | I20: ='TEST MARKS '!#REF! -> #REF! | J20: =D20/'TEST MARKS '!$J$133*100 -> #REF! | K20: =E20/'TEST MARKS '!$K$133*100 -> #REF! | L20: =F20/'TEST MARKS '!$L$133*100 -> #REF! | M20: =G20/'TEST MARKS '!$M$133*100 -> #REF! | N20: =H20/'TEST MARKS '!$N$133*100 -> #REF! | O20: =I20/'TEST MARKS '!$O$133*100 -> #REF! | P20: =IF(J20<'TEST MARKS '!$D$138,"N","Y") -> #REF! | Q20: =IF(K20<'TEST MARKS '!$D$138,"N","Y") -> #REF! | R20: =IF(L20<'TEST MARKS '!$D$138,"N","Y") -> #REF! | S20: =IF(M20<'TEST MARKS '!$D$138,"N","Y") -> #REF! | T20: =IF(N20<'TEST MARKS '!$D$138,"N","Y") -> #REF! | U20: =IF(O20<'TEST MARKS '!$D$138,"N","Y") -> #REF!
A21: ='TEST MARKS '!A22 -> 13 | B21: ='TEST MARKS '!B19 -> AYAN GUHA RAOY | C21: ='TEST MARKS '!C19 -> 1SG15ME015 | D21: ='TEST MARKS '!#REF! -> #REF! | E21: ='TEST MARKS '!#REF! -> #REF! | F21: ='TEST MARKS '!#REF! -> #REF! | G21: ='TEST MARKS '!#REF! -> #REF! | H21: ='TEST MARKS '!#REF! -> #REF! | I21: ='TEST MARKS '!#REF! -> #REF! | J21: =D21/'TEST MARKS '!$J$133*100 -> #REF! | K21: =E21/'TEST MARKS '!$K$133*100 -> #REF! | L21: =F21/'TEST MARKS '!$L$133*100 -> #REF! | M21: =G21/'TEST MARKS '!$M$133*100 -> #REF! | N21: =H21/'TEST MARKS '!$N$133*100 -> #REF! | O21: =I21/'TEST MARKS '!$O$133*100 -> #REF! | P21: =IF(J21<'TEST MARKS '!$D$138,"N","Y") -> #REF! | Q21: =IF(K21<'TEST MARKS '!$D$138,"N","Y") -> #REF! | R21: =IF(L21<'TEST MARKS '!$D$138,"N","Y") -> #REF! | S21: =IF(M21<'TEST MARKS '!$D$138,"N","Y") -> #REF! | T21: =IF(N21<'TEST MARKS '!$D$138,"N","Y") -> #REF! | U21: =IF(O21<'TEST MARKS '!$D$138,"N","Y") -> #REF!
A22: ='TEST MARKS '!A23 -> 14 | B22: ='TEST MARKS '!B20 -> BHARATH .V | C22: ='TEST MARKS '!C20 -> 1SG15ME017 | D22: ='TEST MARKS '!#REF! -> #REF! | E22: ='TEST MARKS '!#REF! -> #REF! | F22: ='TEST MARKS '!#REF! -> #REF! | G22: ='TEST MARKS '!#REF! -> #REF! | H22: ='TEST MARKS '!#REF! -> #REF! | I22: ='TEST MARKS '!#REF! -> #REF! | J22: =D22/'TEST MARKS '!$J$133*100 -> #REF! | K22: =E22/'TEST MARKS '!$K$133*100 -> #REF! | L22: =F22/'TEST MARKS '!$L$133*100 -> #REF! | M22: =G22/'TEST MARKS '!$M$133*100 -> #REF! | N22: =H22/'TEST MARKS '!$N$133*100 -> #REF! | O22: =I22/'TEST MARKS '!$O$133*100 -> #REF! | P22: =IF(J22<'TEST MARKS '!$D$138,"N","Y") -> #REF! | Q22: =IF(K22<'TEST MARKS '!$D$138,"N","Y") -> #REF! | R22: =IF(L22<'TEST MARKS '!$D$138,"N","Y") -> #REF! | S22: =IF(M22<'TEST MARKS '!$D$138,"N","Y") -> #REF! | T22: =IF(N22<'TEST MARKS '!$D$138,"N","Y") -> #REF! | U22: =IF(O22<'TEST MARKS '!$D$138,"N","Y") -> #REF!
A23: ='TEST MARKS '!A24 -> 15 | B23: ='TEST MARKS '!B21 -> C KARTHIK | C23: ='TEST MARKS '!C21 -> 1SG15ME018 | D23: ='TEST MARKS '!#REF! -> #REF! | E23: ='TEST MARKS '!#REF! -> #REF! | F23: ='TEST MARKS '!#REF! -> #REF! | G23: ='TEST MARKS '!#REF! -> #REF! | H23: ='TEST MARKS '!#REF! -> #REF! | I23: ='TEST MARKS '!#REF! -> #REF! | J23: =D23/'TEST MARKS '!$J$133*100 -> #REF! | K23: =E23/'TEST MARKS '!$K$133*100 -> #REF! | L23: =F23/'TEST MARKS '!$L$133*100 -> #REF! | M23: =G23/'TEST MARKS '!$M$133*100 -> #REF! | N23: =H23/'TEST MARKS '!$N$133*100 -> #REF! | O23: =I23/'TEST MARKS '!$O$133*100 -> #REF! | P23: =IF(J23<'TEST MARKS '!$D$138,"N","Y") -> #REF! | Q23: =IF(K23<'TEST MARKS '!$D$138,"N","Y") -> #REF! | R23: =IF(L23<'TEST MARKS '!$D$138,"N","Y") -> #REF! | S23: =IF(M23<'TEST MARKS '!$D$138,"N","Y") -> #REF! | T23: =IF(N23<'TEST MARKS '!$D$138,"N","Y") -> #REF! | U23: =IF(O23<'TEST MARKS '!$D$138,"N","Y") -> #REF!
A24: ='TEST MARKS '!A25 -> 16 | B24: ='TEST MARKS '!B22 -> CHETHAN I P | C24: ='TEST MARKS '!C22 -> 1SG15ME020 | D24: ='TEST MARKS '!#REF! -> #REF! | E24: ='TEST MARKS '!#REF! -> #REF! | F24: ='TEST MARKS '!#REF! -> #REF! | G24: ='TEST MARKS '!#REF! -> #REF! | H24: ='TEST MARKS '!#REF! -> #REF! | I24: ='TEST MARKS '!#REF! -> #REF! | J24: =D24/'TEST MARKS '!$J$133*100 -> #REF! | K24: =E24/'TEST MARKS '!$K$133*100 -> #REF! | L24: =F24/'TEST MARKS '!$L$133*100 -> #REF! | M24: =G24/'TEST MARKS '!$M$133*100 -> #REF! | N24: =H24/'TEST MARKS '!$N$133*100 -> #REF! | O24: =I24/'TEST MARKS '!$O$133*100 -> #REF! | P24: =IF(J24<'TEST MARKS '!$D$138,"N","Y") -> #REF! | Q24: =IF(K24<'TEST MARKS '!$D$138,"N","Y") -> #REF! | R24: =IF(L24<'TEST MARKS '!$D$138,"N","Y") -> #REF! | S24: =IF(M24<'TEST MARKS '!$D$138,"N","Y") -> #REF! | T24: =IF(N24<'TEST MARKS '!$D$138,"N","Y") -> #REF! | U24: =IF(O24<'TEST MARKS '!$D$138,"N","Y") -> #REF!
A25: ='TEST MARKS '!A26 -> 17 | B25: ='TEST MARKS '!B23 -> DAYANANDA M | C25: ='TEST MARKS '!C23 -> 1SG15ME021 | D25: ='TEST MARKS '!#REF! -> #REF! | E25: ='TEST MARKS '!#REF! -> #REF! | F25: ='TEST MARKS '!#REF! -> #REF! | G25: ='TEST MARKS '!#REF! -> #REF! | H25: ='TEST MARKS '!#REF! -> #REF! | I25: ='TEST MARKS '!#REF! -> #REF! | J25: =D25/'TEST MARKS '!$J$133*100 -> #REF! | K25: =E25/'TEST MARKS '!$K$133*100 -> #REF! | L25: =F25/'TEST MARKS '!$L$133*100 -> #REF! | M25: =G25/'TEST MARKS '!$M$133*100 -> #REF! | N25: =H25/'TEST MARKS '!$N$133*100 -> #REF! | O25: =I25/'TEST MARKS '!$O$133*100 -> #REF! | P25: =IF(J25<'TEST MARKS '!$D$138,"N","Y") -> #REF! | Q25: =IF(K25<'TEST MARKS '!$D$138,"N","Y") -> #REF! | R25: =IF(L25<'TEST MARKS '!$D$138,"N","Y") -> #REF! | S25: =IF(M25<'TEST MARKS '!$D$138,"N","Y") -> #REF! | T25: =IF(N25<'TEST MARKS '!$D$138,"N","Y") -> #REF! | U25: =IF(O25<'TEST MARKS '!$D$138,"N","Y") -> #REF!
A26: ='TEST MARKS '!A27 -> 18 | B26: ='TEST MARKS '!#REF! -> #REF! | C26: ='TEST MARKS '!#REF! -> #REF! | D26: ='TEST MARKS '!#REF! -> #REF! | E26: ='TEST MARKS '!#REF! -> #REF! | F26: ='TEST MARKS '!#REF! -> #REF! | G26: ='TEST MARKS '!#REF! -> #REF! | H26: ='TEST MARKS '!#REF! -> #REF! | I26: ='TEST MARKS '!#REF! -> #REF! | J26: =D26/'TEST MARKS '!$J$133*100 -> #REF! | K26: =E26/'TEST MARKS '!$K$133*100 -> #REF! | L26: =F26/'TEST MARKS '!$L$133*100 -> #REF! | M26: =G26/'TEST MARKS '!$M$133*100 -> #REF! | N26: =H26/'TEST MARKS '!$N$133*100 -> #REF! | O26: =I26/'TEST MARKS '!$O$133*100 -> #REF! | P26: =IF(J26<'TEST MARKS '!$D$138,"N","Y") -> #REF! | Q26: =IF(K26<'TEST MARKS '!$D$138,"N","Y") -> #REF! | R26: =IF(L26<'TEST MARKS '!$D$138,"N","Y") -> #REF! | S26: =IF(M26<'TEST MARKS '!$D$138,"N","Y") -> #REF! | T26: =IF(N26<'TEST MARKS '!$D$138,"N","Y") -> #REF! | U26: =IF(O26<'TEST MARKS '!$D$138,"N","Y") -> #REF!
A27: ='TEST MARKS '!A28 -> 19 | B27: ='TEST MARKS '!B24 -> DEEPU H S | C27: ='TEST MARKS '!C24 -> 1SG15ME022 | D27: ='TEST MARKS '!#REF! -> #REF! | E27: ='TEST MARKS '!#REF! -> #REF! | F27: ='TEST MARKS '!#REF! -> #REF! | G27: ='TEST MARKS '!#REF! -> #REF! | H27: ='TEST MARKS '!#REF! -> #REF! | I27: ='TEST MARKS '!#REF! -> #REF! | J27: =D27/'TEST MARKS '!$J$133*100 -> #REF! | K27: =E27/'TEST MARKS '!$K$133*100 -> #REF! | L27: =F27/'TEST MARKS '!$L$133*100 -> #REF! | M27: =G27/'TEST MARKS '!$M$133*100 -> #REF! | N27: =H27/'TEST MARKS '!$N$133*100 -> #REF! | O27: =I27/'TEST MARKS '!$O$133*100 -> #REF! | P27: =IF(J27<'TEST MARKS '!$D$138,"N","Y") -> #REF! | Q27: =IF(K27<'TEST MARKS '!$D$138,"N","Y") -> #REF! | R27: =IF(L27<'TEST MARKS '!$D$138,"N","Y") -> #REF! | S27: =IF(M27<'TEST MARKS '!$D$138,"N","Y") -> #REF! | T27: =IF(N27<'TEST MARKS '!$D$138,"N","Y") -> #REF! | U27: =IF(O27<'TEST MARKS '!$D$138,"N","Y") -> #REF!
A28: ='TEST MARKS '!A29 -> 20 | B28: ='TEST MARKS '!B25 -> DEVARAJ HIREMATH | C28: ='TEST MARKS '!C25 -> 1SG15ME023 | D28: ='TEST MARKS '!#REF! -> #REF! | E28: ='TEST MARKS '!#REF! -> #REF! | F28: ='TEST MARKS '!#REF! -> #REF! | G28: ='TEST MARKS '!#REF! -> #REF! | H28: ='TEST MARKS '!#REF! -> #REF! | I28: ='TEST MARKS '!#REF! -> #REF! | J28: =D28/'TEST MARKS '!$J$133*100 -> #REF! | K28: =E28/'TEST MARKS '!$K$133*100 -> #REF! | L28: =F28/'TEST MARKS '!$L$133*100 -> #REF! | M28: =G28/'TEST MARKS '!$M$133*100 -> #REF! | N28: =H28/'TEST MARKS '!$N$133*100 -> #REF! | O28: =I28/'TEST MARKS '!$O$133*100 -> #REF! | P28: =IF(J28<'TEST MARKS '!$D$138,"N","Y") -> #REF! | Q28: =IF(K28<'TEST MARKS '!$D$138,"N","Y") -> #REF! | R28: =IF(L28<'TEST MARKS '!$D$138,"N","Y") -> #REF! | S28: =IF(M28<'TEST MARKS '!$D$138,"N","Y") -> #REF! | T28: =IF(N28<'TEST MARKS '!$D$138,"N","Y") -> #REF! | U28: =IF(O28<'TEST MARKS '!$D$138,"N","Y") -> #REF!
A29: ='TEST MARKS '!A30 -> 21 | B29: ='TEST MARKS '!B26 -> DHANANJAYA V | C29: ='TEST MARKS '!C26 -> 1SG15ME024 | D29: ='TEST MARKS '!#REF! -> #REF! | E29: ='TEST MARKS '!#REF! -> #REF! | F29: ='TEST MARKS '!#REF! -> #REF! | G29: ='TEST MARKS '!#REF! -> #REF! | H29: ='TEST MARKS '!#REF! -> #REF! | I29: ='TEST MARKS '!#REF! -> #REF! | J29: =D29/'TEST MARKS '!$J$133*100 -> #REF! | K29: =E29/'TEST MARKS '!$K$133*100 -> #REF! | L29: =F29/'TEST MARKS '!$L$133*100 -> #REF! | M29: =G29/'TEST MARKS '!$M$133*100 -> #REF! | N29: =H29/'TEST MARKS '!$N$133*100 -> #REF! | O29: =I29/'TEST MARKS '!$O$133*100 -> #REF! | P29: =IF(J29<'TEST MARKS '!$D$138,"N","Y") -> #REF! | Q29: =IF(K29<'TEST MARKS '!$D$138,"N","Y") -> #REF! | R29: =IF(L29<'TEST MARKS '!$D$138,"N","Y") -> #REF! | S29: =IF(M29<'TEST MARKS '!$D$138,"N","Y") -> #REF! | T29: =IF(N29<'TEST MARKS '!$D$138,"N","Y") -> #REF! | U29: =IF(O29<'TEST MARKS '!$D$138,"N","Y") -> #REF!
A30: ='TEST MARKS '!A31 -> 22 | B30: ='TEST MARKS '!B27 -> DHANRAJ M | C30: ='TEST MARKS '!C27 -> 1SG15ME025 | D30: ='TEST MARKS '!#REF! -> #REF! | E30: ='TEST MARKS '!#REF! -> #REF! | F30: ='TEST MARKS '!#REF! -> #REF! | G30: ='TEST MARKS '!#REF! -> #REF! | H30: ='TEST MARKS '!#REF! -> #REF! | I30: ='TEST MARKS '!#REF! -> #REF! | J30: =D30/'TEST MARKS '!$J$133*100 -> #REF! | K30: =E30/'TEST MARKS '!$K$133*100 -> #REF! | L30: =F30/'TEST MARKS '!$L$133*100 -> #REF! | M30: =G30/'TEST MARKS '!$M$133*100 -> #REF! | N30: =H30/'TEST MARKS '!$N$133*100 -> #REF! | O30: =I30/'TEST MARKS '!$O$133*100 -> #REF! | P30: =IF(J30<'TEST MARKS '!$D$138,"N","Y") -> #REF! | Q30: =IF(K30<'TEST MARKS '!$D$138,"N","Y") -> #REF! | R30: =IF(L30<'TEST MARKS '!$D$138,"N","Y") -> #REF! | S30: =IF(M30<'TEST MARKS '!$D$138,"N","Y") -> #REF! | T30: =IF(N30<'TEST MARKS '!$D$138,"N","Y") -> #REF! | U30: =IF(O30<'TEST MARKS '!$D$138,"N","Y") -> #REF!
A31: ='TEST MARKS '!A32 -> 23 | B31: ='TEST MARKS '!B28 -> DHARSHAN M J | C31: ='TEST MARKS '!C28 -> 1SG15ME026 | D31: ='TEST MARKS '!#REF! -> #REF! | E31: ='TEST MARKS '!#REF! -> #REF! | F31: ='TEST MARKS '!#REF! -> #REF! | G31: ='TEST MARKS '!#REF! -> #REF! | H31: ='TEST MARKS '!#REF! -> #REF! | I31: ='TEST MARKS '!#REF! -> #REF! | J31: =D31/'TEST MARKS '!$J$133*100 -> #REF! | K31: =E31/'TEST MARKS '!$K$133*100 -> #REF! | L31: =F31/'TEST MARKS '!$L$133*100 -> #REF! | M31: =G31/'TEST MARKS '!$M$133*100 -> #REF! | N31: =H31/'TEST MARKS '!$N$133*100 -> #REF! | O31: =I31/'TEST MARKS '!$O$133*100 -> #REF! | P31: =IF(J31<'TEST MARKS '!$D$138,"N","Y") -> #REF! | Q31: =IF(K31<'TEST MARKS '!$D$138,"N","Y") -> #REF! | R31: =IF(L31<'TEST MARKS '!$D$138,"N","Y") -> #REF! | S31: =IF(M31<'TEST MARKS '!$D$138,"N","Y") -> #REF! | T31: =IF(N31<'TEST MARKS '!$D$138,"N","Y") -> #REF! | U31: =IF(O31<'TEST MARKS '!$D$138,"N","Y") -> #REF!
A32: ='TEST MARKS '!A33 -> 24 | B32: ='TEST MARKS '!B29 -> DILIP M | C32: ='TEST MARKS '!C29 -> 1SG15ME028 | D32: ='TEST MARKS '!#REF! -> #REF! | E32: ='TEST MARKS '!#REF! -> #REF! | F32: ='TEST MARKS '!#REF! -> #REF! | G32: ='TEST MARKS '!#REF! -> #REF! | H32: ='TEST MARKS '!#REF! -> #REF! | I32: ='TEST MARKS '!#REF! -> #REF! | J32: =D32/'TEST MARKS '!$J$133*100 -> #REF! | K32: =E32/'TEST MARKS '!$K$133*100 -> #REF! | L32: =F32/'TEST MARKS '!$L$133*100 -> #REF! | M32: =G32/'TEST MARKS '!$M$133*100 -> #REF! | N32: =H32/'TEST MARKS '!$N$133*100 -> #REF! | O32: =I32/'TEST MARKS '!$O$133*100 -> #REF! | P32: =IF(J32<'TEST MARKS '!$D$138,"N","Y") -> #REF! | Q32: =IF(K32<'TEST MARKS '!$D$138,"N","Y") -> #REF! | R32: =IF(L32<'TEST MARKS '!$D$138,"N","Y") -> #REF! | S32: =IF(M32<'TEST MARKS '!$D$138,"N","Y") -> #REF! | T32: =IF(N32<'TEST MARKS '!$D$138,"N","Y") -> #REF! | U32: =IF(O32<'TEST MARKS '!$D$138,"N","Y") -> #REF!
A33: ='TEST MARKS '!A34 -> 25 | B33: ='TEST MARKS '!B30 -> DINESH KUMAR K | C33: ='TEST MARKS '!C30 -> 1SG15ME030 | D33: ='TEST MARKS '!#REF! -> #REF! | E33: ='TEST MARKS '!#REF! -> #REF! | F33: ='TEST MARKS '!#REF! -> #REF! | G33: ='TEST MARKS '!#REF! -> #REF! | H33: ='TEST MARKS '!#REF! -> #REF! | I33: ='TEST MARKS '!#REF! -> #REF! | J33: =D33/'TEST MARKS '!$J$133*100 -> #REF! | K33: =E33/'TEST MARKS '!$K$133*100 -> #REF! | L33: =F33/'TEST MARKS '!$L$133*100 -> #REF! | M33: =G33/'TEST MARKS '!$M$133*100 -> #REF! | N33: =H33/'TEST MARKS '!$N$133*100 -> #REF! | O33: =I33/'TEST MARKS '!$O$133*100 -> #REF! | P33: =IF(J33<'TEST MARKS '!$D$138,"N","Y") -> #REF! | Q33: =IF(K33<'TEST MARKS '!$D$138,"N","Y") -> #REF! | R33: =IF(L33<'TEST MARKS '!$D$138,"N","Y") -> #REF! | S33: =IF(M33<'TEST MARKS '!$D$138,"N","Y") -> #REF! | T33: =IF(N33<'TEST MARKS '!$D$138,"N","Y") -> #REF! | U33: =IF(O33<'TEST MARKS '!$D$138,"N","Y") -> #REF!
A34: ='TEST MARKS '!A35 -> 26 | B34: ='TEST MARKS '!B31 -> DIVYA C N | C34: ='TEST MARKS '!C31 -> 1SG15ME031 | D34: ='TEST MARKS '!#REF! -> #REF! | E34: ='TEST MARKS '!#REF! -> #REF! | F34: ='TEST MARKS '!#REF! -> #REF! | G34: ='TEST MARKS '!#REF! -> #REF! | H34: ='TEST MARKS '!#REF! -> #REF! | I34: ='TEST MARKS '!#REF! -> #REF! | J34: =D34/'TEST MARKS '!$J$133*100 -> #REF! | K34: =E34/'TEST MARKS '!$K$133*100 -> #REF! | L34: =F34/'TEST MARKS '!$L$133*100 -> #REF! | M34: =G34/'TEST MARKS '!$M$133*100 -> #REF! | N34: =H34/'TEST MARKS '!$N$133*100 -> #REF! | O34: =I34/'TEST MARKS '!$O$133*100 -> #REF! | P34: =IF(J34<'TEST MARKS '!$D$138,"N","Y") -> #REF! | Q34: =IF(K34<'TEST MARKS '!$D$138,"N","Y") -> #REF! | R34: =IF(L34<'TEST MARKS '!$D$138,"N","Y") -> #REF! | S34: =IF(M34<'TEST MARKS '!$D$138,"N","Y") -> #REF! | T34: =IF(N34<'TEST MARKS '!$D$138,"N","Y") -> #REF! | U34: =IF(O34<'TEST MARKS '!$D$138,"N","Y") -> #REF!
A35: ='TEST MARKS '!A36 -> 27 | B35: ='TEST MARKS '!B32 -> GAGAN M | C35: ='TEST MARKS '!C32 -> 1SG15ME032 | D35: ='TEST MARKS '!#REF! -> #REF! | E35: ='TEST MARKS '!#REF! -> #REF! | F35: ='TEST MARKS '!#REF! -> #REF! | G35: ='TEST MARKS '!#REF! -> #REF! | H35: ='TEST MARKS '!#REF! -> #REF! | I35: ='TEST MARKS '!#REF! -> #REF! | J35: =D35/'TEST MARKS '!$J$133*100 -> #REF! | K35: =E35/'TEST MARKS '!$K$133*100 -> #REF! | L35: =F35/'TEST MARKS '!$L$133*100 -> #REF! | M35: =G35/'TEST MARKS '!$M$133*100 -> #REF! | N35: =H35/'TEST MARKS '!$N$133*100 -> #REF! | O35: =I35/'TEST MARKS '!$O$133*100 -> #REF! | P35: =IF(J35<'TEST MARKS '!$D$138,"N","Y") -> #REF! | Q35: =IF(K35<'TEST MARKS '!$D$138,"N","Y") -> #REF! | R35: =IF(L35<'TEST MARKS '!$D$138,"N","Y") -> #REF! | S35: =IF(M35<'TEST MARKS '!$D$138,"N","Y") -> #REF! | T35: =IF(N35<'TEST MARKS '!$D$138,"N","Y") -> #REF! | U35: =IF(O35<'TEST MARKS '!$D$138,"N","Y") -> #REF!
A36: ='TEST MARKS '!A37 -> 28 | B36: ='TEST MARKS '!B33 -> GALVIN IGNATIUS MENEZES | C36: ='TEST MARKS '!C33 -> 1SG15ME033 | D36: ='TEST MARKS '!#REF! -> #REF! | E36: ='TEST MARKS '!#REF! -> #REF! | F36: ='TEST MARKS '!#REF! -> #REF! | G36: ='TEST MARKS '!#REF! -> #REF! | H36: ='TEST MARKS '!#REF! -> #REF! | I36: ='TEST MARKS '!#REF! -> #REF! | J36: =D36/'TEST MARKS '!$J$133*100 -> #REF! | K36: =E36/'TEST MARKS '!$K$133*100 -> #REF! | L36: =F36/'TEST MARKS '!$L$133*100 -> #REF! | M36: =G36/'TEST MARKS '!$M$133*100 -> #REF! | N36: =H36/'TEST MARKS '!$N$133*100 -> #REF! | O36: =I36/'TEST MARKS '!$O$133*100 -> #REF! | P36: =IF(J36<'TEST MARKS '!$D$138,"N","Y") -> #REF! | Q36: =IF(K36<'TEST MARKS '!$D$138,"N","Y") -> #REF! | R36: =IF(L36<'TEST MARKS '!$D$138,"N","Y") -> #REF! | S36: =IF(M36<'TEST MARKS '!$D$138,"N","Y") -> #REF! | T36: =IF(N36<'TEST MARKS '!$D$138,"N","Y") -> #REF! | U36: =IF(O36<'TEST MARKS '!$D$138,"N","Y") -> #REF!
A37: ='TEST MARKS '!A38 -> 29 | B37: ='TEST MARKS '!B34 -> GYANENDRA KUMAR GUPTA | C37: ='TEST MARKS '!C34 -> 1SG15ME034 | D37: ='TEST MARKS '!#REF! -> #REF! | E37: ='TEST MARKS '!#REF! -> #REF! | F37: ='TEST MARKS '!#REF! -> #REF! | G37: ='TEST MARKS '!#REF! -> #REF! | H37: ='TEST MARKS '!#REF! -> #REF! | I37: ='TEST MARKS '!#REF! -> #REF! | J37: =D37/'TEST MARKS '!$J$133*100 -> #REF! | K37: =E37/'TEST MARKS '!$K$133*100 -> #REF! | L37: =F37/'TEST MARKS '!$L$133*100 -> #REF! | M37: =G37/'TEST MARKS '!$M$133*100 -> #REF! | N37: =H37/'TEST MARKS '!$N$133*100 -> #REF! | O37: =I37/'TEST MARKS '!$O$133*100 -> #REF! | P37: =IF(J37<'TEST MARKS '!$D$138,"N","Y") -> #REF! | Q37: =IF(K37<'TEST MARKS '!$D$138,"N","Y") -> #REF! | R37: =IF(L37<'TEST MARKS '!$D$138,"N","Y") -> #REF! | S37: =IF(M37<'TEST MARKS '!$D$138,"N","Y") -> #REF! | T37: =IF(N37<'TEST MARKS '!$D$138,"N","Y") -> #REF! | U37: =IF(O37<'TEST MARKS '!$D$138,"N","Y") -> #REF!
A38: ='TEST MARKS '!A39 -> 30 | B38: ='TEST MARKS '!B35 -> HIMANSHU | C38: ='TEST MARKS '!C35 -> 1SG15ME038 | D38: ='TEST MARKS '!#REF! -> #REF! | E38: ='TEST MARKS '!#REF! -> #REF! | F38: ='TEST MARKS '!#REF! -> #REF! | G38: ='TEST MARKS '!#REF! -> #REF! | H38: ='TEST MARKS '!#REF! -> #REF! | I38: ='TEST MARKS '!#REF! -> #REF! | J38: =D38/'TEST MARKS '!$J$133*100 -> #REF! | K38: =E38/'TEST MARKS '!$K$133*100 -> #REF! | L38: =F38/'TEST MARKS '!$L$133*100 -> #REF! | M38: =G38/'TEST MARKS '!$M$133*100 -> #REF! | N38: =H38/'TEST MARKS '!$N$133*100 -> #REF! | O38: =I38/'TEST MARKS '!$O$133*100 -> #REF! | P38: =IF(J38<'TEST MARKS '!$D$138,"N","Y") -> #REF! | Q38: =IF(K38<'TEST MARKS '!$D$138,"N","Y") -> #REF! | R38: =IF(L38<'TEST MARKS '!$D$138,"N","Y") -> #REF! | S38: =IF(M38<'TEST MARKS '!$D$138,"N","Y") -> #REF! | T38: =IF(N38<'TEST MARKS '!$D$138,"N","Y") -> #REF! | U38: =IF(O38<'TEST MARKS '!$D$138,"N","Y") -> #REF!
... A44: ='TEST MARKS '!A45 -> 36 | B44: ='TEST MARKS '!B41 -> K.SAISOMASEKHAR | C44: ='TEST MARKS '!C41 -> 1SG15ME048 | D44: ='TEST MARKS '!#REF! -> #REF! | E44: ='TEST MARKS '!#REF! -> #REF! | F44: ='TEST MARKS '!#REF! -> #REF! | G44: ='TEST MARKS '!#REF! -> #REF! | H44: ='TEST MARKS '!#REF! -> #REF! | I44: ='TEST MARKS '!#REF! -> #REF! | J44: =D44/'TEST MARKS '!$J$133*100 -> #REF! | K44: =E44/'TEST MARKS '!$K$133*100 -> #REF! | L44: =F44/'TEST MARKS '!$L$133*100 -> #REF! | M44: =G44/'TEST MARKS '!$M$133*100 -> #REF! | N44: =H44/'TEST MARKS '!$N$133*100 -> #REF! | O44: =I44/'TEST MARKS '!$O$133*100 -> #REF! | P44: =IF(J44<'TEST MARKS '!$D$138,"N","Y") -> #REF! | Q44: =IF(K44<'TEST MARKS '!$D$138,"N","Y") -> #REF! | R44: =IF(L44<'TEST MARKS '!$D$138,"N","Y") -> #REF! | S44: =IF(M44<'TEST MARKS '!$D$138,"N","Y") -> #REF! | T44: =IF(N44<'TEST MARKS '!$D$138,"N","Y") -> #REF! | U44: =IF(O44<'TEST MARKS '!$D$138,"N","Y") -> #REF!
A45: ='TEST MARKS '!A46 -> 37 | B45: ='TEST MARKS '!#REF! -> #REF! | C45: ='TEST MARKS '!#REF! -> #REF! | D45: ='TEST MARKS '!#REF! -> #REF! | E45: ='TEST MARKS '!#REF! -> #REF! | F45: ='TEST MARKS '!#REF! -> #REF! | G45: ='TEST MARKS '!#REF! -> #REF! | H45: ='TEST MARKS '!#REF! -> #REF! | I45: ='TEST MARKS '!#REF! -> #REF! | J45: =D45/'TEST MARKS '!$J$133*100 -> #REF! | K45: =E45/'TEST MARKS '!$K$133*100 -> #REF! | L45: =F45/'TEST MARKS '!$L$133*100 -> #REF! | M45: =G45/'TEST MARKS '!$M$133*100 -> #REF! | N45: =H45/'TEST MARKS '!$N$133*100 -> #REF! | O45: =I45/'TEST MARKS '!$O$133*100 -> #REF! | P45: =IF(J45<'TEST MARKS '!$D$138,"N","Y") -> #REF! | Q45: =IF(K45<'TEST MARKS '!$D$138,"N","Y") -> #REF! | R45: =IF(L45<'TEST MARKS '!$D$138,"N","Y") -> #REF! | S45: =IF(M45<'TEST MARKS '!$D$138,"N","Y") -> #REF! | T45: =IF(N45<'TEST MARKS '!$D$138,"N","Y") -> #REF! | U45: =IF(O45<'TEST MARKS '!$D$138,"N","Y") -> #REF!
A46: ='TEST MARKS '!A47 -> 38 | B46: ='TEST MARKS '!B42 -> KUSHAL S | C46: ='TEST MARKS '!C42 -> 1SG15ME049 | D46: ='TEST MARKS '!#REF! -> #REF! | E46: ='TEST MARKS '!#REF! -> #REF! | F46: ='TEST MARKS '!#REF! -> #REF! | G46: ='TEST MARKS '!#REF! -> #REF! | H46: ='TEST MARKS '!#REF! -> #REF! | I46: ='TEST MARKS '!#REF! -> #REF! | J46: =D46/'TEST MARKS '!$J$133*100 -> #REF! | K46: =E46/'TEST MARKS '!$K$133*100 -> #REF! | L46: =F46/'TEST MARKS '!$L$133*100 -> #REF! | M46: =G46/'TEST MARKS '!$M$133*100 -> #REF! | N46: =H46/'TEST MARKS '!$N$133*100 -> #REF! | O46: =I46/'TEST MARKS '!$O$133*100 -> #REF! | P46: =IF(J46<'TEST MARKS '!$D$138,"N","Y") -> #REF! | Q46: =IF(K46<'TEST MARKS '!$D$138,"N","Y") -> #REF! | R46: =IF(L46<'TEST MARKS '!$D$138,"N","Y") -> #REF! | S46: =IF(M46<'TEST MARKS '!$D$138,"N","Y") -> #REF! | T46: =IF(N46<'TEST MARKS '!$D$138,"N","Y") -> #REF! | U46: =IF(O46<'TEST MARKS '!$D$138,"N","Y") -> #REF!
A47: ='TEST MARKS '!A48 -> 39 | B47: ='TEST MARKS '!B43 -> LIKITH P S | C47: ='TEST MARKS '!C43 -> 1SG15ME050 | D47: ='TEST MARKS '!#REF! -> #REF! | E47: ='TEST MARKS '!#REF! -> #REF! | F47: ='TEST MARKS '!#REF! -> #REF! | G47: ='TEST MARKS '!#REF! -> #REF! | H47: ='TEST MARKS '!#REF! -> #REF! | I47: ='TEST MARKS '!#REF! -> #REF! | J47: =D47/'TEST MARKS '!$J$133*100 -> #REF! | K47: =E47/'TEST MARKS '!$K$133*100 -> #REF! | L47: =F47/'TEST MARKS '!$L$133*100 -> #REF! | M47: =G47/'TEST MARKS '!$M$133*100 -> #REF! | N47: =H47/'TEST MARKS '!$N$133*100 -> #REF! | O47: =I47/'TEST MARKS '!$O$133*100 -> #REF! | P47: =IF(J47<'TEST MARKS '!$D$138,"N","Y") -> #REF! | Q47: =IF(K47<'TEST MARKS '!$D$138,"N","Y") -> #REF! | R47: =IF(L47<'TEST MARKS '!$D$138,"N","Y") -> #REF! | S47: =IF(M47<'TEST MARKS '!$D$138,"N","Y") -> #REF! | T47: =IF(N47<'TEST MARKS '!$D$138,"N","Y") -> #REF! | U47: =IF(O47<'TEST MARKS '!$D$138,"N","Y") -> #REF!
A48: ='TEST MARKS '!A49 -> 40 | B48: ='TEST MARKS '!B44 -> MADAN KUMAR L | C48: ='TEST MARKS '!C44 -> 1SG15ME052 | D48: ='TEST MARKS '!#REF! -> #REF! | E48: ='TEST MARKS '!#REF! -> #REF! | F48: ='TEST MARKS '!#REF! -> #REF! | G48: ='TEST MARKS '!#REF! -> #REF! | H48: ='TEST MARKS '!#REF! -> #REF! | I48: ='TEST MARKS '!#REF! -> #REF! | J48: =D48/'TEST MARKS '!$J$133*100 -> #REF! | K48: =E48/'TEST MARKS '!$K$133*100 -> #REF! | L48: =F48/'TEST MARKS '!$L$133*100 -> #REF! | M48: =G48/'TEST MARKS '!$M$133*100 -> #REF! | N48: =H48/'TEST MARKS '!$N$133*100 -> #REF! | O48: =I48/'TEST MARKS '!$O$133*100 -> #REF! | P48: =IF(J48<'TEST MARKS '!$D$138,"N","Y") -> #REF! | Q48: =IF(K48<'TEST MARKS '!$D$138,"N","Y") -> #REF! | R48: =IF(L48<'TEST MARKS '!$D$138,"N","Y") -> #REF! | S48: =IF(M48<'TEST MARKS '!$D$138,"N","Y") -> #REF! | T48: =IF(N48<'TEST MARKS '!$D$138,"N","Y") -> #REF! | U48: =IF(O48<'TEST MARKS '!$D$138,"N","Y") -> #REF!
A49: ='TEST MARKS '!A50 -> 41 | B49: ='TEST MARKS '!B45 -> MANJUNATH M | C49: ='TEST MARKS '!C45 -> 1SG15ME053 | D49: ='TEST MARKS '!#REF! -> #REF! | E49: ='TEST MARKS '!#REF! -> #REF! | F49: ='TEST MARKS '!#REF! -> #REF! | G49: ='TEST MARKS '!#REF! -> #REF! | H49: ='TEST MARKS '!#REF! -> #REF! | I49: ='TEST MARKS '!#REF! -> #REF! | J49: =D49/'TEST MARKS '!$J$133*100 -> #REF! | K49: =E49/'TEST MARKS '!$K$133*100 -> #REF! | L49: =F49/'TEST MARKS '!$L$133*100 -> #REF! | M49: =G49/'TEST MARKS '!$M$133*100 -> #REF! | N49: =H49/'TEST MARKS '!$N$133*100 -> #REF! | O49: =I49/'TEST MARKS '!$O$133*100 -> #REF! | P49: =IF(J49<'TEST MARKS '!$D$138,"N","Y") -> #REF! | Q49: =IF(K49<'TEST MARKS '!$D$138,"N","Y") -> #REF! | R49: =IF(L49<'TEST MARKS '!$D$138,"N","Y") -> #REF! | S49: =IF(M49<'TEST MARKS '!$D$138,"N","Y") -> #REF! | T49: =IF(N49<'TEST MARKS '!$D$138,"N","Y") -> #REF! | U49: =IF(O49<'TEST MARKS '!$D$138,"N","Y") -> #REF!
A50: ='TEST MARKS '!A51 -> 42 | B50: ='TEST MARKS '!B46 -> MD REHAN NASIM | C50: ='TEST MARKS '!C46 -> 1SG15ME054 | D50: ='TEST MARKS '!#REF! -> #REF! | E50: ='TEST MARKS '!#REF! -> #REF! | F50: ='TEST MARKS '!#REF! -> #REF! | G50: ='TEST MARKS '!#REF! -> #REF! | H50: ='TEST MARKS '!#REF! -> #REF! | I50: ='TEST MARKS '!#REF! -> #REF! | J50: =D50/'TEST MARKS '!$J$133*100 -> #REF! | K50: =E50/'TEST MARKS '!$K$133*100 -> #REF! | L50: =F50/'TEST MARKS '!$L$133*100 -> #REF! | M50: =G50/'TEST MARKS '!$M$133*100 -> #REF! | N50: =H50/'TEST MARKS '!$N$133*100 -> #REF! | O50: =I50/'TEST MARKS '!$O$133*100 -> #REF! | P50: =IF(J50<'TEST MARKS '!$D$138,"N","Y") -> #REF! | Q50: =IF(K50<'TEST MARKS '!$D$138,"N","Y") -> #REF! | R50: =IF(L50<'TEST MARKS '!$D$138,"N","Y") -> #REF! | S50: =IF(M50<'TEST MARKS '!$D$138,"N","Y") -> #REF! | T50: =IF(N50<'TEST MARKS '!$D$138,"N","Y") -> #REF! | U50: =IF(O50<'TEST MARKS '!$D$138,"N","Y") -> #REF!
A51: ='TEST MARKS '!A52 -> 43 | B51: ='TEST MARKS '!B47 -> MITHUN RAGHUNANDAN | C51: ='TEST MARKS '!C47 -> 1SG15ME055 | D51: ='TEST MARKS '!#REF! -> #REF! | E51: ='TEST MARKS '!#REF! -> #REF! | F51: ='TEST MARKS '!#REF! -> #REF! | G51: ='TEST MARKS '!#REF! -> #REF! | H51: ='TEST MARKS '!#REF! -> #REF! | I51: ='TEST MARKS '!#REF! -> #REF! | J51: =D51/'TEST MARKS '!$J$133*100 -> #REF! | K51: =E51/'TEST MARKS '!$K$133*100 -> #REF! | L51: =F51/'TEST MARKS '!$L$133*100 -> #REF! | M51: =G51/'TEST MARKS '!$M$133*100 -> #REF! | N51: =H51/'TEST MARKS '!$N$133*100 -> #REF! | O51: =I51/'TEST MARKS '!$O$133*100 -> #REF! | P51: =IF(J51<'TEST MARKS '!$D$138,"N","Y") -> #REF! | Q51: =IF(K51<'TEST MARKS '!$D$138,"N","Y") -> #REF! | R51: =IF(L51<'TEST MARKS '!$D$138,"N","Y") -> #REF! | S51: =IF(M51<'TEST MARKS '!$D$138,"N","Y") -> #REF! | T51: =IF(N51<'TEST MARKS '!$D$138,"N","Y") -> #REF! | U51: =IF(O51<'TEST MARKS '!$D$138,"N","Y") -> #REF!
A52: ='TEST MARKS '!A53 -> 44 | B52: ='TEST MARKS '!B48 -> DHANUSH N | C52: ='TEST MARKS '!C48 -> 1SG15ME057 | D52: ='TEST MARKS '!#REF! -> #REF! | E52: ='TEST MARKS '!#REF! -> #REF! | F52: ='TEST MARKS '!#REF! -> #REF! | G52: ='TEST MARKS '!#REF! -> #REF! | H52: ='TEST MARKS '!#REF! -> #REF! | I52: ='TEST MARKS '!#REF! -> #REF! | J52: =D52/'TEST MARKS '!$J$133*100 -> #REF! | K52: =E52/'TEST MARKS '!$K$133*100 -> #REF! | L52: =F52/'TEST MARKS '!$L$133*100 -> #REF! | M52: =G52/'TEST MARKS '!$M$133*100 -> #REF! | N52: =H52/'TEST MARKS '!$N$133*100 -> #REF! | O52: =I52/'TEST MARKS '!$O$133*100 -> #REF! | P52: =IF(J52<'TEST MARKS '!$D$138,"N","Y") -> #REF! | Q52: =IF(K52<'TEST MARKS '!$D$138,"N","Y") -> #REF! | R52: =IF(L52<'TEST MARKS '!$D$138,"N","Y") -> #REF! | S52: =IF(M52<'TEST MARKS '!$D$138,"N","Y") -> #REF! | T52: =IF(N52<'TEST MARKS '!$D$138,"N","Y") -> #REF! | U52: =IF(O52<'TEST MARKS '!$D$138,"N","Y") -> #REF!
A53: ='TEST MARKS '!A54 -> 45 | B53: ='TEST MARKS '!B49 -> NAGARJUN S TAKKALAKI | C53: ='TEST MARKS '!C49 -> 1SG15ME058 | D53: ='TEST MARKS '!#REF! -> #REF! | E53: ='TEST MARKS '!#REF! -> #REF! | F53: ='TEST MARKS '!#REF! -> #REF! | G53: ='TEST MARKS '!#REF! -> #REF! | H53: ='TEST MARKS '!#REF! -> #REF! | I53: ='TEST MARKS '!#REF! -> #REF! | J53: =D53/'TEST MARKS '!$J$133*100 -> #REF! | K53: =E53/'TEST MARKS '!$K$133*100 -> #REF! | L53: =F53/'TEST MARKS '!$L$133*100 -> #REF! | M53: =G53/'TEST MARKS '!$M$133*100 -> #REF! | N53: =H53/'TEST MARKS '!$N$133*100 -> #REF! | O53: =I53/'TEST MARKS '!$O$133*100 -> #REF! | P53: =IF(J53<'TEST MARKS '!$D$138,"N","Y") -> #REF! | Q53: =IF(K53<'TEST MARKS '!$D$138,"N","Y") -> #REF! | R53: =IF(L53<'TEST MARKS '!$D$138,"N","Y") -> #REF! | S53: =IF(M53<'TEST MARKS '!$D$138,"N","Y") -> #REF! | T53: =IF(N53<'TEST MARKS '!$D$138,"N","Y") -> #REF! | U53: =IF(O53<'TEST MARKS '!$D$138,"N","Y") -> #REF!
A54: ='TEST MARKS '!A55 -> 46 | B54: ='TEST MARKS '!B50 -> NAGARJUN M | C54: ='TEST MARKS '!C50 -> 1SG15ME059 | D54: ='TEST MARKS '!#REF! -> #REF! | E54: ='TEST MARKS '!#REF! -> #REF! | F54: ='TEST MARKS '!#REF! -> #REF! | G54: ='TEST MARKS '!#REF! -> #REF! | H54: ='TEST MARKS '!#REF! -> #REF! | I54: ='TEST MARKS '!#REF! -> #REF! | J54: =D54/'TEST MARKS '!$J$133*100 -> #REF! | K54: =E54/'TEST MARKS '!$K$133*100 -> #REF! | L54: =F54/'TEST MARKS '!$L$133*100 -> #REF! | M54: =G54/'TEST MARKS '!$M$133*100 -> #REF! | N54: =H54/'TEST MARKS '!$N$133*100 -> #REF! | O54: =I54/'TEST MARKS '!$O$133*100 -> #REF! | P54: =IF(J54<'TEST MARKS '!$D$138,"N","Y") -> #REF! | Q54: =IF(K54<'TEST MARKS '!$D$138,"N","Y") -> #REF! | R54: =IF(L54<'TEST MARKS '!$D$138,"N","Y") -> #REF! | S54: =IF(M54<'TEST MARKS '!$D$138,"N","Y") -> #REF! | T54: =IF(N54<'TEST MARKS '!$D$138,"N","Y") -> #REF! | U54: =IF(O54<'TEST MARKS '!$D$138,"N","Y") -> #REF!
A55: ='TEST MARKS '!A56 -> 47 | B55: ='TEST MARKS '!B51 -> NISCHITH A G | C55: ='TEST MARKS '!C51 -> 1SG15ME060 | D55: ='TEST MARKS '!#REF! -> #REF! | E55: ='TEST MARKS '!#REF! -> #REF! | F55: ='TEST MARKS '!#REF! -> #REF! | G55: ='TEST MARKS '!#REF! -> #REF! | H55: ='TEST MARKS '!#REF! -> #REF! | I55: ='TEST MARKS '!#REF! -> #REF! | J55: =D55/'TEST MARKS '!$J$133*100 -> #REF! | K55: =E55/'TEST MARKS '!$K$133*100 -> #REF! | L55: =F55/'TEST MARKS '!$L$133*100 -> #REF! | M55: =G55/'TEST MARKS '!$M$133*100 -> #REF! | N55: =H55/'TEST MARKS '!$N$133*100 -> #REF! | O55: =I55/'TEST MARKS '!$O$133*100 -> #REF! | P55: =IF(J55<'TEST MARKS '!$D$138,"N","Y") -> #REF! | Q55: =IF(K55<'TEST MARKS '!$D$138,"N","Y") -> #REF! | R55: =IF(L55<'TEST MARKS '!$D$138,"N","Y") -> #REF! | S55: =IF(M55<'TEST MARKS '!$D$138,"N","Y") -> #REF! | T55: =IF(N55<'TEST MARKS '!$D$138,"N","Y") -> #REF! | U55: =IF(O55<'TEST MARKS '!$D$138,"N","Y") -> #REF!
A56: ='TEST MARKS '!A57 -> 48 | B56: ='TEST MARKS '!B52 -> KURUBA NITHEESH KUMAR | C56: ='TEST MARKS '!C52 -> 1SG15ME061 | D56: ='TEST MARKS '!#REF! -> #REF! | E56: ='TEST MARKS '!#REF! -> #REF! | F56: ='TEST MARKS '!#REF! -> #REF! | G56: ='TEST MARKS '!#REF! -> #REF! | H56: ='TEST MARKS '!#REF! -> #REF! | I56: ='TEST MARKS '!#REF! -> #REF! | J56: =D56/'TEST MARKS '!$J$133*100 -> #REF! | K56: =E56/'TEST MARKS '!$K$133*100 -> #REF! | L56: =F56/'TEST MARKS '!$L$133*100 -> #REF! | M56: =G56/'TEST MARKS '!$M$133*100 -> #REF! | N56: =H56/'TEST MARKS '!$N$133*100 -> #REF! | O56: =I56/'TEST MARKS '!$O$133*100 -> #REF! | P56: =IF(J56<'TEST MARKS '!$D$138,"N","Y") -> #REF! | Q56: =IF(K56<'TEST MARKS '!$D$138,"N","Y") -> #REF! | R56: =IF(L56<'TEST MARKS '!$D$138,"N","Y") -> #REF! | S56: =IF(M56<'TEST MARKS '!$D$138,"N","Y") -> #REF! | T56: =IF(N56<'TEST MARKS '!$D$138,"N","Y") -> #REF! | U56: =IF(O56<'TEST MARKS '!$D$138,"N","Y") -> #REF!
A57: ='TEST MARKS '!A58 -> 49 | B57: ='TEST MARKS '!#REF! -> #REF! | C57: ='TEST MARKS '!#REF! -> #REF! | D57: ='TEST MARKS '!#REF! -> #REF! | E57: ='TEST MARKS '!#REF! -> #REF! | F57: ='TEST MARKS '!#REF! -> #REF! | G57: ='TEST MARKS '!#REF! -> #REF! | H57: ='TEST MARKS '!#REF! -> #REF! | I57: ='TEST MARKS '!#REF! -> #REF! | J57: =D57/'TEST MARKS '!$J$133*100 -> #REF! | K57: =E57/'TEST MARKS '!$K$133*100 -> #REF! | L57: =F57/'TEST MARKS '!$L$133*100 -> #REF! | M57: =G57/'TEST MARKS '!$M$133*100 -> #REF! | N57: =H57/'TEST MARKS '!$N$133*100 -> #REF! | O57: =I57/'TEST MARKS '!$O$133*100 -> #REF! | P57: =IF(J57<'TEST MARKS '!$D$138,"N","Y") -> #REF! | Q57: =IF(K57<'TEST MARKS '!$D$138,"N","Y") -> #REF! | R57: =IF(L57<'TEST MARKS '!$D$138,"N","Y") -> #REF! | S57: =IF(M57<'TEST MARKS '!$D$138,"N","Y") -> #REF! | T57: =IF(N57<'TEST MARKS '!$D$138,"N","Y") -> #REF! | U57: =IF(O57<'TEST MARKS '!$D$138,"N","Y") -> #REF!
A58: ='TEST MARKS '!A59 -> 50 | B58: ='TEST MARKS '!B53 -> PAWAN C | C58: ='TEST MARKS '!C53 -> 1SG15ME064 | D58: ='TEST MARKS '!#REF! -> #REF! | E58: ='TEST MARKS '!#REF! -> #REF! | F58: ='TEST MARKS '!#REF! -> #REF! | G58: ='TEST MARKS '!#REF! -> #REF! | H58: ='TEST MARKS '!#REF! -> #REF! | I58: ='TEST MARKS '!#REF! -> #REF! | J58: =D58/'TEST MARKS '!$J$133*100 -> #REF! | K58: =E58/'TEST MARKS '!$K$133*100 -> #REF! | L58: =F58/'TEST MARKS '!$L$133*100 -> #REF! | M58: =G58/'TEST MARKS '!$M$133*100 -> #REF! | N58: =H58/'TEST MARKS '!$N$133*100 -> #REF! | O58: =I58/'TEST MARKS '!$O$133*100 -> #REF! | P58: =IF(J58<'TEST MARKS '!$D$138,"N","Y") -> #REF! | Q58: =IF(K58<'TEST MARKS '!$D$138,"N","Y") -> #REF! | R58: =IF(L58<'TEST MARKS '!$D$138,"N","Y") -> #REF! | S58: =IF(M58<'TEST MARKS '!$D$138,"N","Y") -> #REF! | T58: =IF(N58<'TEST MARKS '!$D$138,"N","Y") -> #REF! | U58: =IF(O58<'TEST MARKS '!$D$138,"N","Y") -> #REF!
A59: ='TEST MARKS '!A60 -> 51 | B59: ='TEST MARKS '!B54 -> PRADEEP B N | C59: ='TEST MARKS '!C54 -> 1SG15ME066 | D59: ='TEST MARKS '!#REF! -> #REF! | E59: ='TEST MARKS '!#REF! -> #REF! | F59: ='TEST MARKS '!#REF! -> #REF! | G59: ='TEST MARKS '!#REF! -> #REF! | H59: ='TEST MARKS '!#REF! -> #REF! | I59: ='TEST MARKS '!#REF! -> #REF! | J59: =D59/'TEST MARKS '!$J$133*100 -> #REF! | K59: =E59/'TEST MARKS '!$K$133*100 -> #REF! | L59: =F59/'TEST MARKS '!$L$133*100 -> #REF! | M59: =G59/'TEST MARKS '!$M$133*100 -> #REF! | N59: =H59/'TEST MARKS '!$N$133*100 -> #REF! | O59: =I59/'TEST MARKS '!$O$133*100 -> #REF! | P59: =IF(J59<'TEST MARKS '!$D$138,"N","Y") -> #REF! | Q59: =IF(K59<'TEST MARKS '!$D$138,"N","Y") -> #REF! | R59: =IF(L59<'TEST MARKS '!$D$138,"N","Y") -> #REF! | S59: =IF(M59<'TEST MARKS '!$D$138,"N","Y") -> #REF! | T59: =IF(N59<'TEST MARKS '!$D$138,"N","Y") -> #REF! | U59: =IF(O59<'TEST MARKS '!$D$138,"N","Y") -> #REF!
A60: ='TEST MARKS '!A61 -> 52 | B60: ='TEST MARKS '!B55 -> PRATHEEK S | C60: ='TEST MARKS '!C55 -> 1SG15ME067 | D60: ='TEST MARKS '!#REF! -> #REF! | E60: ='TEST MARKS '!#REF! -> #REF! | F60: ='TEST MARKS '!#REF! -> #REF! | G60: ='TEST MARKS '!#REF! -> #REF! | H60: ='TEST MARKS '!#REF! -> #REF! | I60: ='TEST MARKS '!#REF! -> #REF! | J60: =D60/'TEST MARKS '!$J$133*100 -> #REF! | K60: =E60/'TEST MARKS '!$K$133*100 -> #REF! | L60: =F60/'TEST MARKS '!$L$133*100 -> #REF! | M60: =G60/'TEST MARKS '!$M$133*100 -> #REF! | N60: =H60/'TEST MARKS '!$N$133*100 -> #REF! | O60: =I60/'TEST MARKS '!$O$133*100 -> #REF! | P60: =IF(J60<'TEST MARKS '!$D$138,"N","Y") -> #REF! | Q60: =IF(K60<'TEST MARKS '!$D$138,"N","Y") -> #REF! | R60: =IF(L60<'TEST MARKS '!$D$138,"N","Y") -> #REF! | S60: =IF(M60<'TEST MARKS '!$D$138,"N","Y") -> #REF! | T60: =IF(N60<'TEST MARKS '!$D$138,"N","Y") -> #REF! | U60: =IF(O60<'TEST MARKS '!$D$138,"N","Y") -> #REF!
A61: ='TEST MARKS '!A62 -> 53 | B61: ='TEST MARKS '!B56 -> PRAVEEN.S | C61: ='TEST MARKS '!C56 -> 1SG15ME068 | D61: ='TEST MARKS '!#REF! -> #REF! | E61: ='TEST MARKS '!#REF! -> #REF! | F61: ='TEST MARKS '!#REF! -> #REF! | G61: ='TEST MARKS '!#REF! -> #REF! | H61: ='TEST MARKS '!#REF! -> #REF! | I61: ='TEST MARKS '!#REF! -> #REF! | J61: =D61/'TEST MARKS '!$J$133*100 -> #REF! | K61: =E61/'TEST MARKS '!$K$133*100 -> #REF! | L61: =F61/'TEST MARKS '!$L$133*100 -> #REF! | M61: =G61/'TEST MARKS '!$M$133*100 -> #REF! | N61: =H61/'TEST MARKS '!$N$133*100 -> #REF! | O61: =I61/'TEST MARKS '!$O$133*100 -> #REF! | P61: =IF(J61<'TEST MARKS '!$D$138,"N","Y") -> #REF! | Q61: =IF(K61<'TEST MARKS '!$D$138,"N","Y") -> #REF! | R61: =IF(L61<'TEST MARKS '!$D$138,"N","Y") -> #REF! | S61: =IF(M61<'TEST MARKS '!$D$138,"N","Y") -> #REF! | T61: =IF(N61<'TEST MARKS '!$D$138,"N","Y") -> #REF! | U61: =IF(O61<'TEST MARKS '!$D$138,"N","Y") -> #REF!
A62: ='TEST MARKS '!A63 -> 54 | B62: ='TEST MARKS '!B57 -> RAGHAVA SURYA.M | C62: ='TEST MARKS '!C57 -> 1SG15ME071 | D62: ='TEST MARKS '!#REF! -> #REF! | E62: ='TEST MARKS '!#REF! -> #REF! | F62: ='TEST MARKS '!#REF! -> #REF! | G62: ='TEST MARKS '!#REF! -> #REF! | H62: ='TEST MARKS '!#REF! -> #REF! | I62: ='TEST MARKS '!#REF! -> #REF! | J62: =D62/'TEST MARKS '!$J$133*100 -> #REF! | K62: =E62/'TEST MARKS '!$K$133*100 -> #REF! | L62: =F62/'TEST MARKS '!$L$133*100 -> #REF! | M62: =G62/'TEST MARKS '!$M$133*100 -> #REF! | N62: =H62/'TEST MARKS '!$N$133*100 -> #REF! | O62: =I62/'TEST MARKS '!$O$133*100 -> #REF! | P62: =IF(J62<'TEST MARKS '!$D$138,"N","Y") -> #REF! | Q62: =IF(K62<'TEST MARKS '!$D$138,"N","Y") -> #REF! | R62: =IF(L62<'TEST MARKS '!$D$138,"N","Y") -> #REF! | S62: =IF(M62<'TEST MARKS '!$D$138,"N","Y") -> #REF! | T62: =IF(N62<'TEST MARKS '!$D$138,"N","Y") -> #REF! | U62: =IF(O62<'TEST MARKS '!$D$138,"N","Y") -> #REF!
A63: ='TEST MARKS '!A64 -> 55 | B63: ='TEST MARKS '!#REF! -> #REF! | C63: ='TEST MARKS '!#REF! -> #REF! | D63: ='TEST MARKS '!#REF! -> #REF! | E63: ='TEST MARKS '!#REF! -> #REF! | F63: ='TEST MARKS '!#REF! -> #REF! | G63: ='TEST MARKS '!#REF! -> #REF! | H63: ='TEST MARKS '!#REF! -> #REF! | I63: ='TEST MARKS '!#REF! -> #REF! | J63: =D63/'TEST MARKS '!$J$133*100 -> #REF! | K63: =E63/'TEST MARKS '!$K$133*100 -> #REF! | L63: =F63/'TEST MARKS '!$L$133*100 -> #REF! | M63: =G63/'TEST MARKS '!$M$133*100 -> #REF! | N63: =H63/'TEST MARKS '!$N$133*100 -> #REF! | O63: =I63/'TEST MARKS '!$O$133*100 -> #REF! | P63: =IF(J63<'TEST MARKS '!$D$138,"N","Y") -> #REF! | Q63: =IF(K63<'TEST MARKS '!$D$138,"N","Y") -> #REF! | R63: =IF(L63<'TEST MARKS '!$D$138,"N","Y") -> #REF! | S63: =IF(M63<'TEST MARKS '!$D$138,"N","Y") -> #REF! | T63: =IF(N63<'TEST MARKS '!$D$138,"N","Y") -> #REF! | U63: =IF(O63<'TEST MARKS '!$D$138,"N","Y") -> #REF!
A64: ='TEST MARKS '!A65 -> 56 | B64: ='TEST MARKS '!B58 -> RAHUL N DIXIT | C64: ='TEST MARKS '!C58 -> 1SG15ME072 | D64: ='TEST MARKS '!#REF! -> #REF! | E64: ='TEST MARKS '!#REF! -> #REF! | F64: ='TEST MARKS '!#REF! -> #REF! | G64: ='TEST MARKS '!#REF! -> #REF! | H64: ='TEST MARKS '!#REF! -> #REF! | I64: ='TEST MARKS '!#REF! -> #REF! | J64: =D64/'TEST MARKS '!$J$133*100 -> #REF! | K64: =E64/'TEST MARKS '!$K$133*100 -> #REF! | L64: =F64/'TEST MARKS '!$L$133*100 -> #REF! | M64: =G64/'TEST MARKS '!$M$133*100 -> #REF! | N64: =H64/'TEST MARKS '!$N$133*100 -> #REF! | O64: =I64/'TEST MARKS '!$O$133*100 -> #REF! | P64: =IF(J64<'TEST MARKS '!$D$138,"N","Y") -> #REF! | Q64: =IF(K64<'TEST MARKS '!$D$138,"N","Y") -> #REF! | R64: =IF(L64<'TEST MARKS '!$D$138,"N","Y") -> #REF! | S64: =IF(M64<'TEST MARKS '!$D$138,"N","Y") -> #REF! | T64: =IF(N64<'TEST MARKS '!$D$138,"N","Y") -> #REF! | U64: =IF(O64<'TEST MARKS '!$D$138,"N","Y") -> #REF!
A65: ='TEST MARKS '!A66 -> 57 | B65: ='TEST MARKS '!B59 -> RAHUL V | C65: ='TEST MARKS '!C59 -> 1SG15ME073 | D65: ='TEST MARKS '!J66 -> 0 | E65: ='TEST MARKS '!K66 -> 0 | F65: ='TEST MARKS '!L66 -> 0 | G65: ='TEST MARKS '!M66 -> 0 | H65: ='TEST MARKS '!N66 -> 0 | I65: ='TEST MARKS '!O66 -> 0 | J65: =D65/'TEST MARKS '!$J$133*100 -> 0 | K65: =E65/'TEST MARKS '!$K$133*100 -> 0 | L65: =F65/'TEST MARKS '!$L$133*100 -> 0 | M65: =G65/'TEST MARKS '!$M$133*100 -> 0 | N65: =H65/'TEST MARKS '!$N$133*100 -> 0 | O65: =I65/'TEST MARKS '!$O$133*100 -> 0 | P65: =IF(J65<'TEST MARKS '!$D$138,"N","Y") -> N | Q65: =IF(K65<'TEST MARKS '!$D$138,"N","Y") -> N | R65: =IF(L65<'TEST MARKS '!$D$138,"N","Y") -> N | S65: =IF(M65<'TEST MARKS '!$D$138,"N","Y") -> N | T65: =IF(N65<'TEST MARKS '!$D$138,"N","Y") -> N | U65: =IF(O65<'TEST MARKS '!$D$138,"N","Y") -> N
A66: ='TEST MARKS '!A67 -> 58 | B66: ='TEST MARKS '!B60 -> RAJATH G MOODITHAYA | C66: ='TEST MARKS '!C60 -> 1SG15ME074 | D66: ='TEST MARKS '!J67 -> 0 | E66: ='TEST MARKS '!K67 -> 0 | F66: ='TEST MARKS '!L67 -> 0 | G66: ='TEST MARKS '!M67 -> 0 | H66: ='TEST MARKS '!N67 -> 0 | I66: ='TEST MARKS '!O67 -> 0 | J66: =D66/'TEST MARKS '!$J$133*100 -> 0 | K66: =E66/'TEST MARKS '!$K$133*100 -> 0 | L66: =F66/'TEST MARKS '!$L$133*100 -> 0 | M66: =G66/'TEST MARKS '!$M$133*100 -> 0 | N66: =H66/'TEST MARKS '!$N$133*100 -> 0 | O66: =I66/'TEST MARKS '!$O$133*100 -> 0 | P66: =IF(J66<'TEST MARKS '!$D$138,"N","Y") -> N | Q66: =IF(K66<'TEST MARKS '!$D$138,"N","Y") -> N | R66: =IF(L66<'TEST MARKS '!$D$138,"N","Y") -> N | S66: =IF(M66<'TEST MARKS '!$D$138,"N","Y") -> N | T66: =IF(N66<'TEST MARKS '!$D$138,"N","Y") -> N | U66: =IF(O66<'TEST MARKS '!$D$138,"N","Y") -> N
A67: ='TEST MARKS '!A68 -> 59 | B67: ='TEST MARKS '!B61 -> RAMESH P | C67: ='TEST MARKS '!C61 -> 1SG15ME076 | D67: ='TEST MARKS '!J68 -> 0 | E67: ='TEST MARKS '!K68 -> 0 | F67: ='TEST MARKS '!L68 -> 0 | G67: ='TEST MARKS '!M68 -> 0 | H67: ='TEST MARKS '!N68 -> 0 | I67: ='TEST MARKS '!O68 -> 0 | J67: =D67/'TEST MARKS '!$J$133*100 -> 0 | K67: =E67/'TEST MARKS '!$K$133*100 -> 0 | L67: =F67/'TEST MARKS '!$L$133*100 -> 0 | M67: =G67/'TEST MARKS '!$M$133*100 -> 0 | N67: =H67/'TEST MARKS '!$N$133*100 -> 0 | O67: =I67/'TEST MARKS '!$O$133*100 -> 0 | P67: =IF(J67<'TEST MARKS '!$D$138,"N","Y") -> N | Q67: =IF(K67<'TEST MARKS '!$D$138,"N","Y") -> N | R67: =IF(L67<'TEST MARKS '!$D$138,"N","Y") -> N | S67: =IF(M67<'TEST MARKS '!$D$138,"N","Y") -> N | T67: =IF(N67<'TEST MARKS '!$D$138,"N","Y") -> N | U67: =IF(O67<'TEST MARKS '!$D$138,"N","Y") -> N
A68: ='TEST MARKS '!A69 -> 60 | B68: ='TEST MARKS '!B62 -> RAVI KUDLAPPA CHELUWADI | C68: ='TEST MARKS '!C62 -> 1SG15ME077 | D68: ='TEST MARKS '!J69 -> 0 | E68: ='TEST MARKS '!K69 -> 0 | F68: ='TEST MARKS '!L69 -> 0 | G68: ='TEST MARKS '!M69 -> 0 | H68: ='TEST MARKS '!N69 -> 0 | I68: ='TEST MARKS '!O69 -> 0 | J68: =D68/'TEST MARKS '!$J$133*100 -> 0 | K68: =E68/'TEST MARKS '!$K$133*100 -> 0 | L68: =F68/'TEST MARKS '!$L$133*100 -> 0 | M68: =G68/'TEST MARKS '!$M$133*100 -> 0 | N68: =H68/'TEST MARKS '!$N$133*100 -> 0 | O68: =I68/'TEST MARKS '!$O$133*100 -> 0 | P68: =IF(J68<'TEST MARKS '!$D$138,"N","Y") -> N | Q68: =IF(K68<'TEST MARKS '!$D$138,"N","Y") -> N | R68: =IF(L68<'TEST MARKS '!$D$138,"N","Y") -> N | S68: =IF(M68<'TEST MARKS '!$D$138,"N","Y") -> N | T68: =IF(N68<'TEST MARKS '!$D$138,"N","Y") -> N | U68: =IF(O68<'TEST MARKS '!$D$138,"N","Y") -> N
A69: ='TEST MARKS '!A70 -> 61 | B69: ='TEST MARKS '!#REF! -> #REF! | C69: ='TEST MARKS '!#REF! -> #REF! | D69: ='TEST MARKS '!J70 -> 0 | E69: ='TEST MARKS '!K70 -> 0 | F69: ='TEST MARKS '!L70 -> 0 | G69: ='TEST MARKS '!M70 -> 0 | H69: ='TEST MARKS '!N70 -> 0 | I69: ='TEST MARKS '!O70 -> 0 | J69: =D69/'TEST MARKS '!$J$133*100 -> 0 | K69: =E69/'TEST MARKS '!$K$133*100 -> 0 | L69: =F69/'TEST MARKS '!$L$133*100 -> 0 | M69: =G69/'TEST MARKS '!$M$133*100 -> 0 | N69: =H69/'TEST MARKS '!$N$133*100 -> 0 | O69: =I69/'TEST MARKS '!$O$133*100 -> 0 | P69: =IF(J69<'TEST MARKS '!$D$138,"N","Y") -> N | Q69: =IF(K69<'TEST MARKS '!$D$138,"N","Y") -> N | R69: =IF(L69<'TEST MARKS '!$D$138,"N","Y") -> N | S69: =IF(M69<'TEST MARKS '!$D$138,"N","Y") -> N | T69: =IF(N69<'TEST MARKS '!$D$138,"N","Y") -> N | U69: =IF(O69<'TEST MARKS '!$D$138,"N","Y") -> N
A70: ='TEST MARKS '!A71 -> 62 | B70: ='TEST MARKS '!B63 -> CHANDRUCHUD S | C70: ='TEST MARKS '!C63 -> 1SG14ME025 | D70: ='TEST MARKS '!J71 -> 0 | E70: ='TEST MARKS '!K71 -> 0 | F70: ='TEST MARKS '!L71 -> 0 | G70: ='TEST MARKS '!M71 -> 0 | H70: ='TEST MARKS '!N71 -> 0 | I70: ='TEST MARKS '!O71 -> 0 | J70: =D70/'TEST MARKS '!$J$133*100 -> 0 | K70: =E70/'TEST MARKS '!$K$133*100 -> 0 | L70: =F70/'TEST MARKS '!$L$133*100 -> 0 | M70: =G70/'TEST MARKS '!$M$133*100 -> 0 | N70: =H70/'TEST MARKS '!$N$133*100 -> 0 | O70: =I70/'TEST MARKS '!$O$133*100 -> 0 | P70: =IF(J70<'TEST MARKS '!$D$138,"N","Y") -> N | Q70: =IF(K70<'TEST MARKS '!$D$138,"N","Y") -> N | R70: =IF(L70<'TEST MARKS '!$D$138,"N","Y") -> N | S70: =IF(M70<'TEST MARKS '!$D$138,"N","Y") -> N | T70: =IF(N70<'TEST MARKS '!$D$138,"N","Y") -> N | U70: =IF(O70<'TEST MARKS '!$D$138,"N","Y") -> N
A71: ='TEST MARKS '!A72 -> 63 | B71: ='TEST MARKS '!B64 -> JAIWANTH G C | C71: ='TEST MARKS '!C64 -> 1SG14ME039 | D71: ='TEST MARKS '!J10 -> 0 | E71: ='TEST MARKS '!K10 -> 0 | F71: ='TEST MARKS '!L10 -> 0 | G71: ='TEST MARKS '!M10 -> 0 | H71: ='TEST MARKS '!N10 -> 0 | I71: ='TEST MARKS '!O10 -> 0 | J71: =D71/'TEST MARKS '!$J$133*100 -> 0 | K71: =E71/'TEST MARKS '!$K$133*100 -> 0 | L71: =F71/'TEST MARKS '!$L$133*100 -> 0 | M71: =G71/'TEST MARKS '!$M$133*100 -> 0 | N71: =H71/'TEST MARKS '!$N$133*100 -> 0 | O71: =I71/'TEST MARKS '!$O$133*100 -> 0 | P71: =IF(J71<'TEST MARKS '!$D$138,"N","Y") -> N | Q71: =IF(K71<'TEST MARKS '!$D$138,"N","Y") -> N | R71: =IF(L71<'TEST MARKS '!$D$138,"N","Y") -> N | S71: =IF(M71<'TEST MARKS '!$D$138,"N","Y") -> N | T71: =IF(N71<'TEST MARKS '!$D$138,"N","Y") -> N | U71: =IF(O71<'TEST MARKS '!$D$138,"N","Y") -> N
A72: ='TEST MARKS '!A73 -> 64 | B72: ='TEST MARKS '!B65 -> M S SOMANNA | C72: ='TEST MARKS '!C65 -> 1SG15ME108 | D72: ='TEST MARKS '!J11 -> 0 | E72: ='TEST MARKS '!K11 -> 0 | F72: ='TEST MARKS '!L11 -> 0 | G72: ='TEST MARKS '!M11 -> 0 | H72: ='TEST MARKS '!N11 -> 0 | I72: ='TEST MARKS '!O11 -> 0 | J72: =D72/'TEST MARKS '!$J$133*100 -> 0 | K72: =E72/'TEST MARKS '!$K$133*100 -> 0 | L72: =F72/'TEST MARKS '!$L$133*100 -> 0 | M72: =G72/'TEST MARKS '!$M$133*100 -> 0 | N72: =H72/'TEST MARKS '!$N$133*100 -> 0 | O72: =I72/'TEST MARKS '!$O$133*100 -> 0 | P72: =IF(J72<'TEST MARKS '!$D$138,"N","Y") -> N | Q72: =IF(K72<'TEST MARKS '!$D$138,"N","Y") -> N | R72: =IF(L72<'TEST MARKS '!$D$138,"N","Y") -> N | S72: =IF(M72<'TEST MARKS '!$D$138,"N","Y") -> N | T72: =IF(N72<'TEST MARKS '!$D$138,"N","Y") -> N | U72: =IF(O72<'TEST MARKS '!$D$138,"N","Y") -> N
A73: ='TEST MARKS '!A74 -> 65 | B73: ='TEST MARKS '!B66 -> AKSHAY P SHETTY | C73: ='TEST MARKS '!C66 -> 1SG15ME106 | D73: ='TEST MARKS '!J12 -> 0 | E73: ='TEST MARKS '!K12 -> 0 | F73: ='TEST MARKS '!L12 -> 0 | G73: ='TEST MARKS '!M12 -> 0 | H73: ='TEST MARKS '!N12 -> 0 | I73: ='TEST MARKS '!O12 -> 0 | J73: =D73/'TEST MARKS '!$J$133*100 -> 0 | K73: =E73/'TEST MARKS '!$K$133*100 -> 0 | L73: =F73/'TEST MARKS '!$L$133*100 -> 0 | M73: =G73/'TEST MARKS '!$M$133*100 -> 0 | N73: =H73/'TEST MARKS '!$N$133*100 -> 0 | O73: =I73/'TEST MARKS '!$O$133*100 -> 0 | P73: =IF(J73<'TEST MARKS '!$D$138,"N","Y") -> N | Q73: =IF(K73<'TEST MARKS '!$D$138,"N","Y") -> N | R73: =IF(L73<'TEST MARKS '!$D$138,"N","Y") -> N | S73: =IF(M73<'TEST MARKS '!$D$138,"N","Y") -> N | T73: =IF(N73<'TEST MARKS '!$D$138,"N","Y") -> N | U73: =IF(O73<'TEST MARKS '!$D$138,"N","Y") -> N
A74: ='TEST MARKS '!A75 -> 66 | B74: ='TEST MARKS '!B67 -> RANJITH K S | C74: ='TEST MARKS '!C67 -> 1SG16ME445 | D74: ='TEST MARKS '!J13 -> 0 | E74: ='TEST MARKS '!K13 -> 0 | F74: ='TEST MARKS '!L13 -> 0 | G74: ='TEST MARKS '!M13 -> 0 | H74: ='TEST MARKS '!N13 -> 0 | I74: ='TEST MARKS '!O13 -> 0 | J74: =D74/'TEST MARKS '!$J$133*100 -> 0 | K74: =E74/'TEST MARKS '!$K$133*100 -> 0 | L74: =F74/'TEST MARKS '!$L$133*100 -> 0 | M74: =G74/'TEST MARKS '!$M$133*100 -> 0 | N74: =H74/'TEST MARKS '!$N$133*100 -> 0 | O74: =I74/'TEST MARKS '!$O$133*100 -> 0 | P74: =IF(J74<'TEST MARKS '!$D$138,"N","Y") -> N | Q74: =IF(K74<'TEST MARKS '!$D$138,"N","Y") -> N | R74: =IF(L74<'TEST MARKS '!$D$138,"N","Y") -> N | S74: =IF(M74<'TEST MARKS '!$D$138,"N","Y") -> N | T74: =IF(N74<'TEST MARKS '!$D$138,"N","Y") -> N | U74: =IF(O74<'TEST MARKS '!$D$138,"N","Y") -> N
A75: ='TEST MARKS '!A76 -> 67 | B75: ='TEST MARKS '!B68 -> YANDAPALLI GANESH | C75: ='TEST MARKS '!C68 -> 1SG15ME107 | D75: ='TEST MARKS '!J14 -> 0 | E75: ='TEST MARKS '!K14 -> 0 | F75: ='TEST MARKS '!L14 -> 0 | G75: ='TEST MARKS '!M14 -> 0 | H75: ='TEST MARKS '!N14 -> 0 | I75: ='TEST MARKS '!O14 -> 0 | J75: =D75/'TEST MARKS '!$J$133*100 -> 0 | K75: =E75/'TEST MARKS '!$K$133*100 -> 0 | L75: =F75/'TEST MARKS '!$L$133*100 -> 0 | M75: =G75/'TEST MARKS '!$M$133*100 -> 0 | N75: =H75/'TEST MARKS '!$N$133*100 -> 0 | O75: =I75/'TEST MARKS '!$O$133*100 -> 0 | P75: =IF(J75<'TEST MARKS '!$D$138,"N","Y") -> N | Q75: =IF(K75<'TEST MARKS '!$D$138,"N","Y") -> N | R75: =IF(L75<'TEST MARKS '!$D$138,"N","Y") -> N | S75: =IF(M75<'TEST MARKS '!$D$138,"N","Y") -> N | T75: =IF(N75<'TEST MARKS '!$D$138,"N","Y") -> N | U75: =IF(O75<'TEST MARKS '!$D$138,"N","Y") -> N
A76: ='TEST MARKS '!A77 -> 68 | B76: ='TEST MARKS '!B69 -> RUDERSH P | C76: ='TEST MARKS '!C69 -> 1SG15ME109 | D76: ='TEST MARKS '!J15 -> 0 | E76: ='TEST MARKS '!K15 -> 0 | F76: ='TEST MARKS '!L15 -> 0 | G76: ='TEST MARKS '!M15 -> 0 | H76: ='TEST MARKS '!N15 -> 0 | I76: ='TEST MARKS '!O15 -> 0 | J76: =D76/'TEST MARKS '!$J$133*100 -> 0 | K76: =E76/'TEST MARKS '!$K$133*100 -> 0 | L76: =F76/'TEST MARKS '!$L$133*100 -> 0 | M76: =G76/'TEST MARKS '!$M$133*100 -> 0 | N76: =H76/'TEST MARKS '!$N$133*100 -> 0 | O76: =I76/'TEST MARKS '!$O$133*100 -> 0 | P76: =IF(J76<'TEST MARKS '!$D$138,"N","Y") -> N | Q76: =IF(K76<'TEST MARKS '!$D$138,"N","Y") -> N | R76: =IF(L76<'TEST MARKS '!$D$138,"N","Y") -> N | S76: =IF(M76<'TEST MARKS '!$D$138,"N","Y") -> N | T76: =IF(N76<'TEST MARKS '!$D$138,"N","Y") -> N | U76: =IF(O76<'TEST MARKS '!$D$138,"N","Y") -> N
A77: ='TEST MARKS '!A78 -> 69 | B77: ='TEST MARKS '!B71 -> ROHAN A | C77: ='TEST MARKS '!C71 -> 1SG15ME079 | D77: ='TEST MARKS '!J16 -> 0 | E77: ='TEST MARKS '!K16 -> 0 | F77: ='TEST MARKS '!L16 -> 0 | G77: ='TEST MARKS '!M16 -> 0 | H77: ='TEST MARKS '!N16 -> 0 | I77: ='TEST MARKS '!O16 -> 0 | J77: =D77/'TEST MARKS '!$J$133*100 -> 0 | K77: =E77/'TEST MARKS '!$K$133*100 -> 0 | L77: =F77/'TEST MARKS '!$L$133*100 -> 0 | M77: =G77/'TEST MARKS '!$M$133*100 -> 0 | N77: =H77/'TEST MARKS '!$N$133*100 -> 0 | O77: =I77/'TEST MARKS '!$O$133*100 -> 0 | P77: =IF(J77<'TEST MARKS '!$D$138,"N","Y") -> N | Q77: =IF(K77<'TEST MARKS '!$D$138,"N","Y") -> N | R77: =IF(L77<'TEST MARKS '!$D$138,"N","Y") -> N | S77: =IF(M77<'TEST MARKS '!$D$138,"N","Y") -> N | T77: =IF(N77<'TEST MARKS '!$D$138,"N","Y") -> N | U77: =IF(O77<'TEST MARKS '!$D$138,"N","Y") -> N
A78: ='TEST MARKS '!A79 -> 70 | B78: ='TEST MARKS '!B72 -> S HANUMANTHA REDDY | C78: ='TEST MARKS '!C72 -> 1SG15ME080 | D78: ='TEST MARKS '!J17 -> 25 | E78: ='TEST MARKS '!K17 -> 25 | F78: ='TEST MARKS '!L17 -> 25 | G78: ='TEST MARKS '!M17 -> 25 | H78: ='TEST MARKS '!N17 -> 25 | I78: ='TEST MARKS '!O17 -> 25 | J78: =D78/'TEST MARKS '!$J$133*100 -> 100 | K78: =E78/'TEST MARKS '!$K$133*100 -> 100 | L78: =F78/'TEST MARKS '!$L$133*100 -> 100 | M78: =G78/'TEST MARKS '!$M$133*100 -> 100 | N78: =H78/'TEST MARKS '!$N$133*100 -> 100 | O78: =I78/'TEST MARKS '!$O$133*100 -> 100 | P78: =IF(J78<'TEST MARKS '!$D$138,"N","Y") -> Y | Q78: =IF(K78<'TEST MARKS '!$D$138,"N","Y") -> Y | R78: =IF(L78<'TEST MARKS '!$D$138,"N","Y") -> Y | S78: =IF(M78<'TEST MARKS '!$D$138,"N","Y") -> Y | T78: =IF(N78<'TEST MARKS '!$D$138,"N","Y") -> Y | U78: =IF(O78<'TEST MARKS '!$D$138,"N","Y") -> Y
A79: ='TEST MARKS '!A80 -> 71 | B79: ='TEST MARKS '!B73 -> SADANANDA L HEGDE | C79: ='TEST MARKS '!C73 -> 1SG15ME081 | D79: ='TEST MARKS '!J18 -> 0 | E79: ='TEST MARKS '!K18 -> 0 | F79: ='TEST MARKS '!L18 -> 0 | G79: ='TEST MARKS '!M18 -> 0 | H79: ='TEST MARKS '!N18 -> 0 | I79: ='TEST MARKS '!O18 -> 0 | J79: =D79/'TEST MARKS '!$J$133*100 -> 0 | K79: =E79/'TEST MARKS '!$K$133*100 -> 0 | L79: =F79/'TEST MARKS '!$L$133*100 -> 0 | M79: =G79/'TEST MARKS '!$M$133*100 -> 0 | N79: =H79/'TEST MARKS '!$N$133*100 -> 0 | O79: =I79/'TEST MARKS '!$O$133*100 -> 0 | P79: =IF(J79<'TEST MARKS '!$D$138,"N","Y") -> N | Q79: =IF(K79<'TEST MARKS '!$D$138,"N","Y") -> N | R79: =IF(L79<'TEST MARKS '!$D$138,"N","Y") -> N | S79: =IF(M79<'TEST MARKS '!$D$138,"N","Y") -> N | T79: =IF(N79<'TEST MARKS '!$D$138,"N","Y") -> N | U79: =IF(O79<'TEST MARKS '!$D$138,"N","Y") -> N
A80: ='TEST MARKS '!A81 -> 72 | B80: ='TEST MARKS '!B81 -> SUKRUTH C | C80: ='TEST MARKS '!C81 -> 1SG15ME095 | D80: ='TEST MARKS '!J19 -> 0 | E80: ='TEST MARKS '!K19 -> 0 | F80: ='TEST MARKS '!L19 -> 0 | G80: ='TEST MARKS '!M19 -> 0 | H80: ='TEST MARKS '!N19 -> 0 | I80: ='TEST MARKS '!O19 -> 0 | J80: =D80/'TEST MARKS '!$J$133*100 -> 0 | K80: =E80/'TEST MARKS '!$K$133*100 -> 0 | L80: =F80/'TEST MARKS '!$L$133*100 -> 0 | M80: =G80/'TEST MARKS '!$M$133*100 -> 0 | N80: =H80/'TEST MARKS '!$N$133*100 -> 0 | O80: =I80/'TEST MARKS '!$O$133*100 -> 0 | P80: =IF(J80<'TEST MARKS '!$D$138,"N","Y") -> N | Q80: =IF(K80<'TEST MARKS '!$D$138,"N","Y") -> N | R80: =IF(L80<'TEST MARKS '!$D$138,"N","Y") -> N | S80: =IF(M80<'TEST MARKS '!$D$138,"N","Y") -> N | T80: =IF(N80<'TEST MARKS '!$D$138,"N","Y") -> N | U80: =IF(O80<'TEST MARKS '!$D$138,"N","Y") -> N
A81: ='TEST MARKS '!A82 -> 73 | B81: ='TEST MARKS '!B82 -> SUKRUTH K | C81: ='TEST MARKS '!C82 -> 1SG15ME096 | D81: ='TEST MARKS '!J20 -> 0 | E81: ='TEST MARKS '!K20 -> 0 | F81: ='TEST MARKS '!L20 -> 0 | G81: ='TEST MARKS '!M20 -> 0 | H81: ='TEST MARKS '!N20 -> 0 | I81: ='TEST MARKS '!O20 -> 0 | J81: =D81/'TEST MARKS '!$J$133*100 -> 0 | K81: =E81/'TEST MARKS '!$K$133*100 -> 0 | L81: =F81/'TEST MARKS '!$L$133*100 -> 0 | M81: =G81/'TEST MARKS '!$M$133*100 -> 0 | N81: =H81/'TEST MARKS '!$N$133*100 -> 0 | O81: =I81/'TEST MARKS '!$O$133*100 -> 0 | P81: =IF(J81<'TEST MARKS '!$D$138,"N","Y") -> N | Q81: =IF(K81<'TEST MARKS '!$D$138,"N","Y") -> N | R81: =IF(L81<'TEST MARKS '!$D$138,"N","Y") -> N | S81: =IF(M81<'TEST MARKS '!$D$138,"N","Y") -> N | T81: =IF(N81<'TEST MARKS '!$D$138,"N","Y") -> N | U81: =IF(O81<'TEST MARKS '!$D$138,"N","Y") -> N
A82: ='TEST MARKS '!A83 -> 74 | B82: ='TEST MARKS '!B83 -> SUMUKH G K | C82: ='TEST MARKS '!C83 -> 1SG15ME098 | D82: ='TEST MARKS '!J21 -> 0 | E82: ='TEST MARKS '!K21 -> 0 | F82: ='TEST MARKS '!L21 -> 0 | G82: ='TEST MARKS '!M21 -> 0 | H82: ='TEST MARKS '!N21 -> 0 | I82: ='TEST MARKS '!O21 -> 0 | J82: =D82/'TEST MARKS '!$J$133*100 -> 0 | K82: =E82/'TEST MARKS '!$K$133*100 -> 0 | L82: =F82/'TEST MARKS '!$L$133*100 -> 0 | M82: =G82/'TEST MARKS '!$M$133*100 -> 0 | N82: =H82/'TEST MARKS '!$N$133*100 -> 0 | O82: =I82/'TEST MARKS '!$O$133*100 -> 0 | P82: =IF(J82<'TEST MARKS '!$D$138,"N","Y") -> N | Q82: =IF(K82<'TEST MARKS '!$D$138,"N","Y") -> N | R82: =IF(L82<'TEST MARKS '!$D$138,"N","Y") -> N | S82: =IF(M82<'TEST MARKS '!$D$138,"N","Y") -> N | T82: =IF(N82<'TEST MARKS '!$D$138,"N","Y") -> N | U82: =IF(O82<'TEST MARKS '!$D$138,"N","Y") -> N
A83: ='TEST MARKS '!A84 -> 75 | B83: ='TEST MARKS '!B84 -> SYED ABEED | C83: ='TEST MARKS '!C84 -> 1SG15ME099 | D83: ='TEST MARKS '!J22 -> 0 | E83: ='TEST MARKS '!K22 -> 0 | F83: ='TEST MARKS '!L22 -> 0 | G83: ='TEST MARKS '!M22 -> 0 | H83: ='TEST MARKS '!N22 -> 0 | I83: ='TEST MARKS '!O22 -> 0 | J83: =D83/'TEST MARKS '!$J$133*100 -> 0 | K83: =E83/'TEST MARKS '!$K$133*100 -> 0 | L83: =F83/'TEST MARKS '!$L$133*100 -> 0 | M83: =G83/'TEST MARKS '!$M$133*100 -> 0 | N83: =H83/'TEST MARKS '!$N$133*100 -> 0 | O83: =I83/'TEST MARKS '!$O$133*100 -> 0 | P83: =IF(J83<'TEST MARKS '!$D$138,"N","Y") -> N | Q83: =IF(K83<'TEST MARKS '!$D$138,"N","Y") -> N | R83: =IF(L83<'TEST MARKS '!$D$138,"N","Y") -> N | S83: =IF(M83<'TEST MARKS '!$D$138,"N","Y") -> N | T83: =IF(N83<'TEST MARKS '!$D$138,"N","Y") -> N | U83: =IF(O83<'TEST MARKS '!$D$138,"N","Y") -> N
A84: ='TEST MARKS '!A85 -> 76 | B84: ='TEST MARKS '!B85 -> VIGNESH K M | C84: ='TEST MARKS '!C85 -> 1SG15ME101 | D84: ='TEST MARKS '!J23 -> 0 | E84: ='TEST MARKS '!K23 -> 0 | F84: ='TEST MARKS '!L23 -> 0 | G84: ='TEST MARKS '!M23 -> 0 | H84: ='TEST MARKS '!N23 -> 0 | I84: ='TEST MARKS '!O23 -> 0 | J84: =D84/'TEST MARKS '!$J$133*100 -> 0 | K84: =E84/'TEST MARKS '!$K$133*100 -> 0 | L84: =F84/'TEST MARKS '!$L$133*100 -> 0 | M84: =G84/'TEST MARKS '!$M$133*100 -> 0 | N84: =H84/'TEST MARKS '!$N$133*100 -> 0 | O84: =I84/'TEST MARKS '!$O$133*100 -> 0 | P84: =IF(J84<'TEST MARKS '!$D$138,"N","Y") -> N | Q84: =IF(K84<'TEST MARKS '!$D$138,"N","Y") -> N | R84: =IF(L84<'TEST MARKS '!$D$138,"N","Y") -> N | S84: =IF(M84<'TEST MARKS '!$D$138,"N","Y") -> N | T84: =IF(N84<'TEST MARKS '!$D$138,"N","Y") -> N | U84: =IF(O84<'TEST MARKS '!$D$138,"N","Y") -> N
A85: ='TEST MARKS '!A86 -> 77 | B85: ='TEST MARKS '!B86 -> YOGESH GOWDA H | C85: ='TEST MARKS '!C86 -> 1SG15ME104 | D85: ='TEST MARKS '!J24 -> 0 | E85: ='TEST MARKS '!K24 -> 0 | F85: ='TEST MARKS '!L24 -> 0 | G85: ='TEST MARKS '!M24 -> 0 | H85: ='TEST MARKS '!N24 -> 0 | I85: ='TEST MARKS '!O24 -> 0 | J85: =D85/'TEST MARKS '!$J$133*100 -> 0 | K85: =E85/'TEST MARKS '!$K$133*100 -> 0 | L85: =F85/'TEST MARKS '!$L$133*100 -> 0 | M85: =G85/'TEST MARKS '!$M$133*100 -> 0 | N85: =H85/'TEST MARKS '!$N$133*100 -> 0 | O85: =I85/'TEST MARKS '!$O$133*100 -> 0 | P85: =IF(J85<'TEST MARKS '!$D$138,"N","Y") -> N | Q85: =IF(K85<'TEST MARKS '!$D$138,"N","Y") -> N | R85: =IF(L85<'TEST MARKS '!$D$138,"N","Y") -> N | S85: =IF(M85<'TEST MARKS '!$D$138,"N","Y") -> N | T85: =IF(N85<'TEST MARKS '!$D$138,"N","Y") -> N | U85: =IF(O85<'TEST MARKS '!$D$138,"N","Y") -> N
A86: ='TEST MARKS '!A87 -> 78 | B86: ='TEST MARKS '!B87 -> YOGESH B | C86: ='TEST MARKS '!C87 -> 1SG15ME105 | D86: ='TEST MARKS '!J25 -> 0 | E86: ='TEST MARKS '!K25 -> 0 | F86: ='TEST MARKS '!L25 -> 0 | G86: ='TEST MARKS '!M25 -> 0 | H86: ='TEST MARKS '!N25 -> 0 | I86: ='TEST MARKS '!O25 -> 0 | J86: =D86/'TEST MARKS '!$J$133*100 -> 0 | K86: =E86/'TEST MARKS '!$K$133*100 -> 0 | L86: =F86/'TEST MARKS '!$L$133*100 -> 0 | M86: =G86/'TEST MARKS '!$M$133*100 -> 0 | N86: =H86/'TEST MARKS '!$N$133*100 -> 0 | O86: =I86/'TEST MARKS '!$O$133*100 -> 0 | P86: =IF(J86<'TEST MARKS '!$D$138,"N","Y") -> N | Q86: =IF(K86<'TEST MARKS '!$D$138,"N","Y") -> N | R86: =IF(L86<'TEST MARKS '!$D$138,"N","Y") -> N | S86: =IF(M86<'TEST MARKS '!$D$138,"N","Y") -> N | T86: =IF(N86<'TEST MARKS '!$D$138,"N","Y") -> N | U86: =IF(O86<'TEST MARKS '!$D$138,"N","Y") -> N
A87: ='TEST MARKS '!A88 -> 79 | B87: ='TEST MARKS '!B88 -> AKSHAY S R | C87: ='TEST MARKS '!C88 -> 1SG16ME400 | D87: ='TEST MARKS '!J26 -> 0 | E87: ='TEST MARKS '!K26 -> 0 | F87: ='TEST MARKS '!L26 -> 0 | G87: ='TEST MARKS '!M26 -> 0 | H87: ='TEST MARKS '!N26 -> 0 | I87: ='TEST MARKS '!O26 -> 0 | J87: =D87/'TEST MARKS '!$J$133*100 -> 0 | K87: =E87/'TEST MARKS '!$K$133*100 -> 0 | L87: =F87/'TEST MARKS '!$L$133*100 -> 0 | M87: =G87/'TEST MARKS '!$M$133*100 -> 0 | N87: =H87/'TEST MARKS '!$N$133*100 -> 0 | O87: =I87/'TEST MARKS '!$O$133*100 -> 0 | P87: =IF(J87<'TEST MARKS '!$D$138,"N","Y") -> N | Q87: =IF(K87<'TEST MARKS '!$D$138,"N","Y") -> N | R87: =IF(L87<'TEST MARKS '!$D$138,"N","Y") -> N | S87: =IF(M87<'TEST MARKS '!$D$138,"N","Y") -> N | T87: =IF(N87<'TEST MARKS '!$D$138,"N","Y") -> N | U87: =IF(O87<'TEST MARKS '!$D$138,"N","Y") -> N
A88: ='TEST MARKS '!A89 -> 80 | B88: ='TEST MARKS '!B89 -> CHETAN GOWDA H S | C88: ='TEST MARKS '!C89 -> 1SG16ME402 | D88: ='TEST MARKS '!J27 -> 0 | E88: ='TEST MARKS '!K27 -> 0 | F88: ='TEST MARKS '!L27 -> 0 | G88: ='TEST MARKS '!M27 -> 0 | H88: ='TEST MARKS '!N27 -> 0 | I88: ='TEST MARKS '!O27 -> 0 | J88: =D88/'TEST MARKS '!$J$133*100 -> 0 | K88: =E88/'TEST MARKS '!$K$133*100 -> 0 | L88: =F88/'TEST MARKS '!$L$133*100 -> 0 | M88: =G88/'TEST MARKS '!$M$133*100 -> 0 | N88: =H88/'TEST MARKS '!$N$133*100 -> 0 | O88: =I88/'TEST MARKS '!$O$133*100 -> 0 | P88: =IF(J88<'TEST MARKS '!$D$138,"N","Y") -> N | Q88: =IF(K88<'TEST MARKS '!$D$138,"N","Y") -> N | R88: =IF(L88<'TEST MARKS '!$D$138,"N","Y") -> N | S88: =IF(M88<'TEST MARKS '!$D$138,"N","Y") -> N | T88: =IF(N88<'TEST MARKS '!$D$138,"N","Y") -> N | U88: =IF(O88<'TEST MARKS '!$D$138,"N","Y") -> N
A89: ='TEST MARKS '!A90 -> 81 | B89: ='TEST MARKS '!B90 -> DARSHAN M E | C89: ='TEST MARKS '!C90 -> 1SG16ME404 | D89: ='TEST MARKS '!J28 -> 0 | E89: ='TEST MARKS '!K28 -> 0 | F89: ='TEST MARKS '!L28 -> 0 | G89: ='TEST MARKS '!M28 -> 0 | H89: ='TEST MARKS '!N28 -> 0 | I89: ='TEST MARKS '!O28 -> 0 | J89: =D89/'TEST MARKS '!$J$133*100 -> 0 | K89: =E89/'TEST MARKS '!$K$133*100 -> 0 | L89: =F89/'TEST MARKS '!$L$133*100 -> 0 | M89: =G89/'TEST MARKS '!$M$133*100 -> 0 | N89: =H89/'TEST MARKS '!$N$133*100 -> 0 | O89: =I89/'TEST MARKS '!$O$133*100 -> 0 | P89: =IF(J89<'TEST MARKS '!$D$138,"N","Y") -> N | Q89: =IF(K89<'TEST MARKS '!$D$138,"N","Y") -> N | R89: =IF(L89<'TEST MARKS '!$D$138,"N","Y") -> N | S89: =IF(M89<'TEST MARKS '!$D$138,"N","Y") -> N | T89: =IF(N89<'TEST MARKS '!$D$138,"N","Y") -> N | U89: =IF(O89<'TEST MARKS '!$D$138,"N","Y") -> N
A90: ='TEST MARKS '!A91 -> 82 | B90: ='TEST MARKS '!B91 -> DARSHAN V V | C90: ='TEST MARKS '!C91 -> 1SG16ME405 | D90: ='TEST MARKS '!J29 -> 0 | E90: ='TEST MARKS '!K29 -> 0 | F90: ='TEST MARKS '!L29 -> 0 | G90: ='TEST MARKS '!M29 -> 0 | H90: ='TEST MARKS '!N29 -> 0 | I90: ='TEST MARKS '!O29 -> 0 | J90: =D90/'TEST MARKS '!$J$133*100 -> 0 | K90: =E90/'TEST MARKS '!$K$133*100 -> 0 | L90: =F90/'TEST MARKS '!$L$133*100 -> 0 | M90: =G90/'TEST MARKS '!$M$133*100 -> 0 | N90: =H90/'TEST MARKS '!$N$133*100 -> 0 | O90: =I90/'TEST MARKS '!$O$133*100 -> 0 | P90: =IF(J90<'TEST MARKS '!$D$138,"N","Y") -> N | Q90: =IF(K90<'TEST MARKS '!$D$138,"N","Y") -> N | R90: =IF(L90<'TEST MARKS '!$D$138,"N","Y") -> N | S90: =IF(M90<'TEST MARKS '!$D$138,"N","Y") -> N | T90: =IF(N90<'TEST MARKS '!$D$138,"N","Y") -> N | U90: =IF(O90<'TEST MARKS '!$D$138,"N","Y") -> N
A91: ='TEST MARKS '!A92 -> 83 | B91: ='TEST MARKS '!B92 -> HALASWAMY C M | C91: ='TEST MARKS '!C92 -> 1SG16ME407 | D91: ='TEST MARKS '!J30 -> 0 | E91: ='TEST MARKS '!K30 -> 0 | F91: ='TEST MARKS '!L30 -> 0 | G91: ='TEST MARKS '!M30 -> 0 | H91: ='TEST MARKS '!N30 -> 0 | I91: ='TEST MARKS '!O30 -> 0 | J91: =D91/'TEST MARKS '!$J$133*100 -> 0 | K91: =E91/'TEST MARKS '!$K$133*100 -> 0 | L91: =F91/'TEST MARKS '!$L$133*100 -> 0 | M91: =G91/'TEST MARKS '!$M$133*100 -> 0 | N91: =H91/'TEST MARKS '!$N$133*100 -> 0 | O91: =I91/'TEST MARKS '!$O$133*100 -> 0 | P91: =IF(J91<'TEST MARKS '!$D$138,"N","Y") -> N | Q91: =IF(K91<'TEST MARKS '!$D$138,"N","Y") -> N | R91: =IF(L91<'TEST MARKS '!$D$138,"N","Y") -> N | S91: =IF(M91<'TEST MARKS '!$D$138,"N","Y") -> N | T91: =IF(N91<'TEST MARKS '!$D$138,"N","Y") -> N | U91: =IF(O91<'TEST MARKS '!$D$138,"N","Y") -> N
... A126: ='TEST MARKS '!A127 -> 118 | B126: ='TEST MARKS '!B127 -> 0 | C126: ='TEST MARKS '!C127 -> 0 | D126: ='TEST MARKS '!J65 -> 0 | E126: ='TEST MARKS '!K65 -> 0 | F126: ='TEST MARKS '!L65 -> 0 | G126: ='TEST MARKS '!M65 -> 0 | H126: ='TEST MARKS '!N65 -> 0 | I126: ='TEST MARKS '!O65 -> 0 | J126: =D126/'TEST MARKS '!$J$133*100 -> 0 | K126: =E126/'TEST MARKS '!$K$133*100 -> 0 | L126: =F126/'TEST MARKS '!$L$133*100 -> 0 | M126: =G126/'TEST MARKS '!$M$133*100 -> 0 | N126: =H126/'TEST MARKS '!$N$133*100 -> 0 | O126: =I126/'TEST MARKS '!$O$133*100 -> 0 | P126: =IF(J126<'TEST MARKS '!$D$138,"N","Y") -> N | Q126: =IF(K126<'TEST MARKS '!$D$138,"N","Y") -> N | R126: =IF(L126<'TEST MARKS '!$D$138,"N","Y") -> N | S126: =IF(M126<'TEST MARKS '!$D$138,"N","Y") -> N | T126: =IF(N126<'TEST MARKS '!$D$138,"N","Y") -> N | U126: =IF(O126<'TEST MARKS '!$D$138,"N","Y") -> N
A127: ='TEST MARKS '!A128 -> 119 | B127: ='TEST MARKS '!B128 -> 0 | C127: ='TEST MARKS '!C128 -> 0 | D127: ='TEST MARKS '!J128 -> 0 | E127: ='TEST MARKS '!K128 -> 0 | F127: ='TEST MARKS '!L128 -> 0 | G127: ='TEST MARKS '!M128 -> 0 | H127: ='TEST MARKS '!N128 -> 0 | I127: ='TEST MARKS '!O128 -> 0 | J127: =D127/'TEST MARKS '!$J$133*100 -> 0 | K127: =E127/'TEST MARKS '!$K$133*100 -> 0 | L127: =F127/'TEST MARKS '!$L$133*100 -> 0 | M127: =G127/'TEST MARKS '!$M$133*100 -> 0 | N127: =H127/'TEST MARKS '!$N$133*100 -> 0 | O127: =I127/'TEST MARKS '!$O$133*100 -> 0 | P127: =IF(J127<'TEST MARKS '!$D$138,"N","Y") -> N | Q127: =IF(K127<'TEST MARKS '!$D$138,"N","Y") -> N | R127: =IF(L127<'TEST MARKS '!$D$138,"N","Y") -> N | S127: =IF(M127<'TEST MARKS '!$D$138,"N","Y") -> N | T127: =IF(N127<'TEST MARKS '!$D$138,"N","Y") -> N | U127: =IF(O127<'TEST MARKS '!$D$138,"N","Y") -> N
A128: ='TEST MARKS '!A129 -> 120 | B128: ='TEST MARKS '!B129 -> 0 | C128: ='TEST MARKS '!C129 -> 0 | D128: ='TEST MARKS '!J129 -> 0 | E128: ='TEST MARKS '!K129 -> 0 | F128: ='TEST MARKS '!L129 -> 0 | G128: ='TEST MARKS '!M129 -> 0 | H128: ='TEST MARKS '!N129 -> 0 | I128: ='TEST MARKS '!O129 -> 0 | J128: =D128/'TEST MARKS '!$J$133*100 -> 0 | K128: =E128/'TEST MARKS '!$K$133*100 -> 0 | L128: =F128/'TEST MARKS '!$L$133*100 -> 0 | M128: =G128/'TEST MARKS '!$M$133*100 -> 0 | N128: =H128/'TEST MARKS '!$N$133*100 -> 0 | O128: =I128/'TEST MARKS '!$O$133*100 -> 0 | P128: =IF(J128<'TEST MARKS '!$D$138,"N","Y") -> N | Q128: =IF(K128<'TEST MARKS '!$D$138,"N","Y") -> N | R128: =IF(L128<'TEST MARKS '!$D$138,"N","Y") -> N | S128: =IF(M128<'TEST MARKS '!$D$138,"N","Y") -> N | T128: =IF(N128<'TEST MARKS '!$D$138,"N","Y") -> N | U128: =IF(O128<'TEST MARKS '!$D$138,"N","Y") -> N
O130: NO OF Y | P130: =COUNTIF(P9:P128,"Y") -> 3 | Q130: =COUNTIF(Q9:Q128,"Y") -> 3 | R130: =COUNTIF(R9:R128,"Y") -> 3 | S130: =COUNTIF(S9:S128,"Y") -> 3 | T130: =COUNTIF(T9:T128,"Y") -> 3 | U130: =COUNTIF(U9:U128,"Y") -> 3
O131: ATTAINMENT | P131: =P130/'TEST MARKS '!$D$136*100 -> 2.6315789 | Q131: =Q130/'TEST MARKS '!$D$136*100 -> 2.6315789 | R131: =R130/'TEST MARKS '!$D$136*100 -> 2.6315789 | S131: =S130/'TEST MARKS '!$D$136*100 -> 2.6315789 | T131: =T130/'TEST MARKS '!$D$136*100 -> 2.6315789 | U131: =U130/'TEST MARKS '!$D$136*100 -> 2.6315789
O135: CO's | P135: CO1 | Q135: CO2 | R135: CO3 | S135: CO4 | U135: CO5
O136: ASSIGNMEENT MARKS ATTAINMENT | P136: =P131 -> 2.6315789 | Q136: =Q131 -> 2.6315789 | R136: =R131 -> 2.6315789 | S136: =S131 -> 2.6315789 | T136: =T131 -> 2.6315789 | U136: =U131 -> 2.6315789

Sheet SEE-FINAL EXAM CO
P1: TARGET: 70% OF STUDENTS TO SCORE 40% and ABOVE
A2: Sl. No. | B2: Name of the student | C2: USN | D2: EXAM MARKS OBTAINED(same for all COs) | J2: EXAMINATION ATTAINMENT (%) | P2: Y OR N
D5: CO1 | E5: CO2 | F5: CO3 | G5: CO4 | H5: CO5 | I5: CO6 | J5: CO1 | K5: CO2 | L5: CO3 | M5: CO4 | N5: CO5 | O5: CO6 | P5: CO1 | Q5: CO2 | R5: CO3 | S5: CO4 | T5: CO5 | U5: CO6
A6: ='TEST MARKS '!A10 -> 1 | B6: AFTAB AHMED WALA | C6: 1SG15ME004 | D6: 47 | E6: =D6 -> 47 | F6: =E6 -> 47 | G6: =F6 -> 47 | H6: =G6 -> 47 | I6: =H6 -> 47 | J6: =D6/'TEST MARKS '!$D$141*100 -> 58.75 | K6: =E6/'TEST MARKS '!$D$141*100 -> 58.75 | L6: =F6/'TEST MARKS '!$D$141*100 -> 58.75 | M6: =G6/'TEST MARKS '!$D$141*100 -> 58.75 | N6: =H6/'TEST MARKS '!$D$141*100 -> 58.75 | O6: =I6/'TEST MARKS '!$D$141*100 -> 58.75 | P6: =IF(J6<'TEST MARKS '!$D$139,"N","Y") -> Y | Q6: =IF(K6<'TEST MARKS '!$D$139,"N","Y") -> Y | R6: =IF(L6<'TEST MARKS '!$D$139,"N","Y") -> Y | S6: =IF(M6<'TEST MARKS '!$D$139,"N","Y") -> Y | T6: =IF(N6<'TEST MARKS '!$D$139,"N","Y") -> Y | U6: =IF(O6<'TEST MARKS '!$D$139,"N","Y") -> Y
A7: ='TEST MARKS '!A11 -> 2 | B7: AJEYA.V | C7: 1SG15ME006 | D7: 74 | E7: =D7 -> 74 | F7: =E7 -> 74 | G7: =F7 -> 74 | H7: =G7 -> 74 | I7: =H7 -> 74 | J7: =D7/'TEST MARKS '!$D$141*100 -> 92.5 | K7: =E7/'TEST MARKS '!$D$141*100 -> 92.5 | L7: =F7/'TEST MARKS '!$D$141*100 -> 92.5 | M7: =G7/'TEST MARKS '!$D$141*100 -> 92.5 | N7: =H7/'TEST MARKS '!$D$141*100 -> 92.5 | O7: =I7/'TEST MARKS '!$D$141*100 -> 92.5 | P7: =IF(J7<'TEST MARKS '!$D$139,"N","Y") -> Y | Q7: =IF(K7<'TEST MARKS '!$D$139,"N","Y") -> Y | R7: =IF(L7<'TEST MARKS '!$D$139,"N","Y") -> Y | S7: =IF(M7<'TEST MARKS '!$D$139,"N","Y") -> Y | T7: =IF(N7<'TEST MARKS '!$D$139,"N","Y") -> Y | U7: =IF(O7<'TEST MARKS '!$D$139,"N","Y") -> Y
A8: ='TEST MARKS '!A12 -> 3 | B8: AJITH S P | C8: 1SG15ME007 | D8: 55 | E8: =D8 -> 55 | F8: =E8 -> 55 | G8: =F8 -> 55 | H8: =G8 -> 55 | I8: =H8 -> 55 | J8: =D8/'TEST MARKS '!$D$141*100 -> 68.75 | K8: =E8/'TEST MARKS '!$D$141*100 -> 68.75 | L8: =F8/'TEST MARKS '!$D$141*100 -> 68.75 | M8: =G8/'TEST MARKS '!$D$141*100 -> 68.75 | N8: =H8/'TEST MARKS '!$D$141*100 -> 68.75 | O8: =I8/'TEST MARKS '!$D$141*100 -> 68.75 | P8: =IF(J8<'TEST MARKS '!$D$139,"N","Y") -> Y | Q8: =IF(K8<'TEST MARKS '!$D$139,"N","Y") -> Y | R8: =IF(L8<'TEST MARKS '!$D$139,"N","Y") -> Y | S8: =IF(M8<'TEST MARKS '!$D$139,"N","Y") -> Y | T8: =IF(N8<'TEST MARKS '!$D$139,"N","Y") -> Y | U8: =IF(O8<'TEST MARKS '!$D$139,"N","Y") -> Y
A9: ='TEST MARKS '!A13 -> 4 | B9: AKSHAY S | C9: 1SG15ME008 | D9: 66 | E9: =D9 -> 66 | F9: =E9 -> 66 | G9: =F9 -> 66 | H9: =G9 -> 66 | I9: =H9 -> 66 | J9: =D9/'TEST MARKS '!$D$141*100 -> 82.5 | K9: =E9/'TEST MARKS '!$D$141*100 -> 82.5 | L9: =F9/'TEST MARKS '!$D$141*100 -> 82.5 | M9: =G9/'TEST MARKS '!$D$141*100 -> 82.5 | N9: =H9/'TEST MARKS '!$D$141*100 -> 82.5 | O9: =I9/'TEST MARKS '!$D$141*100 -> 82.5 | P9: =IF(J9<'TEST MARKS '!$D$139,"N","Y") -> Y | Q9: =IF(K9<'TEST MARKS '!$D$139,"N","Y") -> Y | R9: =IF(L9<'TEST MARKS '!$D$139,"N","Y") -> Y | S9: =IF(M9<'TEST MARKS '!$D$139,"N","Y") -> Y | T9: =IF(N9<'TEST MARKS '!$D$139,"N","Y") -> Y | U9: =IF(O9<'TEST MARKS '!$D$139,"N","Y") -> Y
A10: ='TEST MARKS '!A14 -> 5 | B10: AMITH.R | C10: 1SG15ME010 | D10: 66 | E10: =D10 -> 66 | F10: =E10 -> 66 | G10: =F10 -> 66 | H10: =G10 -> 66 | I10: =H10 -> 66 | J10: =D10/'TEST MARKS '!$D$141*100 -> 82.5 | K10: =E10/'TEST MARKS '!$D$141*100 -> 82.5 | L10: =F10/'TEST MARKS '!$D$141*100 -> 82.5 | M10: =G10/'TEST MARKS '!$D$141*100 -> 82.5 | N10: =H10/'TEST MARKS '!$D$141*100 -> 82.5 | O10: =I10/'TEST MARKS '!$D$141*100 -> 82.5 | P10: =IF(J10<'TEST MARKS '!$D$139,"N","Y") -> Y | Q10: =IF(K10<'TEST MARKS '!$D$139,"N","Y") -> Y | R10: =IF(L10<'TEST MARKS '!$D$139,"N","Y") -> Y | S10: =IF(M10<'TEST MARKS '!$D$139,"N","Y") -> Y | T10: =IF(N10<'TEST MARKS '!$D$139,"N","Y") -> Y | U10: =IF(O10<'TEST MARKS '!$D$139,"N","Y") -> Y
A11: ='TEST MARKS '!A15 -> 6 | B11: ANIL KUMAR C | C11: 1SG15ME011 | D11: 68 | E11: =D11 -> 68 | F11: =E11 -> 68 | G11: =F11 -> 68 | H11: =G11 -> 68 | I11: =H11 -> 68 | J11: =D11/'TEST MARKS '!$D$141*100 -> 85 | K11: =E11/'TEST MARKS '!$D$141*100 -> 85 | L11: =F11/'TEST MARKS '!$D$141*100 -> 85 | M11: =G11/'TEST MARKS '!$D$141*100 -> 85 | N11: =H11/'TEST MARKS '!$D$141*100 -> 85 | O11: =I11/'TEST MARKS '!$D$141*100 -> 85 | P11: =IF(J11<'TEST MARKS '!$D$139,"N","Y") -> Y | Q11: =IF(K11<'TEST MARKS '!$D$139,"N","Y") -> Y | R11: =IF(L11<'TEST MARKS '!$D$139,"N","Y") -> Y | S11: =IF(M11<'TEST MARKS '!$D$139,"N","Y") -> Y | T11: =IF(N11<'TEST MARKS '!$D$139,"N","Y") -> Y | U11: =IF(O11<'TEST MARKS '!$D$139,"N","Y") -> Y
A12: ='TEST MARKS '!A16 -> 7 | B12: ANIRUDH R K | C12: 1SG15ME012 | D12: 51 | E12: =D12 -> 51 | F12: =E12 -> 51 | G12: =F12 -> 51 | H12: =G12 -> 51 | I12: =H12 -> 51 | J12: =D12/'TEST MARKS '!$D$141*100 -> 63.75 | K12: =E12/'TEST MARKS '!$D$141*100 -> 63.75 | L12: =F12/'TEST MARKS '!$D$141*100 -> 63.75 | M12: =G12/'TEST MARKS '!$D$141*100 -> 63.75 | N12: =H12/'TEST MARKS '!$D$141*100 -> 63.75 | O12: =I12/'TEST MARKS '!$D$141*100 -> 63.75 | P12: =IF(J12<'TEST MARKS '!$D$139,"N","Y") -> Y | Q12: =IF(K12<'TEST MARKS '!$D$139,"N","Y") -> Y | R12: =IF(L12<'TEST MARKS '!$D$139,"N","Y") -> Y | S12: =IF(M12<'TEST MARKS '!$D$139,"N","Y") -> Y | T12: =IF(N12<'TEST MARKS '!$D$139,"N","Y") -> Y | U12: =IF(O12<'TEST MARKS '!$D$139,"N","Y") -> Y
A13: ='TEST MARKS '!A17 -> 8 | B13: ARJUN S | C13: 1SG15ME013 | D13: 69 | E13: =D13 -> 69 | F13: =E13 -> 69 | G13: =F13 -> 69 | H13: =G13 -> 69 | I13: =H13 -> 69 | J13: =D13/'TEST MARKS '!$D$141*100 -> 86.25 | K13: =E13/'TEST MARKS '!$D$141*100 -> 86.25 | L13: =F13/'TEST MARKS '!$D$141*100 -> 86.25 | M13: =G13/'TEST MARKS '!$D$141*100 -> 86.25 | N13: =H13/'TEST MARKS '!$D$141*100 -> 86.25 | O13: =I13/'TEST MARKS '!$D$141*100 -> 86.25 | P13: =IF(J13<'TEST MARKS '!$D$139,"N","Y") -> Y | Q13: =IF(K13<'TEST MARKS '!$D$139,"N","Y") -> Y | R13: =IF(L13<'TEST MARKS '!$D$139,"N","Y") -> Y | S13: =IF(M13<'TEST MARKS '!$D$139,"N","Y") -> Y | T13: =IF(N13<'TEST MARKS '!$D$139,"N","Y") -> Y | U13: =IF(O13<'TEST MARKS '!$D$139,"N","Y") -> Y
A14: ='TEST MARKS '!A18 -> 9 | B14: ASHISH SHARMA | C14: 1SG15ME014 | D14: 37 | E14: =D14 -> 37 | F14: =E14 -> 37 | G14: =F14 -> 37 | H14: =G14 -> 37 | I14: =H14 -> 37 | J14: =D14/'TEST MARKS '!$D$141*100 -> 46.25 | K14: =E14/'TEST MARKS '!$D$141*100 -> 46.25 | L14: =F14/'TEST MARKS '!$D$141*100 -> 46.25 | M14: =G14/'TEST MARKS '!$D$141*100 -> 46.25 | N14: =H14/'TEST MARKS '!$D$141*100 -> 46.25 | O14: =I14/'TEST MARKS '!$D$141*100 -> 46.25 | P14: =IF(J14<'TEST MARKS '!$D$139,"N","Y") -> N | Q14: =IF(K14<'TEST MARKS '!$D$139,"N","Y") -> N | R14: =IF(L14<'TEST MARKS '!$D$139,"N","Y") -> N | S14: =IF(M14<'TEST MARKS '!$D$139,"N","Y") -> N | T14: =IF(N14<'TEST MARKS '!$D$139,"N","Y") -> N | U14: =IF(O14<'TEST MARKS '!$D$139,"N","Y") -> N
A15: ='TEST MARKS '!A19 -> 10 | B15: AYAN GUHA RAOY | C15: 1SG15ME015 | D15: 67 | E15: =D15 -> 67 | F15: =E15 -> 67 | G15: =F15 -> 67 | H15: =G15 -> 67 | I15: =H15 -> 67 | J15: =D15/'TEST MARKS '!$D$141*100 -> 83.75 | K15: =E15/'TEST MARKS '!$D$141*100 -> 83.75 | L15: =F15/'TEST MARKS '!$D$141*100 -> 83.75 | M15: =G15/'TEST MARKS '!$D$141*100 -> 83.75 | N15: =H15/'TEST MARKS '!$D$141*100 -> 83.75 | O15: =I15/'TEST MARKS '!$D$141*100 -> 83.75 | P15: =IF(J15<'TEST MARKS '!$D$139,"N","Y") -> Y | Q15: =IF(K15<'TEST MARKS '!$D$139,"N","Y") -> Y | R15: =IF(L15<'TEST MARKS '!$D$139,"N","Y") -> Y | S15: =IF(M15<'TEST MARKS '!$D$139,"N","Y") -> Y | T15: =IF(N15<'TEST MARKS '!$D$139,"N","Y") -> Y | U15: =IF(O15<'TEST MARKS '!$D$139,"N","Y") -> Y
A16: ='TEST MARKS '!A20 -> 11 | B16: BHARATH .V | C16: 1SG15ME017 | D16: 75 | E16: =D16 -> 75 | F16: =E16 -> 75 | G16: =F16 -> 75 | H16: =G16 -> 75 | I16: =H16 -> 75 | J16: =D16/'TEST MARKS '!$D$141*100 -> 93.75 | K16: =E16/'TEST MARKS '!$D$141*100 -> 93.75 | L16: =F16/'TEST MARKS '!$D$141*100 -> 93.75 | M16: =G16/'TEST MARKS '!$D$141*100 -> 93.75 | N16: =H16/'TEST MARKS '!$D$141*100 -> 93.75 | O16: =I16/'TEST MARKS '!$D$141*100 -> 93.75 | P16: =IF(J16<'TEST MARKS '!$D$139,"N","Y") -> Y | Q16: =IF(K16<'TEST MARKS '!$D$139,"N","Y") -> Y | R16: =IF(L16<'TEST MARKS '!$D$139,"N","Y") -> Y | S16: =IF(M16<'TEST MARKS '!$D$139,"N","Y") -> Y | T16: =IF(N16<'TEST MARKS '!$D$139,"N","Y") -> Y | U16: =IF(O16<'TEST MARKS '!$D$139,"N","Y") -> Y
A17: ='TEST MARKS '!A21 -> 12 | B17: C KARTHIK | C17: 1SG15ME018 | D17: 47 | E17: =D17 -> 47 | F17: =E17 -> 47 | G17: =F17 -> 47 | H17: =G17 -> 47 | I17: =H17 -> 47 | J17: =D17/'TEST MARKS '!$D$141*100 -> 58.75 | K17: =E17/'TEST MARKS '!$D$141*100 -> 58.75 | L17: =F17/'TEST MARKS '!$D$141*100 -> 58.75 | M17: =G17/'TEST MARKS '!$D$141*100 -> 58.75 | N17: =H17/'TEST MARKS '!$D$141*100 -> 58.75 | O17: =I17/'TEST MARKS '!$D$141*100 -> 58.75 | P17: =IF(J17<'TEST MARKS '!$D$139,"N","Y") -> Y | Q17: =IF(K17<'TEST MARKS '!$D$139,"N","Y") -> Y | R17: =IF(L17<'TEST MARKS '!$D$139,"N","Y") -> Y | S17: =IF(M17<'TEST MARKS '!$D$139,"N","Y") -> Y | T17: =IF(N17<'TEST MARKS '!$D$139,"N","Y") -> Y | U17: =IF(O17<'TEST MARKS '!$D$139,"N","Y") -> Y
... A119: ='TEST MARKS '!A123 -> 114 | B119: YASHAVANTH A S | C119: 1SG16ME444 | D119: 71 | E119: =D119 -> 71 | F119: =E119 -> 71 | G119: =F119 -> 71 | H119: =G119 -> 71 | I119: =H119 -> 71 | J119: =D119/'TEST MARKS '!$D$141*100 -> 88.75 | K119: =E119/'TEST MARKS '!$D$141*100 -> 88.75 | L119: =F119/'TEST MARKS '!$D$141*100 -> 88.75 | M119: =G119/'TEST MARKS '!$D$141*100 -> 88.75 | N119: =H119/'TEST MARKS '!$D$141*100 -> 88.75 | O119: =I119/'TEST MARKS '!$D$141*100 -> 88.75 | P119: =IF(J119<'TEST MARKS '!$D$139,"N","Y") -> Y | Q119: =IF(K119<'TEST MARKS '!$D$139,"N","Y") -> Y | R119: =IF(L119<'TEST MARKS '!$D$139,"N","Y") -> Y | S119: =IF(M119<'TEST MARKS '!$D$139,"N","Y") -> Y | T119: =IF(N119<'TEST MARKS '!$D$139,"N","Y") -> Y | U119: =IF(O119<'TEST MARKS '!$D$139,"N","Y") -> Y
A120: ='TEST MARKS '!A124 -> 115 | B120: ='TEST MARKS '!B124 -> 0 | C120: ='TEST MARKS '!C124 -> 0 | D120: ='TEST MARKS '!P124 -> 0 | E120: =D120 -> 0 | F120: =E120 -> 0 | G120: =F120 -> 0 | H120: =G120 -> 0 | I120: =H120 -> 0 | J120: =D120/'TEST MARKS '!$D$141*100 -> 0 | K120: =E120/'TEST MARKS '!$D$141*100 -> 0 | L120: =F120/'TEST MARKS '!$D$141*100 -> 0 | M120: =G120/'TEST MARKS '!$D$141*100 -> 0 | N120: =H120/'TEST MARKS '!$D$141*100 -> 0 | O120: =I120/'TEST MARKS '!$D$141*100 -> 0 | P120: =IF(J120<'TEST MARKS '!$D$139,"N","Y") -> N | Q120: =IF(K120<'TEST MARKS '!$D$139,"N","Y") -> N | R120: =IF(L120<'TEST MARKS '!$D$139,"N","Y") -> N | S120: =IF(M120<'TEST MARKS '!$D$139,"N","Y") -> N | T120: =IF(N120<'TEST MARKS '!$D$139,"N","Y") -> N | U120: =IF(O120<'TEST MARKS '!$D$139,"N","Y") -> N
A121: ='TEST MARKS '!A125 -> 116 | B121: ='TEST MARKS '!B125 -> 0 | C121: ='TEST MARKS '!C125 -> 0 | D121: ='TEST MARKS '!P125 -> 0 | E121: =D121 -> 0 | F121: =E121 -> 0 | G121: =F121 -> 0 | H121: =G121 -> 0 | I121: =H121 -> 0 | J121: =D121/'TEST MARKS '!$D$141*100 -> 0 | K121: =E121/'TEST MARKS '!$D$141*100 -> 0 | L121: =F121/'TEST MARKS '!$D$141*100 -> 0 | M121: =G121/'TEST MARKS '!$D$141*100 -> 0 | N121: =H121/'TEST MARKS '!$D$141*100 -> 0 | O121: =I121/'TEST MARKS '!$D$141*100 -> 0 | P121: =IF(J121<'TEST MARKS '!$D$139,"N","Y") -> N | Q121: =IF(K121<'TEST MARKS '!$D$139,"N","Y") -> N | R121: =IF(L121<'TEST MARKS '!$D$139,"N","Y") -> N | S121: =IF(M121<'TEST MARKS '!$D$139,"N","Y") -> N | T121: =IF(N121<'TEST MARKS '!$D$139,"N","Y") -> N | U121: =IF(O121<'TEST MARKS '!$D$139,"N","Y") -> N
A122: ='TEST MARKS '!A126 -> 117 | B122: ='TEST MARKS '!B126 -> 0 | C122: ='TEST MARKS '!C126 -> 0 | D122: ='TEST MARKS '!P126 -> 0 | E122: =D122 -> 0 | F122: =E122 -> 0 | G122: =F122 -> 0 | H122: =G122 -> 0 | I122: =H122 -> 0 | J122: =D122/'TEST MARKS '!$D$141*100 -> 0 | K122: =E122/'TEST MARKS '!$D$141*100 -> 0 | L122: =F122/'TEST MARKS '!$D$141*100 -> 0 | M122: =G122/'TEST MARKS '!$D$141*100 -> 0 | N122: =H122/'TEST MARKS '!$D$141*100 -> 0 | O122: =I122/'TEST MARKS '!$D$141*100 -> 0 | P122: =IF(J122<'TEST MARKS '!$D$139,"N","Y") -> N | Q122: =IF(K122<'TEST MARKS '!$D$139,"N","Y") -> N | R122: =IF(L122<'TEST MARKS '!$D$139,"N","Y") -> N | S122: =IF(M122<'TEST MARKS '!$D$139,"N","Y") -> N | T122: =IF(N122<'TEST MARKS '!$D$139,"N","Y") -> N | U122: =IF(O122<'TEST MARKS '!$D$139,"N","Y") -> N
A123: ='TEST MARKS '!A127 -> 118 | B123: ='TEST MARKS '!B127 -> 0 | C123: ='TEST MARKS '!C127 -> 0 | D123: ='TEST MARKS '!P127 -> 0 | E123: =D123 -> 0 | F123: =E123 -> 0 | G123: =F123 -> 0 | H123: =G123 -> 0 | I123: =H123 -> 0 | J123: =D123/'TEST MARKS '!$D$141*100 -> 0 | K123: =E123/'TEST MARKS '!$D$141*100 -> 0 | L123: =F123/'TEST MARKS '!$D$141*100 -> 0 | M123: =G123/'TEST MARKS '!$D$141*100 -> 0 | N123: =H123/'TEST MARKS '!$D$141*100 -> 0 | O123: =I123/'TEST MARKS '!$D$141*100 -> 0 | P123: =IF(J123<'TEST MARKS '!$D$139,"N","Y") -> N | Q123: =IF(K123<'TEST MARKS '!$D$139,"N","Y") -> N | R123: =IF(L123<'TEST MARKS '!$D$139,"N","Y") -> N | S123: =IF(M123<'TEST MARKS '!$D$139,"N","Y") -> N | T123: =IF(N123<'TEST MARKS '!$D$139,"N","Y") -> N | U123: =IF(O123<'TEST MARKS '!$D$139,"N","Y") -> N
A124: ='TEST MARKS '!A128 -> 119 | B124: ='TEST MARKS '!B128 -> 0 | C124: ='TEST MARKS '!C128 -> 0 | D124: ='TEST MARKS '!P128 -> 0 | E124: =D124 -> 0 | F124: =E124 -> 0 | G124: =F124 -> 0 | H124: =G124 -> 0 | I124: =H124 -> 0 | J124: =D124/'TEST MARKS '!$D$141*100 -> 0 | K124: =E124/'TEST MARKS '!$D$141*100 -> 0 | L124: =F124/'TEST MARKS '!$D$141*100 -> 0 | M124: =G124/'TEST MARKS '!$D$141*100 -> 0 | N124: =H124/'TEST MARKS '!$D$141*100 -> 0 | O124: =I124/'TEST MARKS '!$D$141*100 -> 0 | P124: =IF(J124<'TEST MARKS '!$D$139,"N","Y") -> N | Q124: =IF(K124<'TEST MARKS '!$D$139,"N","Y") -> N | R124: =IF(L124<'TEST MARKS '!$D$139,"N","Y") -> N | S124: =IF(M124<'TEST MARKS '!$D$139,"N","Y") -> N | T124: =IF(N124<'TEST MARKS '!$D$139,"N","Y") -> N | U124: =IF(O124<'TEST MARKS '!$D$139,"N","Y") -> N
A125: ='TEST MARKS '!A129 -> 120 | B125: ='TEST MARKS '!B129 -> 0 | C125: ='TEST MARKS '!C129 -> 0 | D125: ='TEST MARKS '!P129 -> 0 | E125: =D125 -> 0 | F125: =E125 -> 0 | G125: =F125 -> 0 | H125: =G125 -> 0 | I125: =H125 -> 0 | J125: =D125/'TEST MARKS '!$D$141*100 -> 0 | K125: =E125/'TEST MARKS '!$D$141*100 -> 0 | L125: =F125/'TEST MARKS '!$D$141*100 -> 0 | M125: =G125/'TEST MARKS '!$D$141*100 -> 0 | N125: =H125/'TEST MARKS '!$D$141*100 -> 0 | O125: =I125/'TEST MARKS '!$D$141*100 -> 0 | P125: =IF(J125<'TEST MARKS '!$D$139,"N","Y") -> N | Q125: =IF(K125<'TEST MARKS '!$D$139,"N","Y") -> N | R125: =IF(L125<'TEST MARKS '!$D$139,"N","Y") -> N | S125: =IF(M125<'TEST MARKS '!$D$139,"N","Y") -> N | T125: =IF(N125<'TEST MARKS '!$D$139,"N","Y") -> N | U125: =IF(O125<'TEST MARKS '!$D$139,"N","Y") -> N
O127: NO OF Y | P127: =COUNTIF(P6:P125,"Y") -> 91 | Q127: =COUNTIF(Q6:Q125,"Y") -> 91 | R127: =COUNTIF(R6:R125,"Y") -> 91 | S127: =COUNTIF(S6:S125,"Y") -> 91 | T127: =COUNTIF(T6:T125,"Y") -> 91 | U127: =COUNTIF(U6:U125,"Y") -> 91
O128: ATTAINMENT | P128: =P127*100/'TEST MARKS '!$D$136 -> 79.824561 | Q128: =Q127*100/'TEST MARKS '!$D$136 -> 79.824561 | R128: =R127*100/'TEST MARKS '!$D$136 -> 79.824561 | S128: =S127*100/'TEST MARKS '!$D$136 -> 79.824561 | T128: =T127*100/'TEST MARKS '!$D$136 -> 79.824561 | U128: =U127*100/'TEST MARKS '!$D$136 -> 79.824561
O132: CO's | P132: CO1 | Q132: CO2 | R132: CO3 | S132: CO4 | T132: CO5 | U132: CO6
O133: EXAMINATION MARKS ATTAINMENT | P133: =P128 -> 79.824561 | Q133: =Q128 -> 79.824561 | R133: =R128 -> 79.824561 | S133: =S128 -> 79.824561 | T133: =T128 -> 79.824561 | U133: =U128 -> 79.824561

Sheet TOTAL CO 
B2: Equal Weigtage to TEST, ASSIGNMENT & EXAM MARKS | L2: OR | O2: 50% Weightage each for CIE and SEE | W2: OR | Y2: 40% Weightage for CIE and 60% for SEE
E3: TARGET: 80% ATTAINMENT | N3: TARGET: 70% ATTAINMENT | Y3: TARGET: 70% ATTAINMENT
E6: CO1 | F6: CO2 | G6: CO3 | H6: CO4 | I6: CO5 | J6: CO6 | N6: CO'S | O6: CO1 | P6: CO2 | Q6: CO3 | R6: CO4 | S6: CO5 | T6: CO6
D7: IA MARKS ATTAINMENT | E7: ='TEST -CO '!P137 -> 93.859649 | F7: ='TEST -CO '!Q137 -> 93.859649 | G7: ='TEST -CO '!R137 -> 93.859649 | H7: ='TEST -CO '!S137 -> 93.859649 | I7: ='TEST -CO '!T137 -> 93.859649 | J7: ='TEST -CO '!U137 -> 92.982456 | N7: IA MARKS ATTAINMENT | O7: =E7 -> 93.859649 | P7: =F7 -> 93.859649 | Q7: =G7 -> 93.859649 | R7: =H7 -> 93.859649 | S7: =I7 -> 93.859649 | T7: =J7 -> 92.982456
D8: Assignment ATTAINMENT | E8: ='Assignment CO '!P136 -> 2.6315789 | F8: ='Assignment CO '!Q136 -> 2.6315789 | G8: ='Assignment CO '!R136 -> 2.6315789 | H8: ='Assignment CO '!S136 -> 2.6315789 | I8: ='Assignment CO '!T136 -> 2.6315789 | J8: ='Assignment CO '!U136 -> 2.6315789 | N8: Assignment ATTAINMENT | O8: =E8 -> 2.6315789 | P8: =F8 -> 2.6315789 | Q8: =G8 -> 2.6315789 | R8: =H8 -> 2.6315789 | S8: =I8 -> 2.6315789 | T8: =J8 -> 2.6315789 | Y8: CIE: AVG OF TEST & ASSIGNMENT | Z8: 89 | AA8: 86 | AB8: 88 | AC8: 87 | AD8: 79
D9: EXAM ATTAINMENT | E9: ='SEE-FINAL EXAM CO'!P133 -> 79.824561 | F9: ='SEE-FINAL EXAM CO'!Q133 -> 79.824561 | G9: ='SEE-FINAL EXAM CO'!R133 -> 79.824561 | H9: ='SEE-FINAL EXAM CO'!S133 -> 79.824561 | I9: ='SEE-FINAL EXAM CO'!T133 -> 79.824561 | J9: ='SEE-FINAL EXAM CO'!U133 -> 79.824561 | N9: CIE: AVG OF TEST & ASSIGNMENT | O9: =(O7+O8)/2 -> 48.245614 | P9: =(P7+P8)/2 -> 48.245614 | Q9: =(Q7+Q8)/2 -> 48.245614 | R9: =(R7+R8)/2 -> 48.245614 | S9: =(S7+S8)/2 -> 48.245614 | T9: =(T7+T8)/2 -> 47.807018 | Y9: X BY0.4 | Z9: =Z8*0.4 -> 35.6 | AA9: =AA8*0.4 -> 34.4 | AB9: =AB8*0.4 -> 35.2 | AC9: =AC8*0.4 -> 34.8 | AD9: =AD8*0.4 -> 31.6
D10: AVARAGE | E10: =(E7+E9)/2 -> 86.842105 | F10: =(F7+F9)/2 -> 86.842105 | G10: =(G7+G9)/2 -> 86.842105 | H10: =(H7+H9)/2 -> 86.842105 | I10: =(I7+I9)/2 -> 86.842105 | J10: =(J7+J9)/2 -> 86.403509
Y11: SEE | Z11: 80 | AA11: 80 | AB11: 80 | AC11: 80 | AD11: 80
N12: CIE | O12: 89 | P12: 86 | Q12: 88 | R12: 87 | S12: 79 | T12: 79 | Y12: X BY 0.60 | Z12: 48 | AA12: 48 | AB12: 48 | AC12: 48 | AD12: 48
N13: SEE | O13: 80 | P13: 80 | Q13: 80 | R13: 80 | S13: 80 | T13: 80
E14: CO1 | F14: CO2 | G14: CO3 | H14: CO4 | I14: CO5 | J14: CO6 | N14: AVARAGE | O14: =(O12+O13)/2 -> 84.5 | P14: =(P12+P13)/2 -> 83 | Q14: =(Q12+Q13)/2 -> 84 | R14: =(R12+R13)/2 -> 83.5 | S14: =(S12+S13)/2 -> 79.5 | T14: =(T12+T13)/2 -> 79.5
D15: ATTAINMENT of COs | E15: =E10 -> 86.842105 | F15: =F10 -> 86.842105 | G15: =G10 -> 86.842105 | H15: =H10 -> 86.842105 | I15: =I10 -> 86.842105 | J15: =J10 -> 86.403509 | Y15: ATTAINMENT | Z15: =Z9+Z12 -> 83.6 | AA15: =AA9+AA12 -> 82.4 | AB15: =AB9+AB12 -> 83.2 | AC15: =AC9+AC12 -> 82.8 | AD15: =AD9+AD12 -> 79.6
AB23: graph
D35: NEXT ACADEMIC YEAR TARGET CAN BE: 90%

Sheet GRAPHS

Sheet C-Sec
B1: Acharya Institute of Technology
B2: Department of Computer Science and Engineering
B3: VI Semester C Section Test marks for Even Sem 2013-14
A4: Sl. No. | B4: Name of the student | C4: USN | D4: I INTERNALS | I4: II INTERNALS | Q4: III INTERNALS
I5: PART A | M5: PART B | Q5: PART A | U5: PART B
D6: 1 | E6: 2 | F6: 3 | G6: 4 | H6: 5 | I6: 1 | J6: 2 | K6: 3 | L6: 4 | M6: 5 | N6: 6 | O6: 7 | P6: 8 | Q6: 1 | R6: 2 | S6: 3 | T6: 4 | U6: 5 | V6: 6 | W6: 7 | X6: 8
D7: CO 1 | E7: CO 2 | F7: CO 3 | G7: CO 3 | H7: CO 3 | I7: CO 3 | J7: CO 3 | K7: CO 3 | L7: CO 3 | M7: CO 1 | N7: CO 4 | O7: CO 4 | P7: CO 4 | Q7: CO 4 | R7: CO 4 | S7: CO 4 | T7: CO 4 | U7: CO 4 | V7: CO 4 | W7: CO 5 | X7: CO 5
A8: 1 | B8: SRINIDHI P C | C8: 1AY11CS113 | D8: 10 | E8: 10 | F8: 7 | G8: 10 | H8: 10 | I8: 10 | J8: 10 | K8: 10 | N8: 10 | O8: 9 | Q8: 10 | T8: 9 | U8: 10 | V8: 9 | X8: 10
A9: 2 | B9: SHRUTHIKA C RAMPURE | C9: 1AY11CS114 | D9: 10 | E9: 7 | F9: 9 | G9: 9 | H9: 4 | I9: 9 | J9: 9 | K9: 9 | L9: 9 | N9: 9 | O9: 9 | P9: 10
A10: 3 | B10: SNEHA KUMARI | C10: 1AY11CS115 | D10: 10 | E10: 8 | F10: 9 | G10: 10 | H10: 9 | I10: 10 | K10: 9 | L10: 10 | N10: 9 | O10: 10 | P10: 9 | Q10: 10 | R10: 10 | S10: 10 | T10: 10 | U10: 4 | X10: 10
A11: 4 | B11: SOMEN GORAIN | C11: 1AY11CS116 | E11: 10 | F11: 9 | G11: 9 | H11: 7 | I11: 10 | K11: 10 | M11: 10 | O11: 10 | P11: 10 | Q11: 8 | S11: 10 | T11: 10 | V11: 10 | X11: 10
A12: 5 | B12: SOUVIK KUNDU | C12: 1AY11CS117 | D12: 10 | E12: 10 | F12: 9 | G12: 5 | H12: 7 | K12: 10 | L12: 7 | M12: 10 | N12: 10 | O12: 10 | R12: 10 | S12: 10 | T12: 10 | U12: 6 | V12: 10 | W12: 6
A13: 6 | B13: SOWMYA NAGARAJU | C13: 1AY11CS118 | D13: 3 | E13: 8 | F13: 10 | G13: 8 | H13: 5 | K13: 8 | L13: 10 | M13: 4 | P13: 8 | Q13: 5 | S13: 10 | T13: 10 | U13: 6 | V13: 10 | X13: 10
A14: 7 | B14: SRISTI KUMARI | C14: 1AY11CS120 | D14: 10 | E14: 3 | F14: 7 | G14: 5 | K14: 7 | L14: 7 | M14: 10 | O14: 9 | P14: 9
A15: 8 | B15: SUBAS THAPA | C15: 1AY11CS121 | D15: 7 | E15: 3 | F15: 10 | G15: 4 | H15: 6 | I15: 9 | K15: 9 | N15: 10 | O15: 10 | P15: 8 | Q15: 10 | S15: 10 | T15: 10 | V15: 10 | X15: 9
A16: 9 | B16: SUKANYA BOSE | C16: 1AY11CS122 | D16: 7 | E16: 5 | F16: 8 | I16: 3 | J16: 9 | K16: 9 | L16: 5 | M16: 6 | N16: 4 | O16: 0 | P16: 4 | Q16: 6 | S16: 9 | T16: 4 | V16: 6
A17: 10 | B17: SUMIT KUMAR | C17: 1AY11CS123 | D17: 10 | E17: 3 | F17: 8 | G17: 5 | M17: 8 | N17: 4 | O17: 10 | P17: 5 | Q17: 10 | T17: 10 | U17: 4 | W17: 10 | X17: 10
A18: 11 | B18: SUPRIYA | C18: 1AY11CS124 | D18: 7 | E18: 8 | F18: 9 | G18: 9 | H18: 7 | J18: 8 | K18: 9 | N18: 10 | O18: 6 | P18: 10 | Q18: 8 | S18: 10 | T18: 10 | U18: 8 | V18: 8 | X18: 10
A19: 12 | B19: SURENDRA D | C19: 1AY11CS125 | D19: 10 | F19: 9 | G19: 9 | H19: 7 | I19: 10 | K19: 10 | L19: 8 | M19: 10 | O19: 10 | P19: 6 | Q19: 10 | R19: 6 | S19: 10 | T19: 6 | U19: 4 | X19: 10
A20: 13 | B20: SWATI .M .S | C20: 1AY11CS127 | D20: 10 | E20: 3 | F20: 10 | G20: 4 | H20: 9 | I20: 7 | K20: 9 | L20: 5 | N20: 8 | O20: 9 | P20: 9 | Q20: 8 | R20: 8 | S20: 10 | T20: 10 | U20: 8 | V20: 8 | X20: 10
A21: 14 | B21: TAJ UNNISA | C21: 1AY11CS128 | D21: 10 | E21: 8 | F21: 9 | G21: 10 | H21: 10 | I21: 8 | J21: 9 | L21: 9 | M21: 10 | N21: 9 | O21: 10
A22: 15 | B22: TANUSHREE .Y | C22: 1AY11CS129 | D22: 10 | E22: 4 | F22: 9 | G22: 10 | H22: 6 | I22: 10 | K22: 10 | L22: 4 | N22: 8 | O22: 10 | P22: 10 | R22: 10 | S22: 10 | U22: 10 | V22: 10 | X22: 10
A23: 16 | B23: UMESH KUMAR | C23: 1AY11CS131 | I23: 7 | J23: 9 | L23: 9 | M23: 7 | N23: 4 | O23: 6 | Q23: 6 | S23: 10 | U23: 8 | V23: 10 | X23: 10
A24: 17 | B24: V PRADEEP | C24: 1AY11CS133 | D24: 2 | E24: 10 | F24: 9 | G24: 9 | H24: 10 | I24: 9 | K24: 7 | N24: 10 | O24: 4 | P24: 10
A25: 18 | B25: VISHAL KUMAR | C25: 1AY11CS135 | D25: 10 | E25: 10 | F25: 10 | G25: 10 | H25: 10 | J25: 8 | K25: 5 | M25: 10 | N25: 2 | O25: 10 | P25: 8
A26: 19 | B26: VISHNU .N | C26: 1AY11CS136 | D26: 10 | E26: 9 | F26: 9 | G26: 10 | H26: 7 | I26: 10 | J26: 10 | M26: 10 | N26: 10 | O26: 10
A27: 20 | B27: YOGESH.N | C27: 1AY11CS137 | D27: 10 | E27: 10 | F27: 9 | G27: 10 | H27: 9 | I27: 10 | J27: 10 | K27: 9 | M27: 10 | N27: 10 | O27: 10
A28: 21 | B28: SNEHA KULHALLI | C28: 1AY11CS140 | D28: 10 | E28: 3 | F28: 7 | G28: 7 | H28: 5 | I28: 5 | J28: 7 | K28: 5 | L28: 5 | N28: 6 | O28: 9 | Q28: 10 | S28: 10 | U28: 8 | V28: 6 | X28: 10
A29: 22 | B29: AKSHITHA C | C29: 1AY12CS400 | D29: 7 | F29: 9 | G29: 7 | H29: 5 | I29: 8 | K29: 8 | N29: 4 | O29: 4 | P29: 4 | Q29: 8 | S29: 8 | T29: 8 | V29: 8
A30: 23 | B30: B B VIKAS | C30: 1AY12CS401 | J30: 8 | K30: 7 | M30: 10 | N30: 4 | O30: 10 | Q30: 5 | R30: 2 | S30: 10 | T30: 5 | U30: 2 | V30: 8 | X30: 10
A31: 24 | B31: BALAJI P | C31: 1AY12CS402 | J31: 7 | N31: 6 | O31: 10 | P31: 5 | Q31: 8 | R31: 4 | S31: 10 | V31: 8 | W31: 10
A32: 25 | B32: BASANAGOUDA | C32: 1AY12CS403 | I32: 9 | J32: 7 | N32: 4 | O32: 9 | P32: 4 | R32: 8 | S32: 10 | T32: 8 | U32: 10 | V32: 8 | X32: 10
A33: 26 | B33: BASAVARAJ S | C33: 1AY12CS404 | D33: 9 | E33: 9 | I33: 8 | K33: 9 | N33: 4 | P33: 4 | Q33: 5 | S33: 10 | T33: 10 | U33: 4 | V33: 9 | X33: 10
A34: 27 | B34: DIVYA KALA M | C34: 1AY12CS405 | D34: 10 | E34: 8 | F34: 9 | G34: 9 | H34: 9 | I34: 9 | J34: 8 | M34: 10 | N34: 4 | O34: 9 | P34: 4 | Q34: 8 | R34: 8 | S34: 10 | U34: 8 | V34: 8
A35: 28 | B35: DIVYA L | C35: 1AY12CS406 | D35: 10 | E35: 2 | F35: 7 | I35: 7 | J35: 5 | N35: 4 | O35: 4 | P35: 5 | Q35: 10 | S35: 4 | T35: 10 | U35: 3 | V35: 6 | W35: 4
A36: 29 | B36: GOPAL RAJ J T | C36: 1AY12CS407 | D36: 9 | F36: 9 | G36: 9 | H36: 7 | J36: 5 | L36: 5 | N36: 4 | O36: 6 | P36: 4 | Q36: 4 | S36: 6 | U36: 8 | V36: 8 | W36: 8
A37: 30 | B37: GURURAJ M S | C37: 1AY12CS408 | D37: 9 | E37: 8 | F37: 9 | G37: 7 | H37: 7 | K37: 5 | L37: 8 | N37: 10 | O37: 7 | Q37: 8 | R37: 8 | S37: 10 | T37: 5 | U37: 5 | X37: 10
A38: 31 | B38: JHANHAVI V | C38: 1AY12CS410 | D38: 8 | E38: 5 | F38: 9 | G38: 5 | H38: 6 | I38: 9 | L38: 8 | M38: 10 | N38: 9 | O38: 9 | P38: 8 | Q38: 8 | S38: 8 | T38: 10 | U38: 8 | X38: 8
A39: 32 | B39: LOHITH R R | C39: 1AY12CS411 | F39: 6 | G39: 7 | H39: 6 | J39: 9 | K39: 10 | N39: 10 | O39: 10 | P39: 10 | Q39: 10 | R39: 8 | S39: 10 | V39: 8 | X39: 6
A40: 33 | B40: MALLIKARJUN | C40: 1AY12CS412 | I40: 4 | J40: 6 | M40: 2 | N40: 4 | O40: 5 | P40: 4 | Q40: 8 | R40: 8 | S40: 10 | T40: 3 | V40: 8
A41: 34 | B41: MANJU S | C41: 1AY12CS414 | F41: 10 | G41: 10 | H41: 3 | K41: 7 | L41: 9 | N41: 9 | O41: 9 | P41: 9 | Q41: 8 | R41: 8 | S41: 10 | T41: 10 | V41: 8
A42: 35 | B42: MEGHANA K K | C42: 1AY12CS415 | D42: 9 | F42: 7 | Q42: 5 | R42: 5 | S42: 10 | T42: 8 | V42: 8 | W42: 5 | X42: 8
A43: 36 | B43: MONICA SM | C43: 1AY12CS416 | D43: 10 | E43: 9 | F43: 5 | G43: 5 | H43: 5 | I43: 4 | L43: 4 | M43: 10 | N43: 4 | P43: 4 | Q43: 8 | R43: 10 | S43: 10 | V43: 8 | X43: 10
A44: 37 | B44: NAVEEN KUMAR K S | C44: 1AY12CS417 | K44: 5 | L44: 5 | N44: 4 | P44: 4 | Q44: 10 | S44: 10 | U44: 6 | V44: 10 | X44: 10
A45: 38 | B45: NAYANA R R | C45: 1AY12CS418 | D45: 10 | E45: 9 | G45: 6 | H45: 5 | Q45: 6 | R45: 6 | U45: 3 | V45: 4 | X45: 10
A46: 39 | B46: PAVITHRA HJ | C46: 1AY12CS419 | I46: 8 | J46: 8 | M46: 10 | N46: 4 | O46: 4 | P46: 4 | Q46: 5 | S46: 8 | T46: 8 | U46: 4 | W46: 4 | X46: 10
A47: 40 | B47: PRASHANTH V | C47: 1AY12CS420 | D47: 8 | E47: 2 | F47: 9 | G47: 9 | H47: 1 | I47: 8 | K47: 10 | N47: 9 | O47: 10 | P47: 9
A48: 41 | B48: PRAVEEN KUMAR B | C48: 1AY12CS421 | D48: 9 | E48: 6 | F48: 6 | G48: 9 | H48: 8 | I48: 8 | J48: 9 | K48: 9 | N48: 4 | P48: 4 | Q48: 5 | S48: 8 | T48: 8 | U48: 8 | X48: 8
A49: 42 | B49: PUTTARAJU B K | C49: 1AY12CS422 | D49: 8 | F49: 5 | G49: 3 | J49: 4 | K49: 4 | M49: 9 | O49: 10 | P49: 3 | S49: 10 | T49: 10 | V49: 4 | X49: 10
A50: 43 | B50: RADHAKRISHNA G | C50: 1AY12CS423 | D50: 6 | F50: 5 | G50: 5 | H50: 5 | I50: 8 | K50: 8 | N50: 4 | O50: 4 | P50: 10 | Q50: 6 | S50: 6 | T50: 6 | U50: 10 | V50: 10 | X50: 10
A51: 44 | B51: SANTHOSH KUMAR G P | C51: 1AY12CS425 | D51: 9 | E51: 7 | F51: 9 | G51: 9 | H51: 7 | I51: 7 | J51: 7 | K51: 7 | M51: 10 | N51: 4 | O51: 10 | P51: 4
A52: 45 | B52: SHREYAS P | C52: 1AY12CS426 | D52: 10 | E52: 5 | F52: 6 | G52: 5 | H52: 5 | I52: 4 | K52: 4 | M52: 9 | N52: 2 | O52: 8
A53: 46 | B53: SHRIDHAR REDDY | C53: 1AY12CS427 | K53: 3 | N53: 4 | P53: 7 | Q53: 6 | S53: 9 | T53: 10 | U53: 10 | V53: 9 | X53: 8
A54: 47 | B54: VIDYA G | C54: 1AY12CS430 | D54: 10 | E54: 9 | F54: 9 | G54: 8 | I54: 9 | J54: 7 | M54: 10 | N54: 4 | O54: 8 | S54: 10 | T54: 10 | V54: 8 | X54: 6
B56: No of students between 9-10 | D56: =COUNTIF(D6:D54,"=9")+COUNTIF(D6:D54,"=10") -> 26 | E56: =COUNTIF(E6:E54,"=9")+COUNTIF(E6:E54,"=10") -> 11 | F56: =COUNTIF(F6:F54,"=9")+COUNTIF(F6:F54,"=10") -> 24 | G56: =COUNTIF(G6:G54,"=9")+COUNTIF(G6:G54,"=10") -> 18 | H56: =COUNTIF(H6:H54,"=9")+COUNTIF(H6:H54,"=10") -> 8 | I56: =COUNTIF(I6:I54,"=9")+COUNTIF(I6:I54,"=10") -> 14 | J56: =COUNTIF(J6:J54,"=9")+COUNTIF(J6:J54,"=10") -> 9 | K56: =COUNTIF(K6:K54,"=9")+COUNTIF(K6:K54,"=10") -> 16 | ... X56: =COUNTIF(X6:X54,"=9")+COUNTIF(X6:X54,"=10") -> 22
B57: No of students between 7-8 | D57: =COUNTIF(D6:D54,"=7")+COUNTIF(D6:D54,"=8") -> 7 | E57: =COUNTIF(E6:E54,"=7")+COUNTIF(E6:E54,"=8") -> 8 | F57: =COUNTIF(F6:F54,"=7")+COUNTIF(F6:F54,"=8") -> 7 | G57: =COUNTIF(G6:G54,"=7")+COUNTIF(G6:G54,"=8") -> 6 | H57: =COUNTIF(H6:H54,"=7")+COUNTIF(H6:H54,"=8") -> 9 | I57: =COUNTIF(I6:I54,"=7")+COUNTIF(I6:I54,"=8") -> 11 | J57: =COUNTIF(J6:J54,"=7")+COUNTIF(J6:J54,"=8") -> 10 | K57: =COUNTIF(K6:K54,"=7")+COUNTIF(K6:K54,"=8") -> 8 | ... X57: =COUNTIF(X6:X54,"=7")+COUNTIF(X6:X54,"=8") -> 5
B58: No of students between 5-6 | D58: =COUNTIF(D6:D54,"=5")+COUNTIF(D6:D54,"=6") -> 1 | E58: =COUNTIF(E6:E54,"=5")+COUNTIF(E6:E54,"=6") -> 4 | F58: =COUNTIF(F6:F54,"=5")+COUNTIF(F6:F54,"=6") -> 6 | G58: =COUNTIF(G6:G54,"=5")+COUNTIF(G6:G54,"=6") -> 8 | H58: =COUNTIF(H6:H54,"=5")+COUNTIF(H6:H54,"=6") -> 12 | I58: =COUNTIF(I6:I54,"=5")+COUNTIF(I6:I54,"=6") -> 1 | J58: =COUNTIF(J6:J54,"=5")+COUNTIF(J6:J54,"=6") -> 3 | K58: =COUNTIF(K6:K54,"=5")+COUNTIF(K6:K54,"=6") -> 4 | ... X58: =COUNTIF(X6:X54,"=5")+COUNTIF(X6:X54,"=6") -> 2
B59: No of students between 3-4 | D59: =COUNTIF(D6:D54,"=3")+COUNTIF(D6:D54,"=4") -> 1 | E59: =COUNTIF(E6:E54,"=3")+COUNTIF(E6:E54,"=4") -> 6 | F59: =COUNTIF(F6:F54,"=3")+COUNTIF(F6:F54,"=4") -> 1 | G59: =COUNTIF(G6:G54,"=3")+COUNTIF(G6:G54,"=4") -> 4 | H59: =COUNTIF(H6:H54,"=3")+COUNTIF(H6:H54,"=4") -> 2 | I59: =COUNTIF(I6:I54,"=3")+COUNTIF(I6:I54,"=4") -> 4 | J59: =COUNTIF(J6:J54,"=3")+COUNTIF(J6:J54,"=4") -> 1 | K59: =COUNTIF(K6:K54,"=3")+COUNTIF(K6:K54,"=4") -> 4 | ... X59: =COUNTIF(X6:X54,"=3")+COUNTIF(X6:X54,"=4") -> 0
B60: No of students between 1-2 | D60: =COUNTIF(D6:D54,"=1")+COUNTIF(D6:D54,"=2") -> 2 | E60: =COUNTIF(E6:E54,"=1")+COUNTIF(E6:E54,"=2") -> 3 | F60: =COUNTIF(F6:F54,"=1")+COUNTIF(F6:F54,"=2") -> 0 | G60: =COUNTIF(G6:G54,"=1")+COUNTIF(G6:G54,"=2") -> 0 | H60: =COUNTIF(H6:H54,"=1")+COUNTIF(H6:H54,"=2") -> 1 | I60: =COUNTIF(I6:I54,"=1")+COUNTIF(I6:I54,"=2") -> 1 | J60: =COUNTIF(J6:J54,"=1")+COUNTIF(J6:J54,"=2") -> 1 | K60: =COUNTIF(K6:K54,"=1")+COUNTIF(K6:K54,"=2") -> 0 | ... X60: =COUNTIF(X6:X54,"=1")+COUNTIF(X6:X54,"=2") -> 0
B61: No of students scored 0 | D61: =COUNTIF(D6:D54,"=0") -> 0 | E61: =COUNTIF(E6:E54,"=0") -> 0 | F61: =COUNTIF(F6:F54,"=0") -> 0 | G61: =COUNTIF(G6:G54,"=0") -> 0 | H61: =COUNTIF(H6:H54,"=0") -> 0 | I61: =COUNTIF(I6:I54,"=0") -> 0 | J61: =COUNTIF(J6:J54,"=0") -> 0 | K61: =COUNTIF(K6:K54,"=0") -> 0 | ... X61: =COUNTIF(X6:X54,"=0") -> 0
B62: Absentees | D62: =COUNTBLANK(D6:D54) -> 11 | E62: =COUNTBLANK(E6:E54) -> 16 | F62: =COUNTBLANK(F6:F54) -> 10 | G62: =COUNTBLANK(G6:G54) -> 12 | H62: =COUNTBLANK(H6:H54) -> 16 | I62: =COUNTBLANK(I6:I54) -> 17 | J62: =COUNTBLANK(J6:J54) -> 24 | K62: =COUNTBLANK(K6:K54) -> 16 | ... X62: =COUNTBLANK(X6:X54) -> 19
B64: Attainment | D64: =((0.35*D56)+(0.3*D57)+(0.2*D58)+(0.1*D59)+(0.05*D60)+(0*D61))/(0.35*(D56+D57+D58+D59+D60+D61))*100 -> 89.57529 | E64: =((0.35*E56)+(0.3*E57)+(0.2*E58)+(0.1*E59)+(0.05*E60)+(0*E61))/(0.35*(E56+E57+E58+E59+E60+E61))*100 -> 69.642857 | F64: =((0.35*F56)+(0.3*F57)+(0.2*F58)+(0.1*F59)+(0.05*F60)+(0*F61))/(0.35*(F56+F57+F58+F59+F60+F61))*100 -> 88.721805 | G64: =((0.35*G56)+(0.3*G57)+(0.2*G58)+(0.1*G59)+(0.05*G60)+(0*G61))/(0.35*(G56+G57+G58+G59+G60+G61))*100 -> 80.15873 | H64: =((0.35*H56)+(0.3*H57)+(0.2*H58)+(0.1*H59)+(0.05*H60)+(0*H61))/(0.35*(H56+H57+H58+H59+H60+H61))*100 -> 72.767857 | I64: =((0.35*I56)+(0.3*I57)+(0.2*I58)+(0.1*I59)+(0.05*I60)+(0*I61))/(0.35*(I56+I57+I58+I59+I60+I61))*100 -> 81.56682 | J64: =((0.35*J56)+(0.3*J57)+(0.2*J58)+(0.1*J59)+(0.05*J60)+(0*J61))/(0.35*(J56+J57+J58+J59+J60+J61))*100 -> 82.142857 | K64: =((0.35*K56)+(0.3*K57)+(0.2*K58)+(0.1*K59)+(0.05*K60)+(0*K61))/(0.35*(K56+K57+K58+K59+K60+K61))*100 -> 82.142857 | ... X64: =((0.35*X56)+(0.3*X57)+(0.2*X58)+(0.1*X59)+(0.05*X60)+(0*X61))/(0.35*(X56+X57+X58+X59+X60+X61))*100 -> 94.581281

Sheet Sheet1
A1: Course outcomes-Program outcomes mapping & Attainment table:
A2: COs | B2: COs attained in % | C2: Program outcomes | V2: Total | W2: Attainment level of Program Outcomes in % (Average) | X2: Achievement
C3: a | E3: b | G3: c | I3: d | K3: e | M3: f | O3: g | Q3: h | R3: i | S3: j | T3: k | U3: l
C4: leve | D4: Attainment | E4: leve | F4: Attainment | G4: leve | H4: Attainment | I4: leve | J4: Attainment | K4: leve | L4: Attainment | M4: leve | N4: Attainment | O4: leve | P4: Attainment | X4: (Threshold Goal:70%)
A5: CO1 | B5: 85 | C5: 1 | D5: =(C5/C9)*B5 -> 10.625 | G5: 10.625
A6: CO2 | B6: 90 | C6: 2 | D6: =(C6/C9)*B6 -> 22.5 | G6: 22.5
A7: CO3 | B7: 83 | C7: 3 | D7: =(C7/C9)*B7 -> 31.125 | G7: 31.125
A8: CO4 | B8: 75 | C8: 2 | D8: =(C8/C9)*B8 -> 18.75 | G8: 18.75
A9: Total | C9: 8
A10: Note: Mapping in terms of Slight (1), Moderate(2), Good(3) and Excellent(4) levels and COs need not map all POS

Sheet Sheet2
A5: COs | B5: Avg. COs attained in % | C5: Program outcomes | O5: Attainment level of Program Outcomes in % (Average) | P5: Achievement
C6: a | D6: b | E6: c | F6: d | G6: e | H6: f | I6: g | J6: h | K6: i | L6: j | M6: k | N6: l | P6: (Threshold Goal:70%)
A7: CO1 | B7: 85 | C7: 4
A8: CO2 | B8: 90
A9: CO3 | B9: 83
A10: CO4 | B10: 75
A11: Total
A17: Subject Code : | B17: 10ME64 | C17: Title: Finite Element Methods | J17: Faculty Name: | N17: Manjunatha B.
A18: List of Course outcomes | C18: Program Outcomes | Q18: Total
C19: a | D19: b | E19: c | F19: d | G19: e | H19: f | I19: g | K19: h | L19: I | M19: J | O19: k | P19: l
A20: CO-1 | C20: 4 | D20: 2 | E20: 1 | F20: - | G20: - | H20: - | I20: - | K20: - | L20: 1 | M20: - | O20: 2 | P20: - | Q20: 9
A21: CO-2 | C21: 2 | D21: 4 | E21: 2 | F21: 2 | G21: 2 | H21: - | I21: - | K21: - | L21: - | M21: - | O21: - | P21: 3 | Q21: 15
A22: CO-3 | C22: 1 | D22: 4 | E22: 3 | F22: 2 | G22: 4 | H22: - | I22: - | K22: - | L22: - | M22: - | O22: - | P22: 3 | Q22: 17
A23: CO-4 | C23: 2 | D23: 4 | E23: 2 | F23: - | G23: - | H23: - | I23: - | K23: - | L23: - | M23: - | O23: - | P23: - | Q23: 8
A24: CO-5 | C24: - | D24: - | E24: - | F24: 2 | G24: 1 | H24: - | I24: - | K24: - | L24: 2 | M24: - | O24: 2 | P24: - | Q24: 7
A25: Total | C25: 9 | D25: 14 | E25: 7 | F25: 6 | G25: 7 | H25: - | I25: - | K25: - | L25: 3 | M25: - | O25: 4 | P25: 6 | Q25: 50
B68: a | C68: b | D68: c | E68: d | F68: e | G68: f | H68: g | I68: h | J68: i | K68: j | L68: k | M68: l
A69: co1 | B69: 4 | C69: 2 | D69: 1 | E69: - | F69: - | G69: - | H69: - | I69: - | J69: 1 | K69: - | L69: 2 | M69: - | N69: 10
A70: co2 | B70: 2 | C70: 4 | D70: 2 | E70: 2 | F70: 2 | G70: - | H70: - | I70: - | J70: - | K70: - | L70: - | M70: 3 | N70: 15
A71: co3 | B71: 1 | C71: 4 | D71: 3 | E71: 2 | F71: 4 | G71: - | H71: - | I71: - | J71: - | K71: - | L71: - | M71: 3 | N71: 17
A72: co4 | B72: 2 | C72: 4 | D72: 2 | E72: - | F72: - | G72: - | H72: - | I72: - | J72: - | K72: - | L72: - | M72: - | N72: 8
A73: co5 | B73: - | C73: - | D73: - | E73: 2 | F73: 1 | G73: - | H73: - | I73: - | J73: 2 | K73: - | L73: 2 | M73: - | N73: 7
B74: 9 | C74: 14 | D74: 8 | E74: 6 | F74: 7 | G74: - | H74: - | I74: - | J74: 3 | K74: - | L74: 4 | M74: 6 | N74: 57
B76: 85 | C76: 73 | D76: 1 | E76: - | F76: - | G76: - | H76: - | I76: - | J76: 1 | K76: - | L76: 2 | M76: - | N76: 10
B77: 85 | C77: 70 | D77: 2 | E77: 2 | F77: 2 | G77: - | H77: - | I77: - | J77: - | K77: - | L77: - | M77: 3 | N77: 15
B78: 85 | C78: 84 | D78: 3 | E78: 2 | F78: 4 | G78: - | H78: - | I78: - | J78: - | K78: - | L78: - | M78: 3 | N78: 17
B79: 85 | C79: 84 | D79: 2 | E79: - | F79: - | G79: - | H79: - | I79: - | J79: - | K79: - | L79: - | M79: - | N79: 8
B80: - | C80: - | D80: - | E80: 2 | F80: 1 | G80: - | H80: - | I80: - | J80: 2 | K80: - | L80: 2 | M80: - | N80: 7
B81: 9 | C81: 14 | D81: 8 | E81: 6 | F81: 7 | G81: - | H81: - | I81: - | J81: 3 | K81: - | L81: 4 | M81: 6 | N81: 57
B84: =IF(B69="-",0,B69)/B$74 -> 0.44444444 | C84: =IF(C69="-",0,C69)/C$74 -> 0.14285714 | D84: =IF(D69="-",0,D69)/D$74 -> 0.125 | E84: =IF(E69="-",0,E69)/E$74 -> 0 | F84: =IF(F69="-",0,F69)/F$74 -> 0 | G84: =IF(G69="-",0,G69)/G$74 -> #VALUE! | H84: =IF(H69="-",0,H69)/H$74 -> #VALUE! | I84: =IF(I69="-",0,I69)/I$74 -> #VALUE! | ... M84: =IF(M69="-",0,M69)/M$74 -> 0 | N84: 10
B85: =IF(B70="-",0,B70)/B$74 -> 0.22222222 | C85: =IF(C70="-",0,C70)/C$74 -> 0.28571429 | D85: =IF(D70="-",0,D70)/D$74 -> 0.25 | E85: =IF(E70="-",0,E70)/E$74 -> 0.33333333 | F85: =IF(F70="-",0,F70)/F$74 -> 0.28571429 | G85: =IF(G70="-",0,G70)/G$74 -> #VALUE! | H85: =IF(H70="-",0,H70)/H$74 -> #VALUE! | I85: =IF(I70="-",0,I70)/I$74 -> #VALUE! | ... M85: =IF(M70="-",0,M70)/M$74 -> 0.5 | N85: 15
B86: =IF(B71="-",0,B71)/B$74 -> 0.11111111 | C86: =IF(C71="-",0,C71)/C$74 -> 0.28571429 | D86: =IF(D71="-",0,D71)/D$74 -> 0.375 | E86: =IF(E71="-",0,E71)/E$74 -> 0.33333333 | F86: =IF(F71="-",0,F71)/F$74 -> 0.57142857 | G86: =IF(G71="-",0,G71)/G$74 -> #VALUE! | H86: =IF(H71="-",0,H71)/H$74 -> #VALUE! | I86: =IF(I71="-",0,I71)/I$74 -> #VALUE! | ... M86: =IF(M71="-",0,M71)/M$74 -> 0.5 | N86: 17
B87: =IF(B72="-",0,B72)/B$74 -> 0.22222222 | C87: =IF(C72="-",0,C72)/C$74 -> 0.28571429 | D87: =IF(D72="-",0,D72)/D$74 -> 0.25 | E87: =IF(E72="-",0,E72)/E$74 -> 0 | F87: =IF(F72="-",0,F72)/F$74 -> 0 | G87: =IF(G72="-",0,G72)/G$74 -> #VALUE! | H87: =IF(H72="-",0,H72)/H$74 -> #VALUE! | I87: =IF(I72="-",0,I72)/I$74 -> #VALUE! | ... M87: =IF(M72="-",0,M72)/M$74 -> 0 | N87: 8
B88: =IF(B73="-",0,B73)/B$74 -> 0 | C88: =IF(C73="-",0,C73)/C$74 -> 0 | D88: =IF(D73="-",0,D73)/D$74 -> 0 | E88: =IF(E73="-",0,E73)/E$74 -> 0.33333333 | F88: =IF(F73="-",0,F73)/F$74 -> 0.14285714 | G88: =IF(G73="-",0,G73)/G$74 -> #VALUE! | H88: =IF(H73="-",0,H73)/H$74 -> #VALUE! | I88: =IF(I73="-",0,I73)/I$74 -> #VALUE! | ... M88: =IF(M73="-",0,M73)/M$74 -> 0 | N88: 7
B89: =B74/B$74 -> 1 | C89: =C74/C$74 -> 1 | D89: =D74/D$74 -> 1 | E89: =E74/E$74 -> 1 | F89: =F74/F$74 -> 1 | G89: =G74/G$74 -> #VALUE! | H89: =H74/H$74 -> #VALUE! | I89: =I74/I$74 -> #VALUE! | ... M89: =M74/M$74 -> 1 | N89: 57
B92: =B84*B76 -> 37.777778 | C92: =C84*C76 -> 10.428571 | D92: =D84*D76 -> 0.125 | E92: =E84*E76 -> #VALUE! | F92: =F84*F76 -> #VALUE! | G92: =G84*G76 -> #VALUE! | H92: =H84*H76 -> #VALUE! | I92: =I84*I76 -> #VALUE! | ... M92: =M84*M76 -> #VALUE! | N92: 10
B93: =B85*B77 -> 18.888889 | C93: =C85*C77 -> 20 | D93: =D85*D77 -> 0.5 | E93: =E85*E77 -> 0.66666667 | F93: =F85*F77 -> 0.57142857 | G93: =G85*G77 -> #VALUE! | H93: =H85*H77 -> #VALUE! | I93: =I85*I77 -> #VALUE! | ... M93: =M85*M77 -> 1.5 | N93: 15
B94: =B86*B78 -> 9.4444444 | C94: =C86*C78 -> 24 | D94: =D86*D78 -> 1.125 | E94: =E86*E78 -> 0.66666667 | F94: =F86*F78 -> 2.2857143 | G94: =G86*G78 -> #VALUE! | H94: =H86*H78 -> #VALUE! | I94: =I86*I78 -> #VALUE! | ... M94: =M86*M78 -> 1.5 | N94: 17
B95: =B87*B79 -> 18.888889 | C95: =C87*C79 -> 24 | D95: =D87*D79 -> 0.5 | E95: =E87*E79 -> #VALUE! | F95: =F87*F79 -> #VALUE! | G95: =G87*G79 -> #VALUE! | H95: =H87*H79 -> #VALUE! | I95: =I87*I79 -> #VALUE! | ... M95: =M87*M79 -> #VALUE! | N95: 8
B96: =B88*IF(B80="-",0,B88) -> 0 | C96: =C88*IF(C80="-",0,C88) -> 0 | D96: =D88*IF(D80="-",0,D88) -> 0 | E96: =E88*IF(E80="-",0,E88) -> 0.11111111 | F96: =F88*IF(F80="-",0,F88) -> 0.020408163 | G96: =G88*IF(G80="-",0,G88) -> #VALUE! | H96: =H88*IF(H80="-",0,H88) -> #VALUE! | I96: =I88*IF(I80="-",0,I88) -> #VALUE! | ... M96: =M88*IF(M80="-",0,M88) -> 0 | N96: 7
B97: =SUM(B92:B96) -> 85 | C97: =SUM(C92:C96) -> 78.428571 | D97: =SUM(D92:D96) -> 2.25 | E97: =SUM(E92:E96) -> #VALUE! | F97: =SUM(F92:F96) -> #VALUE! | G97: =SUM(G92:G96) -> #VALUE! | H97: =SUM(H92:H96) -> #VALUE! | I97: =SUM(I92:I96) -> #VALUE! | ... M97: =SUM(M92:M96) -> #VALUE! | N97: 57

Sheet Sheet3
A1: 69 | B1: 16 | C1: =(A1-B1) -> 53
A2: 71 | B2: 19 | C2: =(A2-B2) -> 52
A3: 68 | B3: 17 | C3: =(A3-B3) -> 51
A4: 65 | B4: 16 | C4: =(A4-B4) -> 49
A5: 82 | B5: 16 | C5: =(A5-B5) -> 66
A6: 64 | B6: 17 | C6: =(A6-B6) -> 47
A7: 66 | B7: 17 | C7: =(A7-B7) -> 49
A8: 71 | B8: 17 | C8: =(A8-B8) -> 54
A9: 65 | B9: 17 | C9: =(A9-B9) -> 48
A10: 67 | B10: 17 | C10: =(A10-B10) -> 50
A11: 65 | B11: 17 | C11: =(A11-B11) -> 48
A12: 70 | B12: 18 | C12: =(A12-B12) -> 52
... A66: 86 | B66: 18 | C66: =(A66-B66) -> 68

Sheet FEED BACK
A1: SAPTHAGIRI COLLEGE OF ENGINEERING, BENGALURU - 57.
A2: DEPARTMENT OF MECHANICAL ENGINEERING
A3: COURSE EXIT SURVEY (ODD SEM. 2018-19)
A4: SEM & SEC: 7 'A&B' SEC | D4: Subject: DESIGN LAB | G4: Subject Code: 15MEL76
A5: NAME OF THE FACULTY :Dr.Tulsidas,Chetan B P,Pramod S V | F5: NOTE: This survey is obtained through google Forms
A7: SL NO | B7: Timestamp | C7: Name | D7: USN | E7: CO1: Are you able to analyse the vibration characteristics in a single degree of freedom vibrating systems. | F7: CO2: Are you able to analyse the rotating elements for balancing, critical speed of shaft. | G7: CO3: Are you able to compute the fringe constant of photo elastic material for different loading conditions.. | H7: CO4: Are you able to analyse the characteristics of governors. | I7: CO5: Are you able to analyse the stresses for combined loading in straight and curved beam using strain gauges. | J7: CO6: Are you able to analyse pressure distribution in journal bearing.
A8: 1 | B8: 43265.505 | C8: Darshan K L | D8: 1SG14ME030 | E8: 5 | F8: 5 | G8: 5 | H8: 5 | I8: 5 | J8: 5
A9: 2 | B9: 43265.505 | C9: Matlub Rahman | D9: 1SG14ME066 | E9: 5 | F9: 5 | G9: 5 | H9: 5 | I9: 5 | J9: 5
A10: 3 | B10: 43265.506 | C10: Lokanath V | D10: 1SG15ME413 | E10: 5 | F10: 4 | G10: 5 | H10: 4 | I10: 5 | J10: 4
A11: 4 | B11: 43265.507 | C11: Aravind kumar | D11: 1SG14ME013 | E11: 5 | F11: 5 | G11: 5 | H11: 5 | I11: 5 | J11: 5
A12: 5 | B12: 43265.511 | C12: Md Shoeb Anwar | D12: 1SG14ME068 | E12: 2 | F12: 3 | G12: 2 | H12: 4 | I12: 3 | J12: 2
A13: 6 | B13: 43265.511 | C13: Gadilingappa y | D13: 1SG15ME409 | E13: 4 | F13: 4 | G13: 5 | H13: 4 | I13: 4 | J13: 4
A14: 7 | B14: 43265.512 | C14: Ravikant | D14: 1SG14ME089 | E14: 5 | F14: 5 | G14: 4 | H14: 5 | I14: 4 | J14: 4
A15: 8 | B15: 43265.513 | C15: Abhishek raj | D15: 1SG14ME004 | E15: 5 | F15: 4 | G15: 5 | H15: 5 | I15: 4 | J15: 5
A16: 9 | B16: 43265.515 | C16: Praveen s | D16: 1SG14ME082 | E16: 4 | F16: 5 | G16: 3 | H16: 4 | I16: 3 | J16: 4
A17: 10 | B17: 43265.518 | C17: Harshith M S | D17: 1SG13ME043 | E17: 5 | F17: 4 | G17: 5 | H17: 5 | I17: 5 | J17: 5
A18: 11 | B18: 43265.531 | C18: Abishek P | D18: 1SG14ME005 | E18: 5 | F18: 5 | G18: 5 | H18: 5 | I18: 5 | J18: 5
A19: 12 | B19: 43265.533 | C19: Vishal R | D19: 1SG14ME123 | E19: 5 | F19: 5 | G19: 4 | H19: 5 | I19: 5 | J19: 5
... A38: 31 | B38: 43269.638 | C38: Deepak kumar | D38: 1SG14ME033 | E38: 5 | F38: 5 | G38: 5 | H38: 5 | I38: 5 | J38: 5
D39: No. of graded "1" | E39: =COUNTIF(E8:E38,"1") -> 0 | F39: =COUNTIF(F8:F38,"1") -> 0 | G39: =COUNTIF(G8:G38,"1") -> 0 | H39: =COUNTIF(H8:H38,"1") -> 0 | I39: =COUNTIF(I8:I38,"1") -> 0 | J39: =COUNTIF(J8:J38,"1") -> 0
D40: No. of graded "2" | E40: =COUNTIF(E8:E38,"2") -> 1 | F40: =COUNTIF(F8:F38,"2") -> 1 | G40: =COUNTIF(G8:G38,"2") -> 1 | H40: =COUNTIF(H8:H38,"2") -> 0 | I40: =COUNTIF(I8:I38,"2") -> 1 | J40: =COUNTIF(J8:J38,"2") -> 1
D41: No. of graded "3" | E41: =COUNTIF(E8:E38,"3") -> 1 | F41: =COUNTIF(F8:F38,"3") -> 2 | G41: =COUNTIF(G8:G38,"3") -> 5 | H41: =COUNTIF(H8:H38,"3") -> 1 | I41: =COUNTIF(I8:I38,"3") -> 3 | J41: =COUNTIF(J8:J38,"3") -> 1
D42: No. of graded "4" | E42: =COUNTIF(E8:E38,"4") -> 8 | F42: =COUNTIF(F8:F38,"4") -> 7 | G42: =COUNTIF(G8:G38,"4") -> 8 | H42: =COUNTIF(H8:H38,"4") -> 11 | I42: =COUNTIF(I8:I38,"4") -> 8 | J42: =COUNTIF(J8:J38,"4") -> 7
D43: No. of graded "5" | E43: =COUNTIF(E8:E38,"5") -> 21 | F43: =COUNTIF(F8:F38,"5") -> 21 | G43: =COUNTIF(G8:G38,"5") -> 17 | H43: =COUNTIF(H8:H38,"5") -> 19 | I43: =COUNTIF(I8:I38,"5") -> 19 | J43: =COUNTIF(J8:J38,"5") -> 22
D44: TOTAL FB | E44: =SUM(E39:E43) -> 31 | F44: =SUM(F39:F43) -> 31 | G44: =SUM(G39:G43) -> 31 | H44: =SUM(H39:H43) -> 31 | I44: =SUM(I39:I43) -> 31 | J44: =SUM(J39:J43) -> 31

Sheet COURSE EXIT SURVEY-10MEL77
A1: SAPTHAGIRI COLLEGE OF ENGINEERING, BENGALURU - 57.
A2: DEPARTMENT OF MECHANICAL ENGINEERING
A3: CO-PO ATTAINMENT (0DD SEM. 2018-19)
A4: SEM & SEC: 7 'A&B' SEC | C4: Subject: DESIGN LAB | J4: Subject Code: 15MEL76
A5: NAME OF THE FACULTY :Dr.Tulsidas,Chetan B P,Pramod S V | E5: NOTE: This survey is obtained through google Forms
A8: CO No. | B8: CO description | C8: Course Exit Survey Questions | D8: No. of students given the ratings | J8: Total Responses | K8: Weighted Average | L8: CO Max. Count | M8: %age CO attainment
E9: 1 | F9: 2 | G9: 3 | H9: 4 | I9: 5
A10: CO1 | B10: Able to analyse the vibration characteristics in a single degree of freedom vibrating systems | C10: Are you able to analyse the vibration characteristics in a single degree of freedom vibrating systems | E10: 0 | F10: 1 | G10: 1 | H10: 8 | I10: 21 | J10: 31 | K10: =(E10*1+F10*2+G10*3+H10*4+I10*5)/31 -> 4.5806452 | L10: 5 | M10: =(K10/L10)*100 -> 91.612903
A11: CO2 | B11: Able to analyse the rotating elements for balancing, critical speed of shaft. | C11: Are you able to analyse the rotating elements for balancing, critical speed of shaft. | E11: 0 | F11: 1 | G11: 2 | H11: 7 | I11: 21 | J11: 31 | K11: =(E11*1+F11*2+G11*3+H11*4+I11*5)/31 -> 4.5483871 | L11: 5 | M11: =(K11/L11)*100 -> 90.967742
A12: CO3 | B12: Able to compute the fringe constant of photo elastic material for different loading conditions. | C12: Are you able to compute the fringe constant of photo elastic material for different loading conditions. | E12: 0 | F12: 1 | G12: 5 | H12: 8 | I12: 17 | J12: 31 | K12: =(E12*1+F12*2+G12*3+H12*4+I12*5)/31 -> 4.3225806 | L12: 5 | M12: =(K12/L12)*100 -> 86.451613
A13: CO4 | B13: Able to analyse the characteristics of governors. | C13: Are you able to analyse the characteristics of governors. | E13: 0 | F13: 0 | G13: 1 | H13: 11 | I13: 19 | J13: 31 | K13: =(E13*1+F13*2+G13*3+H13*4+I13*5)/31 -> 4.5806452 | L13: 5 | M13: =(K13/L13)*100 -> 91.612903
A14: CO5 | B14: Able to analyse the stresses for combined loading in straight and curved beam using strain gauges. | C14: Are you able to analyse the stresses for combined loading in straight and curved beam using strain gauges. | E14: 0 | F14: 1 | G14: 3 | H14: 8 | I14: 19 | J14: 31 | K14: =(E14*1+F14*2+G14*3+H14*4+I14*5)/31 -> 4.4516129 | L14: 5 | M14: =(K14/L14)*100 -> 89.032258
A15: CO6 | B15: Able to analyse pressure distribution in journal bearing. | C15: Are you able to analyse pressure distribution in journal bearing. | E15: 0 | F15: 1 | G15: 1 | H15: 7 | I15: 22 | J15: 31 | K15: =(E15*1+F15*2+G15*3+H15*4+I15*5)/31 -> 4.6129032 | L15: 5 | M15: =(K15/L15)*100 -> 92.258065
C17: COs | D17: CO1 | E17: CO2 | F17: CO3 | G17: CO4 | H17: CO5 | I17: CO6
C18: Weighted Average | D18: =K10 -> 4.5806452 | E18: =K11 -> 4.5483871 | F18: =K12 -> 4.3225806 | G18: =K13 -> 4.5806452 | H18: =K14 -> 4.4516129 | I18: =K15 -> 4.6129032
C19: CO Max. count | D19: 5 | E19: 5 | F19: 5 | G19: 5 | H19: 5 | I19: 5
C20: %age CO attainment | D20: =(D18/D19)*100 -> 91.612903 | E20: =(E18/E19)*100 -> 90.967742 | F20: =(F18/F19)*100 -> 86.451613 | G20: =(G18/G19)*100 -> 91.612903 | H20: =(H18/H19)*100 -> 89.032258 | I20: =(I18/I19)*100 -> 92.258065
C22: CO Assessment method | D22: CO1 | E22: CO2 | F22: CO3 | G22: CO4 | H22: CO5 | I22: CO6
C23: Direct method (IA Test, Assignment/quiz and exam) | D23: 95 | E23: 95 | F23: 95 | G23: 95 | H23: 95 | I23: 95
C24: Weightage (80%) | D24: =D23*0.8 -> 76 | E24: =E23*0.8 -> 76 | F24: =F23*0.8 -> 76 | G24: =G23*0.8 -> 76 | H24: =H23*0.8 -> 76 | I24: =I23*0.8 -> 76
C25: Indirect method (Course Exit Survey) | D25: =D20 -> 91.612903 | E25: =E20 -> 90.967742 | F25: =F20 -> 86.451613 | G25: =G20 -> 91.612903 | H25: =H20 -> 89.032258 | I25: =I20 -> 92.258065
C26: Weightage (20%) | D26: =D25*0.2 -> 18.322581 | E26: =E25*0.2 -> 18.193548 | F26: =F25*0.2 -> 17.290323 | G26: =G25*0.2 -> 18.322581 | H26: =H25*0.2 -> 17.806452 | I26: =I25*0.2 -> 18.451613
C27: Final CO Attainment | D27: =D24+D26 -> 94.322581 | E27: =E24+E26 -> 94.193548 | F27: =F24+F26 -> 93.290323 | G27: =G24+G26 -> 94.322581 | H27: =H24+H26 -> 93.806452 | I27: =I24+I26 -> 94.451613
C30: Final CO Attainment in %age | D30: CO1 | E30: CO2 | F30: CO3 | G30: CO4 | H30: CO5 | I30: CO6
D31: =D27 -> 94.322581 | E31: =E27 -> 94.193548 | F31: =F27 -> 93.290323 | G31: =G27 -> 94.322581 | H31: =H27 -> 93.806452 | I31: =I27 -> 94.451613

Sheet CO ATTAINMENT
A1: SAPTHAGIRI COLLEGE OF ENGINEERING, BENGALURU - 57.
A2: DEPARTMENT OF MECHANICAL ENGINEERING
A3: CO-PO ATTAINMENT (ODD SEM. 2018-19)
A4: SEM & SEC: 7 'A&B' SEC | C4: Subject: DESIGN LAB | J4: Subject Code: 15MEL76
A5: NAME OF THE FACULTY :Dr.Tulsidas,Chetan B P,Pramod S V | F5: NOTE: This survey is obtained through google Forms
D6: I CO Attainment
D7: A: Direct assessment (80%)-Tests, Assignment, Examination
D8: B: Indirect assessment (20%)-Course end survey
B10: COs | C10: Mapping POs | D10: Direct | E10: Indirect | F10: Overall | G10: Target (%) | H10: Attainment
D11: Assessment | E11: Assessment | F11: Attainment
D12: (a) | E12: (b) | F12: 0.8 (a) + 0.2(b)
B13: CO1 | C13: 1,2,9,10,12 | D13: 95 | E13: 91.612903 | F13: =(0.8*D13)+(0.2*E13) -> 94.322581 | G13: 85 | H13: YES
B14: CO2 | C14: 1,2,9,10,12 | D14: 95 | E14: 90.967742 | F14: =(0.8*D14)+(0.2*E14) -> 94.193548 | G14: 85 | H14: YES
B15: CO3 | C15: 1,2,9,10,12 | D15: 95 | E15: 86.451613 | F15: =(0.8*D15)+(0.2*E15) -> 93.290323 | G15: 85 | H15: YES
B16: CO4 | C16: 1,2,9,10,12 | D16: 95 | E16: 91.612903 | F16: =(0.8*D16)+(0.2*E16) -> 94.322581 | G16: 85 | H16: YES
B17: CO5 | C17: 1,2,9,10,12 | D17: 95 | E17: 89.032258 | F17: =(0.8*D17)+(0.2*E17) -> 93.806452 | G17: 85 | H17: YES
B18: CO6 | C18: 1,2,9,10,12 | D18: 95 | E18: 92.258065 | F18: =(0.8*D18)+(0.2*E18) -> 94.451613 | G18: 85 | H18: YES

Sheet CO PO   ATTAINMENT DIRECT ASSME
A1: SAPTHAGIRI COLLEGE OF ENGINEERING, BENGALURU - 57.
A2: DEPARTMENT OF MECHANICAL ENGINEERING
A3: CO-PO ATTAINMENT (ODD SEM. 2018-19)
A4: SEM & SEC: 7 'A&B' SEC | G4: Subject: DESIGN LAB | Q4: Subject Code: 15MEL76
A5: NAME OF THE FACULTY :Dr.Tulsidas,Chetan B P,Pramod S V
E6: II PO Attainment
E7: Subject teacher+ Class teacher= Program coordinator
E8: A: Direct assessment (80%)- Through CO-PO Mapping (By subject teacher)
E9: B: Indirect assessment (20%)-Exit survey (By class teacher)+Course end survey by subject teacher
B12: Mapping of Course outcomes (COs) and Program Ooutcomes (POs)
B13: Note: 1 = Slight 2 = Good 3 =Excellent
B15: Course outcomes | D15: Program Outcomes | P15: PSO
D16: PO1 | E16: PO2 | F16: PO3 | G16: PO4 | H16: PO5 | I16: PO6 | J16: PO7 | K16: PO8 | L16: PO9 | M16: PO10 | N16: PO11 | O16: PO12 | P16: POS1 | Q16: POS2 | R16: POS3 | S16: POS4
B17: CO-1 | D17: 3 | E17: 3 | F17: - | G17: - | H17: - | I17: - | J17: - | K17: - | L17: 3 | M17: 2 | N17: - | O17: 3 | P17: 3 | Q17: 3
B18: CO-2 | D18: 3 | E18: 3 | F18: - | G18: - | H18: - | I18: - | J18: - | K18: - | L18: 3 | M18: 2 | N18: - | O18: 3 | P18: 3 | Q18: 3
B19: CO-3 | D19: 3 | E19: 3 | F19: - | G19: - | H19: - | I19: - | J19: - | K19: - | L19: 3 | M19: 2 | N19: - | O19: 3 | P19: 3 | Q19: 3
B20: CO-4 | D20: 3 | E20: 3 | F20: - | G20: - | H20: - | I20: - | J20: - | K20: - | L20: 3 | M20: 2 | N20: - | O20: 3 | P20: 3 | Q20: 3
B21: CO-5 | D21: 3 | E21: 3 | F21: - | G21: - | H21: - | I21: - | J21: - | K21: - | L21: 3 | M21: 2 | N21: - | O21: 3 | P21: 3 | Q21: 3
B22: CO-6 | D22: 3 | E22: 3 | F22: - | G22: - | H22: - | I22: - | J22: - | K22: - | L22: 3 | M22: 2 | N22: - | O22: 3 | P22: 3 | Q22: 3
B23: Average | D23: 3 | E23: 3 | F23: - | G23: - | H23: - | I23: - | J23: - | K23: - | L23: 3 | M23: 2 | N23: - | O23: 3 | P23: 3 | Q23: 3
B25: Mapping of Course outcomes (COs) and Program Ooutcomes (POs)
B26: Note: 1 = Slight 2 = Good 3 =Excellent
B28: Course outcomes | D28: Program Outcomes | P28: PSO
D29: PO1 | E29: PO2 | F29: PO3 | G29: PO4 | H29: PO5 | I29: PO6 | J29: PO7 | K29: PO8 | L29: PO9 | M29: PO10 | N29: PO11 | O29: PO12 | P29: POS1 | Q29: POS2 | R29: POS3 | S29: POS4
B30: CO-1 | C30: 95 | D30: =(C30/3)*D17 -> 95 | E30: =(D30/3)*E17 -> 95 | F30: - | G30: - | H30: - | I30: - | J30: - | K30: - | L30: =(C30/3)*L17 -> 95 | M30: =(C30/3)*M17 -> 63.333333 | N30: - | O30: =(C30/3)*O17 -> 95 | P30: =(C30/3)*P17 -> 95 | Q30: =(D30/3)*Q17 -> 95
B31: CO-2 | C31: 95 | D31: =(C31/3)*D18 -> 95 | E31: =(D31/3)*E18 -> 95 | F31: - | G31: - | H31: - | I31: - | J31: - | K31: - | L31: =(C31/3)*L18 -> 95 | M31: =(C31/3)*M18 -> 63.333333 | N31: - | O31: =(C31/3)*O18 -> 95 | P31: =(C31/3)*P18 -> 95 | Q31: =(D31/3)*Q18 -> 95
B32: CO-3 | C32: 95 | D32: =(C32/3)*D19 -> 95 | E32: =(D32/3)*E19 -> 95 | F32: - | G32: - | H32: - | I32: - | J32: - | K32: - | L32: =(C32/3)*L19 -> 95 | M32: =(C32/3)*M19 -> 63.333333 | N32: - | O32: =(C32/3)*O19 -> 95 | P32: =(C32/3)*P19 -> 95 | Q32: =(D32/3)*Q19 -> 95
B33: CO-4 | C33: 95 | D33: =(C33/3)*D20 -> 95 | E33: =(D33/3)*E20 -> 95 | F33: - | G33: - | H33: - | I33: - | J33: - | K33: - | L33: =(C33/3)*L20 -> 95 | M33: =(C33/3)*M20 -> 63.333333 | N33: - | O33: =(C33/3)*O20 -> 95 | P33: =(C33/3)*P20 -> 95 | Q33: =(D33/3)*Q20 -> 95
B34: CO-5 | C34: 95 | D34: =(C34/3)*D21 -> 95 | E34: =(D34/3)*E21 -> 95 | F34: - | G34: - | H34: - | I34: - | J34: - | K34: - | L34: =(C34/3)*L21 -> 95 | M34: =(C34/3)*M21 -> 63.333333 | N34: - | O34: =(C34/3)*O21 -> 95 | P34: =(C34/3)*P21 -> 95 | Q34: =(D34/3)*Q21 -> 95
B35: CO-6 | C35: 95 | D35: =(C35/3)*D22 -> 95 | E35: =(D35/3)*E22 -> 95 | F35: - | G35: - | H35: - | I35: - | J35: - | K35: - | L35: =(C35/3)*L22 -> 95 | M35: =(C35/3)*M22 -> 63.333333 | N35: - | O35: =(C35/3)*O22 -> 95 | P35: =(C35/3)*P22 -> 95 | Q35: =(D35/3)*Q22 -> 95
B36: Average | D36: =AVERAGE(D30:D35) -> 95 | E36: =AVERAGE(E30:E35) -> 95 | F36: - | G36: - | H36: - | I36: - | J36: - | K36: - | L36: =AVERAGE(L30:L35) -> 95 | M36: =AVERAGE(M30:M35) -> 63.333333 | N36: - | O36: =AVERAGE(O30:O35) -> 95 | P36: =AVERAGE(P30:P35) -> 95 | Q36: =AVERAGE(Q30:Q35) -> 95
B40: Engineering Graduates will be able to: 1. Engineering Knowledge: Apply the knowledge of mathematics, science, engineering fundamentals, and an engineering specialization to the solution of complex engineering problems. 2. Problems Analysis: Identify, formulate, review research literature, and analyze complex, engineering problems reaching sustained conclusions using first principles of mathematics, natural science and engineering science. 3. Design/development of solutions: Design solutions for complex engineering problems and design system components of process that meet the specified needs with appropriate consideration for the public health and safety, and cultural, societal, and environmental consideration. 4. Conduct investigations of complex problems: Use research-based knowledge and research methods including design of experiments analysis and interpretation of data, and synthesis of information to provide valid conclusions. 5. Modern tool usage: create, select, and apply appropriate techniques, resource and modern engineering and IT tools including prediction and modeling to complex engineering activities with an understanding of the limitations. 6. The engineer and society: Apply the reasoning informed by the contextual knowledge to access societal, health, safety, legal and cultural issue and the consequent responsibility relevant to the professional engineering practice. 7. Environment and sustainability: Understanding the impact of the professional engineering solution in the social and environmental contexts, and demonstrate the knowledge of, and need for sustainable development. 8. Ethics: Apply ethics principle and commit to professional ethic and responsibility and norms of the engineering practice. 9. Individual and team work: Function effectively as an individual, and as member or leader in diverse team, and in multidisciplinary setting. 10. Communication: Communicate effectively on complex engineering activities with the engineering community and with society at large, such as, being to comprehend and write effective reports and design documentation, make effective presentations, and give and receive clear instructions. 11. Project management and finance: Demonstrate knowledge and understanding of the engineering and management principles and apply these to one’s own work, as a member and leader in team, to manage projects and in multidisciplinary environments. 12. Life-long learning: Recognizing the need for, and have the preparation and ability to engage in independent and life-long learning in the broadest context of technological change.
B64: CO1 : Able to analyse the vibration characteristics in a single degree of freedom vibrating systems.
B65: CO2: Able to analyse the rotating elements for balancing, critical speed of shaft
B66: CO3: Able to compute the fringe constant of photo elastic material for different loading conditions. .
B67: CO4: Able to analyse the characteristics of governors.
B68: CO5: Able to analyse the stresses for combined loading in straight and curved beam using strain gauges.
B69: CO6: Able to analyse pressure distribution in journal bearing.

Sheet CO PO ATTAINMENT INDIRECT ASSME
A1: SAPTHAGIRI COLLEGE OF ENGINEERING, BENGALURU - 57.
A2: DEPARTMENT OF MECHANICAL ENGINEERING
A3: CO-PO ATTAINMENT (EVEN SEM. 2018-19)
A4: SEM & SEC: 7 'A&B' SEC | G4: Subject: DESIGN LAB | Q4: Subject Code: 15MEL76
A5: NAME OF THE FACULTY :Dr.Tulsidas,Chetan B P,Pramod S V
E6: II PO Attainment
E7: Subject teacher+ Class teacher= Program coordinator
E8: A: Direct assessment (80%)- Through CO-PO Mapping (By subject teacher)
E9: B: Indirect assessment (20%)-Exit survey (By class teacher)+Course end survey by subject teacher
B12: Mapping of Course outcomes (COs) and Program Ooutcomes (POs)
B13: Note: 1 = Slight 2 = Moderate 3 = Good 4 = Excellent
B15: Course outcomes | D15: Program Outcomes | P15: PSO
D16: PO1 | E16: PO2 | F16: PO3 | G16: PO4 | H16: PO5 | I16: PO6 | J16: PO7 | K16: PO8 | L16: PO9 | M16: PO10 | N16: PO11 | O16: PO12 | P16: POS1 | Q16: POS2 | R16: POS3 | S16: POS4
B17: CO-1 | D17: 4 | E17: 4 | F17: - | G17: - | H17: - | I17: - | J17: - | K17: - | L17: 4 | M17: 3 | N17: - | O17: 4
B18: CO-2 | D18: 4 | E18: 4 | F18: - | G18: - | H18: - | I18: - | J18: - | K18: - | L18: 4 | M18: 3 | N18: - | O18: 4
B19: CO-3 | D19: 4 | E19: 4 | F19: - | G19: - | H19: - | I19: - | J19: - | K19: - | L19: 4 | M19: 3 | N19: - | O19: 4
B20: CO-4 | D20: 4 | E20: 4 | F20: - | G20: - | H20: - | I20: - | J20: - | K20: - | L20: 4 | M20: 3 | O20: 4
B21: CO-5 | D21: 4 | E21: 4 | F21: - | G21: - | H21: - | I21: - | J21: - | K21: - | L21: 4 | M21: 3 | O21: 4
B22: CO-6 | D22: 4 | E22: 4 | F22: - | G22: - | H22: - | I22: - | J22: - | K22: - | L22: 4 | M22: 3 | N22: - | O22: 4
B23: Average | D23: =AVERAGE(D17:D22) -> 4 | E23: =AVERAGE(E17:E22) -> 4 | F23: - | G23: - | H23: - | I23: - | J23: - | K23: - | L23: =AVERAGE(L17:L22) -> 4 | M23: =AVERAGE(M17:M22) -> 3 | N23: - | O23: =AVERAGE(O17:O22) -> 4
B25: Mapping of Course outcomes (COs) and Program Ooutcomes (POs)
B26: Note: 1 = Slight 2 = Moderate 3 = Good 4 = Excellent
B28: Course outcomes | D28: Program Outcomes | P28: PSO
D29: PO1 | E29: PO2 | F29: PO3 | G29: PO4 | H29: PO5 | I29: PO6 | J29: PO7 | K29: PO8 | L29: PO9 | M29: PO10 | N29: PO11 | O29: PO12 | P29: POS1 | Q29: POS2 | R29: POS3 | S29: POS4
B30: CO-1 | C30: 91.612903 | D30: =(C30/6)*D17 -> 61.075269 | E30: =(C30/6)*E17 -> 61.075269 | F30: - | G30: - | H30: - | I30: - | J30: - | K30: - | L30: =(C30/6)*L17 -> 61.075269 | M30: =(C30/6)*M17 -> 45.806452 | N30: - | O30: =(C30/6)*O17 -> 61.075269
B31: CO-2 | C31: 90.967742 | D31: =(C31/6)*D18 -> 60.645161 | E31: =(C31/6)*E18 -> 60.645161 | F31: - | G31: - | H31: - | I31: - | J31: - | K31: - | L31: =(C31/6)*L18 -> 60.645161 | M31: =(C31/6)*M18 -> 45.483871 | N31: - | O31: =(C31/6)*O18 -> 60.645161
B32: CO-3 | C32: 86.451613 | D32: =(C32/6)*D19 -> 57.634409 | E32: =(C32/6)*E19 -> 57.634409 | F32: - | G32: - | H32: - | I32: - | J32: - | K32: - | L32: =(C32/6)*L19 -> 57.634409 | M32: =(C32/6)*M19 -> 43.225806 | N32: - | O32: =(C32/6)*O19 -> 57.634409
B33: CO-4 | C33: 91.612903 | D33: =(C33/6)*D20 -> 61.075269 | E33: =(C33/6)*E20 -> 61.075269 | F33: - | G33: - | H33: - | I33: - | J33: - | K33: - | L33: =(C33/6)*L20 -> 61.075269 | M33: =(C33/6)*M20 -> 45.806452
B34: CO-5 | C34: 89.032258 | D34: =(C34/6)*D21 -> 59.354839 | E34: =(C34/6)*E21 -> 59.354839 | F34: - | G34: - | H34: - | I34: - | J34: - | K34: - | L34: =(C34/6)*L21 -> 59.354839 | M34: =(C34/6)*M21 -> 44.516129
B35: CO-6 | C35: 92.258065 | D35: =(C35/6)*D22 -> 61.505376 | E35: =(C35/6)*E22 -> 61.505376 | F35: - | G35: - | H35: - | I35: - | J35: - | K35: - | L35: =(C35/6)*L22 -> 61.505376 | M35: =(C35/6)*M22 -> 46.129032 | N35: - | O35: =(C35/6)*O22 -> 61.505376
B36: Average | D36: =AVERAGE(D30:D35) -> 60.215054 | E36: =AVERAGE(E30:E35) -> 60.215054 | F36: - | G36: - | H36: - | I36: - | J36: - | K36: - | L36: =AVERAGE(L30:L35) -> 60.215054 | M36: =AVERAGE(M30:M35) -> 45.16129 | N36: - | O36: =AVERAGE(O30:O35) -> 60.215054
B40: Engineering Graduates will be able to: 1. Engineering Knowledge: Apply the knowledge of mathematics, science, engineering fundamentals, and an engineering specialization to the solution of complex engineering problems. 2. Problems Analysis: Identify, formulate, review research literature, and analyze complex, engineering problems reaching sustained conclusions using first principles of mathematics, natural science and engineering science. 3. Design/development of solutions: Design solutions for complex engineering problems and design system components of process that meet the specified needs with appropriate consideration for the public health and safety, and cultural, societal, and environmental consideration. 4. Conduct investigations of complex problems: Use research-based knowledge and research methods including design of experiments analysis and interpretation of data, and synthesis of information to provide valid conclusions. 5. Modern tool usage: create, select, and apply appropriate techniques, resource and modern engineering and IT tools including prediction and modeling to complex engineering activities with an understanding of the limitations. 6. The engineer and society: Apply the reasoning informed by the contextual knowledge to access societal, health, safety, legal and cultural issue and the consequent responsibility relevant to the professional engineering practice. 7. Environment and sustainability: Understanding the impact of the professional engineering solution in the social and environmental contexts, and demonstrate the knowledge of, and need for sustainable development. 8. Ethics: Apply ethics principle and commit to professional ethic and responsibility and norms of the engineering practice. 9. Individual and team work: Function effectively as an individual, and as member or leader in diverse team, and in multidisciplinary setting. 10. Communication: Communicate effectively on complex engineering activities with the engineering community and with society at large, such as, being to comprehend and write effective reports and design documentation, make effective presentations, and give and receive clear instructions. 11. Project management and finance: Demonstrate knowledge and understanding of the engineering and management principles and apply these to one’s own work, as a member and leader in team, to manage projects and in multidisciplinary environments. 12. Life-long learning: Recognizing the need for, and have the preparation and ability to engage in independent and life-long learning in the broadest context of technological change.
B64: CO1 : Able to analyse the vibration characteristics in a single degree of freedom vibrating systems.
B65: CO2: Able to analyse the rotating elements for balancing, critical speed of shaft
B66: CO3: Able to compute the fringe constant of photo elastic material for different loading conditions.
B67: CO4: Able to analyse the characteristics of governors.
B68: CO5: Able to analyse the stresses for combined loading in straight and curved beam using strain gauges.
B69: CO6: Able to analyse pressure distribution in journal bearing.
