Workbook

Sheet ATTAINMENET LEVEL
F5: DIRECT ASSESSMENT METHOD
E8: 1 | F8: Enter the CO's for the respective internal which you have asked
E9: 2 | F9: Enter the maximum marks given to each CO in the marks cell
E10: 3 | F10: Enter the marks scored by the students below respective CO
E11: 4 | F11: Enter the parameters asked ( Total strentgh, Assign target percentage…)
E12: 5 | F12: SEE- Exam marks is same for all COs of that subject | G12: Tough Subject 60%
E13: 6 | F13: Target may be same or different for different CO | G13: Easy Subject 70%
E14: 7 | F14: Target may be different for different subjects, theritical/problematic subject, example
D20: Attainment Levels of COs
D21: Course Name:DESIGN LAB Course Code:15MEL76
D22: Assessment Methods | E22: Target-Attainment Levels | G22: Attainement
D23: Internal Assessment(CIE) | E23: Level 1 | F23: 60% of students scoring more than 50% marks in internal assessment tools | G23: Level 3
E24: Level 2 | F24: 70% of students scoring more than 50% marks in internal assessment tools
E25: Level 3 | F25: 80% of students scoring more than 50% marks in internal assessment tools
D28: Assessment Methods | E28: Target-Attainment Levels | G28: Attainement
D29: University Assessment (SEE) | E29: Level 1 | F29: 60% of students scoring more than 40% marks in internal assessment tools | G29: Level 3
E30: Level 2 | F30: 70% of students scoring more than 40% marks in internal assessment tools
E31: Level 3 | F31: 80% of students scoring more than 40% marks in internal assessment tools

Sheet TEST MARKS 
A1: Sapthagiri College of Engineering
A2: Department of Mechanical Engineering
A3: SEM & SEC : 7 'A&B' SEC | C3: Subject: DESIGN LAB | I3: Subject Code: 15MEL76
A4: NAME OF THE FACULTY :Dr.Tulsidas,Chetan B P,Pramod S V | F4: YEAR : 2018-19 ODD SEM | I4: SCHEME :2015
A5: Sl. No. | B5: Name of the student | C5: USN | D5: INTERNALS | J5: ASSIGNMENT'S | P5: EXTERNAL EXAM
D7: Q1 or 2 | E7: Q3 or 4 | F7: Q1 or 2 | G7: Q3 or 4 | H7: Q1 or 2 | I7: Q3 or 4
D8: CO1 | E8: CO2 | F8: CO3 | G8: CO4 | H8: CO5 | I8: CO6 | J8: CO1 | K8: CO2 | L8: CO3 | M8: CO4 | N8: CO5 | O8: CO6 | P8: CO1,CO2,CO3,CO4,CO5,CO6
D9: 20 | E9: 20 | F9: 20 | G9: 20 | H9: 20 | I9: 20 | J9: 25 | K9: 25 | L9: 25 | M9: 25 | N9: 25 | O9: 25 | P9: 80
A10: 1 | B10: AFTAB AHMED WALA | C10: 1SG15ME004 | D10: 16 | E10: 16 | F10: 16 | G10: 16 | H10: 16 | I10: 16 | P10: 47
A11: 2 | B11: AJEYA.V | C11: 1SG15ME006 | D11: 20 | E11: 20 | F11: 20 | G11: 20 | H11: 20 | I11: 20 | P11: 74
A12: 3 | B12: AJITH S P | C12: 1SG15ME007 | D12: 17 | E12: 17 | F12: 17 | G12: 17 | H12: 17 | I12: 17 | P12: 55
A13: 4 | B13: AKSHAY S | C13: 1SG15ME008 | D13: 17 | E13: 17 | F13: 17 | G13: 17 | H13: 17 | I13: 17 | P13: 66
A14: 5 | B14: AMITH.R | C14: 1SG15ME010 | D14: 16 | E14: 16 | F14: 16 | G14: 16 | H14: 16 | I14: 16 | P14: 66
A15: 6 | B15: ANIL KUMAR C | C15: 1SG15ME011 | D15: 18 | E15: 18 | F15: 18 | G15: 18 | H15: 18 | I15: 18 | P15: 68
A16: 7 | B16: ANIRUDH R K | C16: 1SG15ME012 | D16: 18 | E16: 18 | F16: 18 | G16: 18 | H16: 18 | I16: 18 | P16: 51
A17: 8 | B17: ARJUN S | C17: 1SG15ME013 | D17: 18 | E17: 18 | F17: 18 | G17: 18 | H17: 18 | I17: 18 | J17: 25 | K17: 25 | L17: 25 | M17: 25 | N17: 25 | O17: 25 | P17: 69
A18: 9 | B18: ASHISH SHARMA | C18: 1SG15ME014 | D18: 15 | E18: 15 | F18: 15 | G18: 15 | H18: 15 | I18: 15 | P18: 37
A19: 10 | B19: AYAN GUHA RAOY | C19: 1SG15ME015 | D19: 16 | E19: 16 | F19: 16 | G19: 16 | H19: 16 | I19: 16 | P19: 67
A20: 11 | B20: BHARATH .V | C20: 1SG15ME017 | D20: 20 | E20: 20 | F20: 20 | G20: 20 | H20: 20 | I20: 20 | P20: 75
A21: 12 | B21: C KARTHIK | C21: 1SG15ME018 | D21: 16 | E21: 16 | F21: 16 | G21: 16 | H21: 16 | I21: 16 | P21: 47
A22: 13 | B22: CHETHAN I P | C22: 1SG15ME020 | D22: 19 | E22: 19 | F22: 19 | G22: 19 | H22: 19 | I22: 19 | P22: 68
A23: 14 | B23: DAYANANDA M | C23: 1SG15ME021 | D23: 16 | E23: 16 | F23: 16 | G23: 16 | H23: 16 | I23: 16 | P23: 60
A24: 15 | B24: DEEPU H S | C24: 1SG15ME022 | D24: 20 | E24: 20 | F24: 20 | G24: 20 | H24: 20 | I24: 20 | P24: 79
A25: 16 | B25: DEVARAJ HIREMATH | C25: 1SG15ME023 | D25: 17 | E25: 17 | F25: 17 | G25: 17 | H25: 17 | I25: 17 | P25: 60
A26: 17 | B26: DHANANJAYA V | C26: 1SG15ME024 | D26: 18 | E26: 18 | F26: 18 | G26: 18 | H26: 18 | I26: 18 | P26: 60
A27: 18 | B27: DHANRAJ M | C27: 1SG15ME025 | D27: 19 | E27: 19 | F27: 19 | G27: 19 | H27: 19 | I27: 19 | P27: 66
A28: 19 | B28: DHARSHAN M J | C28: 1SG15ME026 | D28: 19 | E28: 19 | F28: 19 | G28: 19 | H28: 19 | I28: 19 | P28: 62
A29: 20 | B29: DILIP M | C29: 1SG15ME028 | D29: 20 | E29: 20 | F29: 20 | G29: 20 | H29: 20 | I29: 20 | P29: 39
... A37: 28 | B37: JOHN PATRICK .G | C37: 1SG15ME043 | D37: 20 | E37: 20 | F37: 20 | G37: 20 | H37: 20 | I37: 20 | P37: 65
A38: 29 | B38: KISHAN SHARMA | C38: 1SG15ME044 | D38: 18 | E38: 18 | F38: 18 | G38: 18 | H38: 18 | I38: 18 | J38: 23 | K38: 23 | L38: 23 | M38: 23 | N38: 23 | O38: 23 | P38: 48
A39: 30 | B39: KUMAR P G | C39: 1SG15ME046 | D39: 20 | E39: 20 | F39: 20 | G39: 20 | H39: 20 | I39: 20 | J39: 21 | K39: 21 | L39: 21 | M39: 21 | N39: 21 | O39: 21 | P39: 65
A40: 31 | B40: KUMAR ROHAN | C40: 1SG15ME047 | D40: 20 | E40: 20 | F40: 20 | G40: 20 | H40: 20 | I40: 20 | P40: 66
A41: 32 | B41: K.SAISOMASEKHAR | C41: 1SG15ME048 | D41: 18 | E41: 18 | F41: 18 | G41: 18 | H41: 18 | I41: 18 | P41: 32
A42: 33 | B42: KUSHAL S | C42: 1SG15ME049 | D42: 19 | E42: 19 | F42: 19 | G42: 19 | H42: 19 | I42: 19 | P42: 62
A43: 34 | B43: LIKITH P S | C43: 1SG15ME050 | D43: 18 | E43: 18 | F43: 18 | G43: 18 | H43: 18 | I43: 18 | P43: 46
A44: 35 | B44: MADAN KUMAR L | C44: 1SG15ME052 | D44: 20 | E44: 20 | F44: 20 | G44: 20 | H44: 20 | I44: 20 | P44: 54
A45: 36 | B45: MANJUNATH M | C45: 1SG15ME053 | D45: 20 | E45: 20 | F45: 20 | G45: 20 | H45: 20 | I45: 20 | P45: 58
A46: 37 | B46: MD REHAN NASIM | C46: 1SG15ME054 | D46: 18 | E46: 18 | F46: 18 | G46: 18 | H46: 18 | I46: 18 | P46: 34
A47: 38 | B47: MITHUN RAGHUNANDAN | C47: 1SG15ME055 | D47: 20 | E47: 20 | F47: 20 | G47: 20 | H47: 20 | I47: 20 | P47: 74
A48: 39 | B48: DHANUSH N | C48: 1SG15ME057 | D48: 20 | E48: 20 | F48: 20 | G48: 20 | H48: 20 | I48: 20 | P48: 60
...

Sheet TEST -CO 
A6: Sl. No. | B6: Name of the student | C6: USN | J6: ATTAINMENT (%) | P6: Y OR N
D8: I | E8: I | F8: II | G8: IV | H8: V | I8: VI | J8: ='TEST MARKS '!D133 -> 20 | K8: ='TEST MARKS '!E133 -> 20 | L8: ='TEST MARKS '!F133 -> 20 | M8: ='TEST MARKS '!G133 -> 20 | N8: ='TEST MARKS '!H133 -> 20 | O8: ='TEST MARKS '!I133 -> 20 | P8: I | Q8: I | R8: II | S8: II | T8: III | U8: III
D9: CO1 | E9: CO2 | F9: CO3 | G9: CO4 | H9: CO5 | I9: CO6 | J9: CO1 | K9: CO2 | L9: =F9 -> CO3 | M9: =G9 -> CO4 | N9: =H9 -> CO5 | O9: =I9 -> CO6 | P9: =J9 -> CO1 | Q9: =K9 -> CO2 | R9: =L9 -> CO3 | S9: =M9 -> CO4 | ... U9: =O9 -> CO6
A10: ='TEST MARKS '!A10 -> 1 | B10: AFTAB AHMED WALA | C10: 1SG15ME004 | D10: =SUMIF('TEST MARKS '!$D$8:$I$8,$D$9,'TEST MARKS '!D10:I10) -> 16 | E10: =SUMIF('TEST MARKS '!$D$8:$I$8,$E$9,'TEST MARKS '!D10:I10) -> 16 | F10: =SUMIF('TEST MARKS '!$D$8:$I$8,$F$9,'TEST MARKS '!D10:I10) -> 16 | G10: =SUMIF('TEST MARKS '!$D$8:$I$8,$G$9,'TEST MARKS '!D10:I10) -> 16 | H10: =SUMIF('TEST MARKS '!$D$8:$I$8,$H$9,'TEST MARKS '!D10:I10) -> 16 | I10: =SUMIF('TEST MARKS '!$D$8:$I$8,$I$9,'TEST MARKS '!D10:I10) -> 16 | J10: =D10*100/$J$8 -> 80 | K10: =E10*100/$K$8 -> 80 | L10: =F10*100/$L$8 -> 80 | M10: =G10*100/$M$8 -> 80 | N10: =H10*100/$N$8 -> 80 | O10: =I10*100/$O$8 -> 80 | P10: =IF(J10<'TEST MARKS '!$D$137,"N","Y") -> N | Q10: =IF(K10<'TEST MARKS '!$D$137,"N","Y") -> N | R10: =IF(L10<'TEST MARKS '!$D$137,"N","Y") -> N | S10: =IF(M10<'TEST MARKS '!$D$137,"N","Y") -> N | T10: =IF(N10<'TEST MARKS '!$D$137,"N","Y") -> N | U10: =IF(O10<'TEST MARKS '!$D$137,"N","Y") -> N
A11: 2 | B11: AJEYA.V | C11: 1SG15ME006 | D11: =SUMIF('TEST MARKS '!$D$8:$I$8,$D$9,'TEST MARKS '!D11:I11) -> 20 | E11: =SUMIF('TEST MARKS '!$D$8:$I$8,$E$9,'TEST MARKS '!D11:I11) -> 20 | F11: =SUMIF('TEST MARKS '!$D$8:$I$8,$F$9,'TEST MARKS '!D11:I11) -> 20 | G11: =SUMIF('TEST MARKS '!$D$8:$I$8,$G$9,'TEST MARKS '!D11:I11) -> 20 | H11: =SUMIF('TEST MARKS '!$D$8:$I$8,$H$9,'TEST MARKS '!D11:I11) -> 20 | I11: =SUMIF('TEST MARKS '!$D$8:$I$8,$I$9,'TEST MARKS '!D11:I11) -> 20 | J11: =D11*100/$J$8 -> 100 | K11: =E11*100/$K$8 -> 100 | L11: =F11*100/$L$8 -> 100 | M11: =G11*100/$M$8 -> 100 | N11: =H11*100/$N$8 -> 100 | O11: =I11*100/$O$8 -> 100 | P11: =IF(J11<'TEST MARKS '!$D$137,"N","Y") -> Y | Q11: =IF(K11<'TEST MARKS '!$D$137,"N","Y") -> Y | R11: =IF(L11<'TEST MARKS '!$D$137,"N","Y") -> Y | S11: =IF(M11<'TEST MARKS '!$D$137,"N","Y") -> Y | T11: =IF(N11<'TEST MARKS '!$D$137,"N","Y") -> Y | U11: =IF(O11<'TEST MARKS '!$D$137,"N","Y") -> Y
A12: 3 | B12: AJITH S P | C12: 1SG15ME007 | D12: =SUMIF('TEST MARKS '!$D$8:$I$8,$D$9,'TEST MARKS '!D12:I12) -> 17 | E12: =SUMIF('TEST MARKS '!$D$8:$I$8,$E$9,'TEST MARKS '!D12:I12) -> 17 | F12: =SUMIF('TEST MARKS '!$D$8:$I$8,$F$9,'TEST MARKS '!D12:I12) -> 17 | G12: =SUMIF('TEST MARKS '!$D$8:$I$8,$G$9,'TEST MARKS '!D12:I12) -> 17 | H12: =SUMIF('TEST MARKS '!$D$8:$I$8,$H$9,'TEST MARKS '!D12:I12) -> 17 | I12: =SUMIF('TEST MARKS '!$D$8:$I$8,$I$9,'TEST MARKS '!D12:I12) -> 17 | J12: =D12*100/$J$8 -> 85 | K12: =E12*100/$K$8 -> 85 | L12: =F12*100/$L$8 -> 85 | M12: =G12*100/$M$8 -> 85 | N12: =H12*100/$N$8 -> 85 | O12: =I12*100/$O$8 -> 85 | P12: =IF(J12<'TEST MARKS '!$D$137,"N","Y") -> Y | Q12: =IF(K12<'TEST MARKS '!$D$137,"N","Y") -> Y | R12: =IF(L12<'TEST MARKS '!$D$137,"N","Y") -> Y | S12: =IF(M12<'TEST MARKS '!$D$137,"N","Y") -> Y | T12: =IF(N12<'TEST MARKS '!$D$137,"N","Y") -> Y | U12: =IF(O12<'TEST MARKS '!$D$137,"N","Y") -> Y
A13: 4 | B13: AKSHAY S | C13: 1SG15ME008 | D13: =SUMIF('TEST MARKS '!$D$8:$I$8,$D$9,'TEST MARKS '!D13:I13) -> 17 | E13: =SUMIF('TEST MARKS '!$D$8:$I$8,$E$9,'TEST MARKS '!D13:I13) -> 17 | F13: =SUMIF('TEST MARKS '!$D$8:$I$8,$F$9,'TEST MARKS '!D13:I13) -> 17 | G13: =SUMIF('TEST MARKS '!$D$8:$I$8,$G$9,'TEST MARKS '!D13:I13) -> 17 | H13: =SUMIF('TEST MARKS '!$D$8:$I$8,$H$9,'TEST MARKS '!D13:I13) -> 17 | I13: =SUMIF('TEST MARKS '!$D$8:$I$8,$I$9,'TEST MARKS '!D13:I13) -> 17 | J13: =D13*100/$J$8 -> 85 | K13: =E13*100/$K$8 -> 85 | L13: =F13*100/$L$8 -> 85 | M13: =G13*100/$M$8 -> 85 | N13: =H13*100/$N$8 -> 85 | O13: =I13*100/$O$8 -> 85 | P13: =IF(J13<'TEST MARKS '!$D$137,"N","Y") -> Y | Q13: =IF(K13<'TEST MARKS '!$D$137,"N","Y") -> Y | R13: =IF(L13<'TEST MARKS '!$D$137,"N","Y") -> Y | S13: =IF(M13<'TEST MARKS '!$D$137,"N","Y") -> Y | T13: =IF(N13<'TEST MARKS '!$D$137,"N","Y") -> Y | U13: =IF(O13<'TEST MARKS '!$D$137,"N","Y") -> Y
A14: 5 | B14: AMITH.R | C14: 1SG15ME010 | D14: =SUMIF('TEST MARKS '!$D$8:$I$8,$D$9,'TEST MARKS '!D14:I14) -> 16 | E14: =SUMIF('TEST MARKS '!$D$8:$I$8,$E$9,'TEST MARKS '!D14:I14) -> 16 | F14: =SUMIF('TEST MARKS '!$D$8:$I$8,$F$9,'TEST MARKS '!D14:I14) -> 16 | G14: =SUMIF('TEST MARKS '!$D$8:$I$8,$G$9,'TEST MARKS '!D14:I14) -> 16 | H14: =SUMIF('TEST MARKS '!$D$8:$I$8,$H$9,'TEST MARKS '!D14:I14) -> 16 | I14: =SUMIF('TEST MARKS '!$D$8:$I$8,$I$9,'TEST MARKS '!D14:I14) -> 16 | J14: =D14*100/$J$8 -> 80 | K14: =E14*100/$K$8 -> 80 | L14: =F14*100/$L$8 -> 80 | M14: =G14*100/$M$8 -> 80 | N14: =H14*100/$N$8 -> 80 | O14: =I14*100/$O$8 -> 80 | P14: =IF(J14<'TEST MARKS '!$D$137,"N","Y") -> N | Q14: =IF(K14<'TEST MARKS '!$D$137,"N","Y") -> N | R14: =IF(L14<'TEST MARKS '!$D$137,"N","Y") -> N | S14: =IF(M14<'TEST MARKS '!$D$137,"N","Y") -> N | T14: =IF(N14<'TEST MARKS '!$D$137,"N","Y") -> N | U14: =IF(O14<'TEST MARKS '!$D$137,"N","Y") -> N
A15: 6 | B15: ANIL KUMAR C | C15: 1SG15ME011 | D15: =SUMIF('TEST MARKS '!$D$8:$I$8,$D$9,'TEST MARKS '!D15:I15) -> 18 | E15: =SUMIF('TEST MARKS '!$D$8:$I$8,$E$9,'TEST MARKS '!D15:I15) -> 18 | F15: =SUMIF('TEST MARKS '!$D$8:$I$8,$F$9,'TEST MARKS '!D15:I15) -> 18 | G15: =SUMIF('TEST MARKS '!$D$8:$I$8,$G$9,'TEST MARKS '!D15:I15) -> 18 | H15: =SUMIF('TEST MARKS '!$D$8:$I$8,$H$9,'TEST MARKS '!D15:I15) -> 18 | I15: =SUMIF('TEST MARKS '!$D$8:$I$8,$I$9,'TEST MARKS '!D15:I15) -> 18 | J15: =D15*100/$J$8 -> 90 | K15: =E15*100/$K$8 -> 90 | L15: =F15*100/$L$8 -> 90 | M15: =G15*100/$M$8 -> 90 | N15: =H15*100/$N$8 -> 90 | O15: =I15*100/$O$8 -> 90 | P15: =IF(J15<'TEST MARKS '!$D$137,"N","Y") -> Y | Q15: =IF(K15<'TEST MARKS '!$D$137,"N","Y") -> Y | R15: =IF(L15<'TEST MARKS '!$D$137,"N","Y") -> Y | S15: =IF(M15<'TEST MARKS '!$D$137,"N","Y") -> Y | T15: =IF(N15<'TEST MARKS '!$D$137,"N","Y") -> Y | U15: =IF(O15<'TEST MARKS '!$D$137,"N","Y") -> Y
A16: 7 | B16: ANIRUDH R K | C16: 1SG15ME012 | D16: =SUMIF('TEST MARKS '!$D$8:$I$8,$D$9,'TEST MARKS '!D16:I16) -> 18 | E16: =SUMIF('TEST MARKS '!$D$8:$I$8,$E$9,'TEST MARKS '!D16:I16) -> 18 | F16: =SUMIF('TEST MARKS '!$D$8:$I$8,$F$9,'TEST MARKS '!D16:I16) -> 18 | G16: =SUMIF('TEST MARKS '!$D$8:$I$8,$G$9,'TEST MARKS '!D16:I16) -> 18 | H16: =SUMIF('TEST MARKS '!$D$8:$I$8,$H$9,'TEST MARKS '!D16:I16) -> 18 | I16: =SUMIF('TEST MARKS '!$D$8:$I$8,$I$9,'TEST MARKS '!D16:I16) -> 18 | J16: =D16*100/$J$8 -> 90 | K16: =E16*100/$K$8 -> 90 | L16: =F16*100/$L$8 -> 90 | M16: =G16*100/$M$8 -> 90 | N16: =H16*100/$N$8 -> 90 | O16: =I16*100/$O$8 -> 90 | P16: =IF(J16<'TEST MARKS '!$D$137,"N","Y") -> Y | Q16: =IF(K16<'TEST MARKS '!$D$137,"N","Y") -> Y | R16: =IF(L16<'TEST MARKS '!$D$137,"N","Y") -> Y | S16: =IF(M16<'TEST MARKS '!$D$137,"N","Y") -> Y | T16: =IF(N16<'TEST MARKS '!$D$137,"N","Y") -> Y | U16: =IF(O16<'TEST MARKS '!$D$137,"N","Y") -> Y
A17: =SUMIF('TEST MARKS '!A15:F15,A16,'TEST MARKS '!A17:F17) -> 0 | B17: ARJUN S | C17: 1SG15ME013 | D17: =SUMIF('TEST MARKS '!$D$8:$I$8,$D$9,'TEST MARKS '!D17:I17) -> 18 | E17: =SUMIF('TEST MARKS '!$D$8:$I$8,$E$9,'TEST MARKS '!D17:I17) -> 18 | F17: =SUMIF('TEST MARKS '!$D$8:$I$8,$F$9,'TEST MARKS '!D17:I17) -> 18 | G17: =SUMIF('TEST MARKS '!$D$8:$I$8,$G$9,'TEST MARKS '!D17:I17) -> 18 | H17: =SUMIF('TEST MARKS '!$D$8:$I$8,$H$9,'TEST MARKS '!D17:I17) -> 18 | I17: =SUMIF('TEST MARKS '!$D$8:$I$8,$I$9,'TEST MARKS '!D17:I17) -> 18 | J17: =D17*100/$J$8 -> 90 | K17: =E17*100/$K$8 -> 90 | L17: =F17*100/$L$8 -> 90 | M17: =G17*100/$M$8 -> 90 | N17: =H17*100/$N$8 -> 90 | O17: =I17*100/$O$8 -> 90 | P17: =IF(J17<'TEST MARKS '!$D$137,"N","Y") -> Y | Q17: =IF(K17<'TEST MARKS '!$D$137,"N","Y") -> Y | R17: =IF(L17<'TEST MARKS '!$D$137,"N","Y") -> Y | S17: =IF(M17<'TEST MARKS '!$D$137,"N","Y") -> Y | T17: =IF(N17<'TEST MARKS '!$D$137,"N","Y") -> Y | U17: =IF(O17<'TEST MARKS '!$D$137,"N","Y") -> Y
A18: 9 | B18: ASHISH SHARMA | C18: 1SG15ME014 | D18: =SUMIF('TEST MARKS '!$D$8:$I$8,$D$9,'TEST MARKS '!D18:I18) -> 15 | E18: =SUMIF('TEST MARKS '!$D$8:$I$8,$E$9,'TEST MARKS '!D18:I18) -> 15 | F18: =SUMIF('TEST MARKS '!$D$8:$I$8,$F$9,'TEST MARKS '!D18:I18) -> 15 | G18: =SUMIF('TEST MARKS '!$D$8:$I$8,$G$9,'TEST MARKS '!D18:I18) -> 15 | H18: =SUMIF('TEST MARKS '!$D$8:$I$8,$H$9,'TEST MARKS '!D18:I18) -> 15 | I18: =SUMIF('TEST MARKS '!$D$8:$I$8,$I$9,'TEST MARKS '!D18:I18) -> 15 | J18: =D18*100/$J$8 -> 75 | K18: =E18*100/$K$8 -> 75 | L18: =F18*100/$L$8 -> 75 | M18: =G18*100/$M$8 -> 75 | N18: =H18*100/$N$8 -> 75 | O18: =I18*100/$O$8 -> 75 | P18: =IF(J18<'TEST MARKS '!$D$137,"N","Y") -> N | Q18: =IF(K18<'TEST MARKS '!$D$137,"N","Y") -> N | R18: =IF(L18<'TEST MARKS '!$D$137,"N","Y") -> N | S18: =IF(M18<'TEST MARKS '!$D$137,"N","Y") -> N | T18: =IF(N18<'TEST MARKS '!$D$137,"N","Y") -> N | U18: =IF(O18<'TEST MARKS '!$D$137,"N","Y") -> N
A19: 10 | B19: AYAN GUHA RAOY | C19: 1SG15ME015 | D19: =SUMIF('TEST MARKS '!$D$8:$I$8,$D$9,'TEST MARKS '!D19:I19) -> 16 | E19: =SUMIF('TEST MARKS '!$D$8:$I$8,$E$9,'TEST MARKS '!D19:I19) -> 16 | F19: =SUMIF('TEST MARKS '!$D$8:$I$8,$F$9,'TEST MARKS '!D19:I19) -> 16 | G19: =SUMIF('TEST MARKS '!$D$8:$I$8,$G$9,'TEST MARKS '!D19:I19) -> 16 | H19: =SUMIF('TEST MARKS '!$D$8:$I$8,$H$9,'TEST MARKS '!D19:I19) -> 16 | I19: =SUMIF('TEST MARKS '!$D$8:$I$8,$I$9,'TEST MARKS '!D19:I19) -> 16 | J19: =D19*100/$J$8 -> 80 | K19: =E19*100/$K$8 -> 80 | L19: =F19*100/$L$8 -> 80 | M19: =G19*100/$M$8 -> 80 | N19: =H19*100/$N$8 -> 80 | O19: =I19*100/$O$8 -> 80 | P19: =IF(J19<'TEST MARKS '!$D$137,"N","Y") -> N | Q19: =IF(K19<'TEST MARKS '!$D$137,"N","Y") -> N | R19: =IF(L19<'TEST MARKS '!$D$137,"N","Y") -> N | S19: =IF(M19<'TEST MARKS '!$D$137,"N","Y") -> N | T19: =IF(N19<'TEST MARKS '!$D$137,"N","Y") -> N | U19: =IF(O19<'TEST MARKS '!$D$137,"N","Y") -> N
A20: 11 | B20: BHARATH .V | C20: 1SG15ME017 | D20: =SUMIF('TEST MARKS '!$D$8:$I$8,$D$9,'TEST MARKS '!D20:I20) -> 20 | E20: =SUMIF('TEST MARKS '!$D$8:$I$8,$E$9,'TEST MARKS '!D20:I20) -> 20 | F20: =SUMIF('TEST MARKS '!$D$8:$I$8,$F$9,'TEST MARKS '!D20:I20) -> 20 | G20: =SUMIF('TEST MARKS '!$D$8:$I$8,$G$9,'TEST MARKS '!D20:I20) -> 20 | H20: =SUMIF('TEST MARKS '!$D$8:$I$8,$H$9,'TEST MARKS '!D20:I20) -> 20 | I20: =SUMIF('TEST MARKS '!$D$8:$I$8,$I$9,'TEST MARKS '!D20:I20) -> 20 | J20: =D20*100/$J$8 -> 100 | K20: =E20*100/$K$8 -> 100 | L20: =F20*100/$L$8 -> 100 | M20: =G20*100/$M$8 -> 100 | N20: =H20*100/$N$8 -> 100 | O20: =I20*100/$O$8 -> 100 | P20: =IF(J20<'TEST MARKS '!$D$137,"N","Y") -> Y | Q20: =IF(K20<'TEST MARKS '!$D$137,"N","Y") -> Y | R20: =IF(L20<'TEST MARKS '!$D$137,"N","Y") -> Y | S20: =IF(M20<'TEST MARKS '!$D$137,"N","Y") -> Y | T20: =IF(N20<'TEST MARKS '!$D$137,"N","Y") -> Y | U20: =IF(O20<'TEST MARKS '!$D$137,"N","Y") -> Y
A21: 12 | B21: C KARTHIK | C21: 1SG15ME018 | D21: =SUMIF('TEST MARKS '!$D$8:$I$8,$D$9,'TEST MARKS '!D21:I21) -> 16 | E21: =SUMIF('TEST MARKS '!$D$8:$I$8,$E$9,'TEST MARKS '!D21:I21) -> 16 | F21: =SUMIF('TEST MARKS '!$D$8:$I$8,$F$9,'TEST MARKS '!D21:I21) -> 16 | G21: =SUMIF('TEST MARKS '!$D$8:$I$8,$G$9,'TEST MARKS '!D21:I21) -> 16 | H21: =SUMIF('TEST MARKS '!$D$8:$I$8,$H$9,'TEST MARKS '!D21:I21) -> 16 | I21: =SUMIF('TEST MARKS '!$D$8:$I$8,$I$9,'TEST MARKS '!D21:I21) -> 16 | J21: =D21*100/$J$8 -> 80 | K21: =E21*100/$K$8 -> 80 | L21: =F21*100/$L$8 -> 80 | M21: =G21*100/$M$8 -> 80 | N21: =H21*100/$N$8 -> 80 | O21: =I21*100/$O$8 -> 80 | P21: =IF(J21<'TEST MARKS '!$D$137,"N","Y") -> N | Q21: =IF(K21<'TEST MARKS '!$D$137,"N","Y") -> N | R21: =IF(L21<'TEST MARKS '!$D$137,"N","Y") -> N | S21: =IF(M21<'TEST MARKS '!$D$137,"N","Y") -> N | T21: =IF(N21<'TEST MARKS '!$D$137,"N","Y") -> N | U21: =IF(O21<'TEST MARKS '!$D$137,"N","Y") -> N
A22: 13 | B22: CHETHAN I P | C22: 1SG15ME020 | D22: =SUMIF('TEST MARKS '!$D$8:$I$8,$D$9,'TEST MARKS '!D22:I22) -> 19 | E22: =SUMIF('TEST MARKS '!$D$8:$I$8,$E$9,'TEST MARKS '!D22:I22) -> 19 | F22: =SUMIF('TEST MARKS '!$D$8:$I$8,$F$9,'TEST MARKS '!D22:I22) -> 19 | G22: =SUMIF('TEST MARKS '!$D$8:$I$8,$G$9,'TEST MARKS '!D22:I22) -> 19 | H22: =SUMIF('TEST MARKS '!$D$8:$I$8,$H$9,'TEST MARKS '!D22:I22) -> 19 | I22: =SUMIF('TEST MARKS '!$D$8:$I$8,$I$9,'TEST MARKS '!D22:I22) -> 19 | J22: =D22*100/$J$8 -> 95 | K22: =E22*100/$K$8 -> 95 | L22: =F22*100/$L$8 -> 95 | M22: =G22*100/$M$8 -> 95 | N22: =H22*100/$N$8 -> 95 | O22: =I22*100/$O$8 -> 95 | P22: =IF(J22<'TEST MARKS '!$D$137,"N","Y") -> Y | Q22: =IF(K22<'TEST MARKS '!$D$137,"N","Y") -> Y | R22: =IF(L22<'TEST MARKS '!$D$137,"N","Y") -> Y | S22: =IF(M22<'TEST MARKS '!$D$137,"N","Y") -> Y | T22: =IF(N22<'TEST MARKS '!$D$137,"N","Y") -> Y | U22: =IF(O22<'TEST MARKS '!$D$137,"N","Y") -> Y
A23: 14 | B23: DAYANANDA M | C23: 1SG15ME021 | D23: =SUMIF('TEST MARKS '!$D$8:$I$8,$D$9,'TEST MARKS '!D23:I23) -> 16 | E23: =SUMIF('TEST MARKS '!$D$8:$I$8,$E$9,'TEST MARKS '!D23:I23) -> 16 | F23: =SUMIF('TEST MARKS '!$D$8:$I$8,$F$9,'TEST MARKS '!D23:I23) -> 16 | G23: =SUMIF('TEST MARKS '!$D$8:$I$8,$G$9,'TEST MARKS '!D23:I23) -> 16 | H23: =SUMIF('TEST MARKS '!$D$8:$I$8,$H$9,'TEST MARKS '!D23:I23) -> 16 | I23: =SUMIF('TEST MARKS '!$D$8:$I$8,$I$9,'TEST MARKS '!D23:I23) -> 16 | J23: =D23*100/$J$8 -> 80 | K23: =E23*100/$K$8 -> 80 | L23: =F23*100/$L$8 -> 80 | M23: =G23*100/$M$8 -> 80 | N23: =H23*100/$N$8 -> 80 | O23: =I23*100/$O$8 -> 80 | P23: =IF(J23<'TEST MARKS '!$D$137,"N","Y") -> N | Q23: =IF(K23<'TEST MARKS '!$D$137,"N","Y") -> N | R23: =IF(L23<'TEST MARKS '!$D$137,"N","Y") -> N | S23: =IF(M23<'TEST MARKS '!$D$137,"N","Y") -> N | T23: =IF(N23<'TEST MARKS '!$D$137,"N","Y") -> N | U23: =IF(O23<'TEST MARKS '!$D$137,"N","Y") -> N
A24: 15 | B24: DEEPU H S | C24: 1SG15ME022 | D24: =SUMIF('TEST MARKS '!$D$8:$I$8,$D$9,'TEST MARKS '!D24:I24) -> 20 | E24: =SUMIF('TEST MARKS '!$D$8:$I$8,$E$9,'TEST MARKS '!D24:I24) -> 20 | F24: =SUMIF('TEST MARKS '!$D$8:$I$8,$F$9,'TEST MARKS '!D24:I24) -> 20 | G24: =SUMIF('TEST MARKS '!$D$8:$I$8,$G$9,'TEST MARKS '!D24:I24) -> 20 | H24: =SUMIF('TEST MARKS '!$D$8:$I$8,$H$9,'TEST MARKS '!D24:I24) -> 20 | I24: =SUMIF('TEST MARKS '!$D$8:$I$8,$I$9,'TEST MARKS '!D24:I24) -> 20 | J24: =D24*100/$J$8 -> 100 | K24: =E24*100/$K$8 -> 100 | L24: =F24*100/$L$8 -> 100 | M24: =G24*100/$M$8 -> 100 | N24: =H24*100/$N$8 -> 100 | O24: =I24*100/$O$8 -> 100 | P24: =IF(J24<'TEST MARKS '!$D$137,"N","Y") -> Y | Q24: =IF(K24<'TEST MARKS '!$D$137,"N","Y") -> Y | R24: =IF(L24<'TEST MARKS '!$D$137,"N","Y") -> Y | S24: =IF(M24<'TEST MARKS '!$D$137,"N","Y") -> Y | T24: =IF(N24<'TEST MARKS '!$D$137,"N","Y") -> Y | U24: =IF(O24<'TEST MARKS '!$D$137,"N","Y") -> Y
A25: 16 | B25: DEVARAJ HIREMATH | C25: 1SG15ME023 | D25: =SUMIF('TEST MARKS '!$D$8:$I$8,$D$9,'TEST MARKS '!D25:I25) -> 17 | E25: =SUMIF('TEST MARKS '!$D$8:$I$8,$E$9,'TEST MARKS '!D25:I25) -> 17 | F25: =SUMIF('TEST MARKS '!$D$8:$I$8,$F$9,'TEST MARKS '!D25:I25) -> 17 | G25: =SUMIF('TEST MARKS '!$D$8:$I$8,$G$9,'TEST MARKS '!D25:I25) -> 17 | H25: =SUMIF('TEST MARKS '!$D$8:$I$8,$H$9,'TEST MARKS '!D25:I25) -> 17 | I25: =SUMIF('TEST MARKS '!$D$8:$I$8,$I$9,'TEST MARKS '!D25:I25) -> 17 | J25: =D25*100/$J$8 -> 85 | K25: =E25*100/$K$8 -> 85 | L25: =F25*100/$L$8 -> 85 | M25: =G25*100/$M$8 -> 85 | N25: =H25*100/$N$8 -> 85 | O25: =I25*100/$O$8 -> 85 | P25: =IF(J25<'TEST MARKS '!$D$137,"N","Y") -> Y | Q25: =IF(K25<'TEST MARKS '!$D$137,"N","Y") -> Y | R25: =IF(L25<'TEST MARKS '!$D$137,"N","Y") -> Y | S25: =IF(M25<'TEST MARKS '!$D$137,"N","Y") -> Y | T25: =IF(N25<'TEST MARKS '!$D$137,"N","Y") -> Y | U25: =IF(O25<'TEST MARKS '!$D$137,"N","Y") -> Y
A26: 17 | B26: DHANANJAYA V | C26: 1SG15ME024 | D26: =SUMIF('TEST MARKS '!$D$8:$I$8,$D$9,'TEST MARKS '!D26:I26) -> 18 | E26: =SUMIF('TEST MARKS '!$D$8:$I$8,$E$9,'TEST MARKS '!D26:I26) -> 18 | F26: =SUMIF('TEST MARKS '!$D$8:$I$8,$F$9,'TEST MARKS '!D26:I26) -> 18 | G26: =SUMIF('TEST MARKS '!$D$8:$I$8,$G$9,'TEST MARKS '!D26:I26) -> 18 | H26: =SUMIF('TEST MARKS '!$D$8:$I$8,$H$9,'TEST MARKS '!D26:I26) -> 18 | I26: =SUMIF('TEST MARKS '!$D$8:$I$8,$I$9,'TEST MARKS '!D26:I26) -> 18 | J26: =D26*100/$J$8 -> 90 | K26: =E26*100/$K$8 -> 90 | L26: =F26*100/$L$8 -> 90 | M26: =G26*100/$M$8 -> 90 | N26: =H26*100/$N$8 -> 90 | O26: =I26*100/$O$8 -> 90 | P26: =IF(J26<'TEST MARKS '!$D$137,"N","Y") -> Y | Q26: =IF(K26<'TEST MARKS '!$D$137,"N","Y") -> Y | R26: =IF(L26<'TEST MARKS '!$D$137,"N","Y") -> Y | S26: =IF(M26<'TEST MARKS '!$D$137,"N","Y") -> Y | T26: =IF(N26<'TEST MARKS '!$D$137,"N","Y") -> Y | U26: =IF(O26<'TEST MARKS '!$D$137,"N","Y") -> Y
A27: 18 | B27: DHANRAJ M | C27: 1SG15ME025 | D27: =SUMIF('TEST MARKS '!$D$8:$I$8,$D$9,'TEST MARKS '!D27:I27) -> 19 | E27: =SUMIF('TEST MARKS '!$D$8:$I$8,$E$9,'TEST MARKS '!D27:I27) -> 19 | F27: =SUMIF('TEST MARKS '!$D$8:$I$8,$F$9,'TEST MARKS '!D27:I27) -> 19 | G27: =SUMIF('TEST MARKS '!$D$8:$I$8,$G$9,'TEST MARKS '!D27:I27) -> 19 | H27: =SUMIF('TEST MARKS '!$D$8:$I$8,$H$9,'TEST MARKS '!D27:I27) -> 19 | I27: =SUMIF('TEST MARKS '!$D$8:$I$8,$I$9,'TEST MARKS '!D27:I27) -> 19 | J27: =D27*100/$J$8 -> 95 | K27: =E27*100/$K$8 -> 95 | L27: =F27*100/$L$8 -> 95 | M27: =G27*100/$M$8 -> 95 | N27: =H27*100/$N$8 -> 95 | O27: =I27*100/$O$8 -> 95 | P27: =IF(J27<'TEST MARKS '!$D$137,"N","Y") -> Y | Q27: =IF(K27<'TEST MARKS '!$D$137,"N","Y") -> Y | R27: =IF(L27<'TEST MARKS '!$D$137,"N","Y") -> Y | S27: =IF(M27<'TEST MARKS '!$D$137,"N","Y") -> Y | T27: =IF(N27<'TEST MARKS '!$D$137,"N","Y") -> Y | U27: =IF(O27<'TEST MARKS '!$D$137,"N","Y") -> Y
A28: 19 | B28: DHARSHAN M J | C28: 1SG15ME026 | D28: =SUMIF('TEST MARKS '!$D$8:$I$8,$D$9,'TEST MARKS '!D28:I28) -> 19 | E28: =SUMIF('TEST MARKS '!$D$8:$I$8,$E$9,'TEST MARKS '!D28:I28) -> 19 | F28: =SUMIF('TEST MARKS '!$D$8:$I$8,$F$9,'TEST MARKS '!D28:I28) -> 19 | G28: =SUMIF('TEST MARKS '!$D$8:$I$8,$G$9,'TEST MARKS '!D28:I28) -> 19 | H28: =SUMIF('TEST MARKS '!$D$8:$I$8,$H$9,'TEST MARKS '!D28:I28) -> 19 | I28: =SUMIF('TEST MARKS '!$D$8:$I$8,$I$9,'TEST MARKS '!D28:I28) -> 19 | J28: =D28*100/$J$8 -> 95 | K28: =E28*100/$K$8 -> 95 | L28: =F28*100/$L$8 -> 95 | M28: =G28*100/$M$8 -> 95 | N28: =H28*100/$N$8 -> 95 | O28: =I28*100/$O$8 -> 95 | P28: =IF(J28<'TEST MARKS '!$D$137,"N","Y") -> Y | Q28: =IF(K28<'TEST MARKS '!$D$137,"N","Y") -> Y | R28: =IF(L28<'TEST MARKS '!$D$137,"N","Y") -> Y | S28: =IF(M28<'TEST MARKS '!$D$137,"N","Y") -> Y | T28: =IF(N28<'TEST MARKS '!$D$137,"N","Y") -> Y | U28: =IF(O28<'TEST MARKS '!$D$137,"N","Y") -> Y
A29: 20 | B29: DILIP M | C29: 1SG15ME028 | D29: =SUMIF('TEST MARKS '!$D$8:$I$8,$D$9,'TEST MARKS '!D29:I29) -> 20 | E29: =SUMIF('TEST MARKS '!$D$8:$I$8,$E$9,'TEST MARKS '!D29:I29) -> 20 | F29: =SUMIF('TEST MARKS '!$D$8:$I$8,$F$9,'TEST MARKS '!D29:I29) -> 20 | G29: =SUMIF('TEST MARKS '!$D$8:$I$8,$G$9,'TEST MARKS '!D29:I29) -> 20 | H29: =SUMIF('TEST MARKS '!$D$8:$I$8,$H$9,'TEST MARKS '!D29:I29) -> 20 | I29: =SUMIF('TEST MARKS '!$D$8:$I$8,$I$9,'TEST MARKS '!D29:I29) -> 20 | J29: =D29*100/$J$8 -> 100 | K29: =E29*100/$K$8 -> 100 | L29: =F29*100/$L$8 -> 100 | M29: =G29*100/$M$8 -> 100 | N29: =H29*100/$N$8 -> 100 | O29: =I29*100/$O$8 -> 100 | P29: =IF(J29<'TEST MARKS '!$D$137,"N","Y") -> Y | Q29: =IF(K29<'TEST MARKS '!$D$137,"N","Y") -> Y | R29: =IF(L29<'TEST MARKS '!$D$137,"N","Y") -> Y | S29: =IF(M29<'TEST MARKS '!$D$137,"N","Y") -> Y | T29: =IF(N29<'TEST MARKS '!$D$137,"N","Y") -> Y | U29: =IF(O29<'TEST MARKS '!$D$137,"N","Y") -> Y
... A57: 48 | B57: RAGHAVA SURYA.M | C57: 1SG15ME071 | D57: =SUMIF('TEST MARKS '!$D$8:$I$8,$D$9,'TEST MARKS '!D57:I57) -> 18 | E57: =SUMIF('TEST MARKS '!$D$8:$I$8,$E$9,'TEST MARKS '!D57:I57) -> 18 | F57: =SUMIF('TEST MARKS '!$D$8:$I$8,$F$9,'TEST MARKS '!D57:I57) -> 18 | G57: =SUMIF('TEST MARKS '!$D$8:$I$8,$G$9,'TEST MARKS '!D57:I57) -> 18 | H57: =SUMIF('TEST MARKS '!$D$8:$I$8,$H$9,'TEST MARKS '!D57:I57) -> 18 | I57: =SUMIF('TEST MARKS '!$D$8:$I$8,$I$9,'TEST MARKS '!D57:I57) -> 18 | J57: =D57*100/$J$8 -> 90 | K57: =E57*100/$K$8 -> 90 | L57: =F57*100/$L$8 -> 90 | M57: =G57*100/$M$8 -> 90 | N57: =H57*100/$N$8 -> 90 | O57: =I57*100/$O$8 -> 90 | P57: =IF(J57<'TEST MARKS '!$D$137,"N","Y") -> Y | Q57: =IF(K57<'TEST MARKS '!$D$137,"N","Y") -> Y | R57: =IF(L57<'TEST MARKS '!$D$137,"N","Y") -> Y | S57: =IF(M57<'TEST MARKS '!$D$137,"N","Y") -> Y | T57: =IF(N57<'TEST MARKS '!$D$137,"N","Y") -> Y | U57: =IF(O57<'TEST MARKS '!$D$137,"N","Y") -> Y
A58: 49 | B58: RAHUL N DIXIT | C58: 1SG15ME072 | D58: =SUMIF('TEST MARKS '!$D$8:$I$8,$D$9,'TEST MARKS '!E58:I58) -> 20 | E58: =SUMIF('TEST MARKS '!$D$8:$I$8,$E$9,'TEST MARKS '!E58:I58) -> 20 | F58: =SUMIF('TEST MARKS '!$D$8:$I$8,$F$9,'TEST MARKS '!E58:I58) -> 20 | G58: =SUMIF('TEST MARKS '!$D$8:$I$8,$G$9,'TEST MARKS '!E58:I58) -> 20 | H58: =SUMIF('TEST MARKS '!$D$8:$I$8,$H$9,'TEST MARKS '!E58:I58) -> 20 | I58: =SUMIF('TEST MARKS '!$D$8:$I$8,$I$9,'TEST MARKS '!E58:I58) -> 0 | J58: =D58*100/$J$8 -> 100 | K58: =E58*100/$K$8 -> 100 | L58: =F58*100/$L$8 -> 100 | M58: =G58*100/$M$8 -> 100 | N58: =H58*100/$N$8 -> 100 | O58: =I58*100/$O$8 -> 0 | P58: =IF(J58<'TEST MARKS '!$D$137,"N","Y") -> Y | Q58: =IF(K58<'TEST MARKS '!$D$137,"N","Y") -> Y | R58: =IF(L58<'TEST MARKS '!$D$137,"N","Y") -> Y | S58: =IF(M58<'TEST MARKS '!$D$137,"N","Y") -> Y | T58: =IF(N58<'TEST MARKS '!$D$137,"N","Y") -> Y | U58: =IF(O58<'TEST MARKS '!$D$137,"N","Y") -> N
A59: 50 | B59: RAHUL V | C59: 1SG15ME073 | D59: =SUMIF('TEST MARKS '!$D$8:$I$8,$D$9,'TEST MARKS '!D59:I59) -> 20 | E59: =SUMIF('TEST MARKS '!$D$8:$I$8,$E$9,'TEST MARKS '!D59:I59) -> 20 | F59: =SUMIF('TEST MARKS '!$D$8:$I$8,$F$9,'TEST MARKS '!D59:I59) -> 20 | G59: =SUMIF('TEST MARKS '!$D$8:$I$8,$G$9,'TEST MARKS '!D59:I59) -> 20 | H59: =SUMIF('TEST MARKS '!$D$8:$I$8,$H$9,'TEST MARKS '!D59:I59) -> 20 | I59: =SUMIF('TEST MARKS '!$D$8:$I$8,$I$9,'TEST MARKS '!D59:I59) -> 20 | J59: =D59*100/$J$8 -> 100 | K59: =E59*100/$K$8 -> 100 | L59: =F59*100/$L$8 -> 100 | M59: =G59*100/$M$8 -> 100 | N59: =H59*100/$N$8 -> 100 | O59: =I59*100/$O$8 -> 100 | P59: =IF(J59<'TEST MARKS '!$D$137,"N","Y") -> Y | Q59: =IF(K59<'TEST MARKS '!$D$137,"N","Y") -> Y | R59: =IF(L59<'TEST MARKS '!$D$137,"N","Y") -> Y | S59: =IF(M59<'TEST MARKS '!$D$137,"N","Y") -> Y | T59: =IF(N59<'TEST MARKS '!$D$137,"N","Y") -> Y | U59: =IF(O59<'TEST MARKS '!$D$137,"N","Y") -> Y
A60: 51 | B60: RAJATH G MOODITHAYA | C60: 1SG15ME074 | D60: =SUMIF('TEST MARKS '!$D$8:$I$8,$D$9,'TEST MARKS '!D60:I60) -> 19 | E60: =SUMIF('TEST MARKS '!$D$8:$I$8,$E$9,'TEST MARKS '!D60:I60) -> 19 | F60: =SUMIF('TEST MARKS '!$D$8:$I$8,$F$9,'TEST MARKS '!D60:I60) -> 19 | G60: =SUMIF('TEST MARKS '!$D$8:$I$8,$G$9,'TEST MARKS '!D60:I60) -> 19 | H60: =SUMIF('TEST MARKS '!$D$8:$I$8,$H$9,'TEST MARKS '!D60:I60) -> 19 | I60: =SUMIF('TEST MARKS '!$D$8:$I$8,$I$9,'TEST MARKS '!D60:I60) -> 19 | J60: =D60*100/$J$8 -> 95 | K60: =E60*100/$K$8 -> 95 | L60: =F60*100/$L$8 -> 95 | M60: =G60*100/$M$8 -> 95 | N60: =H60*100/$N$8 -> 95 | O60: =I60*100/$O$8 -> 95 | P60: =IF(J60<'TEST MARKS '!$D$137,"N","Y") -> Y | Q60: =IF(K60<'TEST MARKS '!$D$137,"N","Y") -> Y | R60: =IF(L60<'TEST MARKS '!$D$137,"N","Y") -> Y | S60: =IF(M60<'TEST MARKS '!$D$137,"N","Y") -> Y | T60: =IF(N60<'TEST MARKS '!$D$137,"N","Y") -> Y | U60: =IF(O60<'TEST MARKS '!$D$137,"N","Y") -> Y
A61: 52 | B61: RAMESH P | C61: 1SG15ME076 | D61: =SUMIF('TEST MARKS '!$D$8:$I$8,$D$9,'TEST MARKS '!D61:I61) -> 19 | E61: =SUMIF('TEST MARKS '!$D$8:$I$8,$E$9,'TEST MARKS '!D61:I61) -> 19 | F61: =SUMIF('TEST MARKS '!$D$8:$I$8,$F$9,'TEST MARKS '!D61:I61) -> 19 | G61: =SUMIF('TEST MARKS '!$D$8:$I$8,$G$9,'TEST MARKS '!D61:I61) -> 19 | H61: =SUMIF('TEST MARKS '!$D$8:$I$8,$H$9,'TEST MARKS '!D61:I61) -> 19 | I61: =SUMIF('TEST MARKS '!$D$8:$I$8,$I$9,'TEST MARKS '!D61:I61) -> 19 | J61: =D61*100/$J$8 -> 95 | K61: =E61*100/$K$8 -> 95 | L61: =F61*100/$L$8 -> 95 | M61: =G61*100/$M$8 -> 95 | N61: =H61*100/$N$8 -> 95 | O61: =I61*100/$O$8 -> 95 | P61: =IF(J61<'TEST MARKS '!$D$137,"N","Y") -> Y | Q61: =IF(K61<'TEST MARKS '!$D$137,"N","Y") -> Y | R61: =IF(L61<'TEST MARKS '!$D$137,"N","Y") -> Y | S61: =IF(M61<'TEST MARKS '!$D$137,"N","Y") -> Y | T61: =IF(N61<'TEST MARKS '!$D$137,"N","Y") -> Y | U61: =IF(O61<'TEST MARKS '!$D$137,"N","Y") -> Y
A62: 53 | B62: RAVI KUDLAPPA CHELUWADI | C62: 1SG15ME077 | D62: =SUMIF('TEST MARKS '!$D$8:$I$8,$D$9,'TEST MARKS '!D62:I62) -> 15 | E62: =SUMIF('TEST MARKS '!$D$8:$I$8,$E$9,'TEST MARKS '!D62:I62) -> 15 | F62: =SUMIF('TEST MARKS '!$D$8:$I$8,$F$9,'TEST MARKS '!D62:I62) -> 15 | G62: =SUMIF('TEST MARKS '!$D$8:$I$8,$G$9,'TEST MARKS '!D62:I62) -> 15 | H62: =SUMIF('TEST MARKS '!$D$8:$I$8,$H$9,'TEST MARKS '!D62:I62) -> 15 | I62: =SUMIF('TEST MARKS '!$D$8:$I$8,$I$9,'TEST MARKS '!D62:I62) -> 15 | J62: =D62*100/$J$8 -> 75 | K62: =E62*100/$K$8 -> 75 | L62: =F62*100/$L$8 -> 75 | M62: =G62*100/$M$8 -> 75 | N62: =H62*100/$N$8 -> 75 | O62: =I62*100/$O$8 -> 75 | P62: =IF(J62<'TEST MARKS '!$D$137,"N","Y") -> N | Q62: =IF(K62<'TEST MARKS '!$D$137,"N","Y") -> N | R62: =IF(L62<'TEST MARKS '!$D$137,"N","Y") -> N | S62: =IF(M62<'TEST MARKS '!$D$137,"N","Y") -> N | T62: =IF(N62<'TEST MARKS '!$D$137,"N","Y") -> N | U62: =IF(O62<'TEST MARKS '!$D$137,"N","Y") -> N
A63: 54 | B63: CHANDRUCHUD S | C63: 1SG14ME025 | D63: =SUMIF('TEST MARKS '!$D$8:$I$8,$D$9,'TEST MARKS '!D63:I63) -> 18 | E63: =SUMIF('TEST MARKS '!$D$8:$I$8,$E$9,'TEST MARKS '!D63:I63) -> 18 | F63: =SUMIF('TEST MARKS '!$D$8:$I$8,$F$9,'TEST MARKS '!D63:I63) -> 18 | G63: =SUMIF('TEST MARKS '!$D$8:$I$8,$G$9,'TEST MARKS '!D63:I63) -> 18 | H63: =SUMIF('TEST MARKS '!$D$8:$I$8,$H$9,'TEST MARKS '!D63:I63) -> 18 | I63: =SUMIF('TEST MARKS '!$D$8:$I$8,$I$9,'TEST MARKS '!D63:I63) -> 18 | J63: =D63*100/$J$8 -> 90 | K63: =E63*100/$K$8 -> 90 | L63: =F63*100/$L$8 -> 90 | M63: =G63*100/$M$8 -> 90 | N63: =H63*100/$N$8 -> 90 | O63: =I63*100/$O$8 -> 90 | P63: =IF(J63<'TEST MARKS '!$D$137,"N","Y") -> Y | Q63: =IF(K63<'TEST MARKS '!$D$137,"N","Y") -> Y | R63: =IF(L63<'TEST MARKS '!$D$137,"N","Y") -> Y | S63: =IF(M63<'TEST MARKS '!$D$137,"N","Y") -> Y | T63: =IF(N63<'TEST MARKS '!$D$137,"N","Y") -> Y | U63: =IF(O63<'TEST MARKS '!$D$137,"N","Y") -> Y
A64: 55 | B64: JAIWANTH G C | C64: 1SG14ME039 | D64: =SUMIF('TEST MARKS '!$D$8:$I$8,$D$9,'TEST MARKS '!D64:I64) -> 18 | E64: =SUMIF('TEST MARKS '!$D$8:$I$8,$E$9,'TEST MARKS '!D64:I64) -> 18 | F64: =SUMIF('TEST MARKS '!$D$8:$I$8,$F$9,'TEST MARKS '!D64:I64) -> 18 | G64: =SUMIF('TEST MARKS '!$D$8:$I$8,$G$9,'TEST MARKS '!D64:I64) -> 18 | H64: =SUMIF('TEST MARKS '!$D$8:$I$8,$H$9,'TEST MARKS '!D64:I64) -> 18 | I64: =SUMIF('TEST MARKS '!$D$8:$I$8,$I$9,'TEST MARKS '!D64:I64) -> 18 | J64: =D64*100/$J$8 -> 90 | K64: =E64*100/$K$8 -> 90 | L64: =F64*100/$L$8 -> 90 | M64: =G64*100/$M$8 -> 90 | N64: =H64*100/$N$8 -> 90 | O64: =I64*100/$O$8 -> 90 | P64: =IF(J64<'TEST MARKS '!$D$137,"N","Y") -> Y | Q64: =IF(K64<'TEST MARKS '!$D$137,"N","Y") -> Y | R64: =IF(L64<'TEST MARKS '!$D$137,"N","Y") -> Y | S64: =IF(M64<'TEST MARKS '!$D$137,"N","Y") -> Y | T64: =IF(N64<'TEST MARKS '!$D$137,"N","Y") -> Y | U64: =IF(O64<'TEST MARKS '!$D$137,"N","Y") -> Y
A65: 56 | B65: M S SOMANNA | C65: 1SG15ME108 | D65: =SUMIF('TEST MARKS '!$D$8:$I$8,$D$9,'TEST MARKS '!D65:I65) -> 19 | E65: =SUMIF('TEST MARKS '!$D$8:$I$8,$E$9,'TEST MARKS '!D65:I65) -> 19 | F65: =SUMIF('TEST MARKS '!$D$8:$I$8,$F$9,'TEST MARKS '!D65:I65) -> 19 | G65: =SUMIF('TEST MARKS '!$D$8:$I$8,$G$9,'TEST MARKS '!D65:I65) -> 19 | H65: =SUMIF('TEST MARKS '!$D$8:$I$8,$H$9,'TEST MARKS '!D65:I65) -> 19 | I65: =SUMIF('TEST MARKS '!$D$8:$I$8,$I$9,'TEST MARKS '!D65:I65) -> 19 | J65: =D65*100/$J$8 -> 95 | K65: =E65*100/$K$8 -> 95 | L65: =F65*100/$L$8 -> 95 | M65: =G65*100/$M$8 -> 95 | N65: =H65*100/$N$8 -> 95 | O65: =I65*100/$O$8 -> 95 | P65: =IF(J65<'TEST MARKS '!$D$137,"N","Y") -> Y | Q65: =IF(K65<'TEST MARKS '!$D$137,"N","Y") -> Y | R65: =IF(L65<'TEST MARKS '!$D$137,"N","Y") -> Y | S65: =IF(M65<'TEST MARKS '!$D$137,"N","Y") -> Y | T65: =IF(N65<'TEST MARKS '!$D$137,"N","Y") -> Y | U65: =IF(O65<'TEST MARKS '!$D$137,"N","Y") -> Y
A66: 57 | B66: AKSHAY P SHETTY | C66: 1SG15ME106 | D66: =SUMIF('TEST MARKS '!$D$8:$I$8,$D$9,'TEST MARKS '!D66:I66) -> 19 | E66: =SUMIF('TEST MARKS '!$D$8:$I$8,$E$9,'TEST MARKS '!D66:I66) -> 19 | F66: =SUMIF('TEST MARKS '!$D$8:$I$8,$F$9,'TEST MARKS '!D66:I66) -> 19 | G66: =SUMIF('TEST MARKS '!$D$8:$I$8,$G$9,'TEST MARKS '!D66:I66) -> 19 | H66: =SUMIF('TEST MARKS '!$D$8:$I$8,$H$9,'TEST MARKS '!D66:I66) -> 19 | I66: =SUMIF('TEST MARKS '!$D$8:$I$8,$I$9,'TEST MARKS '!D66:I66) -> 19 | J66: =D66*100/$J$8 -> 95 | K66: =E66*100/$K$8 -> 95 | L66: =F66*100/$L$8 -> 95 | M66: =G66*100/$M$8 -> 95 | N66: =H66*100/$N$8 -> 95 | O66: =I66*100/$O$8 -> 95 | P66: =IF(J66<'TEST MARKS '!$D$137,"N","Y") -> Y | Q66: =IF(K66<'TEST MARKS '!$D$137,"N","Y") -> Y | R66: =IF(L66<'TEST MARKS '!$D$137,"N","Y") -> Y | S66: =IF(M66<'TEST MARKS '!$D$137,"N","Y") -> Y | T66: =IF(N66<'TEST MARKS '!$D$137,"N","Y") -> Y | U66: =IF(O66<'TEST MARKS '!$D$137,"N","Y") -> Y
A67: 58 | B67: RANJITH K S | C67: 1SG16ME445 | D67: =SUMIF('TEST MARKS '!$D$8:$I$8,$D$9,'TEST MARKS '!D67:I67) -> 19 | E67: =SUMIF('TEST MARKS '!$D$8:$I$8,$E$9,'TEST MARKS '!D67:I67) -> 19 | F67: =SUMIF('TEST MARKS '!$D$8:$I$8,$F$9,'TEST MARKS '!D67:I67) -> 19 | G67: =SUMIF('TEST MARKS '!$D$8:$I$8,$G$9,'TEST MARKS '!D67:I67) -> 19 | H67: =SUMIF('TEST MARKS '!$D$8:$I$8,$H$9,'TEST MARKS '!D67:I67) -> 19 | I67: =SUMIF('TEST MARKS '!$D$8:$I$8,$I$9,'TEST MARKS '!D67:I67) -> 19 | J67: =D67*100/$J$8 -> 95 | K67: =E67*100/$K$8 -> 95 | L67: =F67*100/$L$8 -> 95 | M67: =G67*100/$M$8 -> 95 | N67: =H67*100/$N$8 -> 95 | O67: =I67*100/$O$8 -> 95 | P67: =IF(J67<'TEST MARKS '!$D$137,"N","Y") -> Y | Q67: =IF(K67<'TEST MARKS '!$D$137,"N","Y") -> Y | R67: =IF(L67<'TEST MARKS '!$D$137,"N","Y") -> Y | S67: =IF(M67<'TEST MARKS '!$D$137,"N","Y") -> Y | T67: =IF(N67<'TEST MARKS '!$D$137,"N","Y") -> Y | U67: =IF(O67<'TEST MARKS '!$D$137,"N","Y") -> Y
A68: 59 | B68: YANDAPALLI GANESH | C68: 1SG15ME107 | D68: =SUMIF('TEST MARKS '!$D$8:$I$8,$D$9,'TEST MARKS '!D68:I68) -> 19 | E68: =SUMIF('TEST MARKS '!$D$8:$I$8,$E$9,'TEST MARKS '!D68:I68) -> 19 | F68: =SUMIF('TEST MARKS '!$D$8:$I$8,$F$9,'TEST MARKS '!D68:I68) -> 19 | G68: =SUMIF('TEST MARKS '!$D$8:$I$8,$G$9,'TEST MARKS '!D68:I68) -> 19 | H68: =SUMIF('TEST MARKS '!$D$8:$I$8,$H$9,'TEST MARKS '!D68:I68) -> 19 | I68: =SUMIF('TEST MARKS '!$D$8:$I$8,$I$9,'TEST MARKS '!D68:I68) -> 19 | J68: =D68*100/$J$8 -> 95 | K68: =E68*100/$K$8 -> 95 | L68: =F68*100/$L$8 -> 95 | M68: =G68*100/$M$8 -> 95 | N68: =H68*100/$N$8 -> 95 | O68: =I68*100/$O$8 -> 95 | P68: =IF(J68<'TEST MARKS '!$D$137,"N","Y") -> Y | Q68: =IF(K68<'TEST MARKS '!$D$137,"N","Y") -> Y | R68: =IF(L68<'TEST MARKS '!$D$137,"N","Y") -> Y | S68: =IF(M68<'TEST MARKS '!$D$137,"N","Y") -> Y | T68: =IF(N68<'TEST MARKS '!$D$137,"N","Y") -> Y | U68: =IF(O68<'TEST MARKS '!$D$137,"N","Y") -> Y
A69: 60 | B69: RUDERSH P | C69: 1SG15ME109 | D69: =SUMIF('TEST MARKS '!$D$8:$I$8,$D$9,'TEST MARKS '!D69:I69) -> 19 | E69: =SUMIF('TEST MARKS '!$D$8:$I$8,$E$9,'TEST MARKS '!D69:I69) -> 19 | F69: =SUMIF('TEST MARKS '!$D$8:$I$8,$F$9,'TEST MARKS '!D69:I69) -> 19 | G69: =SUMIF('TEST MARKS '!$D$8:$I$8,$G$9,'TEST MARKS '!D69:I69) -> 19 | H69: =SUMIF('TEST MARKS '!$D$8:$I$8,$H$9,'TEST MARKS '!D69:I69) -> 19 | I69: =SUMIF('TEST MARKS '!$D$8:$I$8,$I$9,'TEST MARKS '!D69:I69) -> 19 | J69: =D69*100/$J$8 -> 95 | K69: =E69*100/$K$8 -> 95 | L69: =F69*100/$L$8 -> 95 | M69: =G69*100/$M$8 -> 95 | N69: =H69*100/$N$8 -> 95 | O69: =I69*100/$O$8 -> 95 | P69: =IF(J69<'TEST MARKS '!$D$137,"N","Y") -> Y | Q69: =IF(K69<'TEST MARKS '!$D$137,"N","Y") -> Y | R69: =IF(L69<'TEST MARKS '!$D$137,"N","Y") -> Y | S69: =IF(M69<'TEST MARKS '!$D$137,"N","Y") -> Y | T69: =IF(N69<'TEST MARKS '!$D$137,"N","Y") -> Y | U69: =IF(O69<'TEST MARKS '!$D$137,"N","Y") -> Y
A70: 61 | B70: RAVISHANKAR .G | C70: 1SG15ME078 | D70: =SUMIF('TEST MARKS '!$D$8:$I$8,$D$9,'TEST MARKS '!D70:I70) -> 20 | E70: =SUMIF('TEST MARKS '!$D$8:$I$8,$E$9,'TEST MARKS '!D70:I70) -> 20 | F70: =SUMIF('TEST MARKS '!$D$8:$I$8,$F$9,'TEST MARKS '!D70:I70) -> 20 | G70: =SUMIF('TEST MARKS '!$D$8:$I$8,$G$9,'TEST MARKS '!D70:I70) -> 20 | H70: =SUMIF('TEST MARKS '!$D$8:$I$8,$H$9,'TEST MARKS '!D70:I70) -> 20 | I70: =SUMIF('TEST MARKS '!$D$8:$I$8,$I$9,'TEST MARKS '!D70:I70) -> 20 | J70: =D70*100/$J$8 -> 100 | K70: =E70*100/$K$8 -> 100 | L70: =F70*100/$L$8 -> 100 | M70: =G70*100/$M$8 -> 100 | N70: =H70*100/$N$8 -> 100 | O70: =I70*100/$O$8 -> 100 | P70: =IF(J70<'TEST MARKS '!$D$137,"N","Y") -> Y | Q70: =IF(K70<'TEST MARKS '!$D$137,"N","Y") -> Y | R70: =IF(L70<'TEST MARKS '!$D$137,"N","Y") -> Y | S70: =IF(M70<'TEST MARKS '!$D$137,"N","Y") -> Y | T70: =IF(N70<'TEST MARKS '!$D$137,"N","Y") -> Y | U70: =IF(O70<'TEST MARKS '!$D$137,"N","Y") -> Y
... A123: 114 | B123: YASHAVANTH A S | C123: 1SG16ME444 | D123: =SUMIF('TEST MARKS '!$D$8:$I$8,$D$9,'TEST MARKS '!D123:I123) -> 18 | E123: =SUMIF('TEST MARKS '!$D$8:$I$8,$E$9,'TEST MARKS '!D123:I123) -> 18 | F123: =SUMIF('TEST MARKS '!$D$8:$I$8,$F$9,'TEST MARKS '!D123:I123) -> 18 | G123: =SUMIF('TEST MARKS '!$D$8:$I$8,$G$9,'TEST MARKS '!D123:I123) -> 18 | H123: =SUMIF('TEST MARKS '!$D$8:$I$8,$H$9,'TEST MARKS '!D123:I123) -> 18 | I123: =SUMIF('TEST MARKS '!$D$8:$I$8,$I$9,'TEST MARKS '!D123:I123) -> 18 | J123: =D123*100/$J$8 -> 90 | K123: =E123*100/$K$8 -> 90 | L123: =F123*100/$L$8 -> 90 | M123: =G123*100/$M$8 -> 90 | N123: =H123*100/$N$8 -> 90 | O123: =I123*100/$O$8 -> 90 | P123: =IF(J123<'TEST MARKS '!$D$137,"N","Y") -> Y | Q123: =IF(K123<'TEST MARKS '!$D$137,"N","Y") -> Y | R123: =IF(L123<'TEST MARKS '!$D$137,"N","Y") -> Y | S123: =IF(M123<'TEST MARKS '!$D$137,"N","Y") -> Y | T123: =IF(N123<'TEST MARKS '!$D$137,"N","Y") -> Y | U123: =IF(O123<'TEST MARKS '!$D$137,"N","Y") -> Y
A124: 115 | B124: ='TEST MARKS '!B124 -> 0 | C124: ='TEST MARKS '!C124 -> 0 | D124: =SUMIF('TEST MARKS '!$D$8:$I$8,$D$9,'TEST MARKS '!D124:I124) -> 0 | E124: =SUMIF('TEST MARKS '!$D$8:$I$8,$E$9,'TEST MARKS '!D124:I124) -> 0 | F124: =SUMIF('TEST MARKS '!$D$8:$I$8,$F$9,'TEST MARKS '!D124:I124) -> 0 | G124: =SUMIF('TEST MARKS '!$D$8:$I$8,$G$9,'TEST MARKS '!D124:I124) -> 0 | H124: =SUMIF('TEST MARKS '!$D$8:$I$8,$H$9,'TEST MARKS '!D124:I124) -> 0 | I124: =SUMIF('TEST MARKS '!$D$8:$I$8,$I$9,'TEST MARKS '!D124:I124) -> 0 | J124: =D124*100/$J$8 -> 0 | K124: =E124*100/$K$8 -> 0 | L124: =F124*100/$L$8 -> 0 | M124: =G124*100/$M$8 -> 0 | N124: =H124*100/$N$8 -> 0 | O124: =I124*100/$O$8 -> 0 | P124: =IF(J124<'TEST MARKS '!$D$137,"N","Y") -> N | Q124: =IF(K124<'TEST MARKS '!$D$137,"N","Y") -> N | R124: =IF(L124<'TEST MARKS '!$D$137,"N","Y") -> N | S124: =IF(M124<'TEST MARKS '!$D$137,"N","Y") -> N | T124: =IF(N124<'TEST MARKS '!$D$137,"N","Y") -> N | U124: =IF(O124<'TEST MARKS '!$D$137,"N","Y") -> N
A125: 116 | B125: ='TEST MARKS '!B125 -> 0 | C125: ='TEST MARKS '!C125 -> 0 | D125: =SUMIF('TEST MARKS '!$D$8:$I$8,$D$9,'TEST MARKS '!D125:I125) -> 0 | E125: =SUMIF('TEST MARKS '!$D$8:$I$8,$E$9,'TEST MARKS '!D125:I125) -> 0 | F125: =SUMIF('TEST MARKS '!$D$8:$I$8,$F$9,'TEST MARKS '!D125:I125) -> 0 | G125: =SUMIF('TEST MARKS '!$D$8:$I$8,$G$9,'TEST MARKS '!D125:I125) -> 0 | H125: =SUMIF('TEST MARKS '!$D$8:$I$8,$H$9,'TEST MARKS '!D125:I125) -> 0 | I125: =SUMIF('TEST MARKS '!$D$8:$I$8,$I$9,'TEST MARKS '!D125:I125) -> 0 | J125: =D125*100/$J$8 -> 0 | K125: =E125*100/$K$8 -> 0 | L125: =F125*100/$L$8 -> 0 | M125: =G125*100/$M$8 -> 0 | N125: =H125*100/$N$8 -> 0 | O125: =I125*100/$O$8 -> 0 | P125: =IF(J125<'TEST MARKS '!$D$137,"N","Y") -> N | Q125: =IF(K125<'TEST MARKS '!$D$137,"N","Y") -> N | R125: =IF(L125<'TEST MARKS '!$D$137,"N","Y") -> N | S125: =IF(M125<'TEST MARKS '!$D$137,"N","Y") -> N | T125: =IF(N125<'TEST MARKS '!$D$137,"N","Y") -> N | U125: =IF(O125<'TEST MARKS '!$D$137,"N","Y") -> N
...

Sheet Assignment CO 
B1: Sapthagiri College of Engineering
B2: Department of Mechanical Engineering
D3: Mechanics of Materials
B4: III Semester B Section Test marks for ODD Sem 2017-18 | P4: TARGET: 90% OF STUDENTS TO SCORE 80% and ABOVE
A5: Sl. No. | B5: Name of the student | C5: USN | J5: ASSIGNMENT ATTAINMENT (%) | P5: Y OR N
D7: I | E7: II | F7: III | G7: IV | H7: V | I7: V | J7: I | K7: II | L7: III | M7: IV | N7: V | O7: V | P7: I | Q7: II | R7: III | S7: IV | T7: V | U7: V
D8: CO1 | E8: CO2 | F8: CO3 | G8: CO4 | H8: CO5 | I8: CO6 | J8: CO1 | K8: CO2 | L8: CO3 | M8: CO4 | N8: CO5 | O8: CO6 | P8: CO1 | Q8: CO2 | R8: CO3 | S8: CO4 | T8: CO5 | U8: CO6
A9: ='TEST MARKS '!A10 -> 1 | B9: ='TEST MARKS '!#REF! -> #REF! | C9: ='TEST MARKS '!#REF! -> #REF! | D9: ='TEST MARKS '!#REF! -> #REF! | E9: ='TEST MARKS '!#REF! -> #REF! | F9: ='TEST MARKS '!#REF! -> #REF! | G9: ='TEST MARKS '!#REF! -> #REF! | H9: ='TEST MARKS '!#REF! -> #REF! | I9: ='TEST MARKS '!#REF! -> #REF! | J9: =D9/'TEST MARKS '!$J$133*100 -> #REF! | K9: =E9/'TEST MARKS '!$K$133*100 -> #REF! | L9: =F9/'TEST MARKS '!$L$133*100 -> #REF! | M9: =G9/'TEST MARKS '!$M$133*100 -> #REF! | N9: =H9/'TEST MARKS '!$N$133*100 -> #REF! | O9: =I9/'TEST MARKS '!$O$133*100 -> #REF! | P9: =IF(J9<'TEST MARKS '!$D$138,"N","Y") -> #REF! | Q9: =IF(K9<'TEST MARKS '!$D$138,"N","Y") -> #REF! | R9: =IF(L9<'TEST MARKS '!$D$138,"N","Y") -> #REF! | S9: =IF(M9<'TEST MARKS '!$D$138,"N","Y") -> #REF! | T9: =IF(N9<'TEST MARKS '!$D$138,"N","Y") -> #REF! | U9: =IF(O9<'TEST MARKS '!$D$138,"N","Y") -> #REF!
A10: ='TEST MARKS '!A11 -> 2 | B10: ='TEST MARKS '!#REF! -> #REF! | C10: ='TEST MARKS '!#REF! -> #REF! | D10: ='TEST MARKS '!#REF! -> #REF! | E10: ='TEST MARKS '!#REF! -> #REF! | F10: ='TEST MARKS '!#REF! -> #REF! | G10: ='TEST MARKS '!#REF! -> #REF! | H10: ='TEST MARKS '!#REF! -> #REF! | I10: ='TEST MARKS '!#REF! -> #REF! | J10: =D10/'TEST MARKS '!$J$133*100 -> #REF! | K10: =E10/'TEST MARKS '!$K$133*100 -> #REF! | L10: =F10/'TEST MARKS '!$L$133*100 -> #REF! | M10: =G10/'TEST MARKS '!$M$133*100 -> #REF! | N10: =H10/'TEST MARKS '!$N$133*100 -> #REF! | O10: =I10/'TEST MARKS '!$O$133*100 -> #REF! | P10: =IF(J10<'TEST MARKS '!$D$138,"N","Y") -> #REF! | Q10: =IF(K10<'TEST MARKS '!$D$138,"N","Y") -> #REF! | R10: =IF(L10<'TEST MARKS '!$D$138,"N","Y") -> #REF! | S10: =IF(M10<'TEST MARKS '!$D$138,"N","Y") -> #REF! | T10: =IF(N10<'TEST MARKS '!$D$138,"N","Y") -> #REF! | U10: =IF(O10<'TEST MARKS '!$D$138,"N","Y") -> #REF!
A11: ='TEST MARKS '!A12 -> 3 | B11: ='TEST MARKS '!B10 -> AFTAB AHMED WALA | C11: ='TEST MARKS '!C10 -> 1SG15ME004 | D11: ='TEST MARKS '!#REF! -> #REF! | E11: ='TEST MARKS '!#REF! -> #REF! | F11: ='TEST MARKS '!#REF! -> #REF! | G11: ='TEST MARKS '!#REF! -> #REF! | H11: ='TEST MARKS '!#REF! -> #REF! | I11: ='TEST MARKS '!#REF! -> #REF! | J11: =D11/'TEST MARKS '!$J$133*100 -> #REF! | K11: =E11/'TEST MARKS '!$K$133*100 -> #REF! | L11: =F11/'TEST MARKS '!$L$133*100 -> #REF! | M11: =G11/'TEST MARKS '!$M$133*100 -> #REF! | N11: =H11/'TEST MARKS '!$N$133*100 -> #REF! | O11: =I11/'TEST MARKS '!$O$133*100 -> #REF! | P11: =IF(J11<'TEST MARKS '!$D$138,"N","Y") -> #REF! | Q11: =IF(K11<'TEST MARKS '!$D$138,"N","Y") -> #REF! | R11: =IF(L11<'TEST MARKS '!$D$138,"N","Y") -> #REF! | S11: =IF(M11<'TEST MARKS '!$D$138,"N","Y") -> #REF! | T11: =IF(N11<'TEST MARKS '!$D$138,"N","Y") -> #REF! | U11: =IF(O11<'TEST MARKS '!$D$138,"N","Y") -> #REF!
A12: ='TEST MARKS '!A13 -> 4 | B12: ='TEST MARKS '!#REF! -> #REF! | C12: ='TEST MARKS '!#REF! -> #REF! | D12: ='TEST MARKS '!#REF! -> #REF! | E12: ='TEST MARKS '!#REF! -> #REF! | F12: ='TEST MARKS '!#REF! -> #REF! | G12: ='TEST MARKS '!#REF! -> #REF! | H12: ='TEST MARKS '!#REF! -> #REF! | I12: ='TEST MARKS '!#REF! -> #REF! | J12: =D12/'TEST MARKS '!$J$133*100 -> #REF! | K12: =E12/'TEST MARKS '!$K$133*100 -> #REF! | L12: =F12/'TEST MARKS '!$L$133*100 -> #REF! | M12: =G12/'TEST MARKS '!$M$133*100 -> #REF! | N12: =H12/'TEST MARKS '!$N$133*100 -> #REF! | O12: =I12/'TEST MARKS '!$O$133*100 -> #REF! | P12: =IF(J12<'TEST MARKS '!$D$138,"N","Y") -> #REF! | Q12: =IF(K12<'TEST MARKS '!$D$138,"N","Y") -> #REF! | R12: =IF(L12<'TEST MARKS '!$D$138,"N","Y") -> #REF! | S12: =IF(M12<'TEST MARKS '!$D$138,"N","Y") -> #REF! | T12: =IF(N12<'TEST MARKS '!$D$138,"N","Y") -> #REF! | U12: =IF(O12<'TEST MARKS '!$D$138,"N","Y") -> #REF!
A13: ='TEST MARKS '!A14 -> 5 | B13: ='TEST MARKS '!B11 -> AJEYA.V | C13: ='TEST MARKS '!C11 -> 1SG15ME006 | D13: ='TEST MARKS '!#REF! -> #REF! | E13: ='TEST MARKS '!#REF! -> #REF! | F13: ='TEST MARKS '!#REF! -> #REF! | G13: ='TEST MARKS '!#REF! -> #REF! | H13: ='TEST MARKS '!#REF! -> #REF! | I13: ='TEST MARKS '!#REF! -> #REF! | J13: =D13/'TEST MARKS '!$J$133*100 -> #REF! | K13: =E13/'TEST MARKS '!$K$133*100 -> #REF! | L13: =F13/'TEST MARKS '!$L$133*100 -> #REF! | M13: =G13/'TEST MARKS '!$M$133*100 -> #REF! | N13: =H13/'TEST MARKS '!$N$133*100 -> #REF! | O13: =I13/'TEST MARKS '!$O$133*100 -> #REF! | P13: =IF(J13<'TEST MARKS '!$D$138,"N","Y") -> #REF! | Q13: =IF(K13<'TEST MARKS '!$D$138,"N","Y") -> #REF! | R13: =IF(L13<'TEST MARKS '!$D$138,"N","Y") -> #REF! | S13: =IF(M13<'TEST MARKS '!$D$138,"N","Y") -> #REF! | T13: =IF(N13<'TEST MARKS '!$D$138,"N","Y") -> #REF! | U13: =IF(O13<'TEST MARKS '!$D$138,"N","Y") -> #REF!
A14: ='TEST MARKS '!A15 -> 6 | B14: ='TEST MARKS '!B12 -> AJITH S P | C14: ='TEST MARKS '!C12 -> 1SG15ME007 | D14: ='TEST MARKS '!#REF! -> #REF! | E14: ='TEST MARKS '!#REF! -> #REF! | F14: ='TEST MARKS '!#REF! -> #REF! | G14: ='TEST MARKS '!#REF! -> #REF! | H14: ='TEST MARKS '!#REF! -> #REF! | I14: ='TEST MARKS '!#REF! -> #REF! | J14: =D14/'TEST MARKS '!$J$133*100 -> #REF! | K14: =E14/'TEST MARKS '!$K$133*100 -> #REF! | L14: =F14/'TEST MARKS '!$L$133*100 -> #REF! | M14: =G14/'TEST MARKS '!$M$133*100 -> #REF! | N14: =H14/'TEST MARKS '!$N$133*100 -> #REF! | O14: =I14/'TEST MARKS '!$O$133*100 -> #REF! | P14: =IF(J14<'TEST MARKS '!$D$138,"N","Y") -> #REF! | Q14: =IF(K14<'TEST MARKS '!$D$138,"N","Y") -> #REF! | R14: =IF(L14<'TEST MARKS '!$D$138,"N","Y") -> #REF! | S14: =IF(M14<'TEST MARKS '!$D$138,"N","Y") -> #REF! | T14: =IF(N14<'TEST MARKS '!$D$138,"N","Y") -> #REF! | U14: =IF(O14<'TEST MARKS '!$D$138,"N","Y") -> #REF!
A15: ='TEST MARKS '!A16 -> 7 | B15: ='TEST MARKS '!B13 -> AKSHAY S | C15: ='TEST MARKS '!C13 -> 1SG15ME008 | D15: ='TEST MARKS '!#REF! -> #REF! | E15: ='TEST MARKS '!#REF! -> #REF! | F15: ='TEST MARKS '!#REF! -> #REF! | G15: ='TEST MARKS '!#REF! -> #REF! | H15: ='TEST MARKS '!#REF! -> #REF! | I15: ='TEST MARKS '!#REF! -> #REF! | J15: =D15/'TEST MARKS '!$J$133*100 -> #REF! | K15: =E15/'TEST MARKS '!$K$133*100 -> #REF! | L15: =F15/'TEST MARKS '!$L$133*100 -> #REF! | M15: =G15/'TEST MARKS '!$M$133*100 -> #REF! | N15: =H15/'TEST MARKS '!$N$133*100 -> #REF! | O15: =I15/'TEST MARKS '!$O$133*100 -> #REF! | P15: =IF(J15<'TEST MARKS '!$D$138,"N","Y") -> #REF! | Q15: =IF(K15<'TEST MARKS '!$D$138,"N","Y") -> #REF! | R15: =IF(L15<'TEST MARKS '!$D$138,"N","Y") -> #REF! | S15: =IF(M15<'TEST MARKS '!$D$138,"N","Y") -> #REF! | T15: =IF(N15<'TEST MARKS '!$D$138,"N","Y") -> #REF! | U15: =IF(O15<'TEST MARKS '!$D$138,"N","Y") -> #REF!
A16: ='TEST MARKS '!A17 -> 8 | B16: ='TEST MARKS '!B14 -> AMITH.R | C16: ='TEST MARKS '!C14 -> 1SG15ME010 | D16: ='TEST MARKS '!#REF! -> #REF! | E16: ='TEST MARKS '!#REF! -> #REF! | F16: ='TEST MARKS '!#REF! -> #REF! | G16: ='TEST MARKS '!#REF! -> #REF! | H16: ='TEST MARKS '!#REF! -> #REF! | I16: ='TEST MARKS '!#REF! -> #REF! | J16: =D16/'TEST MARKS '!$J$133*100 -> #REF! | K16: =E16/'TEST MARKS '!$K$133*100 -> #REF! | L16: =F16/'TEST MARKS '!$L$133*100 -> #REF! | M16: =G16/'TEST MARKS '!$M$133*100 -> #REF! | N16: =H16/'TEST MARKS '!$N$133*100 -> #REF! | O16: =I16/'TEST MARKS '!$O$133*100 -> #REF! | P16: =IF(J16<'TEST MARKS '!$D$138,"N","Y") -> #REF! | Q16: =IF(K16<'TEST MARKS '!$D$138,"N","Y") -> #REF! | R16: =IF(L16<'TEST MARKS '!$D$138,"N","Y") -> #REF! | S16: =IF(M16<'TEST MARKS '!$D$138,"N","Y") -> #REF! | T16: =IF(N16<'TEST MARKS '!$D$138,"N","Y") -> #REF! | U16: =IF(O16<'TEST MARKS '!$D$138,"N","Y") -> #REF!
A17: ='TEST MARKS '!A18 -> 9 | B17: ='TEST MARKS '!B15 -> ANIL KUMAR C | C17: ='TEST MARKS '!C15 -> 1SG15ME011 | D17: ='TEST MARKS '!#REF! -> #REF! | E17: ='TEST MARKS '!#REF! -> #REF! | F17: ='TEST MARKS '!#REF! -> #REF! | G17: ='TEST MARKS '!#REF! -> #REF! | H17: ='TEST MARKS '!#REF! -> #REF! | I17: ='TEST MARKS '!#REF! -> #REF! | J17: =D17/'TEST MARKS '!$J$133*100 -> #REF! | K17: =E17/'TEST MARKS '!$K$133*100 -> #REF! | L17: =F17/'TEST MARKS '!$L$133*100 -> #REF! | M17: =G17/'TEST MARKS '!$M$133*100 -> #REF! | N17: =H17/'TEST MARKS '!$N$133*100 -> #REF! | O17: =I17/'TEST MARKS '!$O$133*100 -> #REF! | P17: =IF(J17<'TEST MARKS '!$D$138,"N","Y") -> #REF! | Q17: =IF(K17<'TEST MARKS '!$D$138,"N","Y") -> #REF! | R17: =IF(L17<'TEST MARKS '!$D$138,"N","Y") -> #REF! | S17: =IF(M17<'TEST MARKS '!$D$138,"N","Y") -> #REF! | T17: =IF(N17<'TEST MARKS '!$D$138,"N","Y") -> #REF! | U17: =IF(O17<'TEST MARKS '!$D$138,"N","Y") -> #REF!
A18: ='TEST MARKS '!A19 -> 10 | B18: ='TEST MARKS '!B16 -> ANIRUDH R K | C18: ='TEST MARKS '!C16 -> 1SG15ME012 | D18: ='TEST MARKS '!#REF! -> #REF! | E18: ='TEST MARKS '!#REF! -> #REF! | F18: ='TEST MARKS '!#REF! -> #REF! | G18: ='TEST MARKS '!#REF! -> #REF! | H18: ='TEST MARKS '!#REF! -> #REF! | I18: ='TEST MARKS '!#REF! -> #REF! | J18: =D18/'TEST MARKS '!$J$133*100 -> #REF! | K18: =E18/'TEST MARKS '!$K$133*100 -> #REF! | L18: =F18/'TEST MARKS '!$L$133*100 -> #REF! | M18: =G18/'TEST MARKS '!$M$133*100 -> #REF! | N18: =H18/'TEST MARKS '!$N$133*100 -> #REF! | O18: =I18/'TEST MARKS '!$O$133*100 -> #REF! | P18: =IF(J18<'TEST MARKS '!$D$138,"N","Y") -> #REF! | Q18: =IF(K18<'TEST MARKS '!$D$138,"N","Y") -> #REF! | R18: =IF(L18<'TEST MARKS '!$D$138,"N","Y") -> #REF! | S18: =IF(M18<'TEST MARKS '!$D$138,"N","Y") -> #REF! | T18: =IF(N18<'TEST MARKS '!$D$138,"N","Y") -> #REF! | U18: =IF(O18<'TEST MARKS '!$D$138,"N","Y") -> #REF!
A19: ='TEST MARKS '!A20 -> 11 | B19: ='TEST MARKS '!B17 -> ARJUN S | C19: ='TEST MARKS '!C17 -> 1SG15ME013 | D19: ='TEST MARKS '!#REF! -> #REF! | E19: ='TEST MARKS '!#REF! -> #REF! | F19: ='TEST MARKS '!#REF! -> #REF! | G19: ='TEST MARKS '!#REF! -> #REF! | H19: ='TEST MARKS '!#REF! -> #REF! | I19: ='TEST MARKS '!#REF! -> #REF! | J19: =D19/'TEST MARKS '!$J$133*100 -> #REF! | K19: =E19/'TEST MARKS '!$K$133*100 -> #REF! | L19: =F19/'TEST MARKS '!$L$133*100 -> #REF! | M19: =G19/'TEST MARKS '!$M$133*100 -> #REF! | N19: =H19/'TEST MARKS '!$N$133*100 -> #REF! | O19: =I19/'TEST MARKS '!$O$133*100 -> #REF! | P19: =IF(J19<'TEST MARKS '!$D$138,"N","Y") -> #REF! | Q19: =IF(K19<'TEST MARKS '!$D$138,"N","Y") -> #REF! | R19: =IF(L19<'TEST MARKS '!$D$138,"N","Y") -> #REF! | S19: =IF(M19<'TEST MARKS '!$D$138,"N","Y") -> #REF! | T19: =IF(N19<'TEST MARKS '!$D$138,"N","Y") -> #REF! | U19: =IF(O19<'TEST MARKS '!$D$138,"N","Y") -> #REF!
A20: ='TEST MARKS '!A21 -> 12 | B20: ='TEST MARKS '!B18 -> ASHISH SHARMA | C20: ='TEST MARKS '!C18 -> 1SG15ME014 | D20: ='TEST MARKS '!#REF! -> #REF! | E20: ='TEST MARKS '!#REF! -> #REF! | F20: ='TEST MARKS '!#REF! -> #REF! | G20: ='TEST MARKS '!#REF! -> #REF! | H20: ='TEST MARKS '!#REF! -> #REF! | I20: ='TEST MARKS '!#REF! -> #REF! | J20: =D20/'TEST MARKS '!$J$133*100 -> #REF! | K20: =E20/'TEST MARKS '!$K$133*100 -> #REF! | L20: =F20/'TEST MARKS '!$L$133*100 -> #REF! | M20: =G20/'TEST MARKS '!$M$133*100 -> #REF! | N20: =H20/'TEST MARKS '!$N$133*100 -> #REF! | O20: =I20/'TEST MARKS '!$O$133*100 -> #REF! | P20: =IF(J20<'TEST MARKS '!$D$138,"N","Y") -> #REF! | Q20: =IF(K20<'TEST MARKS '!$D$138,"N","Y") -> #REF! | R20: =IF(L20<'TEST MARKS '!$D$138,"N","Y") -> #REF! | S20: =IF(M20<'TEST MARKS '!$D$138,"N","Y") -> #REF! | T20: =IF(N20<'TEST MARKS '!$D$138,"N","Y") -> #REF! | U20: =IF(O20<'TEST MARKS '!$D$138,"N","Y") -> #REF!
A21: ='TEST MARKS '!A22 -> 13 | B21: ='TEST MARKS '!B19 -> AYAN GUHA RAOY | C21: ='TEST MARKS '!C19 -> 1SG15ME015 | D21: ='TEST MARKS '!#REF! -> #REF! | E21: ='TEST MARKS '!#REF! -> #REF! | F21: ='TEST MARKS '!#REF! -> #REF! | G21: ='TEST MARKS '!#REF! -> #REF! | H21: ='TEST MARKS '!#REF! -> #REF! | I21: ='TEST MARKS '!#REF! -> #REF! | J21: =D21/'TEST MARKS '!$J$133*100 -> #REF! | K21: =E21/'TEST MARKS '!$K$133*100 -> #REF! | L21: =F21/'TEST MARKS '!$L$133*100 -> #REF! | M21: =G21/'TEST MARKS '!$M$133*100 -> #REF! | N21: =H21/'TEST MARKS '!$N$133*100 -> #REF! | O21: =I21/'TEST MARKS '!$O$133*100 -> #REF! | P21: =IF(J21<'TEST MARKS '!$D$138,"N","Y") -> #REF! | Q21: =IF(K21<'TEST MARKS '!$D$138,"N","Y") -> #REF! | R21: =IF(L21<'TEST MARKS '!$D$138,"N","Y") -> #REF! | S21: =IF(M21<'TEST MARKS '!$D$138,"N","Y") -> #REF! | T21: =IF(N21<'TEST MARKS '!$D$138,"N","Y") -> #REF! | U21: =IF(O21<'TEST MARKS '!$D$138,"N","Y") -> #REF!
A22: ='TEST MARKS '!A23 -> 14 | B22: ='TEST MARKS '!B20 -> BHARATH .V | C22: ='TEST MARKS '!C20 -> 1SG15ME017 | D22: ='TEST MARKS '!#REF! -> #REF! | E22: ='TEST MARKS '!#REF! -> #REF! | F22: ='TEST MARKS '!#REF! -> #REF! | G22: ='TEST MARKS '!#REF! -> #REF! | H22: ='TEST MARKS '!#REF! -> #REF! | I22: ='TEST MARKS '!#REF! -> #REF! | J22: =D22/'TEST MARKS '!$J$133*100 -> #REF! | K22: =E22/'TEST MARKS '!$K$133*100 -> #REF! | L22: =F22/'TEST MARKS '!$L$133*100 -> #REF! | M22: =G22/'TEST MARKS '!$M$133*100 -> #REF! | N22: =H22/'TEST MARKS '!$N$133*100 -> #REF! | O22: =I22/'TEST MARKS '!$O$133*100 -> #REF! | P22: =IF(J22<'TEST MARKS '!$D$138,"N","Y") -> #REF! | Q22: =IF(K22<'TEST MARKS '!$D$138,"N","Y") -> #REF! | R22: =IF(L22<'TEST MARKS '!$D$138,"N","Y") -> #REF! | S22: =IF(M22<'TEST MARKS '!$D$138,"N","Y") -> #REF! | T22: =IF(N22<'TEST MARKS '!$D$138,"N","Y") -> #REF! | U22: =IF(O22<'TEST MARKS '!$D$138,"N","Y") -> #REF!
A23: ='TEST MARKS '!A24 -> 15 | B23: ='TEST MARKS '!B21 -> C KARTHIK | C23: ='TEST MARKS '!C21 -> 1SG15ME018 | D23: ='TEST MARKS '!#REF! -> #REF! | E23: ='TEST MARKS '!#REF! -> #REF! | F23: ='TEST MARKS '!#REF! -> #REF! | G23: ='TEST MARKS '!#REF! -> #REF! | H23: ='TEST MARKS '!#REF! -> #REF! | I23: ='TEST MARKS '!#REF! -> #REF! | J23: =D23/'TEST MARKS '!$J$133*100 -> #REF! | K23: =E23/'TEST MARKS '!$K$133*100 -> #REF! | L23: =F23/'TEST MARKS '!$L$133*100 -> #REF! | M23: =G23/'TEST MARKS '!$M$133*100 -> #REF! | N23: =H23/'TEST MARKS '!$N$133*100 -> #REF! | O23: =I23/'TEST MARKS '!$O$133*100 -> #REF! | P23: =IF(J23<'TEST MARKS '!$D$138,"N","Y") -> #REF! | Q23: =IF(K23<'TEST MARKS '!$D$138,"N","Y") -> #REF! | R23: =IF(L23<'TEST MARKS '!$D$138,"N","Y") -> #REF! | S23: =IF(M23<'TEST MARKS '!$D$138,"N","Y") -> #REF! | T23: =IF(N23<'TEST MARKS '!$D$138,"N","Y") -> #REF! | U23: =IF(O23<'TEST MARKS '!$D$138,"N","Y") -> #REF!
A24: ='TEST MARKS '!A25 -> 16 | B24: ='TEST MARKS '!B22 -> CHETHAN I P | C24: ='TEST MARKS '!C22 -> 1SG15ME020 | D24: ='TEST MARKS '!#REF! -> #REF! | E24: ='TEST MARKS '!#REF! -> #REF! | F24: ='TEST MARKS '!#REF! -> #REF! | G24: ='TEST MARKS '!#REF! -> #REF! | H24: ='TEST MARKS '!#REF! -> #REF! | I24: ='TEST MARKS '!#REF! -> #REF! | J24: =D24/'TEST MARKS '!$J$133*100 -> #REF! | K24: =E24/'TEST MARKS '!$K$133*100 -> #REF! | L24: =F24/'TEST MARKS '!$L$133*100 -> #REF! | M24: =G24/'TEST MARKS '!$M$133*100 -> #REF! | N24: =H24/'TEST MARKS '!$N$133*100 -> #REF! | O24: =I24/'TEST MARKS '!$O$133*100 -> #REF! | P24: =IF(J24<'TEST MARKS '!$D$138,"N","Y") -> #REF! | Q24: =IF(K24<'TEST MARKS '!$D$138,"N","Y") -> #REF! | R24: =IF(L24<'TEST MARKS '!$D$138,"N","Y") -> #REF! | S24: =IF(M24<'TEST MARKS '!$D$138,"N","Y") -> #REF! | T24: =IF(N24<'TEST MARKS '!$D$138,"N","Y") -> #REF! | U24: =IF(O24<'TEST MARKS '!$D$138,"N","Y") -> #REF!
A25: ='TEST MARKS '!A26 -> 17 | B25: ='TEST MARKS '!B23 -> DAYANANDA M | C25: ='TEST MARKS '!C23 -> 1SG15ME021 | D25: ='TEST MARKS '!#REF! -> #REF! | E25: ='TEST MARKS '!#REF! -> #REF! | F25: ='TEST MARKS '!#REF! -> #REF! | G25: ='TEST MARKS '!#REF! -> #REF! | H25: ='TEST MARKS '!#REF! -> #REF! | I25: ='TEST MARKS '!#REF! -> #REF! | J25: =D25/'TEST MARKS '!$J$133*100 -> #REF! | K25: =E25/'TEST MARKS '!$K$133*100 -> #REF! | L25: =F25/'TEST MARKS '!$L$133*100 -> #REF! | M25: =G25/'TEST MARKS '!$M$133*100 -> #REF! | N25: =H25/'TEST MARKS '!$N$133*100 -> #REF! | O25: =I25/'TEST MARKS '!$O$133*100 -> #REF! | P25: =IF(J25<'TEST MARKS '!$D$138,"N","Y") -> #REF! | Q25: =IF(K25<'TEST MARKS '!$D$138,"N","Y") -> #REF! | R25: =IF(L25<'TEST MARKS '!$D$138,"N","Y") -> #REF! | S25: =IF(M25<'TEST MARKS '!$D$138,"N","Y") -> #REF! | T25: =IF(N25<'TEST MARKS '!$D$138,"N","Y") -> #REF! | U25: =IF(O25<'TEST MARKS '!$D$138,"N","Y") -> #REF!
A26: ='TEST MARKS '!A27 -> 18 | B26: ='TEST MARKS '!#REF! -> #REF! | C26: ='TEST MARKS '!#REF! -> #REF! | D26: ='TEST MARKS '!#REF! -> #REF! | E26: ='TEST MARKS '!#REF! -> #REF! | F26: ='TEST MARKS '!#REF! -> #REF! | G26: ='TEST MARKS '!#REF! -> #REF! | H26: ='TEST MARKS '!#REF! -> #REF! | I26: ='TEST MARKS '!#REF! -> #REF! | J26: =D26/'TEST MARKS '!$J$133*100 -> #REF! | K26: =E26/'TEST MARKS '!$K$133*100 -> #REF! | L26: =F26/'TEST MARKS '!$L$133*100 -> #REF! | M26: =G26/'TEST MARKS '!$M$133*100 -> #REF! | N26: =H26/'TEST MARKS '!$N$133*100 -> #REF! | O26: =I26/'TEST MARKS '!$O$133*100 -> #REF! | P26: =IF(J26<'TEST MARKS '!$D$138,"N","Y") -> #REF! | Q26: =IF(K26<'TEST MARKS '!$D$138,"N","Y") -> #REF! | R26: =IF(L26<'TEST MARKS '!$D$138,"N","Y") -> #REF! | S26: =IF(M26<'TEST MARKS '!$D$138,"N","Y") -> #REF! | T26: =IF(N26<'TEST MARKS '!$D$138,"N","Y") -> #REF! | U26: =IF(O26<'TEST MARKS '!$D$138,"N","Y") -> #REF!
