Workbook

Sheet ATTLEVEL
F5: DIRECT ASSESSMENT METHOD
E8: 1 | F8: ENTER THE CO'S FOR THE RESPECTIVE INTERNAL WHICH YOU HAVE ASKED
E9: 2 | F9: ENTER THE MAXIMUM MARKS GIVEN TO EACH CO IN THE MARKS CELL
E10: 3 | F10: ENTER THE MARKS SCORED BY THE STUDENTS BELOW RESPECTIVE CO
E11: 4 | F11: ENTER THE PARAMETERS ASKED ( TOTAL STRENGTH, Assign target percentage…)
E12: 5 | F12: SEE- Exam marks is same for all COs of that subject | G12: tough subject | I12: 0.6
E13: 6 | F13: Target may be same or different for different CO | G13: easy subject | I13: 0.7
E14: 7 | F14: Target may be different for different subjects, theritical/problematic subject, ex
F17: FOR Any clarification contact ME HOD
B28: Attainment Levels of COs
B29: Course Name: FM LAB Course Code:15MEL57
B30: Assessment Methods | C30: Target-Attainment Levels | E30: Attainement
B31: Internal Assessment(CIE) | C31: Level 1 | D31: 60% of students scoring more than 50% marks in internal assessment tools | E31: Level 3
C32: Level 2 | D32: 70% of students scoring more than 50% marks in internal assessment tools
C33: Level 3 | D33: 80% of students scoring more than 50% marks in internal assessment tools
B36: Assessment Methods | C36: Target-Attainment Levels | E36: Attainement
B37: University Assessment (SEE) | C37: Level 1 | D37: 60% of students scoring more than 40% marks in internal assessment tools | E37: Level 3
C38: Level 2 | D38: 70% of students scoring more than 40% marks in internal assessment tools
C39: Level 3 | D39: 80% of students scoring more than 40% marks in internal assessment tools

Sheet TEST MARKS 
A1: Sapthagiri College of Engineering
A2: Department of Mechanical Engineering
A3: SUBJECT : FM LAB SUB CODE:15MEL57
A4: SEM : 5th | C4: SEC : A & B | E4: SCHEME :2015
A5: Sl. No. | B5: Name of the student | C5: USN | D5: I INTERNALS | F5: II INTERNALS | G5: III INTERNALS | I5: ASSIGNMENT'S | N5: EXTERNAL EXAM
D7: Q1 or 2 Q3 or 4 | E7: Q1 or 2 Q3 or 4 | F7: Q1 or 2 Q 3 or 4 | G7: Q1 or 2 | H7: Q3 or 4
D8: CO1 | E8: CO2 | F8: CO3 | G8: CO4 | H8: CO5 | I8: CO1 | J8: CO2 | K8: CO3 | L8: CO4 | M8: CO5 | N8: CO1,CO2,CO3,CO4,CO5,
D9: 20 | E9: 20 | F9: 20 | G9: 20 | H9: 15 | I9: 5 | J9: 5 | K9: 5 | L9: 5 | M9: 5 | N9: 80
A10: 1 | B10: AFTAB AHMED WALA | C10: 1SG15ME004 | D10: 18 | E10: =D10 -> 18 | F10: =D10 -> 18 | N10: 70
A11: 2 | B11: AJEYA.V | C11: 1SG15ME006 | D11: 20 | E11: =D11 -> 20 | F11: =D11 -> 20 | N11: 67
A12: 3 | B12: AJITH S P | C12: 1SG15ME007 | D12: 18 | E12: =D12 -> 18 | F12: =D12 -> 18 | N12: 56
A13: 4 | B13: AKSHAY S | C13: 1SG15ME008 | D13: 18 | E13: =D13 -> 18 | F13: =D13 -> 18 | N13: 60
A14: 5 | B14: AMAN NAIN | C14: 1SG15ME009 | D14: 18 | E14: =D14 -> 18 | F14: =D14 -> 18 | N14: 58
A15: 6 | B15: AMITH.R | C15: 1SG15ME010 | D15: 18 | E15: =D15 -> 18 | F15: =D15 -> 18 | N15: 66
A16: 7 | B16: ANIL KUMAR C | C16: 1SG15ME011 | D16: 18 | E16: =D16 -> 18 | F16: =D16 -> 18 | N16: 59
A17: 8 | B17: ANIRUDH R K | C17: 1SG15ME012 | D17: 18 | E17: =D17 -> 18 | F17: =D17 -> 18 | N17: 44
A18: 9 | B18: ARJUN S | C18: 1SG15ME013 | D18: 19 | E18: =D18 -> 19 | F18: =D18 -> 19 | N18: 56
A19: 10 | B19: ASHISH SHARMA | C19: 1SG15ME014 | D19: 18 | E19: =D19 -> 18 | F19: =D19 -> 18 | N19: 56
A20: 11 | B20: AYAN GUHA RAOY | C20: 1SG15ME015 | D20: 19 | E20: =D20 -> 19 | F20: =D20 -> 19 | N20: 70
A21: 12 | B21: BHARATH .V | C21: 1SG15ME017 | D21: 18 | E21: =D21 -> 18 | F21: =D21 -> 18 | N21: 64
... A121: 112 | B121: YASHAVANTH A S | C121: 1SG16ME444 | D121: 18 | E121: =D121 -> 18 | F121: =D121 -> 18 | N121: 48
A122: 113
A123: 114
A124: 115
A125: 116
A126: 117
A127: 118
A128: 119
A129: 120
A130: 121
A131: 122
A132: 123
A133: 124
... A153: 144
D166: CO1 | E166: CO2 | F166: CO3 | G166: CO4 | H166: CO5 | I166: CO1 | J166: CO2 | K166: CO3 | L166: CO4 | M166: CO5 | N166: CO1,CO2,CO3,CO4,CO5,
D167: =COUNTIF(D8:H8,"CO1") -> 1 | E167: 1 | F167: =COUNTIF(D8:H8,"CO4") -> 1 | G167: 1 | H167: 1 | I167: =COUNTIF(I166:M166,"CO1") -> 1 | J167: =COUNTIF(I166:M166,"CO2") -> 1 | K167: =COUNTIF(I166:M166,"CO3") -> 1 | L167: =COUNTIF(I166:M166,"CO4") -> 1 | M167: =COUNTIF(I166:M166,"CO5") -> 1 | N167: =N9 -> 80
B168: CO's TOTAL | D168: =SUMIF($D$8:$H$8,D166,$D$9:$H$9) -> 20 | E168: 20 | F168: 20 | G168: 0 | H168: 0 | I168: 0 | J168: 0 | K168: 0 | L168: 0 | M168: 0 | N168: =N167 -> 80
B171: TOTAL NO OF STUDENTS | D171: 112
B172: IA TEST TARGET PERCENTAGE | D172: 70
B173: ASSIGN TARGET PERCENTAGE | D173: 0
B174: SEE(EXAM) TARGET PERCENTAGE | D174: 40
B175: TARGET PERCENTAGE | D175: 80
B176: MAXIMUM MARKS IN EXAM | D176: 80

Sheet TEST -CO 
A1: Sapthagiri College of Engineering
A2: Department of Mechanical Engineering
A3: FM LAB
A4: V Semester A&B Section Test marks
A6: Sl. No. | B6: Name of the student | C6: USN | I6: ATTAINMENT (%) | N6: Y OR N
D8: I | E8: II | F8: II | G8: III | H8: III | I8: ='TEST MARKS '!D168 -> 20 | J8: 15 | K8: 15 | L8: 15 | M8: ='TEST MARKS '!G168 -> 0 | N8: I | O8: I | P8: II | Q8: II | R8: III
D9: CO1 | E9: CO2 | F9: CO3 | G9: CO4 | H9: CO5 | I9: CO1 | J9: CO2 | K9: =F9 -> CO3 | L9: =G9 -> CO4 | M9: =H9 -> CO5 | N9: =I9 -> CO1 | O9: =J9 -> CO2 | P9: =K9 -> CO3 | Q9: =L9 -> CO4 | R9: =M9 -> CO5
A10: ='TEST MARKS '!A10 -> 1 | B10: ='TEST MARKS '!B10 -> AFTAB AHMED WALA | C10: ='TEST MARKS '!C10 -> 1SG15ME004 | D10: ='TEST MARKS '!D10 -> 18 | E10: ='TEST MARKS '!E10 -> 18 | F10: ='TEST MARKS '!F10 -> 18 | G10: ='TEST MARKS '!G10 -> 0 | H10: ='TEST MARKS '!H10 -> 0 | I10: =D10/20*100 -> 90 | J10: =E10/20*100 -> 90 | K10: =F10/20*100 -> 90 | L10: =G10/20*100 -> 0 | M10: =H10/15*100 -> 0 | N10: =IF(I10<'TEST MARKS '!$D$172,"N","Y") -> Y | O10: =IF(J10<'TEST MARKS '!$D$172,"N","Y") -> Y | P10: =IF(K10<'TEST MARKS '!$D$172,"N","Y") -> Y | Q10: =IF(L10<'TEST MARKS '!$D$172,"N","Y") -> N | R10: =IF(M10<'TEST MARKS '!$D$172,"N","Y") -> N
A11: 2 | B11: ='TEST MARKS '!B11 -> AJEYA.V | C11: ='TEST MARKS '!C11 -> 1SG15ME006 | D11: ='TEST MARKS '!D11 -> 20 | E11: ='TEST MARKS '!E11 -> 20 | F11: ='TEST MARKS '!F11 -> 20 | G11: ='TEST MARKS '!G11 -> 0 | H11: ='TEST MARKS '!H11 -> 0 | I11: =D11/20*100 -> 100 | J11: =E11/20*100 -> 100 | K11: =F11/20*100 -> 100 | L11: =G11/20*100 -> 0 | M11: =H11/15*100 -> 0 | N11: =IF(I11<'TEST MARKS '!$D$172,"N","Y") -> Y | O11: =IF(J11<'TEST MARKS '!$D$172,"N","Y") -> Y | P11: =IF(K11<'TEST MARKS '!$D$172,"N","Y") -> Y | Q11: =IF(L11<'TEST MARKS '!$D$172,"N","Y") -> N | R11: =IF(M11<'TEST MARKS '!$D$172,"N","Y") -> N
A12: 3 | B12: ='TEST MARKS '!B12 -> AJITH S P | C12: ='TEST MARKS '!C12 -> 1SG15ME007 | D12: ='TEST MARKS '!D12 -> 18 | E12: ='TEST MARKS '!E12 -> 18 | F12: ='TEST MARKS '!F12 -> 18 | G12: ='TEST MARKS '!G12 -> 0 | H12: ='TEST MARKS '!H12 -> 0 | I12: =D12/20*100 -> 90 | J12: =E12/20*100 -> 90 | K12: =F12/20*100 -> 90 | L12: =G12/20*100 -> 0 | M12: =H12/15*100 -> 0 | N12: =IF(I12<'TEST MARKS '!$D$172,"N","Y") -> Y | O12: =IF(J12<'TEST MARKS '!$D$172,"N","Y") -> Y | P12: =IF(K12<'TEST MARKS '!$D$172,"N","Y") -> Y | Q12: =IF(L12<'TEST MARKS '!$D$172,"N","Y") -> N | R12: =IF(M12<'TEST MARKS '!$D$172,"N","Y") -> N
A13: 4 | B13: ='TEST MARKS '!B13 -> AKSHAY S | C13: ='TEST MARKS '!C13 -> 1SG15ME008 | D13: ='TEST MARKS '!D13 -> 18 | E13: ='TEST MARKS '!E13 -> 18 | F13: ='TEST MARKS '!F13 -> 18 | G13: ='TEST MARKS '!G13 -> 0 | H13: ='TEST MARKS '!H13 -> 0 | I13: =D13/20*100 -> 90 | J13: =E13/20*100 -> 90 | K13: =F13/20*100 -> 90 | L13: =G13/20*100 -> 0 | M13: =H13/15*100 -> 0 | N13: =IF(I13<'TEST MARKS '!$D$172,"N","Y") -> Y | O13: =IF(J13<'TEST MARKS '!$D$172,"N","Y") -> Y | P13: =IF(K13<'TEST MARKS '!$D$172,"N","Y") -> Y | Q13: =IF(L13<'TEST MARKS '!$D$172,"N","Y") -> N | R13: =IF(M13<'TEST MARKS '!$D$172,"N","Y") -> N
A14: 5 | B14: ='TEST MARKS '!B14 -> AMAN NAIN | C14: ='TEST MARKS '!C14 -> 1SG15ME009 | D14: ='TEST MARKS '!D14 -> 18 | E14: ='TEST MARKS '!E14 -> 18 | F14: ='TEST MARKS '!F14 -> 18 | G14: ='TEST MARKS '!G14 -> 0 | H14: ='TEST MARKS '!H14 -> 0 | I14: =D14/20*100 -> 90 | J14: =E14/20*100 -> 90 | K14: =F14/20*100 -> 90 | L14: =G14/20*100 -> 0 | M14: =H14/15*100 -> 0 | N14: =IF(I14<'TEST MARKS '!$D$172,"N","Y") -> Y | O14: =IF(J14<'TEST MARKS '!$D$172,"N","Y") -> Y | P14: =IF(K14<'TEST MARKS '!$D$172,"N","Y") -> Y | Q14: =IF(L14<'TEST MARKS '!$D$172,"N","Y") -> N | R14: =IF(M14<'TEST MARKS '!$D$172,"N","Y") -> N
A15: 6 | B15: ='TEST MARKS '!B15 -> AMITH.R | C15: ='TEST MARKS '!C15 -> 1SG15ME010 | D15: ='TEST MARKS '!D15 -> 18 | E15: ='TEST MARKS '!E15 -> 18 | F15: ='TEST MARKS '!F15 -> 18 | G15: ='TEST MARKS '!G15 -> 0 | H15: ='TEST MARKS '!H15 -> 0 | I15: =D15/20*100 -> 90 | J15: =E15/20*100 -> 90 | K15: =F15/20*100 -> 90 | L15: =G15/20*100 -> 0 | M15: =H15/15*100 -> 0 | N15: =IF(I15<'TEST MARKS '!$D$172,"N","Y") -> Y | O15: =IF(J15<'TEST MARKS '!$D$172,"N","Y") -> Y | P15: =IF(K15<'TEST MARKS '!$D$172,"N","Y") -> Y | Q15: =IF(L15<'TEST MARKS '!$D$172,"N","Y") -> N | R15: =IF(M15<'TEST MARKS '!$D$172,"N","Y") -> N
A16: 7 | B16: ='TEST MARKS '!B16 -> ANIL KUMAR C | C16: ='TEST MARKS '!C16 -> 1SG15ME011 | D16: ='TEST MARKS '!D16 -> 18 | E16: ='TEST MARKS '!E16 -> 18 | F16: ='TEST MARKS '!F16 -> 18 | G16: ='TEST MARKS '!G16 -> 0 | H16: ='TEST MARKS '!H16 -> 0 | I16: =D16/20*100 -> 90 | J16: =E16/20*100 -> 90 | K16: =F16/20*100 -> 90 | L16: =G16/20*100 -> 0 | M16: =H16/15*100 -> 0 | N16: =IF(I16<'TEST MARKS '!$D$172,"N","Y") -> Y | O16: =IF(J16<'TEST MARKS '!$D$172,"N","Y") -> Y | P16: =IF(K16<'TEST MARKS '!$D$172,"N","Y") -> Y | Q16: =IF(L16<'TEST MARKS '!$D$172,"N","Y") -> N | R16: =IF(M16<'TEST MARKS '!$D$172,"N","Y") -> N
A17: =SUMIF('TEST MARKS '!A15:D15,A16,'TEST MARKS '!A17:D17) -> 0 | B17: ='TEST MARKS '!B17 -> ANIRUDH R K | C17: ='TEST MARKS '!C17 -> 1SG15ME012 | D17: ='TEST MARKS '!D17 -> 18 | E17: ='TEST MARKS '!E17 -> 18 | F17: ='TEST MARKS '!F17 -> 18 | G17: ='TEST MARKS '!G17 -> 0 | H17: ='TEST MARKS '!H17 -> 0 | I17: =D17/20*100 -> 90 | J17: =E17/20*100 -> 90 | K17: =F17/20*100 -> 90 | L17: =G17/20*100 -> 0 | M17: =H17/15*100 -> 0 | N17: =IF(I17<'TEST MARKS '!$D$172,"N","Y") -> Y | O17: =IF(J17<'TEST MARKS '!$D$172,"N","Y") -> Y | P17: =IF(K17<'TEST MARKS '!$D$172,"N","Y") -> Y | Q17: =IF(L17<'TEST MARKS '!$D$172,"N","Y") -> N | R17: =IF(M17<'TEST MARKS '!$D$172,"N","Y") -> N
A18: 9 | B18: ='TEST MARKS '!B18 -> ARJUN S | C18: ='TEST MARKS '!C18 -> 1SG15ME013 | D18: ='TEST MARKS '!D18 -> 19 | E18: ='TEST MARKS '!E18 -> 19 | F18: ='TEST MARKS '!F18 -> 19 | G18: ='TEST MARKS '!G18 -> 0 | H18: ='TEST MARKS '!H18 -> 0 | I18: =D18/20*100 -> 95 | J18: =E18/20*100 -> 95 | K18: =F18/20*100 -> 95 | L18: =G18/20*100 -> 0 | M18: =H18/15*100 -> 0 | N18: =IF(I18<'TEST MARKS '!$D$172,"N","Y") -> Y | O18: =IF(J18<'TEST MARKS '!$D$172,"N","Y") -> Y | P18: =IF(K18<'TEST MARKS '!$D$172,"N","Y") -> Y | Q18: =IF(L18<'TEST MARKS '!$D$172,"N","Y") -> N | R18: =IF(M18<'TEST MARKS '!$D$172,"N","Y") -> N
A19: 10 | B19: ='TEST MARKS '!B19 -> ASHISH SHARMA | C19: ='TEST MARKS '!C19 -> 1SG15ME014 | D19: ='TEST MARKS '!D19 -> 18 | E19: ='TEST MARKS '!E19 -> 18 | F19: ='TEST MARKS '!F19 -> 18 | G19: ='TEST MARKS '!G19 -> 0 | H19: ='TEST MARKS '!H19 -> 0 | I19: =D19/20*100 -> 90 | J19: =E19/20*100 -> 90 | K19: =F19/20*100 -> 90 | L19: =G19/20*100 -> 0 | M19: =H19/15*100 -> 0 | N19: =IF(I19<'TEST MARKS '!$D$172,"N","Y") -> Y | O19: =IF(J19<'TEST MARKS '!$D$172,"N","Y") -> Y | P19: =IF(K19<'TEST MARKS '!$D$172,"N","Y") -> Y | Q19: =IF(L19<'TEST MARKS '!$D$172,"N","Y") -> N | R19: =IF(M19<'TEST MARKS '!$D$172,"N","Y") -> N
A20: 11 | B20: ='TEST MARKS '!B20 -> AYAN GUHA RAOY | C20: ='TEST MARKS '!C20 -> 1SG15ME015 | D20: ='TEST MARKS '!D20 -> 19 | E20: ='TEST MARKS '!E20 -> 19 | F20: ='TEST MARKS '!F20 -> 19 | G20: ='TEST MARKS '!G20 -> 0 | H20: ='TEST MARKS '!H20 -> 0 | I20: =D20/20*100 -> 95 | J20: =E20/20*100 -> 95 | K20: =F20/20*100 -> 95 | L20: =G20/20*100 -> 0 | M20: =H20/15*100 -> 0 | N20: =IF(I20<'TEST MARKS '!$D$172,"N","Y") -> Y | O20: =IF(J20<'TEST MARKS '!$D$172,"N","Y") -> Y | P20: =IF(K20<'TEST MARKS '!$D$172,"N","Y") -> Y | Q20: =IF(L20<'TEST MARKS '!$D$172,"N","Y") -> N | R20: =IF(M20<'TEST MARKS '!$D$172,"N","Y") -> N
A21: 12 | B21: ='TEST MARKS '!B21 -> BHARATH .V | C21: ='TEST MARKS '!C21 -> 1SG15ME017 | D21: ='TEST MARKS '!D21 -> 18 | E21: ='TEST MARKS '!E21 -> 18 | F21: ='TEST MARKS '!F21 -> 18 | G21: ='TEST MARKS '!G21 -> 0 | H21: ='TEST MARKS '!H21 -> 0 | I21: =D21/20*100 -> 90 | J21: =E21/20*100 -> 90 | K21: =F21/20*100 -> 90 | L21: =G21/20*100 -> 0 | M21: =H21/15*100 -> 0 | N21: =IF(I21<'TEST MARKS '!$D$172,"N","Y") -> Y | O21: =IF(J21<'TEST MARKS '!$D$172,"N","Y") -> Y | P21: =IF(K21<'TEST MARKS '!$D$172,"N","Y") -> Y | Q21: =IF(L21<'TEST MARKS '!$D$172,"N","Y") -> N | R21: =IF(M21<'TEST MARKS '!$D$172,"N","Y") -> N
A22: 13 | B22: ='TEST MARKS '!B22 -> C KARTHIK | C22: ='TEST MARKS '!C22 -> 1SG15ME018 | D22: ='TEST MARKS '!D22 -> 18 | E22: ='TEST MARKS '!E22 -> 18 | F22: ='TEST MARKS '!F22 -> 18 | G22: ='TEST MARKS '!G22 -> 0 | H22: ='TEST MARKS '!H22 -> 0 | I22: =D22/20*100 -> 90 | J22: =E22/20*100 -> 90 | K22: =F22/20*100 -> 90 | L22: =G22/20*100 -> 0 | M22: =H22/15*100 -> 0 | N22: =IF(I22<'TEST MARKS '!$D$172,"N","Y") -> Y | O22: =IF(J22<'TEST MARKS '!$D$172,"N","Y") -> Y | P22: =IF(K22<'TEST MARKS '!$D$172,"N","Y") -> Y | Q22: =IF(L22<'TEST MARKS '!$D$172,"N","Y") -> N | R22: =IF(M22<'TEST MARKS '!$D$172,"N","Y") -> N
A23: 14 | B23: ='TEST MARKS '!B23 -> CHETHAN I P | C23: ='TEST MARKS '!C23 -> 1SG15ME020 | D23: ='TEST MARKS '!D23 -> 18 | E23: ='TEST MARKS '!E23 -> 18 | F23: ='TEST MARKS '!F23 -> 18 | G23: ='TEST MARKS '!G23 -> 0 | H23: ='TEST MARKS '!H23 -> 0 | I23: =D23/20*100 -> 90 | J23: =E23/20*100 -> 90 | K23: =F23/20*100 -> 90 | L23: =G23/20*100 -> 0 | M23: =H23/15*100 -> 0 | N23: =IF(I23<'TEST MARKS '!$D$172,"N","Y") -> Y | O23: =IF(J23<'TEST MARKS '!$D$172,"N","Y") -> Y | P23: =IF(K23<'TEST MARKS '!$D$172,"N","Y") -> Y | Q23: =IF(L23<'TEST MARKS '!$D$172,"N","Y") -> N | R23: =IF(M23<'TEST MARKS '!$D$172,"N","Y") -> N
A24: 15 | B24: ='TEST MARKS '!B24 -> DAYANANDA M | C24: ='TEST MARKS '!C24 -> 1SG15ME021 | D24: ='TEST MARKS '!D24 -> 19 | E24: ='TEST MARKS '!E24 -> 19 | F24: ='TEST MARKS '!F24 -> 19 | G24: ='TEST MARKS '!G24 -> 0 | H24: ='TEST MARKS '!H24 -> 0 | I24: =D24/20*100 -> 95 | J24: =E24/20*100 -> 95 | K24: =F24/20*100 -> 95 | L24: =G24/20*100 -> 0 | M24: =H24/15*100 -> 0 | N24: =IF(I24<'TEST MARKS '!$D$172,"N","Y") -> Y | O24: =IF(J24<'TEST MARKS '!$D$172,"N","Y") -> Y | P24: =IF(K24<'TEST MARKS '!$D$172,"N","Y") -> Y | Q24: =IF(L24<'TEST MARKS '!$D$172,"N","Y") -> N | R24: =IF(M24<'TEST MARKS '!$D$172,"N","Y") -> N
A25: 16 | B25: ='TEST MARKS '!B25 -> DEEPU H S | C25: ='TEST MARKS '!C25 -> 1SG15ME022 | D25: ='TEST MARKS '!D25 -> 19 | E25: ='TEST MARKS '!E25 -> 19 | F25: ='TEST MARKS '!F25 -> 19 | G25: ='TEST MARKS '!G25 -> 0 | H25: ='TEST MARKS '!H25 -> 0 | I25: =D25/20*100 -> 95 | J25: =E25/20*100 -> 95 | K25: =F25/20*100 -> 95 | L25: =G25/20*100 -> 0 | M25: =H25/15*100 -> 0 | N25: =IF(I25<'TEST MARKS '!$D$172,"N","Y") -> Y | O25: =IF(J25<'TEST MARKS '!$D$172,"N","Y") -> Y | P25: =IF(K25<'TEST MARKS '!$D$172,"N","Y") -> Y | Q25: =IF(L25<'TEST MARKS '!$D$172,"N","Y") -> N | R25: =IF(M25<'TEST MARKS '!$D$172,"N","Y") -> N
A26: 17 | B26: ='TEST MARKS '!B26 -> DEVARAJ HIREMATH | C26: ='TEST MARKS '!C26 -> 1SG15ME023 | D26: ='TEST MARKS '!D26 -> 19 | E26: ='TEST MARKS '!E26 -> 19 | F26: ='TEST MARKS '!F26 -> 19 | G26: ='TEST MARKS '!G26 -> 0 | H26: ='TEST MARKS '!H26 -> 0 | I26: =D26/20*100 -> 95 | J26: =E26/20*100 -> 95 | K26: =F26/20*100 -> 95 | L26: =G26/20*100 -> 0 | M26: =H26/15*100 -> 0 | N26: =IF(I26<'TEST MARKS '!$D$172,"N","Y") -> Y | O26: =IF(J26<'TEST MARKS '!$D$172,"N","Y") -> Y | P26: =IF(K26<'TEST MARKS '!$D$172,"N","Y") -> Y | Q26: =IF(L26<'TEST MARKS '!$D$172,"N","Y") -> N | R26: =IF(M26<'TEST MARKS '!$D$172,"N","Y") -> N
A27: 18 | B27: ='TEST MARKS '!B27 -> DHANANJAYA V | C27: ='TEST MARKS '!C27 -> 1SG15ME024 | D27: ='TEST MARKS '!D27 -> 19 | E27: ='TEST MARKS '!E27 -> 19 | F27: ='TEST MARKS '!F27 -> 19 | G27: ='TEST MARKS '!G27 -> 0 | H27: ='TEST MARKS '!H27 -> 0 | I27: =D27/20*100 -> 95 | J27: =E27/20*100 -> 95 | K27: =F27/20*100 -> 95 | L27: =G27/20*100 -> 0 | M27: =H27/15*100 -> 0 | N27: =IF(I27<'TEST MARKS '!$D$172,"N","Y") -> Y | O27: =IF(J27<'TEST MARKS '!$D$172,"N","Y") -> Y | P27: =IF(K27<'TEST MARKS '!$D$172,"N","Y") -> Y | Q27: =IF(L27<'TEST MARKS '!$D$172,"N","Y") -> N | R27: =IF(M27<'TEST MARKS '!$D$172,"N","Y") -> N
A28: 19 | B28: ='TEST MARKS '!B28 -> DHANRAJ M | C28: ='TEST MARKS '!C28 -> 1SG15ME025 | D28: ='TEST MARKS '!D28 -> 19 | E28: ='TEST MARKS '!E28 -> 19 | F28: ='TEST MARKS '!F28 -> 19 | G28: ='TEST MARKS '!G28 -> 0 | H28: ='TEST MARKS '!H28 -> 0 | I28: =D28/20*100 -> 95 | J28: =E28/20*100 -> 95 | K28: =F28/20*100 -> 95 | L28: =G28/20*100 -> 0 | M28: =H28/15*100 -> 0 | N28: =IF(I28<'TEST MARKS '!$D$172,"N","Y") -> Y | O28: =IF(J28<'TEST MARKS '!$D$172,"N","Y") -> Y | P28: =IF(K28<'TEST MARKS '!$D$172,"N","Y") -> Y | Q28: =IF(L28<'TEST MARKS '!$D$172,"N","Y") -> N | R28: =IF(M28<'TEST MARKS '!$D$172,"N","Y") -> N
A29: 20 | B29: ='TEST MARKS '!B29 -> DHARSHAN M J | C29: ='TEST MARKS '!C29 -> 1SG15ME026 | D29: ='TEST MARKS '!D29 -> 19 | E29: ='TEST MARKS '!E29 -> 19 | F29: ='TEST MARKS '!F29 -> 19 | G29: ='TEST MARKS '!G29 -> 0 | H29: ='TEST MARKS '!H29 -> 0 | I29: =D29/20*100 -> 95 | J29: =E29/20*100 -> 95 | K29: =F29/20*100 -> 95 | L29: =G29/20*100 -> 0 | M29: =H29/15*100 -> 0 | N29: =IF(I29<'TEST MARKS '!$D$172,"N","Y") -> Y | O29: =IF(J29<'TEST MARKS '!$D$172,"N","Y") -> Y | P29: =IF(K29<'TEST MARKS '!$D$172,"N","Y") -> Y | Q29: =IF(L29<'TEST MARKS '!$D$172,"N","Y") -> N | R29: =IF(M29<'TEST MARKS '!$D$172,"N","Y") -> N
... A121: 112 | B121: ='TEST MARKS '!B121 -> YASHAVANTH A S | C121: ='TEST MARKS '!C121 -> 1SG16ME444 | D121: ='TEST MARKS '!D121 -> 18 | E121: ='TEST MARKS '!E121 -> 18 | F121: ='TEST MARKS '!F121 -> 18 | G121: ='TEST MARKS '!G121 -> 0 | H121: ='TEST MARKS '!H121 -> 0 | I121: =D121/20*100 -> 90 | J121: =E121/20*100 -> 90 | K121: =F121/20*100 -> 90 | L121: =G121/20*100 -> 0 | M121: =H121/15*100 -> 0 | N121: =IF(I121<'TEST MARKS '!$D$172,"N","Y") -> Y | O121: =IF(J121<'TEST MARKS '!$D$172,"N","Y") -> Y | P121: =IF(K121<'TEST MARKS '!$D$172,"N","Y") -> Y | Q121: =IF(L121<'TEST MARKS '!$D$172,"N","Y") -> N | R121: =IF(M121<'TEST MARKS '!$D$172,"N","Y") -> N
A122: 113 | B122: ='TEST MARKS '!B122 -> 0 | Q122: =IF(L122<'TEST MARKS '!$D$172,"N","Y") -> N | R122: =IF(M122<'TEST MARKS '!$D$172,"N","Y") -> N
A123: 114 | B123: ='TEST MARKS '!B123 -> 0 | Q123: =IF(L123<'TEST MARKS '!$D$172,"N","Y") -> N | R123: =IF(M123<'TEST MARKS '!$D$172,"N","Y") -> N
A124: 115 | B124: ='TEST MARKS '!B124 -> 0 | Q124: =IF(L124<'TEST MARKS '!$D$172,"N","Y") -> N | R124: =IF(M124<'TEST MARKS '!$D$172,"N","Y") -> N
A125: 116 | B125: ='TEST MARKS '!B125 -> 0 | Q125: =IF(L125<'TEST MARKS '!$D$172,"N","Y") -> N | R125: =IF(M125<'TEST MARKS '!$D$172,"N","Y") -> N
A126: 117 | B126: ='TEST MARKS '!B126 -> 0 | Q126: =IF(L126<'TEST MARKS '!$D$172,"N","Y") -> N | R126: =IF(M126<'TEST MARKS '!$D$172,"N","Y") -> N
A127: 118 | B127: ='TEST MARKS '!B127 -> 0 | Q127: =IF(L127<'TEST MARKS '!$D$172,"N","Y") -> N | R127: =IF(M127<'TEST MARKS '!$D$172,"N","Y") -> N
A128: 119 | B128: ='TEST MARKS '!B128 -> 0 | Q128: =IF(L128<'TEST MARKS '!$D$172,"N","Y") -> N | R128: =IF(M128<'TEST MARKS '!$D$172,"N","Y") -> N
A129: 120 | B129: ='TEST MARKS '!B129 -> 0 | Q129: =IF(L129<'TEST MARKS '!$D$172,"N","Y") -> N | R129: =IF(M129<'TEST MARKS '!$D$172,"N","Y") -> N
A130: 121 | B130: ='TEST MARKS '!B130 -> 0 | Q130: =IF(L130<'TEST MARKS '!$D$172,"N","Y") -> N | R130: =IF(M130<'TEST MARKS '!$D$172,"N","Y") -> N
A131: 122 | B131: ='TEST MARKS '!B131 -> 0 | Q131: =IF(L131<'TEST MARKS '!$D$172,"N","Y") -> N | R131: =IF(M131<'TEST MARKS '!$D$172,"N","Y") -> N
A132: 123 | B132: ='TEST MARKS '!B132 -> 0 | Q132: =IF(L132<'TEST MARKS '!$D$172,"N","Y") -> N | R132: =IF(M132<'TEST MARKS '!$D$172,"N","Y") -> N
A133: 124 | B133: ='TEST MARKS '!B133 -> 0 | Q133: =IF(L133<'TEST MARKS '!$D$172,"N","Y") -> N | R133: =IF(M133<'TEST MARKS '!$D$172,"N","Y") -> N
... A153: 144 | B153: ='TEST MARKS '!B153 -> 0 | Q153: =IF(L153<'TEST MARKS '!$D$172,"N","Y") -> N | R153: =IF(M153<'TEST MARKS '!$D$172,"N","Y") -> N
N156: =COUNTIF(N10:N147,"Y") -> 106 | O156: =COUNTIF(O10:O147,"Y") -> 106 | P156: =COUNTIF(P10:P147,"Y") -> 106 | Q156: =COUNTIF(Q10:Q147,"Y") -> 0 | R156: =COUNTIF(R10:R147,"Y") -> 0
N157: =N156/'TEST MARKS '!$D$171 -> 0.94642857 | O157: =O156/'TEST MARKS '!$D$171 -> 0.94642857 | P157: =P156/'TEST MARKS '!$D$171 -> 0.94642857 | Q157: =Q156/'TEST MARKS '!$D$171 -> 0 | R157: =R156/'TEST MARKS '!$D$171 -> 0
N161: CO1 | O161: CO2 | P161: CO3 | Q161: CO4 | R161: CO5
N162: =N156*100/'TEST MARKS '!$D$171 -> 94.642857 | O162: =O156*100/'TEST MARKS '!$D$171 -> 94.642857 | P162: =P156*100/'TEST MARKS '!$D$171 -> 94.642857 | Q162: =Q156*100/'TEST MARKS '!$D$171 -> 0 | R162: =R156*100/'TEST MARKS '!$D$171 -> 0

Sheet Assignment CO 
A1: Sapthagiri College of Engineering
A2: Department of Mechanical Engineering
A3: ENERGY LAB
A4: VII Semester A&B Section Assignment marks for ODD Sem 2018-19 | N4: TARGET: 90% OF STUDENTS TO SCORE 80% and ABOVE
A5: Sl. No. | B5: Name of the student | C5: USN | I5: ASSIGNMENT ATTAINMENT (%) | N5: Y OR N
D7: I | E7: II | F7: III | G7: IV | H7: V | I7: I | J7: II | K7: III | L7: IV | M7: V | N7: I | O7: II | P7: III | Q7: IV | R7: V
D8: CO1 | E8: CO2 | F8: CO3 | G8: CO4 | H8: CO5 | I8: CO1 | J8: CO2 | K8: CO3 | L8: CO4 | M8: CO5 | N8: CO1 | O8: CO2 | P8: CO3 | Q8: CO4 | R8: CO5
A9: ='TEST MARKS '!A10 -> 1 | B9: ='TEST MARKS '!B10 -> AFTAB AHMED WALA | C9: ='TEST MARKS '!C10 -> 1SG15ME004 | D9: ='TEST MARKS '!I10 -> 0 | E9: ='TEST MARKS '!J10 -> 0 | F9: ='TEST MARKS '!K10 -> 0 | G9: ='TEST MARKS '!L10 -> 0 | H9: ='TEST MARKS '!M10 -> 0 | I9: =D9/5*100 -> 0 | J9: =E9/5*100 -> 0 | K9: =F9/5*100 -> 0 | L9: =G9/5*100 -> 0 | M9: =H9/5*100 -> 0
A10: ='TEST MARKS '!A11 -> 2 | B10: ='TEST MARKS '!B11 -> AJEYA.V | C10: ='TEST MARKS '!C11 -> 1SG15ME006 | D10: ='TEST MARKS '!I11 -> 0 | E10: ='TEST MARKS '!J11 -> 0 | F10: ='TEST MARKS '!K11 -> 0 | G10: ='TEST MARKS '!L11 -> 0 | H10: ='TEST MARKS '!M11 -> 0 | I10: =D10/5*100 -> 0 | J10: =E10/5*100 -> 0 | K10: =F10/5*100 -> 0 | L10: =G10/5*100 -> 0 | M10: =H10/5*100 -> 0
A11: ='TEST MARKS '!A12 -> 3 | B11: ='TEST MARKS '!B12 -> AJITH S P | C11: ='TEST MARKS '!C12 -> 1SG15ME007 | D11: ='TEST MARKS '!I12 -> 0 | E11: ='TEST MARKS '!J12 -> 0 | F11: ='TEST MARKS '!K12 -> 0 | G11: ='TEST MARKS '!L12 -> 0 | H11: ='TEST MARKS '!M12 -> 0 | I11: =D11/5*100 -> 0 | J11: =E11/5*100 -> 0 | K11: =F11/5*100 -> 0 | L11: =G11/5*100 -> 0 | M11: =H11/5*100 -> 0
A12: ='TEST MARKS '!A13 -> 4 | B12: ='TEST MARKS '!B13 -> AKSHAY S | C12: ='TEST MARKS '!C13 -> 1SG15ME008 | D12: ='TEST MARKS '!I13 -> 0 | E12: ='TEST MARKS '!J13 -> 0 | F12: ='TEST MARKS '!K13 -> 0 | G12: ='TEST MARKS '!L13 -> 0 | H12: ='TEST MARKS '!M13 -> 0 | I12: =D12/5*100 -> 0 | J12: =E12/5*100 -> 0 | K12: =F12/5*100 -> 0 | L12: =G12/5*100 -> 0 | M12: =H12/5*100 -> 0
A13: ='TEST MARKS '!A14 -> 5 | B13: ='TEST MARKS '!B14 -> AMAN NAIN | C13: ='TEST MARKS '!C14 -> 1SG15ME009 | D13: ='TEST MARKS '!I14 -> 0 | E13: ='TEST MARKS '!J14 -> 0 | F13: ='TEST MARKS '!K14 -> 0 | G13: ='TEST MARKS '!L14 -> 0 | H13: ='TEST MARKS '!M14 -> 0 | I13: =D13/5*100 -> 0 | J13: =E13/5*100 -> 0 | K13: =F13/5*100 -> 0 | L13: =G13/5*100 -> 0 | M13: =H13/5*100 -> 0
A14: ='TEST MARKS '!A15 -> 6 | B14: ='TEST MARKS '!B15 -> AMITH.R | C14: ='TEST MARKS '!C15 -> 1SG15ME010 | D14: ='TEST MARKS '!I15 -> 0 | E14: ='TEST MARKS '!J15 -> 0 | F14: ='TEST MARKS '!K15 -> 0 | G14: ='TEST MARKS '!L15 -> 0 | H14: ='TEST MARKS '!M15 -> 0 | I14: =D14/5*100 -> 0 | J14: =E14/5*100 -> 0 | K14: =F14/5*100 -> 0 | L14: =G14/5*100 -> 0 | M14: =H14/5*100 -> 0
A15: ='TEST MARKS '!A16 -> 7 | B15: ='TEST MARKS '!B16 -> ANIL KUMAR C | C15: ='TEST MARKS '!C16 -> 1SG15ME011 | D15: ='TEST MARKS '!I16 -> 0 | E15: ='TEST MARKS '!J16 -> 0 | F15: ='TEST MARKS '!K16 -> 0 | G15: ='TEST MARKS '!L16 -> 0 | H15: ='TEST MARKS '!M16 -> 0 | I15: =D15/5*100 -> 0 | J15: =E15/5*100 -> 0 | K15: =F15/5*100 -> 0 | L15: =G15/5*100 -> 0 | M15: =H15/5*100 -> 0
A16: ='TEST MARKS '!A17 -> 8 | B16: ='TEST MARKS '!B17 -> ANIRUDH R K | C16: ='TEST MARKS '!C17 -> 1SG15ME012 | D16: ='TEST MARKS '!I17 -> 0 | E16: ='TEST MARKS '!J17 -> 0 | F16: ='TEST MARKS '!K17 -> 0 | G16: ='TEST MARKS '!L17 -> 0 | H16: ='TEST MARKS '!M17 -> 0 | I16: =D16/5*100 -> 0 | J16: =E16/5*100 -> 0 | K16: =F16/5*100 -> 0 | L16: =G16/5*100 -> 0 | M16: =H16/5*100 -> 0
A17: ='TEST MARKS '!A18 -> 9 | B17: ='TEST MARKS '!B18 -> ARJUN S | C17: ='TEST MARKS '!C18 -> 1SG15ME013 | D17: ='TEST MARKS '!I18 -> 0 | E17: ='TEST MARKS '!J18 -> 0 | F17: ='TEST MARKS '!K18 -> 0 | G17: ='TEST MARKS '!L18 -> 0 | H17: ='TEST MARKS '!M18 -> 0 | I17: =D17/5*100 -> 0 | J17: =E17/5*100 -> 0 | K17: =F17/5*100 -> 0 | L17: =G17/5*100 -> 0 | M17: =H17/5*100 -> 0
A18: ='TEST MARKS '!A19 -> 10 | B18: ='TEST MARKS '!B19 -> ASHISH SHARMA | C18: ='TEST MARKS '!C19 -> 1SG15ME014 | D18: ='TEST MARKS '!I19 -> 0 | E18: ='TEST MARKS '!J19 -> 0 | F18: ='TEST MARKS '!K19 -> 0 | G18: ='TEST MARKS '!L19 -> 0 | H18: ='TEST MARKS '!M19 -> 0 | I18: =D18/5*100 -> 0 | J18: =E18/5*100 -> 0 | K18: =F18/5*100 -> 0 | L18: =G18/5*100 -> 0 | M18: =H18/5*100 -> 0
A19: ='TEST MARKS '!A20 -> 11 | B19: ='TEST MARKS '!B20 -> AYAN GUHA RAOY | C19: ='TEST MARKS '!C20 -> 1SG15ME015 | D19: ='TEST MARKS '!I20 -> 0 | E19: ='TEST MARKS '!J20 -> 0 | F19: ='TEST MARKS '!K20 -> 0 | G19: ='TEST MARKS '!L20 -> 0 | H19: ='TEST MARKS '!M20 -> 0 | I19: =D19/5*100 -> 0 | J19: =E19/5*100 -> 0 | K19: =F19/5*100 -> 0 | L19: =G19/5*100 -> 0 | M19: =H19/5*100 -> 0
A20: ='TEST MARKS '!A21 -> 12 | B20: ='TEST MARKS '!B21 -> BHARATH .V | C20: ='TEST MARKS '!C21 -> 1SG15ME017 | D20: ='TEST MARKS '!I21 -> 0 | E20: ='TEST MARKS '!J21 -> 0 | F20: ='TEST MARKS '!K21 -> 0 | G20: ='TEST MARKS '!L21 -> 0 | H20: ='TEST MARKS '!M21 -> 0 | I20: =D20/5*100 -> 0 | J20: =E20/5*100 -> 0 | K20: =F20/5*100 -> 0 | L20: =G20/5*100 -> 0 | M20: =H20/5*100 -> 0
... A74: ='TEST MARKS '!A75 -> 66 | B74: ='TEST MARKS '!B75 -> SHUBHAM MAJHI | C74: ='TEST MARKS '!C75 -> 1SG15ME092 | D74: ='TEST MARKS '!I75 -> 0 | E74: ='TEST MARKS '!J75 -> 0 | F74: ='TEST MARKS '!K75 -> 0 | G74: ='TEST MARKS '!L75 -> 0 | H74: ='TEST MARKS '!M75 -> 0 | I74: =D74/5*100 -> 0 | J74: =E74/5*100 -> 0 | K74: =F74/5*100 -> 0 | L74: =G74/5*100 -> 0 | M74: =H74/5*100 -> 0
A75: 67 | B75: ='TEST MARKS '!B76 -> SRIDHAR N S | C75: ='TEST MARKS '!C76 -> 1SG15ME094 | D75: ='TEST MARKS '!I76 -> 0 | E75: ='TEST MARKS '!J76 -> 0 | F75: ='TEST MARKS '!K76 -> 0 | G75: ='TEST MARKS '!L76 -> 0 | H75: ='TEST MARKS '!M76 -> 0 | I75: =D75/5*100 -> 0 | J75: =E75/5*100 -> 0 | K75: =F75/5*100 -> 0 | L75: =G75/5*100 -> 0 | M75: =H75/5*100 -> 0
A76: 68 | B76: ='TEST MARKS '!B77 -> SUKRUTH C | C76: ='TEST MARKS '!C77 -> 1SG15ME095 | D76: ='TEST MARKS '!I77 -> 0 | E76: ='TEST MARKS '!J77 -> 0 | F76: ='TEST MARKS '!K77 -> 0 | G76: ='TEST MARKS '!L77 -> 0 | H76: ='TEST MARKS '!M77 -> 0 | I76: =D76/5*100 -> 0 | J76: =E76/5*100 -> 0 | K76: =F76/5*100 -> 0 | L76: =G76/5*100 -> 0 | M76: =H76/5*100 -> 0
A77: 69 | B77: ='TEST MARKS '!B78 -> SUKRUTH K | C77: ='TEST MARKS '!C78 -> 1SG15ME096 | D77: ='TEST MARKS '!I78 -> 0 | E77: ='TEST MARKS '!J78 -> 0 | F77: ='TEST MARKS '!K78 -> 0 | G77: ='TEST MARKS '!L78 -> 0 | H77: ='TEST MARKS '!M78 -> 0 | I77: =D77/5*100 -> 0 | J77: =E77/5*100 -> 0 | K77: =F77/5*100 -> 0 | L77: =G77/5*100 -> 0 | M77: =H77/5*100 -> 0
A78: 70 | B78: ='TEST MARKS '!B79 -> SUMUKH G K | C78: ='TEST MARKS '!C79 -> 1SG15ME098 | D78: ='TEST MARKS '!I79 -> 0 | E78: ='TEST MARKS '!J79 -> 0 | F78: ='TEST MARKS '!K79 -> 0 | G78: ='TEST MARKS '!L79 -> 0 | H78: ='TEST MARKS '!M79 -> 0 | I78: =D78/5*100 -> 0 | J78: =E78/5*100 -> 0 | K78: =F78/5*100 -> 0 | L78: =G78/5*100 -> 0 | M78: =H78/5*100 -> 0
A79: 71 | B79: ='TEST MARKS '!B80 -> SYED ABEED | C79: ='TEST MARKS '!C80 -> 1SG15ME099 | D79: ='TEST MARKS '!I80 -> 0 | E79: ='TEST MARKS '!J80 -> 0 | F79: ='TEST MARKS '!K80 -> 0 | G79: ='TEST MARKS '!L80 -> 0 | H79: ='TEST MARKS '!M80 -> 0 | I79: =D79/5*100 -> 0 | J79: =E79/5*100 -> 0 | K79: =F79/5*100 -> 0 | L79: =G79/5*100 -> 0 | M79: =H79/5*100 -> 0
A80: 72 | B80: ='TEST MARKS '!B81 -> VIGNESH K M | C80: ='TEST MARKS '!C81 -> 1SG15ME101 | D80: ='TEST MARKS '!I81 -> 0 | E80: ='TEST MARKS '!J81 -> 0 | F80: ='TEST MARKS '!K81 -> 0 | G80: ='TEST MARKS '!L81 -> 0 | H80: ='TEST MARKS '!M81 -> 0 | I80: =D80/5*100 -> 0 | J80: =E80/5*100 -> 0 | K80: =F80/5*100 -> 0 | L80: =G80/5*100 -> 0 | M80: =H80/5*100 -> 0
A81: 73 | B81: ='TEST MARKS '!B82 -> VINEET KUMAR | C81: ='TEST MARKS '!C82 -> 1SG15ME102 | D81: ='TEST MARKS '!I82 -> 0 | E81: ='TEST MARKS '!J82 -> 0 | F81: ='TEST MARKS '!K82 -> 0 | G81: ='TEST MARKS '!L82 -> 0 | H81: ='TEST MARKS '!M82 -> 0 | I81: =D81/5*100 -> 0 | J81: =E81/5*100 -> 0 | K81: =F81/5*100 -> 0 | L81: =G81/5*100 -> 0 | M81: =H81/5*100 -> 0
A82: 74 | B82: ='TEST MARKS '!B83 -> YOGESH GOWDA H | C82: ='TEST MARKS '!C83 -> 1SG15ME104 | D82: ='TEST MARKS '!I83 -> 0 | E82: ='TEST MARKS '!J83 -> 0 | F82: ='TEST MARKS '!K83 -> 0 | G82: ='TEST MARKS '!L83 -> 0 | H82: ='TEST MARKS '!M83 -> 0 | I82: =D82/5*100 -> 0 | J82: =E82/5*100 -> 0 | K82: =F82/5*100 -> 0 | L82: =G82/5*100 -> 0 | M82: =H82/5*100 -> 0
A83: 75 | B83: ='TEST MARKS '!B84 -> YOGESH B | C83: ='TEST MARKS '!C84 -> 1SG15ME105 | D83: ='TEST MARKS '!I84 -> 0 | E83: ='TEST MARKS '!J84 -> 0 | F83: ='TEST MARKS '!K84 -> 0 | G83: ='TEST MARKS '!L84 -> 0 | H83: ='TEST MARKS '!M84 -> 0 | I83: =D83/5*100 -> 0 | J83: =E83/5*100 -> 0 | K83: =F83/5*100 -> 0 | L83: =G83/5*100 -> 0 | M83: =H83/5*100 -> 0
A84: 76 | B84: ='TEST MARKS '!B85 -> AKSHAY S R | C84: ='TEST MARKS '!C85 -> 1SG16ME400 | D84: ='TEST MARKS '!I85 -> 0 | E84: ='TEST MARKS '!J85 -> 0 | F84: ='TEST MARKS '!K85 -> 0 | G84: ='TEST MARKS '!L85 -> 0 | H84: ='TEST MARKS '!M85 -> 0 | I84: =D84/5*100 -> 0 | J84: =E84/5*100 -> 0 | K84: =F84/5*100 -> 0 | L84: =G84/5*100 -> 0 | M84: =H84/5*100 -> 0
A85: 77 | B85: ='TEST MARKS '!B86 -> CHETAN GOWDA H S | C85: ='TEST MARKS '!C86 -> 1SG16ME402 | D85: ='TEST MARKS '!I86 -> 0 | E85: ='TEST MARKS '!J86 -> 0 | F85: ='TEST MARKS '!K86 -> 0 | G85: ='TEST MARKS '!L86 -> 0 | H85: ='TEST MARKS '!M86 -> 0 | I85: =D85/5*100 -> 0 | J85: =E85/5*100 -> 0 | K85: =F85/5*100 -> 0 | L85: =G85/5*100 -> 0 | M85: =H85/5*100 -> 0
A86: 78 | B86: ='TEST MARKS '!B87 -> DARSHAN M E | C86: ='TEST MARKS '!C87 -> 1SG16ME404 | D86: ='TEST MARKS '!I87 -> 0 | E86: ='TEST MARKS '!J87 -> 0 | F86: ='TEST MARKS '!K87 -> 0 | G86: ='TEST MARKS '!L87 -> 0 | H86: ='TEST MARKS '!M87 -> 0 | I86: =D86/5*100 -> 0 | J86: =E86/5*100 -> 0 | K86: =F86/5*100 -> 0 | L86: =G86/5*100 -> 0 | M86: =H86/5*100 -> 0
... A152: 144 | B152: ='TEST MARKS '!B153 -> 0 | C152: ='TEST MARKS '!C153 -> 0 | D152: ='TEST MARKS '!I153 -> 0 | E152: ='TEST MARKS '!J153 -> 0 | F152: ='TEST MARKS '!K153 -> 0 | G152: ='TEST MARKS '!L153 -> 0 | H152: ='TEST MARKS '!M153 -> 0 | I152: =D152/5*100 -> 0 | J152: =E152/5*100 -> 0 | K152: =F152/5*100 -> 0 | L152: =G152/5*100 -> 0 | M152: =H152/5*100 -> 0
N162: =COUNTIF(N9:N146,"Y") -> 0 | O162: =COUNTIF(O9:O146,"Y") -> 0 | P162: =COUNTIF(P9:P146,"Y") -> 0 | Q162: =COUNTIF(Q9:Q146,"Y") -> 0 | R162: =COUNTIF(R9:R146,"Y") -> 0
N163: 0 | O163: 0 | P163: 0 | Q163: 0 | R163: 0
N168: CO1 | O168: CO2 | P168: CO3 | Q168: CO4 | R168: CO5
N169: =N163 -> 0 | O169: =O163 -> 0 | P169: =P163 -> 0 | Q169: =Q163 -> 0 | R169: =R163 -> 0

Sheet SEE-final exam CO
C1: Sapthagiri College of Engineering
C2: Department of Mechanical Engineering
C3: FM LAB
A4: V Semester A&B Section Exam marks
N5: TARGET: 70% OF STUDENTS TO SCORE 40% and ABOVE
A6: Sl. No. | B6: Name of the student | C6: USN | D6: EXAM MARKS OBTAINED(same for all COs) | I6: EXAMINATION ATTAINMENT (%) | N6: Y OR N
D9: CO1 | E9: CO2 | F9: CO3 | G9: CO4 | H9: CO5 | I9: CO1 | J9: CO2 | K9: CO3 | L9: CO4 | M9: CO5 | N9: CO1 | O9: CO2 | P9: CO3 | Q9: CO4 | R9: CO5
A10: ='TEST MARKS '!A10 -> 1 | B10: ='TEST MARKS '!B10 -> AFTAB AHMED WALA | C10: ='TEST MARKS '!C10 -> 1SG15ME004 | D10: ='TEST MARKS '!N10 -> 70 | E10: ='TEST MARKS '!N10 -> 70 | F10: ='TEST MARKS '!N10 -> 70 | G10: ='TEST MARKS '!N10 -> 70 | H10: 0 | I10: =D10/80*100 -> 87.5 | J10: =E10/80*100 -> 87.5 | K10: =F10/80*100 -> 87.5 | L10: =G10/80*100 -> 87.5 | M10: =H10/80*100 -> 0 | N10: =IF(I10>=40,"Y","N") -> Y | O10: =IF(J10>=40,"Y","N") -> Y | P10: =IF(K10>=40,"Y","N") -> Y | Q10: =IF(L10>=40,"Y","N") -> Y | R10: =IF(M10>=40,"Y","N") -> N
A11: ='TEST MARKS '!A11 -> 2 | B11: ='TEST MARKS '!B11 -> AJEYA.V | C11: ='TEST MARKS '!C11 -> 1SG15ME006 | D11: ='TEST MARKS '!N11 -> 67 | E11: ='TEST MARKS '!N11 -> 67 | F11: ='TEST MARKS '!N11 -> 67 | G11: ='TEST MARKS '!N11 -> 67 | H11: ='TEST MARKS '!N11 -> 67 | I11: =D11/80*100 -> 83.75 | J11: =E11/80*100 -> 83.75 | K11: =F11/80*100 -> 83.75 | L11: =G11/80*100 -> 83.75 | M11: =H11/80*100 -> 83.75 | N11: =IF(I11>=40,"Y","N") -> Y | O11: =IF(J11>=40,"Y","N") -> Y | P11: =IF(K11>=40,"Y","N") -> Y | Q11: =IF(L11>=40,"Y","N") -> Y | R11: =IF(M11>=40,"Y","N") -> Y
A12: ='TEST MARKS '!A12 -> 3 | B12: ='TEST MARKS '!B12 -> AJITH S P | C12: ='TEST MARKS '!C12 -> 1SG15ME007 | D12: ='TEST MARKS '!N12 -> 56 | E12: ='TEST MARKS '!N12 -> 56 | F12: ='TEST MARKS '!N12 -> 56 | G12: ='TEST MARKS '!N12 -> 56 | H12: ='TEST MARKS '!N12 -> 56 | I12: =D12/80*100 -> 70 | J12: =E12/80*100 -> 70 | K12: =F12/80*100 -> 70 | L12: =G12/80*100 -> 70 | M12: =H12/80*100 -> 70 | N12: =IF(I12>=40,"Y","N") -> Y | O12: =IF(J12>=40,"Y","N") -> Y | P12: =IF(K12>=40,"Y","N") -> Y | Q12: =IF(L12>=40,"Y","N") -> Y | R12: =IF(M12>=40,"Y","N") -> Y
A13: ='TEST MARKS '!A13 -> 4 | B13: ='TEST MARKS '!B13 -> AKSHAY S | C13: ='TEST MARKS '!C13 -> 1SG15ME008 | D13: ='TEST MARKS '!N13 -> 60 | E13: ='TEST MARKS '!N13 -> 60 | F13: ='TEST MARKS '!N13 -> 60 | G13: ='TEST MARKS '!N13 -> 60 | H13: ='TEST MARKS '!N13 -> 60 | I13: =D13/80*100 -> 75 | J13: =E13/80*100 -> 75 | K13: =F13/80*100 -> 75 | L13: =G13/80*100 -> 75 | M13: =H13/80*100 -> 75 | N13: =IF(I13>=40,"Y","N") -> Y | O13: =IF(J13>=40,"Y","N") -> Y | P13: =IF(K13>=40,"Y","N") -> Y | Q13: =IF(L13>=40,"Y","N") -> Y | R13: =IF(M13>=40,"Y","N") -> Y
A14: ='TEST MARKS '!A14 -> 5 | B14: ='TEST MARKS '!B14 -> AMAN NAIN | C14: ='TEST MARKS '!C14 -> 1SG15ME009 | D14: ='TEST MARKS '!N14 -> 58 | E14: ='TEST MARKS '!N14 -> 58 | F14: ='TEST MARKS '!N14 -> 58 | G14: ='TEST MARKS '!N14 -> 58 | H14: ='TEST MARKS '!N14 -> 58 | I14: =D14/80*100 -> 72.5 | J14: =E14/80*100 -> 72.5 | K14: =F14/80*100 -> 72.5 | L14: =G14/80*100 -> 72.5 | M14: =H14/80*100 -> 72.5 | N14: =IF(I14>=40,"Y","N") -> Y | O14: =IF(J14>=40,"Y","N") -> Y | P14: =IF(K14>=40,"Y","N") -> Y | Q14: =IF(L14>=40,"Y","N") -> Y | R14: =IF(M14>=40,"Y","N") -> Y
A15: ='TEST MARKS '!A15 -> 6 | B15: ='TEST MARKS '!B15 -> AMITH.R | C15: ='TEST MARKS '!C15 -> 1SG15ME010 | D15: ='TEST MARKS '!N15 -> 66 | E15: ='TEST MARKS '!N15 -> 66 | F15: ='TEST MARKS '!N15 -> 66 | G15: ='TEST MARKS '!N15 -> 66 | H15: ='TEST MARKS '!N15 -> 66 | I15: =D15/80*100 -> 82.5 | J15: =E15/80*100 -> 82.5 | K15: =F15/80*100 -> 82.5 | L15: =G15/80*100 -> 82.5 | M15: =H15/80*100 -> 82.5 | N15: =IF(I15>=40,"Y","N") -> Y | O15: =IF(J15>=40,"Y","N") -> Y | P15: =IF(K15>=40,"Y","N") -> Y | Q15: =IF(L15>=40,"Y","N") -> Y | R15: =IF(M15>=40,"Y","N") -> Y
A16: ='TEST MARKS '!A16 -> 7 | B16: ='TEST MARKS '!B16 -> ANIL KUMAR C | C16: ='TEST MARKS '!C16 -> 1SG15ME011 | D16: ='TEST MARKS '!N16 -> 59 | E16: ='TEST MARKS '!N16 -> 59 | F16: ='TEST MARKS '!N16 -> 59 | G16: ='TEST MARKS '!N16 -> 59 | H16: ='TEST MARKS '!N16 -> 59 | I16: =D16/80*100 -> 73.75 | J16: =E16/80*100 -> 73.75 | K16: =F16/80*100 -> 73.75 | L16: =G16/80*100 -> 73.75 | M16: =H16/80*100 -> 73.75 | N16: =IF(I16>=40,"Y","N") -> Y | O16: =IF(J16>=40,"Y","N") -> Y | P16: =IF(K16>=40,"Y","N") -> Y | Q16: =IF(L16>=40,"Y","N") -> Y | R16: =IF(M16>=40,"Y","N") -> Y
A17: ='TEST MARKS '!A17 -> 8 | B17: ='TEST MARKS '!B17 -> ANIRUDH R K | C17: ='TEST MARKS '!C17 -> 1SG15ME012 | D17: ='TEST MARKS '!N17 -> 44 | E17: ='TEST MARKS '!N17 -> 44 | F17: ='TEST MARKS '!N17 -> 44 | G17: ='TEST MARKS '!N17 -> 44 | H17: ='TEST MARKS '!N17 -> 44 | I17: =D17/80*100 -> 55 | J17: =E17/80*100 -> 55 | K17: =F17/80*100 -> 55 | L17: =G17/80*100 -> 55 | M17: =H17/80*100 -> 55 | N17: =IF(I17>=40,"Y","N") -> Y | O17: =IF(J17>=40,"Y","N") -> Y | P17: =IF(K17>=40,"Y","N") -> Y | Q17: =IF(L17>=40,"Y","N") -> Y | R17: =IF(M17>=40,"Y","N") -> Y
A18: ='TEST MARKS '!A18 -> 9 | B18: ='TEST MARKS '!B18 -> ARJUN S | C18: ='TEST MARKS '!C18 -> 1SG15ME013 | D18: ='TEST MARKS '!N18 -> 56 | E18: ='TEST MARKS '!N18 -> 56 | F18: ='TEST MARKS '!N18 -> 56 | G18: ='TEST MARKS '!N18 -> 56 | H18: ='TEST MARKS '!N18 -> 56 | I18: =D18/80*100 -> 70 | J18: =E18/80*100 -> 70 | K18: =F18/80*100 -> 70 | L18: =G18/80*100 -> 70 | M18: =H18/80*100 -> 70 | N18: =IF(I18>=40,"Y","N") -> Y | O18: =IF(J18>=40,"Y","N") -> Y | P18: =IF(K18>=40,"Y","N") -> Y | Q18: =IF(L18>=40,"Y","N") -> Y | R18: =IF(M18>=40,"Y","N") -> Y
A19: ='TEST MARKS '!A19 -> 10 | B19: ='TEST MARKS '!B19 -> ASHISH SHARMA | C19: ='TEST MARKS '!C19 -> 1SG15ME014 | D19: ='TEST MARKS '!N19 -> 56 | E19: ='TEST MARKS '!N19 -> 56 | F19: ='TEST MARKS '!N19 -> 56 | G19: ='TEST MARKS '!N19 -> 56 | H19: ='TEST MARKS '!N19 -> 56 | I19: =D19/80*100 -> 70 | J19: =E19/80*100 -> 70 | K19: =F19/80*100 -> 70 | L19: =G19/80*100 -> 70 | M19: =H19/80*100 -> 70 | N19: =IF(I19>=40,"Y","N") -> Y | O19: =IF(J19>=40,"Y","N") -> Y | P19: =IF(K19>=40,"Y","N") -> Y | Q19: =IF(L19>=40,"Y","N") -> Y | R19: =IF(M19>=40,"Y","N") -> Y
A20: ='TEST MARKS '!A20 -> 11 | B20: ='TEST MARKS '!B20 -> AYAN GUHA RAOY | C20: ='TEST MARKS '!C20 -> 1SG15ME015 | D20: ='TEST MARKS '!N20 -> 70 | E20: ='TEST MARKS '!N20 -> 70 | F20: ='TEST MARKS '!N20 -> 70 | G20: ='TEST MARKS '!N20 -> 70 | H20: ='TEST MARKS '!N20 -> 70 | I20: =D20/80*100 -> 87.5 | J20: =E20/80*100 -> 87.5 | K20: =F20/80*100 -> 87.5 | L20: =G20/80*100 -> 87.5 | M20: =H20/80*100 -> 87.5 | N20: =IF(I20>=40,"Y","N") -> Y | O20: =IF(J20>=40,"Y","N") -> Y | P20: =IF(K20>=40,"Y","N") -> Y | Q20: =IF(L20>=40,"Y","N") -> Y | R20: =IF(M20>=40,"Y","N") -> Y
A21: ='TEST MARKS '!A21 -> 12 | B21: ='TEST MARKS '!B21 -> BHARATH .V | C21: ='TEST MARKS '!C21 -> 1SG15ME017 | D21: ='TEST MARKS '!N21 -> 64 | E21: ='TEST MARKS '!N21 -> 64 | F21: ='TEST MARKS '!N21 -> 64 | G21: ='TEST MARKS '!N21 -> 64 | H21: ='TEST MARKS '!N21 -> 64 | I21: =D21/80*100 -> 80 | J21: =E21/80*100 -> 80 | K21: =F21/80*100 -> 80 | L21: =G21/80*100 -> 80 | M21: =H21/80*100 -> 80 | N21: =IF(I21>=40,"Y","N") -> Y | O21: =IF(J21>=40,"Y","N") -> Y | P21: =IF(K21>=40,"Y","N") -> Y | Q21: =IF(L21>=40,"Y","N") -> Y | R21: =IF(M21>=40,"Y","N") -> Y
A22: ='TEST MARKS '!A22 -> 13 | B22: ='TEST MARKS '!B22 -> C KARTHIK | C22: ='TEST MARKS '!C22 -> 1SG15ME018 | D22: ='TEST MARKS '!N22 -> 59 | E22: ='TEST MARKS '!N22 -> 59 | F22: ='TEST MARKS '!N22 -> 59 | G22: ='TEST MARKS '!N22 -> 59 | H22: ='TEST MARKS '!N22 -> 59 | I22: =D22/80*100 -> 73.75 | J22: =E22/80*100 -> 73.75 | K22: =F22/80*100 -> 73.75 | L22: =G22/80*100 -> 73.75 | M22: =H22/80*100 -> 73.75 | N22: =IF(I22>=40,"Y","N") -> Y | O22: =IF(J22>=40,"Y","N") -> Y | P22: =IF(K22>=40,"Y","N") -> Y | Q22: =IF(L22>=40,"Y","N") -> Y | R22: =IF(M22>=40,"Y","N") -> Y
... A79: ='TEST MARKS '!A79 -> 70 | B79: ='TEST MARKS '!B79 -> SUMUKH G K | C79: ='TEST MARKS '!C79 -> 1SG15ME098 | D79: ='TEST MARKS '!N79 -> 73 | E79: ='TEST MARKS '!N79 -> 73 | F79: ='TEST MARKS '!N79 -> 73 | G79: ='TEST MARKS '!N79 -> 73 | H79: ='TEST MARKS '!N79 -> 73 | I79: =D79/80*100 -> 91.25 | J79: =E79/80*100 -> 91.25 | K79: =F79/80*100 -> 91.25 | L79: =G79/80*100 -> 91.25 | M79: =H79/80*100 -> 91.25 | N79: =IF(I79>=40,"Y","N") -> Y | O79: =IF(J79>=40,"Y","N") -> Y | P79: =IF(K79>=40,"Y","N") -> Y | Q79: =IF(L79>=40,"Y","N") -> Y | R79: =IF(M79>=40,"Y","N") -> Y
A80: 71 | B80: ='TEST MARKS '!B80 -> SYED ABEED | C80: ='TEST MARKS '!C80 -> 1SG15ME099 | D80: ='TEST MARKS '!N80 -> 78 | E80: ='TEST MARKS '!N80 -> 78 | F80: ='TEST MARKS '!N80 -> 78 | G80: ='TEST MARKS '!N80 -> 78 | H80: ='TEST MARKS '!N80 -> 78 | I80: =D80/80*100 -> 97.5 | J80: =E80/80*100 -> 97.5 | K80: =F80/80*100 -> 97.5 | L80: =G80/80*100 -> 97.5 | M80: =H80/80*100 -> 97.5 | N80: =IF(I80>=40,"Y","N") -> Y | O80: =IF(J80>=40,"Y","N") -> Y | P80: =IF(K80>=40,"Y","N") -> Y | Q80: =IF(L80>=40,"Y","N") -> Y | R80: =IF(M80>=40,"Y","N") -> Y
A81: 72 | B81: ='TEST MARKS '!B81 -> VIGNESH K M | C81: ='TEST MARKS '!C81 -> 1SG15ME101 | D81: ='TEST MARKS '!N81 -> 70 | E81: ='TEST MARKS '!N81 -> 70 | F81: ='TEST MARKS '!N81 -> 70 | G81: ='TEST MARKS '!N81 -> 70 | H81: ='TEST MARKS '!N81 -> 70 | I81: =D81/80*100 -> 87.5 | J81: =E81/80*100 -> 87.5 | K81: =F81/80*100 -> 87.5 | L81: =G81/80*100 -> 87.5 | M81: =H81/80*100 -> 87.5 | N81: =IF(I81>=40,"Y","N") -> Y | O81: =IF(J81>=40,"Y","N") -> Y | P81: =IF(K81>=40,"Y","N") -> Y | Q81: =IF(L81>=40,"Y","N") -> Y | R81: =IF(M81>=40,"Y","N") -> Y
A82: 73 | B82: ='TEST MARKS '!B82 -> VINEET KUMAR | C82: ='TEST MARKS '!C82 -> 1SG15ME102 | D82: ='TEST MARKS '!N82 -> 75 | E82: ='TEST MARKS '!N82 -> 75 | F82: ='TEST MARKS '!N82 -> 75 | G82: ='TEST MARKS '!N82 -> 75 | H82: ='TEST MARKS '!N82 -> 75 | I82: =D82/80*100 -> 93.75 | J82: =E82/80*100 -> 93.75 | K82: =F82/80*100 -> 93.75 | L82: =G82/80*100 -> 93.75 | M82: =H82/80*100 -> 93.75 | N82: =IF(I82>=40,"Y","N") -> Y | O82: =IF(J82>=40,"Y","N") -> Y | P82: =IF(K82>=40,"Y","N") -> Y | Q82: =IF(L82>=40,"Y","N") -> Y | R82: =IF(M82>=40,"Y","N") -> Y
A83: 74 | B83: ='TEST MARKS '!B83 -> YOGESH GOWDA H | C83: ='TEST MARKS '!C83 -> 1SG15ME104 | D83: ='TEST MARKS '!N83 -> 70 | E83: ='TEST MARKS '!N83 -> 70 | F83: ='TEST MARKS '!N83 -> 70 | G83: ='TEST MARKS '!N83 -> 70 | H83: ='TEST MARKS '!N83 -> 70 | I83: =D83/80*100 -> 87.5 | J83: =E83/80*100 -> 87.5 | K83: =F83/80*100 -> 87.5 | L83: =G83/80*100 -> 87.5 | M83: =H83/80*100 -> 87.5 | N83: =IF(I83>=40,"Y","N") -> Y | O83: =IF(J83>=40,"Y","N") -> Y | P83: =IF(K83>=40,"Y","N") -> Y | Q83: =IF(L83>=40,"Y","N") -> Y | R83: =IF(M83>=40,"Y","N") -> Y
A84: 75 | B84: ='TEST MARKS '!B84 -> YOGESH B | C84: ='TEST MARKS '!C84 -> 1SG15ME105 | D84: ='TEST MARKS '!N84 -> 74 | E84: ='TEST MARKS '!N84 -> 74 | F84: ='TEST MARKS '!N84 -> 74 | G84: ='TEST MARKS '!N84 -> 74 | H84: ='TEST MARKS '!N84 -> 74 | I84: =D84/80*100 -> 92.5 | J84: =E84/80*100 -> 92.5 | K84: =F84/80*100 -> 92.5 | L84: =G84/80*100 -> 92.5 | M84: =H84/80*100 -> 92.5 | N84: =IF(I84>=40,"Y","N") -> Y | O84: =IF(J84>=40,"Y","N") -> Y | P84: =IF(K84>=40,"Y","N") -> Y | Q84: =IF(L84>=40,"Y","N") -> Y | R84: =IF(M84>=40,"Y","N") -> Y
A85: 76 | B85: ='TEST MARKS '!B85 -> AKSHAY S R | C85: ='TEST MARKS '!C85 -> 1SG16ME400 | D85: ='TEST MARKS '!N85 -> 73 | E85: ='TEST MARKS '!N85 -> 73 | F85: ='TEST MARKS '!N85 -> 73 | G85: ='TEST MARKS '!N85 -> 73 | H85: ='TEST MARKS '!N85 -> 73 | I85: =D85/80*100 -> 91.25 | J85: =E85/80*100 -> 91.25 | K85: =F85/80*100 -> 91.25 | L85: =G85/80*100 -> 91.25 | M85: =H85/80*100 -> 91.25 | N85: =IF(I85>=40,"Y","N") -> Y | O85: =IF(J85>=40,"Y","N") -> Y | P85: =IF(K85>=40,"Y","N") -> Y | Q85: =IF(L85>=40,"Y","N") -> Y | R85: =IF(M85>=40,"Y","N") -> Y
A86: 77 | B86: ='TEST MARKS '!B86 -> CHETAN GOWDA H S | C86: ='TEST MARKS '!C86 -> 1SG16ME402 | D86: ='TEST MARKS '!N86 -> 69 | E86: ='TEST MARKS '!N86 -> 69 | F86: ='TEST MARKS '!N86 -> 69 | G86: ='TEST MARKS '!N86 -> 69 | H86: ='TEST MARKS '!N86 -> 69 | I86: =D86/80*100 -> 86.25 | J86: =E86/80*100 -> 86.25 | K86: =F86/80*100 -> 86.25 | L86: =G86/80*100 -> 86.25 | M86: =H86/80*100 -> 86.25 | N86: =IF(I86>=40,"Y","N") -> Y | O86: =IF(J86>=40,"Y","N") -> Y | P86: =IF(K86>=40,"Y","N") -> Y | Q86: =IF(L86>=40,"Y","N") -> Y | R86: =IF(M86>=40,"Y","N") -> Y
A87: 78 | B87: ='TEST MARKS '!B87 -> DARSHAN M E | C87: ='TEST MARKS '!C87 -> 1SG16ME404 | D87: ='TEST MARKS '!N87 -> 68 | E87: ='TEST MARKS '!N87 -> 68 | F87: ='TEST MARKS '!N87 -> 68 | G87: ='TEST MARKS '!N87 -> 68 | H87: ='TEST MARKS '!N87 -> 68 | I87: =D87/80*100 -> 85 | J87: =E87/80*100 -> 85 | K87: =F87/80*100 -> 85 | L87: =G87/80*100 -> 85 | M87: =H87/80*100 -> 85 | N87: =IF(I87>=40,"Y","N") -> Y | O87: =IF(J87>=40,"Y","N") -> Y | P87: =IF(K87>=40,"Y","N") -> Y | Q87: =IF(L87>=40,"Y","N") -> Y | R87: =IF(M87>=40,"Y","N") -> Y
A88: 79 | B88: ='TEST MARKS '!B88 -> DARSHAN V V | C88: ='TEST MARKS '!C88 -> 1SG16ME405 | D88: ='TEST MARKS '!N88 -> 74 | E88: ='TEST MARKS '!N88 -> 74 | F88: ='TEST MARKS '!N88 -> 74 | G88: ='TEST MARKS '!N88 -> 74 | H88: ='TEST MARKS '!N88 -> 74 | I88: =D88/80*100 -> 92.5 | J88: =E88/80*100 -> 92.5 | K88: =F88/80*100 -> 92.5 | L88: =G88/80*100 -> 92.5 | M88: =H88/80*100 -> 92.5 | N88: =IF(I88>=40,"Y","N") -> Y | O88: =IF(J88>=40,"Y","N") -> Y | P88: =IF(K88>=40,"Y","N") -> Y | Q88: =IF(L88>=40,"Y","N") -> Y | R88: =IF(M88>=40,"Y","N") -> Y
A89: 80 | B89: ='TEST MARKS '!B89 -> HALASWAMY C M | C89: ='TEST MARKS '!C89 -> 1SG16ME407 | D89: ='TEST MARKS '!N89 -> 69 | E89: ='TEST MARKS '!N89 -> 69 | F89: ='TEST MARKS '!N89 -> 69 | G89: ='TEST MARKS '!N89 -> 69 | H89: ='TEST MARKS '!N89 -> 69 | I89: =D89/80*100 -> 86.25 | J89: =E89/80*100 -> 86.25 | K89: =F89/80*100 -> 86.25 | L89: =G89/80*100 -> 86.25 | M89: =H89/80*100 -> 86.25 | N89: =IF(I89>=40,"Y","N") -> Y | O89: =IF(J89>=40,"Y","N") -> Y | P89: =IF(K89>=40,"Y","N") -> Y | Q89: =IF(L89>=40,"Y","N") -> Y | R89: =IF(M89>=40,"Y","N") -> Y
A90: 81 | B90: ='TEST MARKS '!B90 -> HEMANTH KUMAR T | C90: ='TEST MARKS '!C90 -> 1SG16ME408 | D90: ='TEST MARKS '!N90 -> 67 | E90: ='TEST MARKS '!N90 -> 67 | F90: ='TEST MARKS '!N90 -> 67 | G90: ='TEST MARKS '!N90 -> 67 | H90: ='TEST MARKS '!N90 -> 67 | I90: =D90/80*100 -> 83.75 | J90: =E90/80*100 -> 83.75 | K90: =F90/80*100 -> 83.75 | L90: =G90/80*100 -> 83.75 | M90: =H90/80*100 -> 83.75 | N90: =IF(I90>=40,"Y","N") -> Y | O90: =IF(J90>=40,"Y","N") -> Y | P90: =IF(K90>=40,"Y","N") -> Y | Q90: =IF(L90>=40,"Y","N") -> Y | R90: =IF(M90>=40,"Y","N") -> Y
A91: 82 | B91: ='TEST MARKS '!B91 -> HEMANTH L | C91: ='TEST MARKS '!C91 -> 1SG16ME409 | D91: ='TEST MARKS '!N91 -> 71 | E91: ='TEST MARKS '!N91 -> 71 | F91: ='TEST MARKS '!N91 -> 71 | G91: ='TEST MARKS '!N91 -> 71 | H91: ='TEST MARKS '!N91 -> 71 | I91: =D91/80*100 -> 88.75 | J91: =E91/80*100 -> 88.75 | K91: =F91/80*100 -> 88.75 | L91: =G91/80*100 -> 88.75 | M91: =H91/80*100 -> 88.75 | N91: =IF(I91>=40,"Y","N") -> Y | O91: =IF(J91>=40,"Y","N") -> Y | P91: =IF(K91>=40,"Y","N") -> Y | Q91: =IF(L91>=40,"Y","N") -> Y | R91: =IF(M91>=40,"Y","N") -> Y
... A121: 112 | B121: ='TEST MARKS '!B121 -> YASHAVANTH A S | C121: ='TEST MARKS '!C121 -> 1SG16ME444 | D121: ='TEST MARKS '!N121 -> 48 | E121: ='TEST MARKS '!N121 -> 48 | F121: ='TEST MARKS '!N121 -> 48 | G121: ='TEST MARKS '!N121 -> 48 | H121: ='TEST MARKS '!N121 -> 48 | I121: =D121/80*100 -> 60 | J121: =E121/80*100 -> 60 | K121: =F121/80*100 -> 60 | L121: =G121/80*100 -> 60 | M121: =H121/80*100 -> 60 | N121: =IF(I121>=40,"Y","N") -> Y | O121: =IF(J121>=40,"Y","N") -> Y | P121: =IF(K121>=40,"Y","N") -> Y | Q121: =IF(L121>=40,"Y","N") -> Y | R121: =IF(M121>=40,"Y","N") -> Y
R122: =IF(M122>=40,"Y","N") -> N
R123: =IF(M123>=40,"Y","N") -> N
R124: =IF(M124>=40,"Y","N") -> N
R125: =IF(M125>=40,"Y","N") -> N
R126: =IF(M126>=40,"Y","N") -> N
R127: =IF(M127>=40,"Y","N") -> N
R128: =IF(M128>=40,"Y","N") -> N
R129: =IF(M129>=40,"Y","N") -> N
R130: =IF(M130>=40,"Y","N") -> N
R131: =IF(M131>=40,"Y","N") -> N
R132: =IF(M132>=40,"Y","N") -> N
R133: =IF(M133>=40,"Y","N") -> N
... R153: =IF(M153>=40,"Y","N") -> N
N156: =COUNTIF(N10:N147,"Y") -> 112 | O156: =COUNTIF(O10:O147,"Y") -> 112 | P156: =COUNTIF(P10:P147,"Y") -> 112 | Q156: =COUNTIF(Q10:Q147,"Y") -> 112 | R156: =COUNTIF(R10:R147,"Y") -> 111
N157: =N156/112*100 -> 100 | O157: =O156/112*100 -> 100 | P157: =P156/112*100 -> 100 | Q157: =Q156/112*100 -> 100 | R157: =R156/138*100 -> 80.434783
N159: CO1 | O159: CO2 | P159: CO3 | Q159: CO4 | R159: CO5
N160: =N157 -> 100 | O160: =O157 -> 100 | P160: =P157 -> 100 | Q160: =Q157 -> 100 | R160: =R157 -> 80.434783

Sheet TOTAL CO 
B1: Sapthagiri College of Engineering
B2: Department of Mechanical Engineering
B3: FM LAB
B4: V Semester
E5: DIRECT ASSESMENT METHOD
B6: Equal weigtage to TEST, ASSIGNMENT & EXAM MARKS | E6: CO1 | F6: CO2 | G6: CO3 | H6: CO4 | I6: CO5
D7: IA MARKS ATTAINMENT | E7: ='TEST -CO '!N162 -> 94.642857 | F7: ='TEST -CO '!O162 -> 94.642857 | G7: ='TEST -CO '!P162 -> 94.642857 | H7: ='TEST -CO '!Q162 -> 0 | I7: ='TEST -CO '!R162 -> 0
D8: Assignment ATTAINMENT | E8: ='Assignment CO '!N163 -> 0 | F8: ='Assignment CO '!O163 -> 0 | G8: ='Assignment CO '!P163 -> 0 | H8: ='Assignment CO '!Q163 -> 0 | I8: ='Assignment CO '!R163 -> 0
D9: EXAM ATTAINMENT | E9: ='SEE-final exam CO'!N160 -> 100 | F9: ='SEE-final exam CO'!O160 -> 100 | G9: ='SEE-final exam CO'!P160 -> 100 | H9: ='SEE-final exam CO'!Q160 -> 100 | I9: ='SEE-final exam CO'!R160 -> 80.434783
D10: AVARAGE | E10: =(E7+E9)/2 -> 97.321429 | F10: =(F7+F9)/2 -> 97.321429 | G10: =(G7+G9)/2 -> 97.321429 | H10: =(H7+H9)/2 -> 50 | I10: =(I7+I9)/2 -> 40.217391
E14: CO1 | F14: CO2 | G14: CO3 | H14: CO4 | I14: CO5
D15: ATTAINMENT of COs | E15: =E10 -> 97.321429 | F15: =F10 -> 97.321429 | G15: =G10 -> 97.321429 | H15: =H10 -> 50 | I15: =I10 -> 40.217391
D35: NEXT ACADEMIC YEAR TARGET CAN BE: 90%

Sheet CO SURVEY
A1: SAPTHAGIRI COLLEGE OF ENGINEERING, BENGALURU - 57.
A2: DEPARTMENT OF MECHANICAL ENGINEERING
A3: COURSE EXIT SURVEY (ODD SEM. 2019-20)
A4: SEM & SEC: | F4: SUB CODE: 15ME72
A5: NAME OF THE FACULTY Hemanth Kumar HR | E5: NOTE: This survey is obtained through google Forms
A8: SL NO | B8: Timestamp | C8: Name | D8: USN | E8: 1. Ability to calculate the various properties of fluid, stability of floating bodies and hydro static forces acting on the surface. | F8: 2. Ability to solve the problems related to fluid kinematics and fluid dynamics by applying the related principles. | G8: 3. Ability to make analysis of various types of fluid flows | H8: 4. Ability to apply dimensional analysis concepts to build relations among different variables. | I8: 5. Ability to describe the concepts related to boundary layer Separation | J8: 6. Ability to explain the basic concepts related to compressible flow and Computational fluid dynamics (CFD).
B9: CO | E9: CO1 | F9: C02 | G9: C03 | H9: CO4 | I9: CO5 | J9: CO6
A10: 1 | B10: 43614.625 | C10: Ashrith | D10: 1sg17me010 | E10: 5 | F10: 5 | G10: 5 | H10: 5 | I10: 5 | J10: 5
A11: 2 | B11: 43614.626 | C11: Ananda | D11: 1SG18ME400 | E11: 4 | F11: 4 | G11: 4 | H11: 4 | I11: 3 | J11: 4
A12: 3 | B12: 43614.631 | C12: Vilas Raj Y | D12: 1SG18ME439 | E12: 5 | F12: 5 | G12: 5 | H12: 5 | I12: 5 | J12: 5
A13: 4 | B13: 43614.636 | C13: Subramanya c | D13: 1sg17me086 | E13: 5 | F13: 5 | G13: 5 | H13: 5 | I13: 5 | J13: 5
A14: 5 | B14: 43614.636 | C14: Hemanth Bhat | D14: 1SG17ME028 | E14: 5 | F14: 5 | G14: 5 | H14: 5 | I14: 5 | J14: 5
A15: 6 | B15: 43614.637 | C15: Kiran.s | D15: 1sg17me035 | E15: 4 | F15: 4 | G15: 4 | H15: 4 | I15: 3 | J15: 4
A16: 7 | B16: 43614.643 | C16: Nishant Singh | D16: 1sg17me050 | E16: 5 | F16: 5 | G16: 5 | H16: 4 | I16: 5 | J16: 5
A17: 8 | B17: 43614.646 | C17: Pavan B M | D17: 1SG17ME052 | E17: 5 | F17: 5 | G17: 5 | H17: 5 | I17: 5 | J17: 5
A18: 9 | B18: 43614.648 | C18: Shashank | D18: 1SG18ME433 | E18: 4 | F18: 5 | G18: 4 | H18: 4 | I18: 4 | J18: 4
A19: 10 | B19: 43614.655 | C19: Dhanush u | D19: 1sg18me414 | E19: 5 | F19: 5 | G19: 5 | H19: 5 | I19: 5 | J19: 4
A20: 11 | B20: 43614.658 | C20: Kushal v | D20: 1sg17me038 | E20: 5 | F20: 4 | G20: 5 | H20: 3 | I20: 4 | J20: 5
A21: 12 | B21: 43614.677 | C21: Charan Kumar .m | D21: 1sg18me407 | E21: 2 | F21: 2 | G21: 2 | H21: 3 | I21: 3 | J21: 1
... A62: 53 | B62: 43645.432 | C62: PRAJWAL BHARADWAJ A | D62: 1sg17me056 | E62: 4 | F62: 4 | G62: 3 | H62: 4 | I62: 4 | J62: 4
D78: No. of graded "0" | E78: =COUNTIF(E10:E62,"0") -> 0 | F78: =COUNTIF(F10:F62,"0") -> 0 | G78: =COUNTIF(G10:G62,"0") -> 0 | H78: =COUNTIF(H10:H62,"0") -> 0 | I78: =COUNTIF(I10:I62,"0") -> 0 | J78: =COUNTIF(J10:J62,"0") -> 0
D79: No. of graded "1" | E79: =COUNTIF(E10:E62,"1") -> 1 | F79: =COUNTIF(F10:F62,"1") -> 0 | G79: =COUNTIF(G10:G62,"1") -> 0 | H79: =COUNTIF(H10:H62,"1") -> 0 | I79: =COUNTIF(I10:I62,"1") -> 0 | J79: =COUNTIF(J10:J62,"1") -> 1
D80: No. of graded "2" | E80: =COUNTIF(E10:E62,"2") -> 1 | F80: =COUNTIF(F10:F62,"2") -> 3 | G80: =COUNTIF(G10:G62,"2") -> 2 | H80: =COUNTIF(H10:H62,"2") -> 1 | I80: =COUNTIF(I10:I62,"2") -> 3 | J80: =COUNTIF(J10:J62,"2") -> 0
D81: No. of graded "3" | E81: =COUNTIF(E10:E62,"3") -> 6 | F81: =COUNTIF(F10:F62,"3") -> 2 | G81: =COUNTIF(G10:G62,"3") -> 6 | H81: =COUNTIF(H10:H62,"3") -> 5 | I81: =COUNTIF(I10:I62,"3") -> 7 | J81: =COUNTIF(J10:J62,"3") -> 3
D82: No. of graded "4" | E82: =COUNTIF(E10:E62,"4") -> 13 | F82: =COUNTIF(F10:F62,"4") -> 20 | G82: =COUNTIF(G10:G62,"4") -> 15 | H82: =COUNTIF(H10:H62,"4") -> 22 | I82: =COUNTIF(I10:I62,"4") -> 17 | J82: =COUNTIF(J10:J62,"4") -> 18
D83: No. of graded "5" | E83: =COUNTIF(E10:E62,"5") -> 32 | F83: =COUNTIF(F10:F62,"5") -> 28 | G83: =COUNTIF(G10:G62,"5") -> 30 | H83: =COUNTIF(H10:H62,"5") -> 25 | I83: =COUNTIF(I10:I62,"5") -> 26 | J83: =COUNTIF(J10:J62,"5") -> 31

Sheet final assesment
A1: SAPTHAGIRI COLLEGE OF ENGINEERING, BENGALURU - 57.
A2: DEPARTMENT OF MECHANICAL ENGINEERING
A3: INDIRECT CO ASSESSMENT METHOD AND FINAL CO ATTAINMENT (ODD SEM. 2019-20)
A4: SEM & SEC: VII A& B SEC | D4: Subject: FLUID POWER SYSYTEM | J4: Subject Code: 15ME72
A5: NAME OF THE FACULTY :Madhu Kumar YC & Hemanth Kumar HR | F5: NOTE: This survey is obtained through google Forms
A8: CO No. | B8: CO description | C8: Course Exit Survey Questions | D8: No. of students given the ratings | J8: Total Responses | K8: Weighted Average | L8: CO Max. Count | M8: %age CO attainment
D9: 0 | E9: 1 | F9: 2 | G9: 3 | H9: 4 | I9: 5
A10: CO1 | B10: 1. Ability to calculate the various properties of fluid, stability of floating bodies and hydro static forces acting on the surface. | C10: Are you able to calculate the various properties of fluid, stability of floating bodies and hydro static forces acting on the surface. | D10: 0 | E10: 1 | F10: 1 | G10: 6 | H10: 13 | I10: 32 | J10: 53 | K10: =(E10*1+F10*2+G10*3+H10*4+I10*5)/53 -> 4.3962264 | L10: 5 | M10: =(K10/L10)*100 -> 87.924528
A11: CO2 | B11: 2. Ability to solve the problems related to fluid kinematics and fluid dynamics by applying the related principles. | C11: Are you able to solve the problems related to fluid kinematics and fluid dynamics by applying the related principles. | D11: 0 | E11: 0 | F11: 3 | G11: 2 | H11: 20 | I11: 28 | J11: 53 | K11: =(E11*1+F11*2+G11*3+H11*4+I11*5)/53 -> 4.3773585 | L11: 5 | M11: =(K11/L11)*100 -> 87.54717
A12: CO3 | B12: 3. Ability to make analysis of various types of fluid flows | C12: Are you able to make analysis of various types of fluid flows | D12: 0 | E12: 0 | F12: 2 | G12: 6 | H12: 15 | I12: 30 | J12: 53 | K12: =(E12*1+F12*2+G12*3+H12*4+I12*5)/53 -> 4.3773585 | L12: 5 | M12: =(K12/L12)*100 -> 87.54717
A13: CO4 | B13: 4. Ability to apply dimensional analysis concepts to build relations among different variables. | C13: Are you able to apply dimensional analysis concepts to build relations among different variables. | D13: 0 | E13: 0 | F13: 1 | G13: 5 | H13: 22 | I13: 25 | J13: 53 | K13: =(E13*1+F13*2+G13*3+H13*4+I13*5)/53 -> 4.3396226 | L13: 5 | M13: =(K13/L13)*100 -> 86.792453
A14: CO5 | B14: 5. Ability to describe the concepts related to boundary layer Separation | C14: Are you able to describe the concepts related to boundary layer Separation. | D14: 0 | E14: 0 | F14: 3 | G14: 7 | H14: 17 | I14: 26 | J14: 53 | K14: =(E14*1+F14*2+G14*3+H14*4+I14*5)/53 -> 4.245283 | L14: 5 | M14: =(K14/L14)*100 -> 84.90566
A15: CO6 | B15: 6. Ability to explain the basic concepts related to compressible flow and Computational fluid dynamics (CFD). | C15: Are you able to explain the basic concepts related to compressible flow and Computational fluid dynamics (CFD). | D15: 0 | E15: 1 | F15: 0 | G15: 3 | H15: 18 | I15: 31 | J15: 53 | K15: =(E15*1+F15*2+G15*3+H15*4+I15*5)/53 -> 4.4716981 | L15: 5 | M15: =(K15/L15)*100 -> 89.433962
C23: COs | D23: CO1 | E23: CO2 | F23: CO3 | G23: CO4 | H23: CO5
C24: Weighted Average | D24: 3 | E24: 3 | F24: 3 | G24: 3 | H24: 3
C25: CO Max. count | D25: 5 | E25: 5 | F25: 5 | G25: 5 | H25: 5
C26: %age CO attainment | D26: 61.111111 | E26: 66.183575 | F26: 64.975845 | G26: 68.357488 | H26: 64.009662
C28: CO Assessment method | D28: CO1 | E28: CO2 | F28: CO3 | G28: CO4 | H28: CO5
C29: Direct method (IA Test, Assignment/quiz and exam) | D29: ='TOTAL CO '!E10 -> 97.321429 | E29: ='TOTAL CO '!F10 -> 97.321429 | F29: ='TOTAL CO '!G10 -> 97.321429 | G29: ='TOTAL CO '!H10 -> 50 | H29: ='TOTAL CO '!I10 -> 40.217391
C30: Weightage (80%) | D30: =D29*0.8 -> 77.857143 | E30: =E29*0.8 -> 77.857143 | F30: =F29*0.8 -> 77.857143 | G30: =G29*0.8 -> 40 | H30: =H29*0.8 -> 32.173913
C31: Indirect method (Course Exit Survey) | D31: 87.924528 | E31: 87.54717 | F31: 87.54717 | G31: 86.792453 | H31: 84.90566
C32: Weightage (20%) | D32: =D31*0.2 -> 17.584906 | E32: =E31*0.2 -> 17.509434 | F32: =F31*0.2 -> 17.509434 | G32: =G31*0.2 -> 17.358491 | H32: =H31*0.2 -> 16.981132
C33: Final CO Attainment | D33: =D30+D32 -> 95.442049 | E33: =E30+E32 -> 95.366577 | F33: =F30+F32 -> 95.366577 | G33: =G30+G32 -> 57.358491 | H33: =H30+H32 -> 49.155045
C36: Final CO Attainment in %age | D36: CO1 | E36: CO2 | F36: CO3 | G36: CO4 | H36: CO5
D37: =D33 -> 95.442049 | E37: =E33 -> 95.366577 | F37: =F33 -> 95.366577 | G37: =G33 -> 57.358491 | H37: =H33 -> 49.155045

Sheet CO ATTAINMENT
A1: SAPTHAGIRI COLLEGE OF ENGINEERING, BENGALURU - 57.
A2: DEPARTMENT OF MECHANICAL ENGINEERING
A3: CO-PO ATTAINMENT (ODD SEM. 2017-18)
A4: SEM & SEC: V A & B SEC | F4: Subject: Fluid Mechanics Lab
A5: NAME OF THE FACULTY : RAMESH NG | I5: Subject Code: 15MEL57
B6: I CO Attainment
B7: A: Direct assessment (80%)-Tests, Assignment, Examination
B8: B: Indirect assessment (20%)-Course end survey
B10: COs | C10: Mapping POs | D10: Direct Assessment | E10: Indirect Assessment | F10: Overall Attainment | G10: Target (%) | H10: Attainment
F11: 0.8 (a) + 0.2(b)
D12: (a) | E12: (b)
B13: CO1 | C13: 1,2,9,11 | D13: 85.416667 | E13: 88 | F13: =(0.8*D13)+(0.2*E13) -> 85.933333 | G13: 80 | H13: YES
B14: CO2 | C14: 1,2,3,11,12 | D14: 81.018519 | E14: 88 | F14: =(0.8*D14)+(0.2*E14) -> 82.414815 | G14: 80 | H14: YES
B15: CO3 | C15: 1,2,4,12 | D15: 92.824074 | E15: 88 | F15: =(0.8*D15)+(0.2*E15) -> 91.859259 | G15: 80 | H15: YES
B16: CO4 | D16: 82.638889 | E16: 87 | F16: =(0.8*D16)+(0.2*E16) -> 83.511111 | G16: 80 | H16: YES
B17: CO5 | D17: 75.925926 | E17: 85 | F17: =(0.8*D17)+(0.2*E17) -> 77.740741 | G17: 80 | H17: YES

Sheet CO PO   ATTAINMENT DIRECT ASSME
A1: SAPTHAGIRI COLLEGE OF ENGINEERING, BENGALURU - 57.
A2: DEPARTMENT OF MECHANICAL ENGINEERING
A3: CO-PO ATTAINMENT (ODD SEM. 2017-18)
A4: SEM & SEC:V A & B SEC | F4: Subject: Fluid Mechanics Lab | K4: Subject Code: 15MEL57
A5: NAME OF THE FACULTY :RAMESH NG
E6: II PO Attainment
E7: Subject teacher+ Class teacher= Program coordinator
E8: A: Direct assessment (80%)- Through CO-PO Mapping (By subject teacher)
E9: B: Indirect assessment (20%)-Exit survey (By class teacher)+Course end survey by subject teacher
D10: A: Direct assessment (80%)- Through CO-PO Mapping (By subject teacher)
B12: Mapping of Course outcomes (COs) and Program Ooutcomes (POs)
B13: Note: 1 = Slight 2 = Moderate 3 = Substential
B15: Course outcomes | D15: Program Outcomes | P15: PSO
D16: PO1 | E16: PO2 | F16: PO3 | G16: PO4 | H16: PO5 | I16: PO6 | J16: PO7 | K16: PO8 | L16: PO9 | M16: PO10 | N16: PO11 | O16: PO12 | P16: POS1 | Q16: POS2
B17: CO-1 | D17: 3 | E17: 3 | F17: 2 | G17: 2 | I17: 2 | J17: 2 | O17: 2 | P17: 3 | Q17: 3
B18: CO-2 | D18: 3 | E18: 3 | F18: 2 | G18: 2 | I18: 2 | J18: 2 | O18: 2 | P18: 3 | Q18: 3
B19: CO-3 | D19: 3 | E19: 2 | F19: 2 | G19: 1 | I19: 2 | J19: 2 | O19: 2 | P19: 3 | Q19: 3
B20: CO-4
B21: CO-5
B22: Average | D22: =AVERAGE(D17:D21) -> 3 | E22: =AVERAGE(E17:E21) -> 2.6666667 | F22: =AVERAGE(F17:F21) -> 2 | G22: =AVERAGE(G17:G21) -> 1.6666667 | H22: - | I22: =AVERAGE(I17:I21) -> 2 | J22: =AVERAGE(J17:J21) -> 2 | K22: - | L22: - | M22: - | N22: - | O22: =AVERAGE(O17:O21) -> 2 | P22: =AVERAGE(P17:P21) -> 3 | Q22: =AVERAGE(Q17:Q21) -> 3
B24: Mapping of Course outcomes (COs) and Program Ooutcomes (POs)
B25: Note: 1 = Slight 2 = Moderate 3 = Substential
B27: Course outcomes | D27: Program Outcomes | P27: PSO
D28: PO1 | E28: PO2 | F28: PO3 | G28: PO4 | H28: PO5 | I28: PO6 | J28: PO7 | K28: PO8 | L28: PO9 | M28: PO10 | N28: PO11 | O28: PO12 | P28: POS1 | Q28: POS2
B29: CO-1 | C29: 97 | D29: =D17/3*C29 -> 97 | E29: =E17/3*C29 -> 97 | F29: =F17/3*C29 -> 64.666667 | G29: 0 | H29: - | I29: =I17/3*C29 -> 64.666667 | J29: =J17/3*C29 -> 64.666667 | K29: =K17/3*C29 -> 0 | L29: 0 | M29: 0 | N29: 0 | O29: =O17/3*C29 -> 64.666667 | P29: =P17/3*C29 -> 97 | Q29: =Q17/3*C29 -> 97
B30: CO-2 | C30: 97 | D30: =D18/3*C30 -> 97 | E30: =E18/3*C30 -> 97 | F30: =F18/3*C30 -> 64.666667 | G30: =G18/3*C30 -> 64.666667 | H30: - | I30: =I18/3*C30 -> 64.666667 | J30: =C30/5*J18 -> 38.8 | K30: =(C30/4)*K18 -> 0 | L30: - | M30: - | N30: - | O30: =O18/3*C30 -> 64.666667 | P30: =P18/3*C30 -> 97 | Q30: =Q18/3*C30 -> 97
B31: CO-3 | C31: 97 | D31: =D19/3*C31 -> 97 | E31: =E19/3*C31 -> 64.666667 | F31: =F19/3*C31 -> 64.666667 | G31: 0 | H31: - | I31: =I19/3*C31 -> 64.666667 | J31: =C31/5*J19 -> 38.8 | K31: =(C31/4)*K19 -> 0 | L31: - | M31: - | N31: =(C31/4)*N19 -> 0 | O31: =O19/3*C31 -> 64.666667 | P31: =P19/3*C31 -> 97 | Q31: =Q19/3*C31 -> 97
B32: CO-4
B33: CO-5
B34: Average | D34: =AVERAGE(D29:D33) -> 97 | E34: =AVERAGE(E29:E33) -> 86.222222 | F34: =AVERAGE(F29:F33) -> 64.666667 | G34: =AVERAGE(G29:G33) -> 21.555556 | H34: - | I34: =AVERAGE(I29:I33) -> 64.666667 | J34: =AVERAGE(J29:J33) -> 47.422222 | K34: - | L34: - | M34: - | N34: - | O34: =AVERAGE(O29:O33) -> 64.666667 | P34: =AVERAGE(P29:P33) -> 97 | Q34: =AVERAGE(Q29:Q33) -> 97
B38: Engineering Graduates will be able to: 1. Engineering Knowledge: Apply the knowledge of mathematics, science, engineering fundamentals, and an engineering specialization to the solution of complex engineering problems. 2. Problems Analysis: Identify, formulate, review research literature, and analyze complex, engineering problems reaching sustained conclusions using first principles of mathematics, natural science and engineering science. 3. Design/development of solutions: Design solutions for complex engineering problems and design system components of process that meet the specified needs with appropriate consideration for the public health and safety, and cultural, societal, and environmental consideration. 4. Conduct investigations of complex problems: Use research-based knowledge and research methods including design of experiments analysis and interpretation of data, and synthesis of information to provide valid conclusions. 5. Modern tool usage: create, select, and apply appropriate techniques, resource and modern engineering and IT tools including prediction and modeling to complex engineering activities with an understanding of the limitations. 6. The engineer and society: Apply the reasoning informed by the contextual knowledge to access societal, health, safety, legal and cultural issue and the consequent responsibility relevant to the professional engineering practice. 7. Environment and sustainability: Understanding the impact of the professional engineering solution in the social and environmental contexts, and demonstrate the knowledge of, and need for sustainable development. 8. Ethics: Apply ethics principle and commit to professional ethic and responsibility and norms of the engineering practice. 9. Individual and team work: Function effectively as an individual, and as member or leader in diverse team, and in multidisciplinary setting. 10. Communication: Communicate effectively on complex engineering activities with the engineering community and with society at large, such as, being to comprehend and write effective reports and design documentation, make effective presentations, and give and receive clear instructions. 11. Project management and finance: Demonstrate knowledge and understanding of the engineering and management principles and apply these to one’s own work, as a member and leader in team, to manage projects and in multidisciplinary environments. 12. Life-long learning: Recognizing the need for, and have the preparation and ability to engage in independent and life-long learning in the broadest context of technological change.
B62: CO1: Able to describe metrology, methods, standards, of measurement and measuring instruments
B63: CO2: Able to explain system of limits, fits, tolerances, gauges and comparators?
B64: CO3: Able to explain meteorological measurements of screw threads, gear tooth parameters and advanced metrology instruments?
B65: CO4: Able to explain basics and methods of indirect measurements?
B66: CO5: Able to explain measurement of parameters: force, pressure, temperature and strain?

Sheet CO-PO ATTAINMENT INDIRECT ASSME
A1: SAPTHAGIRI COLLEGE OF ENGINEERING, BENGALURU - 57.
A2: DEPARTMENT OF MECHANICAL ENGINEERING
A3: CO-PO ATTAINMENT (ODD SEM. 2019-20)
A4: SEM & SEC:VII A & B SEC | F4: Subject: Fluid Power System | K4: Subject Code: 15ME72
A5: NAME OF THE FACULTY :Madhu Kumar YC & Hemanth Kumar HR
E6: II PO Attainment
E7: Subject teacher+ Class teacher= Program coordinator
E8: A: Direct assessment (80%)- Through CO-PO Mapping (By subject teacher)
E9: B: Indirect assessment (20%)-Exit survey (By class teacher)+Course end survey by subject teacher
D10: A: Direct assessment (80%)- Through CO-PO Mapping (By subject teacher)
B12: Mapping of Course outcomes (COs) and Program Ooutcomes (POs)
B13: Note: 1 = Slight 2 = Moderate 3 = Good 4 = Excellent
B15: Course outcomes | E15: Program Outcomes | Q15: PSO
E16: PO1 | F16: PO2 | G16: PO3 | H16: PO4 | I16: PO5 | J16: PO6 | K16: PO7 | L16: PO8 | M16: PO9 | N16: PO10 | O16: PO11 | P16: PO12 | Q16: POS1 | R16: POS2
B17: CO-1 | E17: 3 | F17: 2 | G17: 1 | H17: - | I17: - | J17: 1 | K17: - | L17: 1 | M17: - | N17: - | O17: - | P17: 2 | Q17: 3 | R17: 2
B18: CO-2 | E18: 3 | F18: 2 | G18: 3 | H18: 2 | I18: - | J18: 1 | K18: 2 | L18: 1 | M18: - | N18: - | O18: - | P18: 3 | Q18: 3 | R18: 2
B19: CO-3 | E19: 3 | F19: 2 | G19: 1 | H19: - | I19: - | J19: 1 | K19: 1 | L19: 1 | M19: - | N19: - | O19: 1 | P19: 3 | Q19: 3 | R19: 2
B20: CO-4 | E20: 3 | F20: 2 | G20: 3 | H20: 2 | I20: - | J20: 1 | K20: 2 | L20: 2 | M20: - | N20: - | O20: - | P20: 3 | Q20: 3 | R20: 2
B21: CO-5 | E21: 3 | F21: 2 | G21: - | H21: - | I21: - | J21: - | K21: - | L21: - | M21: - | O21: 2 | P21: 1 | Q21: 3 | R21: 2
B22: Average | E22: =AVERAGE(E17:E21) -> 3 | F22: =AVERAGE(F17:F21) -> 2 | G22: 2 | H22: =AVERAGE(H17:H21) -> 2 | I22: - | J22: =AVERAGE(J17:J21) -> 1 | K22: 2 | L22: 1 | M22: - | N22: - | O22: =AVERAGE(O17:O21) -> 1.5 | P22: =AVERAGE(P17:P21) -> 2.4 | Q22: 3 | R22: 2
B24: B: Indirect assessment (20%)-Mapping through Course Exit survey (By Subject teacher)
B25: Mapping of Course outcomes (COs) and Program Ooutcomes (POs)
B26: Note: 1 = Slight 2 = Moderate 3 = Good 4 = Excellent
B28: Course outcomes | E28: Program Outcomes | Q28: PSO
E29: PO1 | F29: PO2 | G29: PO3 | H29: PO4 | I29: PO5 | J29: PO6 | K29: PO7 | L29: PO8 | M29: PO9 | N29: PO10 | O29: PO11 | P29: PO12 | Q29: POS1 | R29: POS2
B30: CO-1 | C30: 89 | E30: =(53/4)*E17 -> 39.75 | F30: =(53/4)*F17 -> 26.5 | G30: =(53/4)*G17 -> 13.25 | H30: - | I30: - | J30: =(53/4)*J17 -> 13.25 | K30: - | L30: =(53/4)*L17 -> 13.25 | M30: - | N30: - | O30: - | P30: =(53/4)*P17 -> 26.5
B31: CO-2 | C31: 87 | E31: =(52/4)*E18 -> 39 | F31: =(52/4)*F18 -> 26 | H31: - | I31: - | J31: =(52/4)*J18 -> 13 | K31: =(52/4)*K18 -> 26 | L31: =(52/4)*L18 -> 13 | M31: - | N31: - | O31: - | P31: =(52/4)*P18 -> 39
B32: CO-3 | C32: 89 | E32: =(52/4)*E19 -> 39 | F32: =(52/4)*F19 -> 26 | G32: =(52/4)*G19 -> 13 | H32: - | I32: - | J32: =(52/4)*J19 -> 13 | K32: =(52/4)*K19 -> 13 | L32: =(52/4)*L19 -> 13 | M32: - | N32: - | O32: =(52/4)*O19 -> 13 | P32: =(52/4)*P19 -> 39
B33: CO-4 | C33: 87 | E33: =(50/4)*E20 -> 37.5 | F33: =(50/4)*F20 -> 25 | H33: - | I33: - | J33: =(50/4)*J20 -> 12.5 | K33: =(50/4)*K20 -> 25 | L33: =(50/4)*L20 -> 25 | M33: - | N33: - | O33: - | P33: =(50/4)*P20 -> 37.5
B34: CO-5 | C34: 89 | E34: =(49/4)*E21 -> 36.75 | F34: =(49/4)*F21 -> 24.5 | H34: - | I34: - | J34: - | K34: - | L34: - | M34: - | O34: =(49/4)*O21 -> 24.5 | P34: =(49/4)*P21 -> 12.25
B35: Average | E35: =AVERAGE(E30:E34) -> 38.4 | F35: =AVERAGE(F30:F34) -> 25.6 | G35: =AVERAGE(G30:G34) -> 13.125 | H35: - | I35: - | J35: =AVERAGE(J30:J34) -> 12.9375 | K35: =AVERAGE(K29:K34) -> 21.333333 | L35: =AVERAGE(L29:L34) -> 16.0625 | M35: - | N35: - | O35: =AVERAGE(O30:O34) -> 18.75 | P35: =AVERAGE(P30:P34) -> 30.85

Sheet graphs

Sheet C-Sec
B1: Acharya Institute of Technology
B2: Department of Computer Science and Engineering
B3: VI Semester C Section Test marks for Even Sem 2013-14
A4: Sl. No. | B4: Name of the student | C4: USN | D4: I INTERNALS | I4: II INTERNALS | Q4: III INTERNALS
I5: PART A | M5: PART B | Q5: PART A | U5: PART B
D6: 1 | E6: 2 | F6: 3 | G6: 4 | H6: 5 | I6: 1 | J6: 2 | K6: 3 | L6: 4 | M6: 5 | N6: 6 | O6: 7 | P6: 8 | Q6: 1 | R6: 2 | S6: 3 | T6: 4 | U6: 5 | V6: 6 | W6: 7 | X6: 8
D7: CO 1 | E7: CO 2 | F7: CO 3 | G7: CO 3 | H7: CO 3 | I7: CO 3 | J7: CO 3 | K7: CO 3 | L7: CO 3 | M7: CO 1 | N7: CO 4 | O7: CO 4 | P7: CO 4 | Q7: CO 4 | R7: CO 4 | S7: CO 4 | T7: CO 4 | U7: CO 4 | V7: CO 4 | W7: CO 5 | X7: CO 5
A8: 1 | B8: SRINIDHI P C | C8: 1AY11CS113 | D8: 10 | E8: 10 | F8: 7 | G8: 10 | H8: 10 | I8: 10 | J8: 10 | K8: 10 | N8: 10 | O8: 9 | Q8: 10 | T8: 9 | U8: 10 | V8: 9 | X8: 10
A9: 2 | B9: SHRUTHIKA C RAMPURE | C9: 1AY11CS114 | D9: 10 | E9: 7 | F9: 9 | G9: 9 | H9: 4 | I9: 9 | J9: 9 | K9: 9 | L9: 9 | N9: 9 | O9: 9 | P9: 10
A10: 3 | B10: SNEHA KUMARI | C10: 1AY11CS115 | D10: 10 | E10: 8 | F10: 9 | G10: 10 | H10: 9 | I10: 10 | K10: 9 | L10: 10 | N10: 9 | O10: 10 | P10: 9 | Q10: 10 | R10: 10 | S10: 10 | T10: 10 | U10: 4 | X10: 10
A11: 4 | B11: SOMEN GORAIN | C11: 1AY11CS116 | E11: 10 | F11: 9 | G11: 9 | H11: 7 | I11: 10 | K11: 10 | M11: 10 | O11: 10 | P11: 10 | Q11: 8 | S11: 10 | T11: 10 | V11: 10 | X11: 10
A12: 5 | B12: SOUVIK KUNDU | C12: 1AY11CS117 | D12: 10 | E12: 10 | F12: 9 | G12: 5 | H12: 7 | K12: 10 | L12: 7 | M12: 10 | N12: 10 | O12: 10 | R12: 10 | S12: 10 | T12: 10 | U12: 6 | V12: 10 | W12: 6
A13: 6 | B13: SOWMYA NAGARAJU | C13: 1AY11CS118 | D13: 3 | E13: 8 | F13: 10 | G13: 8 | H13: 5 | K13: 8 | L13: 10 | M13: 4 | P13: 8 | Q13: 5 | S13: 10 | T13: 10 | U13: 6 | V13: 10 | X13: 10
A14: 7 | B14: SRISTI KUMARI | C14: 1AY11CS120 | D14: 10 | E14: 3 | F14: 7 | G14: 5 | K14: 7 | L14: 7 | M14: 10 | O14: 9 | P14: 9
A15: 8 | B15: SUBAS THAPA | C15: 1AY11CS121 | D15: 7 | E15: 3 | F15: 10 | G15: 4 | H15: 6 | I15: 9 | K15: 9 | N15: 10 | O15: 10 | P15: 8 | Q15: 10 | S15: 10 | T15: 10 | V15: 10 | X15: 9
A16: 9 | B16: SUKANYA BOSE | C16: 1AY11CS122 | D16: 7 | E16: 5 | F16: 8 | I16: 3 | J16: 9 | K16: 9 | L16: 5 | M16: 6 | N16: 4 | O16: 0 | P16: 4 | Q16: 6 | S16: 9 | T16: 4 | V16: 6
A17: 10 | B17: SUMIT KUMAR | C17: 1AY11CS123 | D17: 10 | E17: 3 | F17: 8 | G17: 5 | M17: 8 | N17: 4 | O17: 10 | P17: 5 | Q17: 10 | T17: 10 | U17: 4 | W17: 10 | X17: 10
A18: 11 | B18: SUPRIYA | C18: 1AY11CS124 | D18: 7 | E18: 8 | F18: 9 | G18: 9 | H18: 7 | J18: 8 | K18: 9 | N18: 10 | O18: 6 | P18: 10 | Q18: 8 | S18: 10 | T18: 10 | U18: 8 | V18: 8 | X18: 10
A19: 12 | B19: SURENDRA D | C19: 1AY11CS125 | D19: 10 | F19: 9 | G19: 9 | H19: 7 | I19: 10 | K19: 10 | L19: 8 | M19: 10 | O19: 10 | P19: 6 | Q19: 10 | R19: 6 | S19: 10 | T19: 6 | U19: 4 | X19: 10
A20: 13 | B20: SWATI .M .S | C20: 1AY11CS127 | D20: 10 | E20: 3 | F20: 10 | G20: 4 | H20: 9 | I20: 7 | K20: 9 | L20: 5 | N20: 8 | O20: 9 | P20: 9 | Q20: 8 | R20: 8 | S20: 10 | T20: 10 | U20: 8 | V20: 8 | X20: 10
A21: 14 | B21: TAJ UNNISA | C21: 1AY11CS128 | D21: 10 | E21: 8 | F21: 9 | G21: 10 | H21: 10 | I21: 8 | J21: 9 | L21: 9 | M21: 10 | N21: 9 | O21: 10
A22: 15 | B22: TANUSHREE .Y | C22: 1AY11CS129 | D22: 10 | E22: 4 | F22: 9 | G22: 10 | H22: 6 | I22: 10 | K22: 10 | L22: 4 | N22: 8 | O22: 10 | P22: 10 | R22: 10 | S22: 10 | U22: 10 | V22: 10 | X22: 10
A23: 16 | B23: UMESH KUMAR | C23: 1AY11CS131 | I23: 7 | J23: 9 | L23: 9 | M23: 7 | N23: 4 | O23: 6 | Q23: 6 | S23: 10 | U23: 8 | V23: 10 | X23: 10
A24: 17 | B24: V PRADEEP | C24: 1AY11CS133 | D24: 2 | E24: 10 | F24: 9 | G24: 9 | H24: 10 | I24: 9 | K24: 7 | N24: 10 | O24: 4 | P24: 10
A25: 18 | B25: VISHAL KUMAR | C25: 1AY11CS135 | D25: 10 | E25: 10 | F25: 10 | G25: 10 | H25: 10 | J25: 8 | K25: 5 | M25: 10 | N25: 2 | O25: 10 | P25: 8
A26: 19 | B26: VISHNU .N | C26: 1AY11CS136 | D26: 10 | E26: 9 | F26: 9 | G26: 10 | H26: 7 | I26: 10 | J26: 10 | M26: 10 | N26: 10 | O26: 10
A27: 20 | B27: YOGESH.N | C27: 1AY11CS137 | D27: 10 | E27: 10 | F27: 9 | G27: 10 | H27: 9 | I27: 10 | J27: 10 | K27: 9 | M27: 10 | N27: 10 | O27: 10
A28: 21 | B28: SNEHA KULHALLI | C28: 1AY11CS140 | D28: 10 | E28: 3 | F28: 7 | G28: 7 | H28: 5 | I28: 5 | J28: 7 | K28: 5 | L28: 5 | N28: 6 | O28: 9 | Q28: 10 | S28: 10 | U28: 8 | V28: 6 | X28: 10
A29: 22 | B29: AKSHITHA C | C29: 1AY12CS400 | D29: 7 | F29: 9 | G29: 7 | H29: 5 | I29: 8 | K29: 8 | N29: 4 | O29: 4 | P29: 4 | Q29: 8 | S29: 8 | T29: 8 | V29: 8
A30: 23 | B30: B B VIKAS | C30: 1AY12CS401 | J30: 8 | K30: 7 | M30: 10 | N30: 4 | O30: 10 | Q30: 5 | R30: 2 | S30: 10 | T30: 5 | U30: 2 | V30: 8 | X30: 10
A31: 24 | B31: BALAJI P | C31: 1AY12CS402 | J31: 7 | N31: 6 | O31: 10 | P31: 5 | Q31: 8 | R31: 4 | S31: 10 | V31: 8 | W31: 10
A32: 25 | B32: BASANAGOUDA | C32: 1AY12CS403 | I32: 9 | J32: 7 | N32: 4 | O32: 9 | P32: 4 | R32: 8 | S32: 10 | T32: 8 | U32: 10 | V32: 8 | X32: 10
A33: 26 | B33: BASAVARAJ S | C33: 1AY12CS404 | D33: 9 | E33: 9 | I33: 8 | K33: 9 | N33: 4 | P33: 4 | Q33: 5 | S33: 10 | T33: 10 | U33: 4 | V33: 9 | X33: 10
A34: 27 | B34: DIVYA KALA M | C34: 1AY12CS405 | D34: 10 | E34: 8 | F34: 9 | G34: 9 | H34: 9 | I34: 9 | J34: 8 | M34: 10 | N34: 4 | O34: 9 | P34: 4 | Q34: 8 | R34: 8 | S34: 10 | U34: 8 | V34: 8
A35: 28 | B35: DIVYA L | C35: 1AY12CS406 | D35: 10 | E35: 2 | F35: 7 | I35: 7 | J35: 5 | N35: 4 | O35: 4 | P35: 5 | Q35: 10 | S35: 4 | T35: 10 | U35: 3 | V35: 6 | W35: 4
A36: 29 | B36: GOPAL RAJ J T | C36: 1AY12CS407 | D36: 9 | F36: 9 | G36: 9 | H36: 7 | J36: 5 | L36: 5 | N36: 4 | O36: 6 | P36: 4 | Q36: 4 | S36: 6 | U36: 8 | V36: 8 | W36: 8
A37: 30 | B37: GURURAJ M S | C37: 1AY12CS408 | D37: 9 | E37: 8 | F37: 9 | G37: 7 | H37: 7 | K37: 5 | L37: 8 | N37: 10 | O37: 7 | Q37: 8 | R37: 8 | S37: 10 | T37: 5 | U37: 5 | X37: 10
A38: 31 | B38: JHANHAVI V | C38: 1AY12CS410 | D38: 8 | E38: 5 | F38: 9 | G38: 5 | H38: 6 | I38: 9 | L38: 8 | M38: 10 | N38: 9 | O38: 9 | P38: 8 | Q38: 8 | S38: 8 | T38: 10 | U38: 8 | X38: 8
A39: 32 | B39: LOHITH R R | C39: 1AY12CS411 | F39: 6 | G39: 7 | H39: 6 | J39: 9 | K39: 10 | N39: 10 | O39: 10 | P39: 10 | Q39: 10 | R39: 8 | S39: 10 | V39: 8 | X39: 6
A40: 33 | B40: MALLIKARJUN | C40: 1AY12CS412 | I40: 4 | J40: 6 | M40: 2 | N40: 4 | O40: 5 | P40: 4 | Q40: 8 | R40: 8 | S40: 10 | T40: 3 | V40: 8
A41: 34 | B41: MANJU S | C41: 1AY12CS414 | F41: 10 | G41: 10 | H41: 3 | K41: 7 | L41: 9 | N41: 9 | O41: 9 | P41: 9 | Q41: 8 | R41: 8 | S41: 10 | T41: 10 | V41: 8
A42: 35 | B42: MEGHANA K K | C42: 1AY12CS415 | D42: 9 | F42: 7 | Q42: 5 | R42: 5 | S42: 10 | T42: 8 | V42: 8 | W42: 5 | X42: 8
A43: 36 | B43: MONICA SM | C43: 1AY12CS416 | D43: 10 | E43: 9 | F43: 5 | G43: 5 | H43: 5 | I43: 4 | L43: 4 | M43: 10 | N43: 4 | P43: 4 | Q43: 8 | R43: 10 | S43: 10 | V43: 8 | X43: 10
A44: 37 | B44: NAVEEN KUMAR K S | C44: 1AY12CS417 | K44: 5 | L44: 5 | N44: 4 | P44: 4 | Q44: 10 | S44: 10 | U44: 6 | V44: 10 | X44: 10
A45: 38 | B45: NAYANA R R | C45: 1AY12CS418 | D45: 10 | E45: 9 | G45: 6 | H45: 5 | Q45: 6 | R45: 6 | U45: 3 | V45: 4 | X45: 10
A46: 39 | B46: PAVITHRA HJ | C46: 1AY12CS419 | I46: 8 | J46: 8 | M46: 10 | N46: 4 | O46: 4 | P46: 4 | Q46: 5 | S46: 8 | T46: 8 | U46: 4 | W46: 4 | X46: 10
A47: 40 | B47: PRASHANTH V | C47: 1AY12CS420 | D47: 8 | E47: 2 | F47: 9 | G47: 9 | H47: 1 | I47: 8 | K47: 10 | N47: 9 | O47: 10 | P47: 9
A48: 41 | B48: PRAVEEN KUMAR B | C48: 1AY12CS421 | D48: 9 | E48: 6 | F48: 6 | G48: 9 | H48: 8 | I48: 8 | J48: 9 | K48: 9 | N48: 4 | P48: 4 | Q48: 5 | S48: 8 | T48: 8 | U48: 8 | X48: 8
A49: 42 | B49: PUTTARAJU B K | C49: 1AY12CS422 | D49: 8 | F49: 5 | G49: 3 | J49: 4 | K49: 4 | M49: 9 | O49: 10 | P49: 3 | S49: 10 | T49: 10 | V49: 4 | X49: 10
A50: 43 | B50: RADHAKRISHNA G | C50: 1AY12CS423 | D50: 6 | F50: 5 | G50: 5 | H50: 5 | I50: 8 | K50: 8 | N50: 4 | O50: 4 | P50: 10 | Q50: 6 | S50: 6 | T50: 6 | U50: 10 | V50: 10 | X50: 10
A51: 44 | B51: SANTHOSH KUMAR G P | C51: 1AY12CS425 | D51: 9 | E51: 7 | F51: 9 | G51: 9 | H51: 7 | I51: 7 | J51: 7 | K51: 7 | M51: 10 | N51: 4 | O51: 10 | P51: 4
A52: 45 | B52: SHREYAS P | C52: 1AY12CS426 | D52: 10 | E52: 5 | F52: 6 | G52: 5 | H52: 5 | I52: 4 | K52: 4 | M52: 9 | N52: 2 | O52: 8
A53: 46 | B53: SHRIDHAR REDDY | C53: 1AY12CS427 | K53: 3 | N53: 4 | P53: 7 | Q53: 6 | S53: 9 | T53: 10 | U53: 10 | V53: 9 | X53: 8
A54: 47 | B54: VIDYA G | C54: 1AY12CS430 | D54: 10 | E54: 9 | F54: 9 | G54: 8 | I54: 9 | J54: 7 | M54: 10 | N54: 4 | O54: 8 | S54: 10 | T54: 10 | V54: 8 | X54: 6
B56: No of students between 9-10 | D56: =COUNTIF(D6:D54,"=9")+COUNTIF(D6:D54,"=10") -> 26 | E56: =COUNTIF(E6:E54,"=9")+COUNTIF(E6:E54,"=10") -> 11 | F56: =COUNTIF(F6:F54,"=9")+COUNTIF(F6:F54,"=10") -> 24 | G56: =COUNTIF(G6:G54,"=9")+COUNTIF(G6:G54,"=10") -> 18 | H56: =COUNTIF(H6:H54,"=9")+COUNTIF(H6:H54,"=10") -> 8 | I56: =COUNTIF(I6:I54,"=9")+COUNTIF(I6:I54,"=10") -> 14 | J56: =COUNTIF(J6:J54,"=9")+COUNTIF(J6:J54,"=10") -> 9 | K56: =COUNTIF(K6:K54,"=9")+COUNTIF(K6:K54,"=10") -> 16 | ... X56: =COUNTIF(X6:X54,"=9")+COUNTIF(X6:X54,"=10") -> 22
B57: No of students between 7-8 | D57: =COUNTIF(D6:D54,"=7")+COUNTIF(D6:D54,"=8") -> 7 | E57: =COUNTIF(E6:E54,"=7")+COUNTIF(E6:E54,"=8") -> 8 | F57: =COUNTIF(F6:F54,"=7")+COUNTIF(F6:F54,"=8") -> 7 | G57: =COUNTIF(G6:G54,"=7")+COUNTIF(G6:G54,"=8") -> 6 | H57: =COUNTIF(H6:H54,"=7")+COUNTIF(H6:H54,"=8") -> 9 | I57: =COUNTIF(I6:I54,"=7")+COUNTIF(I6:I54,"=8") -> 11 | J57: =COUNTIF(J6:J54,"=7")+COUNTIF(J6:J54,"=8") -> 10 | K57: =COUNTIF(K6:K54,"=7")+COUNTIF(K6:K54,"=8") -> 8 | ... X57: =COUNTIF(X6:X54,"=7")+COUNTIF(X6:X54,"=8") -> 5
B58: No of students between 5-6 | D58: =COUNTIF(D6:D54,"=5")+COUNTIF(D6:D54,"=6") -> 1 | E58: =COUNTIF(E6:E54,"=5")+COUNTIF(E6:E54,"=6") -> 4 | F58: =COUNTIF(F6:F54,"=5")+COUNTIF(F6:F54,"=6") -> 6 | G58: =COUNTIF(G6:G54,"=5")+COUNTIF(G6:G54,"=6") -> 8 | H58: =COUNTIF(H6:H54,"=5")+COUNTIF(H6:H54,"=6") -> 12 | I58: =COUNTIF(I6:I54,"=5")+COUNTIF(I6:I54,"=6") -> 1 | J58: =COUNTIF(J6:J54,"=5")+COUNTIF(J6:J54,"=6") -> 3 | K58: =COUNTIF(K6:K54,"=5")+COUNTIF(K6:K54,"=6") -> 4 | ... X58: =COUNTIF(X6:X54,"=5")+COUNTIF(X6:X54,"=6") -> 2
B59: No of students between 3-4 | D59: =COUNTIF(D6:D54,"=3")+COUNTIF(D6:D54,"=4") -> 1 | E59: =COUNTIF(E6:E54,"=3")+COUNTIF(E6:E54,"=4") -> 6 | F59: =COUNTIF(F6:F54,"=3")+COUNTIF(F6:F54,"=4") -> 1 | G59: =COUNTIF(G6:G54,"=3")+COUNTIF(G6:G54,"=4") -> 4 | H59: =COUNTIF(H6:H54,"=3")+COUNTIF(H6:H54,"=4") -> 2 | I59: =COUNTIF(I6:I54,"=3")+COUNTIF(I6:I54,"=4") -> 4 | J59: =COUNTIF(J6:J54,"=3")+COUNTIF(J6:J54,"=4") -> 1 | K59: =COUNTIF(K6:K54,"=3")+COUNTIF(K6:K54,"=4") -> 4 | ... X59: =COUNTIF(X6:X54,"=3")+COUNTIF(X6:X54,"=4") -> 0
B60: No of students between 1-2 | D60: =COUNTIF(D6:D54,"=1")+COUNTIF(D6:D54,"=2") -> 2 | E60: =COUNTIF(E6:E54,"=1")+COUNTIF(E6:E54,"=2") -> 3 | F60: =COUNTIF(F6:F54,"=1")+COUNTIF(F6:F54,"=2") -> 0 | G60: =COUNTIF(G6:G54,"=1")+COUNTIF(G6:G54,"=2") -> 0 | H60: =COUNTIF(H6:H54,"=1")+COUNTIF(H6:H54,"=2") -> 1 | I60: =COUNTIF(I6:I54,"=1")+COUNTIF(I6:I54,"=2") -> 1 | J60: =COUNTIF(J6:J54,"=1")+COUNTIF(J6:J54,"=2") -> 1 | K60: =COUNTIF(K6:K54,"=1")+COUNTIF(K6:K54,"=2") -> 0 | ... X60: =COUNTIF(X6:X54,"=1")+COUNTIF(X6:X54,"=2") -> 0
B61: No of students scored 0 | D61: =COUNTIF(D6:D54,"=0") -> 0 | E61: =COUNTIF(E6:E54,"=0") -> 0 | F61: =COUNTIF(F6:F54,"=0") -> 0 | G61: =COUNTIF(G6:G54,"=0") -> 0 | H61: =COUNTIF(H6:H54,"=0") -> 0 | I61: =COUNTIF(I6:I54,"=0") -> 0 | J61: =COUNTIF(J6:J54,"=0") -> 0 | K61: =COUNTIF(K6:K54,"=0") -> 0 | ... X61: =COUNTIF(X6:X54,"=0") -> 0
B62: Absentees | D62: =COUNTBLANK(D6:D54) -> 11 | E62: =COUNTBLANK(E6:E54) -> 16 | F62: =COUNTBLANK(F6:F54) -> 10 | G62: =COUNTBLANK(G6:G54) -> 12 | H62: =COUNTBLANK(H6:H54) -> 16 | I62: =COUNTBLANK(I6:I54) -> 17 | J62: =COUNTBLANK(J6:J54) -> 24 | K62: =COUNTBLANK(K6:K54) -> 16 | ... X62: =COUNTBLANK(X6:X54) -> 19
B64: Attainment | D64: =((0.35*D56)+(0.3*D57)+(0.2*D58)+(0.1*D59)+(0.05*D60)+(0*D61))/(0.35*(D56+D57+D58+D59+D60+D61))*100 -> 89.57529 | E64: =((0.35*E56)+(0.3*E57)+(0.2*E58)+(0.1*E59)+(0.05*E60)+(0*E61))/(0.35*(E56+E57+E58+E59+E60+E61))*100 -> 69.642857 | F64: =((0.35*F56)+(0.3*F57)+(0.2*F58)+(0.1*F59)+(0.05*F60)+(0*F61))/(0.35*(F56+F57+F58+F59+F60+F61))*100 -> 88.721805 | G64: =((0.35*G56)+(0.3*G57)+(0.2*G58)+(0.1*G59)+(0.05*G60)+(0*G61))/(0.35*(G56+G57+G58+G59+G60+G61))*100 -> 80.15873 | H64: =((0.35*H56)+(0.3*H57)+(0.2*H58)+(0.1*H59)+(0.05*H60)+(0*H61))/(0.35*(H56+H57+H58+H59+H60+H61))*100 -> 72.767857 | I64: =((0.35*I56)+(0.3*I57)+(0.2*I58)+(0.1*I59)+(0.05*I60)+(0*I61))/(0.35*(I56+I57+I58+I59+I60+I61))*100 -> 81.56682 | J64: =((0.35*J56)+(0.3*J57)+(0.2*J58)+(0.1*J59)+(0.05*J60)+(0*J61))/(0.35*(J56+J57+J58+J59+J60+J61))*100 -> 82.142857 | K64: =((0.35*K56)+(0.3*K57)+(0.2*K58)+(0.1*K59)+(0.05*K60)+(0*K61))/(0.35*(K56+K57+K58+K59+K60+K61))*100 -> 82.142857 | ... X64: =((0.35*X56)+(0.3*X57)+(0.2*X58)+(0.1*X59)+(0.05*X60)+(0*X61))/(0.35*(X56+X57+X58+X59+X60+X61))*100 -> 94.581281

Sheet Sheet1
A1: Course outcomes-Program outcomes mapping & Attainment table:
A2: COs | B2: COs attained in % | C2: Program outcomes | V2: Total | W2: Attainment level of Program Outcomes in % (Average) | X2: Achievement
C3: a | E3: b | G3: c | I3: d | K3: e | M3: f | O3: g | Q3: h | R3: i | S3: j | T3: k | U3: l
C4: leve | D4: Attainment | E4: leve | F4: Attainment | G4: leve | H4: Attainment | I4: leve | J4: Attainment | K4: leve | L4: Attainment | M4: leve | N4: Attainment | O4: leve | P4: Attainment | X4: (Threshold Goal:70%)
A5: CO1 | B5: 85 | C5: 1 | D5: =(C5/C9)*B5 -> 10.625 | G5: 10.625
A6: CO2 | B6: 90 | C6: 2 | D6: =(C6/C9)*B6 -> 22.5 | G6: 22.5
A7: CO3 | B7: 83 | C7: 3 | D7: =(C7/C9)*B7 -> 31.125 | G7: 31.125
A8: CO4 | B8: 75 | C8: 2 | D8: =(C8/C9)*B8 -> 18.75 | G8: 18.75
A9: Total | C9: 8
A10: Note: Mapping in terms of Slight (1), Moderate(2), Good(3) and Excellent(4) levels and COs need not map all POS

Sheet Sheet2
A5: COs | B5: Avg. COs attained in % | C5: Program outcomes | O5: Attainment level of Program Outcomes in % (Average) | P5: Achievement
C6: a | D6: b | E6: c | F6: d | G6: e | H6: f | I6: g | J6: h | K6: i | L6: j | M6: k | N6: l | P6: (Threshold Goal:70%)
A7: CO1 | B7: 85 | C7: 4
A8: CO2 | B8: 90
A9: CO3 | B9: 83
A10: CO4 | B10: 75
A11: Total
A17: Subject Code : | B17: 10ME64 | C17: Title: Finite Element Methods | J17: Faculty Name: | N17: Manjunatha B.
A18: List of Course outcomes | C18: Program Outcomes | Q18: Total
C19: a | D19: b | E19: c | F19: d | G19: e | H19: f | I19: g | K19: h | L19: I | M19: J | O19: k | P19: l
A20: CO-1 | C20: 4 | D20: 2 | E20: 1 | F20: - | G20: - | H20: - | I20: - | K20: - | L20: 1 | M20: - | O20: 2 | P20: - | Q20: 9
A21: CO-2 | C21: 2 | D21: 4 | E21: 2 | F21: 2 | G21: 2 | H21: - | I21: - | K21: - | L21: - | M21: - | O21: - | P21: 3 | Q21: 15
A22: CO-3 | C22: 1 | D22: 4 | E22: 3 | F22: 2 | G22: 4 | H22: - | I22: - | K22: - | L22: - | M22: - | O22: - | P22: 3 | Q22: 17
A23: CO-4 | C23: 2 | D23: 4 | E23: 2 | F23: - | G23: - | H23: - | I23: - | K23: - | L23: - | M23: - | O23: - | P23: - | Q23: 8
A24: CO-5 | C24: - | D24: - | E24: - | F24: 2 | G24: 1 | H24: - | I24: - | K24: - | L24: 2 | M24: - | O24: 2 | P24: - | Q24: 7
A25: Total | C25: 9 | D25: 14 | E25: 7 | F25: 6 | G25: 7 | H25: - | I25: - | K25: - | L25: 3 | M25: - | O25: 4 | P25: 6 | Q25: 50
B68: a | C68: b | D68: c | E68: d | F68: e | G68: f | H68: g | I68: h | J68: i | K68: j | L68: k | M68: l
A69: co1 | B69: 4 | C69: 2 | D69: 1 | E69: - | F69: - | G69: - | H69: - | I69: - | J69: 1 | K69: - | L69: 2 | M69: - | N69: 10
A70: co2 | B70: 2 | C70: 4 | D70: 2 | E70: 2 | F70: 2 | G70: - | H70: - | I70: - | J70: - | K70: - | L70: - | M70: 3 | N70: 15
A71: co3 | B71: 1 | C71: 4 | D71: 3 | E71: 2 | F71: 4 | G71: - | H71: - | I71: - | J71: - | K71: - | L71: - | M71: 3 | N71: 17
A72: co4 | B72: 2 | C72: 4 | D72: 2 | E72: - | F72: - | G72: - | H72: - | I72: - | J72: - | K72: - | L72: - | M72: - | N72: 8
A73: co5 | B73: - | C73: - | D73: - | E73: 2 | F73: 1 | G73: - | H73: - | I73: - | J73: 2 | K73: - | L73: 2 | M73: - | N73: 7
B74: 9 | C74: 14 | D74: 8 | E74: 6 | F74: 7 | G74: - | H74: - | I74: - | J74: 3 | K74: - | L74: 4 | M74: 6 | N74: 57
B76: 85 | C76: 73 | D76: 1 | E76: - | F76: - | G76: - | H76: - | I76: - | J76: 1 | K76: - | L76: 2 | M76: - | N76: 10
B77: 85 | C77: 70 | D77: 2 | E77: 2 | F77: 2 | G77: - | H77: - | I77: - | J77: - | K77: - | L77: - | M77: 3 | N77: 15
B78: 85 | C78: 84 | D78: 3 | E78: 2 | F78: 4 | G78: - | H78: - | I78: - | J78: - | K78: - | L78: - | M78: 3 | N78: 17
B79: 85 | C79: 84 | D79: 2 | E79: - | F79: - | G79: - | H79: - | I79: - | J79: - | K79: - | L79: - | M79: - | N79: 8
B80: - | C80: - | D80: - | E80: 2 | F80: 1 | G80: - | H80: - | I80: - | J80: 2 | K80: - | L80: 2 | M80: - | N80: 7
B81: 9 | C81: 14 | D81: 8 | E81: 6 | F81: 7 | G81: - | H81: - | I81: - | J81: 3 | K81: - | L81: 4 | M81: 6 | N81: 57
B84: =IF(B69="-",0,B69)/B$74 -> 0.44444444 | C84: =IF(C69="-",0,C69)/C$74 -> 0.14285714 | D84: =IF(D69="-",0,D69)/D$74 -> 0.125 | E84: =IF(E69="-",0,E69)/E$74 -> 0 | F84: =IF(F69="-",0,F69)/F$74 -> 0 | G84: =IF(G69="-",0,G69)/G$74 -> #VALUE! | H84: =IF(H69="-",0,H69)/H$74 -> #VALUE! | I84: =IF(I69="-",0,I69)/I$74 -> #VALUE! | ... M84: =IF(M69="-",0,M69)/M$74 -> 0 | N84: 10
B85: =IF(B70="-",0,B70)/B$74 -> 0.22222222 | C85: =IF(C70="-",0,C70)/C$74 -> 0.28571429 | D85: =IF(D70="-",0,D70)/D$74 -> 0.25 | E85: =IF(E70="-",0,E70)/E$74 -> 0.33333333 | F85: =IF(F70="-",0,F70)/F$74 -> 0.28571429 | G85: =IF(G70="-",0,G70)/G$74 -> #VALUE! | H85: =IF(H70="-",0,H70)/H$74 -> #VALUE! | I85: =IF(I70="-",0,I70)/I$74 -> #VALUE! | ... M85: =IF(M70="-",0,M70)/M$74 -> 0.5 | N85: 15
B86: =IF(B71="-",0,B71)/B$74 -> 0.11111111 | C86: =IF(C71="-",0,C71)/C$74 -> 0.28571429 | D86: =IF(D71="-",0,D71)/D$74 -> 0.375 | E86: =IF(E71="-",0,E71)/E$74 -> 0.33333333 | F86: =IF(F71="-",0,F71)/F$74 -> 0.57142857 | G86: =IF(G71="-",0,G71)/G$74 -> #VALUE! | H86: =IF(H71="-",0,H71)/H$74 -> #VALUE! | I86: =IF(I71="-",0,I71)/I$74 -> #VALUE! | ... M86: =IF(M71="-",0,M71)/M$74 -> 0.5 | N86: 17
B87: =IF(B72="-",0,B72)/B$74 -> 0.22222222 | C87: =IF(C72="-",0,C72)/C$74 -> 0.28571429 | D87: =IF(D72="-",0,D72)/D$74 -> 0.25 | E87: =IF(E72="-",0,E72)/E$74 -> 0 | F87: =IF(F72="-",0,F72)/F$74 -> 0 | G87: =IF(G72="-",0,G72)/G$74 -> #VALUE! | H87: =IF(H72="-",0,H72)/H$74 -> #VALUE! | I87: =IF(I72="-",0,I72)/I$74 -> #VALUE! | ... M87: =IF(M72="-",0,M72)/M$74 -> 0 | N87: 8
B88: =IF(B73="-",0,B73)/B$74 -> 0 | C88: =IF(C73="-",0,C73)/C$74 -> 0 | D88: =IF(D73="-",0,D73)/D$74 -> 0 | E88: =IF(E73="-",0,E73)/E$74 -> 0.33333333 | F88: =IF(F73="-",0,F73)/F$74 -> 0.14285714 | G88: =IF(G73="-",0,G73)/G$74 -> #VALUE! | H88: =IF(H73="-",0,H73)/H$74 -> #VALUE! | I88: =IF(I73="-",0,I73)/I$74 -> #VALUE! | ... M88: =IF(M73="-",0,M73)/M$74 -> 0 | N88: 7
B89: =B74/B$74 -> 1 | C89: =C74/C$74 -> 1 | D89: =D74/D$74 -> 1 | E89: =E74/E$74 -> 1 | F89: =F74/F$74 -> 1 | G89: =G74/G$74 -> #VALUE! | H89: =H74/H$74 -> #VALUE! | I89: =I74/I$74 -> #VALUE! | ... M89: =M74/M$74 -> 1 | N89: 57
B92: =B84*B76 -> 37.777778 | C92: =C84*C76 -> 10.428571 | D92: =D84*D76 -> 0.125 | E92: =E84*E76 -> #VALUE! | F92: =F84*F76 -> #VALUE! | G92: =G84*G76 -> #VALUE! | H92: =H84*H76 -> #VALUE! | I92: =I84*I76 -> #VALUE! | ... M92: =M84*M76 -> #VALUE! | N92: 10
B93: =B85*B77 -> 18.888889 | C93: =C85*C77 -> 20 | D93: =D85*D77 -> 0.5 | E93: =E85*E77 -> 0.66666667 | F93: =F85*F77 -> 0.57142857 | G93: =G85*G77 -> #VALUE! | H93: =H85*H77 -> #VALUE! | I93: =I85*I77 -> #VALUE! | ... M93: =M85*M77 -> 1.5 | N93: 15
B94: =B86*B78 -> 9.4444444 | C94: =C86*C78 -> 24 | D94: =D86*D78 -> 1.125 | E94: =E86*E78 -> 0.66666667 | F94: =F86*F78 -> 2.2857143 | G94: =G86*G78 -> #VALUE! | H94: =H86*H78 -> #VALUE! | I94: =I86*I78 -> #VALUE! | ... M94: =M86*M78 -> 1.5 | N94: 17
B95: =B87*B79 -> 18.888889 | C95: =C87*C79 -> 24 | D95: =D87*D79 -> 0.5 | E95: =E87*E79 -> #VALUE! | F95: =F87*F79 -> #VALUE! | G95: =G87*G79 -> #VALUE! | H95: =H87*H79 -> #VALUE! | I95: =I87*I79 -> #VALUE! | ... M95: =M87*M79 -> #VALUE! | N95: 8
B96: =B88*IF(B80="-",0,B88) -> 0 | C96: =C88*IF(C80="-",0,C88) -> 0 | D96: =D88*IF(D80="-",0,D88) -> 0 | E96: =E88*IF(E80="-",0,E88) -> 0.11111111 | F96: =F88*IF(F80="-",0,F88) -> 0.020408163 | G96: =G88*IF(G80="-",0,G88) -> #VALUE! | H96: =H88*IF(H80="-",0,H88) -> #VALUE! | I96: =I88*IF(I80="-",0,I88) -> #VALUE! | ... M96: =M88*IF(M80="-",0,M88) -> 0 | N96: 7
B97: =SUM(B92:B96) -> 85 | C97: =SUM(C92:C96) -> 78.428571 | D97: =SUM(D92:D96) -> 2.25 | E97: =SUM(E92:E96) -> #VALUE! | F97: =SUM(F92:F96) -> #VALUE! | G97: =SUM(G92:G96) -> #VALUE! | H97: =SUM(H92:H96) -> #VALUE! | I97: =SUM(I92:I96) -> #VALUE! | ... M97: =SUM(M92:M96) -> #VALUE! | N97: 57

Sheet Sheet3
