Workbook

Sheet aaTINMENT LEVEL
F5: DIRECT ASSESSMENT METHOD
E8: 1 | F8: ENTER THE CO'S FOR THE RESPECTIVE INTERNAL WHICH YOU HAVE ASKED
E9: 2 | F9: ENTER THE MAXIMUM MARKS GIVEN TO EACH CO IN THE MARKS CELL
E10: 3 | F10: ENTER THE MARKS SCORED BY THE STUDENTS BELOW RESPECTIVE CO
E11: 4 | F11: ENTER THE PARAMETERS ASKED ( TOTAL STRENGTH, Assign target percentage…)
E12: 5 | F12: SEE- Exam marks is same for all COs of that subject | G12: tough subject | I12: 0.6
E13: 6 | F13: Target may be same or different for different CO | G13: easy subject | I13: 0.7
E14: 7 | F14: Target may be different for different subjects, theritical/problematic subject, ex
F17: FOR Any clarification contact ME HOD
D21: Attainment Levels of COs
D22: SUBJECT :BASIC THERMODYNAMICS SUB CODE:15ME33
D23: Assessment Methods | E23: Target-Attainment Levels | G23: Attainement
D24: Internal Assessment(CIE) | E24: Level 1 | F24: 60% of students scoring more than 50% marks in internal assessment tools | G24: Level 1
E25: Level 2 | F25: 70% of students scoring more than 50% marks in internal assessment tools
E26: Level 3 | F26: 80% of students scoring more than 50% marks in internal assessment tools
D29: Assessment Methods | E29: Target-Attainment Levels | G29: Attainement
D30: University Assessment (SEE) | E30: Level 1 | F30: 60% of students scoring more than 40% marks in internal assessment tools | G30: Level1
E31: Level 2 | F31: 70% of students scoring more than 40% marks in internal assessment tools
E32: Level 3 | F32: 80% of students scoring more than 40% marks in internal assessment tools

Sheet TEST MARKS 
A1: Sapthagiri College of Engineering
A2: Department of Mechanical Engineering
A3: SUBJECT :BASIC THERMODYNAMICS SUB CODE:15ME33
A4: SEM : III | C4: SEC : A | D4: YEAR : 2016-17 | G4: SCHEME :2015
A5: Sl. No. | B5: Name of the student | C5: USN | D5: I INTERNALS | F5: II INTERNALS | H5: III INTERNALS | J5: ASSIGNMENT'S | P5: EXTERNAL EXAM
D7: Q1 or 2 | E7: Q3 or 4 | F7: Q1 or 2 | G7: Q3 or 4 | H7: Q1 or 2 | I7: Q3 or 4
D8: CO1 | E8: CO2 | F8: CO6 | G8: CO5 | H8: CO3 | I8: CO4 | J8: CO1 | K8: CO2 | L8: CO3 | M8: CO4 | N8: CO5 | O8: CO6 | P8: CO1,CO2,CO3,CO4,CO5
D9: 15 | E9: 15 | F9: 15 | G9: 15 | H9: 15 | I9: 15 | J9: 5 | K9: 5 | L9: 5 | M9: 5 | N9: 5 | O9: 5
A10: 1 | B10: AFTAB AHMED WALA | C10: 1SG15ME004 | D10: 7 | E10: 5 | F10: 0 | G10: 0 | H10: 6 | I10: 6 | J10: 4 | K10: 4 | L10: 4 | M10: 4 | N10: 4 | O10: 4 | P10: 3
A11: 2 | B11: AJEYA.V | C11: 1SG15ME006 | D11: 0 | E11: 0 | F11: 5 | G11: 7 | H11: 7 | I11: 5 | J11: 5 | K11: 5 | L11: 5 | M11: 5 | N11: 5 | O11: 5 | P11: 3
A12: 3 | B12: AJITH S P | C12: 1SG15ME007 | D12: 8 | E12: 6 | F12: 0 | G12: 0 | H12: 7 | I12: 6 | J12: 5 | K12: 5 | L12: 5 | M12: 5 | N12: 5 | O12: 5 | P12: 0
A13: 4 | B13: AKSHAY S | C13: 1SG15ME008 | D13: 6 | E13: 6 | F13: 5 | G13: 7 | H13: 5 | I13: 6 | J13: 5 | K13: 5 | L13: 5 | M13: 5 | N13: 5 | O13: 5 | P13: 0
A14: 5 | B14: AMAN NAIN | C14: 1SG15ME009 | D14: 10 | E14: 9 | F14: 9 | G14: 6 | H14: 10 | I14: 9 | J14: 4 | K14: 4 | L14: 4 | M14: 4 | N14: 4 | O14: 4 | P14: 0
A15: 6 | B15: AMITH.R | C15: 1SG15ME010 | D15: 9 | E15: 7 | F15: 9 | G15: 8 | H15: 0 | I15: 0 | J15: 4 | K15: 4 | L15: 4 | M15: 4 | N15: 4 | O15: 4 | P15: 4
A16: 7 | B16: ANIL KUMAR C | C16: 1SG15ME011 | D16: 10 | E16: 6 | F16: 7 | G16: 6 | H16: 6 | I16: 5 | J16: 5 | K16: 5 | L16: 5 | M16: 5 | N16: 5 | O16: 5 | P16: 0
A17: 8 | B17: ANIRUDH R K | C17: 1SG15ME012 | D17: 0 | E17: 0 | F17: 6 | G17: 4 | H17: 8 | I17: 6 | J17: 4 | K17: 4 | L17: 4 | M17: 4 | N17: 4 | O17: 4 | P17: 4
A18: 9 | B18: ARJUN S | C18: 1SG15ME013 | D18: 9 | E18: 6 | F18: 10 | G18: 7 | H18: 0 | I18: 0 | J18: 5 | K18: 5 | L18: 5 | M18: 5 | N18: 5 | O18: 5 | P18: 0
A19: 10 | B19: ASHISH SHARMA | C19: 1SG15ME014 | D19: 7 | E19: 6 | F19: 10 | G19: 7 | H19: 0 | I19: 0 | J19: 5 | K19: 5 | L19: 5 | M19: 5 | N19: 5 | O19: 5 | P19: 8
A20: 11 | B20: AYAN GUHA RAOY | C20: 1SG15ME015 | D20: 8 | E20: 6 | F20: 7 | G20: 5 | H20: 5 | I20: 7 | J20: 4 | K20: 4 | L20: 4 | M20: 4 | N20: 4 | O20: 4 | P20: 8
A21: 12 | B21: BHARATH .V | C21: 1SG15ME017 | D21: 9 | E21: 8 | F21: 7 | G21: 7 | H21: 8 | I21: 7 | J21: 4 | K21: 4 | L21: 4 | M21: 4 | N21: 4 | O21: 4 | P21: 6
... A82: 73 | B82: VINEET KUMAR | C82: 1SG15ME102 | D82: 8 | E82: 7 | F82: 4 | G82: 3 | H82: 5 | I82: 4 | J82: 4 | K82: 4 | L82: 4 | M82: 4 | N82: 4 | O82: 4 | P82: 7
A83: 74 | B83: YOGESH GOWDA H | C83: 1SG15ME104 | D83: 6 | E83: 7 | F83: 6 | G83: 5 | H83: A | I83: A | J83: 5 | K83: 5 | L83: 5 | M83: 5 | N83: 5 | O83: 5 | P83: 6
A84: 75 | B84: YOGESH B | C84: 1SG15ME105 | D84: 5 | E84: 3 | F84: 5 | G84: 4 | H84: 6 | I84: 5 | J84: 4 | K84: 4 | L84: 4 | M84: 4 | N84: 4 | O84: 74 | P84: 4
A85: 76 | B85: AKSHAY S R | C85: 1SG16ME400 | D85: 4 | E85: 3 | F85: 5 | G85: 5 | H85: 7 | I85: 6 | J85: 5 | K85: 5 | L85: 5 | M85: 5 | N85: 5 | O85: 5 | P85: 6
A86: 77 | B86: CHETAN GOWDA H S | C86: 1SG16ME402 | D86: 8 | E86: 7 | F86: 6 | G86: 5 | H86: 5 | I86: 4 | J86: 5 | K86: 5 | L86: 5 | M86: 5 | N86: 5 | O86: 5 | P86: 6
A87: 78 | B87: DARSHAN M E | C87: 1SG16ME404 | D87: 4 | E87: 3 | F87: 3 | G87: 3 | H87: 3 | I87: 0 | J87: 4 | K87: 4 | L87: 4 | M87: 4 | N87: 4 | O87: 4 | P87: 5
A88: 79 | B88: DARSHAN V V | C88: 1SG16ME405 | D88: 6 | E88: 7 | F88: 5 | G88: 5 | H88: 4 | I88: 3 | J88: 4 | K88: 4 | L88: 4 | M88: 4 | N88: 4 | O88: 4 | P88: 0
A89: 80 | B89: HALASWAMY C M | C89: 1SG16ME407 | D89: 7 | E89: 5 | F89: 3 | G89: 3 | H89: 4 | I89: 4 | J89: 4 | K89: 4 | L89: 4 | M89: 4 | N89: 4 | O89: 4 | P89: 5
A90: 81 | B90: HEMANTH KUMAR T | C90: 1SG16ME408 | D90: 6 | E90: 4 | F90: 5 | G90: 3 | H90: 4 | I90: 3 | J90: 4 | K90: 4 | L90: 4 | M90: 4 | N90: 4 | O90: 4 | P90: 6
A91: 82 | B91: HEMANTH L | C91: 1SG16ME409 | D91: 7 | E91: 6 | F91: A | G91: A | H91: 3 | I91: 3 | J91: 4 | K91: 4 | L91: 4 | M91: 4 | N91: 4 | O91: 4 | P91: 4
A92: 83 | B92: JAI KRISHNA J | C92: 1SG16ME410 | D92: 5 | E92: 5 | F92: 6 | G92: 6 | H92: 7 | I92: 6 | J92: 5 | K92: 5 | L92: 5 | M92: 5 | N92: 5 | O92: 5 | P92: 5
A93: 84 | B93: KESHAVAPRASHANTH S | C93: 1SG16ME411 | D93: 3 | E93: 2 | F93: 0 | G93: 0 | H93: 6 | I93: 5 | J93: 4 | K93: 4 | L93: 4 | M93: 4 | N93: 4 | O93: 4 | P93: 6
A94: 85 | B94: LOKESH M S | C94: 1SG16ME412 | D94: A | E94: A | F94: 4 | G94: 3 | H94: 9 | I94: 4 | J94: 4 | K94: 4 | L94: 4 | M94: 4 | N94: 4 | O94: 4 | P94: 5
A95: 86 | B95: MADHU D B | C95: 1SG16ME413 | D95: 6 | E95: 6 | F95: 5 | G95: 5 | H95: 5 | I95: 5 | J95: 5 | K95: 5 | L95: 5 | M95: 5 | N95: 5 | O95: 5 | P95: 0
A96: 87 | B96: MAHESH G K | C96: 1SG16ME415 | D96: 5 | E96: 3 | F96: 5 | G96: 3 | H96: 3 | I96: 1 | J96: 4 | K96: 4 | L96: 4 | M96: 4 | N96: 4 | O96: 4 | P96: 4
A97: 88 | B97: MANISH RAO S | C97: 1SG16ME416 | D97: A | E97: A | F97: 6 | G97: 4 | H97: 4 | I97: 4 | J97: 4 | K97: 4 | L97: 4 | M97: 4 | N97: 4 | O97: 4 | P97: 0
A98: 89 | B98: MANJUNATH A NILUGAL | C98: 1SG16ME417 | D98: 3 | E98: 3 | F98: 3 | G98: 3 | H98: 4 | I98: 3 | J98: 4 | K98: 4 | L98: 4 | M98: 4 | N98: 4 | O98: 4 | P98: 0
A99: 90 | B99: MANJUNATH B G | C99: 1SG16ME418 | D99: 5 | E99: 5 | F99: 5 | G99: 3 | H99: 2 | I99: 2 | J99: 4 | K99: 4 | L99: 4 | M99: 4 | N99: 4 | O99: 4 | P99: 6
A100: 91 | B100: MANOJ KUMAR J | C100: 1SG16ME420 | D100: 4 | E100: 4 | F100: 3 | G100: 5 | H100: 3 | I100: 3 | J100: 3 | K100: 1 | L100: 5 | M100: 5 | N100: 5 | O100: 5 | P100: 0
A101: 92 | B101: MOUNESH | C101: 1SG16ME421 | D101: 5 | E101: 5 | F101: 3 | G101: 2 | H101: 3 | I101: 3 | J101: 4 | K101: 4 | L101: 4 | M101: 4 | N101: 4 | O101: 4 | P101: 5
...

Sheet TEST -CO 
A6: Sl. No. | B6: Name of the student | C6: USN | J6: ATTAINMENT (%) | P6: Y OR N
D8: I | E8: I | F8: II | G8: II | H8: III | I8: III | J8: ='TEST MARKS '!#REF! -> #REF! | K8: ='TEST MARKS '!#REF! -> #REF! | L8: ='TEST MARKS '!#REF! -> #REF! | M8: ='TEST MARKS '!#REF! -> #REF! | N8: ='TEST MARKS '!#REF! -> #REF! | O8: ='TEST MARKS '!#REF! -> #REF! | P8: I | Q8: I | R8: II | S8: II | T8: III | U8: III
D9: CO1 | E9: CO2 | F9: CO3 | G9: CO4 | H9: CO5 | I9: CO6 | J9: CO1 | K9: CO2 | L9: =F9 -> CO3 | M9: =G9 -> CO4 | N9: =H9 -> CO5 | O9: =I9 -> CO6 | P9: =J9 -> CO1 | Q9: =K9 -> CO2 | R9: =L9 -> CO3 | S9: =M9 -> CO4 | ... U9: =O9 -> CO6
A10: ='TEST MARKS '!A10 -> 1 | B10: ='TEST MARKS '!B10 -> AFTAB AHMED WALA | C10: ='TEST MARKS '!C10 -> 1SG15ME004 | D10: =SUMIF('TEST MARKS '!$D$8:$I$8,$D$9,'TEST MARKS '!D10:I10) -> 7 | E10: =SUMIF('TEST MARKS '!$D$8:$I$8,$E$9,'TEST MARKS '!D10:I10) -> 5 | F10: =SUMIF('TEST MARKS '!$D$8:$I$8,$F$9,'TEST MARKS '!D10:I10) -> 6 | G10: =SUMIF('TEST MARKS '!$D$8:$I$8,$G$9,'TEST MARKS '!D10:I10) -> 6 | H10: =SUMIF('TEST MARKS '!$D$8:$I$8,$H$9,'TEST MARKS '!D10:I10) -> 0 | I10: =SUMIF('TEST MARKS '!$D$8:$I$8,$I$9,'TEST MARKS '!D10:I10) -> 0 | J10: =D10*100/$J$8 -> #REF! | K10: =E10*100/$K$8 -> #REF! | L10: =F10*100/$L$8 -> #REF! | M10: =G10*100/$M$8 -> #REF! | N10: =H10*100/$N$8 -> #REF! | O10: =I10*100/$O$8 -> #REF! | P10: =IF(J10<'TEST MARKS '!#REF!,"N","Y") -> #REF! | Q10: =IF(K10<'TEST MARKS '!#REF!,"N","Y") -> #REF! | R10: =IF(L10<'TEST MARKS '!#REF!,"N","Y") -> #REF! | S10: =IF(M10<'TEST MARKS '!#REF!,"N","Y") -> #REF! | T10: =IF(N10<'TEST MARKS '!#REF!,"N","Y") -> #REF! | U10: =IF(O10<'TEST MARKS '!#REF!,"N","Y") -> #REF!
A11: 2 | B11: ='TEST MARKS '!B11 -> AJEYA.V | C11: ='TEST MARKS '!C11 -> 1SG15ME006 | D11: =SUMIF('TEST MARKS '!$D$8:$I$8,$D$9,'TEST MARKS '!D11:I11) -> 0 | E11: =SUMIF('TEST MARKS '!$D$8:$I$8,$E$9,'TEST MARKS '!D11:I11) -> 0 | F11: =SUMIF('TEST MARKS '!$D$8:$I$8,$F$9,'TEST MARKS '!D11:I11) -> 7 | G11: =SUMIF('TEST MARKS '!$D$8:$I$8,$G$9,'TEST MARKS '!D11:I11) -> 5 | H11: =SUMIF('TEST MARKS '!$D$8:$I$8,$H$9,'TEST MARKS '!D11:I11) -> 7 | I11: =SUMIF('TEST MARKS '!$D$8:$I$8,$I$9,'TEST MARKS '!D11:I11) -> 5 | J11: =D11*100/$J$8 -> #REF! | K11: =E11*100/$K$8 -> #REF! | L11: =F11*100/$L$8 -> #REF! | M11: =G11*100/$M$8 -> #REF! | N11: =H11*100/$N$8 -> #REF! | O11: =I11*100/$O$8 -> #REF! | P11: =IF(J11<'TEST MARKS '!#REF!,"N","Y") -> #REF! | Q11: =IF(K11<'TEST MARKS '!#REF!,"N","Y") -> #REF! | R11: =IF(L11<'TEST MARKS '!#REF!,"N","Y") -> #REF! | S11: =IF(M11<'TEST MARKS '!#REF!,"N","Y") -> #REF! | T11: =IF(N11<'TEST MARKS '!#REF!,"N","Y") -> #REF! | U11: =IF(O11<'TEST MARKS '!#REF!,"N","Y") -> #REF!
A12: 3 | B12: ='TEST MARKS '!B12 -> AJITH S P | C12: ='TEST MARKS '!C12 -> 1SG15ME007 | D12: =SUMIF('TEST MARKS '!$D$8:$I$8,$D$9,'TEST MARKS '!D12:I12) -> 8 | E12: =SUMIF('TEST MARKS '!$D$8:$I$8,$E$9,'TEST MARKS '!D12:I12) -> 6 | F12: =SUMIF('TEST MARKS '!$D$8:$I$8,$F$9,'TEST MARKS '!D12:I12) -> 7 | G12: =SUMIF('TEST MARKS '!$D$8:$I$8,$G$9,'TEST MARKS '!D12:I12) -> 6 | H12: =SUMIF('TEST MARKS '!$D$8:$I$8,$H$9,'TEST MARKS '!D12:I12) -> 0 | I12: =SUMIF('TEST MARKS '!$D$8:$I$8,$I$9,'TEST MARKS '!D12:I12) -> 0 | J12: =D12*100/$J$8 -> #REF! | K12: =E12*100/$K$8 -> #REF! | L12: =F12*100/$L$8 -> #REF! | M12: =G12*100/$M$8 -> #REF! | N12: =H12*100/$N$8 -> #REF! | O12: =I12*100/$O$8 -> #REF! | P12: =IF(J12<'TEST MARKS '!#REF!,"N","Y") -> #REF! | Q12: =IF(K12<'TEST MARKS '!#REF!,"N","Y") -> #REF! | R12: =IF(L12<'TEST MARKS '!#REF!,"N","Y") -> #REF! | S12: =IF(M12<'TEST MARKS '!#REF!,"N","Y") -> #REF! | T12: =IF(N12<'TEST MARKS '!#REF!,"N","Y") -> #REF! | U12: =IF(O12<'TEST MARKS '!#REF!,"N","Y") -> #REF!
A13: 4 | B13: ='TEST MARKS '!B13 -> AKSHAY S | C13: ='TEST MARKS '!C13 -> 1SG15ME008 | D13: =SUMIF('TEST MARKS '!$D$8:$I$8,$D$9,'TEST MARKS '!D13:I13) -> 6 | E13: =SUMIF('TEST MARKS '!$D$8:$I$8,$E$9,'TEST MARKS '!D13:I13) -> 6 | F13: =SUMIF('TEST MARKS '!$D$8:$I$8,$F$9,'TEST MARKS '!D13:I13) -> 5 | G13: =SUMIF('TEST MARKS '!$D$8:$I$8,$G$9,'TEST MARKS '!D13:I13) -> 6 | H13: =SUMIF('TEST MARKS '!$D$8:$I$8,$H$9,'TEST MARKS '!D13:I13) -> 7 | I13: =SUMIF('TEST MARKS '!$D$8:$I$8,$I$9,'TEST MARKS '!D13:I13) -> 5 | J13: =D13*100/$J$8 -> #REF! | K13: =E13*100/$K$8 -> #REF! | L13: =F13*100/$L$8 -> #REF! | M13: =G13*100/$M$8 -> #REF! | N13: =H13*100/$N$8 -> #REF! | O13: =I13*100/$O$8 -> #REF! | P13: =IF(J13<'TEST MARKS '!#REF!,"N","Y") -> #REF! | Q13: =IF(K13<'TEST MARKS '!#REF!,"N","Y") -> #REF! | R13: =IF(L13<'TEST MARKS '!#REF!,"N","Y") -> #REF! | S13: =IF(M13<'TEST MARKS '!#REF!,"N","Y") -> #REF! | T13: =IF(N13<'TEST MARKS '!#REF!,"N","Y") -> #REF! | U13: =IF(O13<'TEST MARKS '!#REF!,"N","Y") -> #REF!
A14: 5 | B14: ='TEST MARKS '!B14 -> AMAN NAIN | C14: ='TEST MARKS '!C14 -> 1SG15ME009 | D14: =SUMIF('TEST MARKS '!$D$8:$I$8,$D$9,'TEST MARKS '!D14:I14) -> 10 | E14: =SUMIF('TEST MARKS '!$D$8:$I$8,$E$9,'TEST MARKS '!D14:I14) -> 9 | F14: =SUMIF('TEST MARKS '!$D$8:$I$8,$F$9,'TEST MARKS '!D14:I14) -> 10 | G14: =SUMIF('TEST MARKS '!$D$8:$I$8,$G$9,'TEST MARKS '!D14:I14) -> 9 | H14: =SUMIF('TEST MARKS '!$D$8:$I$8,$H$9,'TEST MARKS '!D14:I14) -> 6 | I14: =SUMIF('TEST MARKS '!$D$8:$I$8,$I$9,'TEST MARKS '!D14:I14) -> 9 | J14: =D14*100/$J$8 -> #REF! | K14: =E14*100/$K$8 -> #REF! | L14: =F14*100/$L$8 -> #REF! | M14: =G14*100/$M$8 -> #REF! | N14: =H14*100/$N$8 -> #REF! | O14: =I14*100/$O$8 -> #REF! | P14: =IF(J14<'TEST MARKS '!#REF!,"N","Y") -> #REF! | Q14: =IF(K14<'TEST MARKS '!#REF!,"N","Y") -> #REF! | R14: =IF(L14<'TEST MARKS '!#REF!,"N","Y") -> #REF! | S14: =IF(M14<'TEST MARKS '!#REF!,"N","Y") -> #REF! | T14: =IF(N14<'TEST MARKS '!#REF!,"N","Y") -> #REF! | U14: =IF(O14<'TEST MARKS '!#REF!,"N","Y") -> #REF!
A15: 6 | B15: ='TEST MARKS '!B15 -> AMITH.R | C15: ='TEST MARKS '!C15 -> 1SG15ME010 | D15: =SUMIF('TEST MARKS '!$D$8:$I$8,$D$9,'TEST MARKS '!D15:I15) -> 9 | E15: =SUMIF('TEST MARKS '!$D$8:$I$8,$E$9,'TEST MARKS '!D15:I15) -> 7 | F15: =SUMIF('TEST MARKS '!$D$8:$I$8,$F$9,'TEST MARKS '!D15:I15) -> 0 | G15: =SUMIF('TEST MARKS '!$D$8:$I$8,$G$9,'TEST MARKS '!D15:I15) -> 0 | H15: =SUMIF('TEST MARKS '!$D$8:$I$8,$H$9,'TEST MARKS '!D15:I15) -> 8 | I15: =SUMIF('TEST MARKS '!$D$8:$I$8,$I$9,'TEST MARKS '!D15:I15) -> 9 | J15: =D15*100/$J$8 -> #REF! | K15: =E15*100/$K$8 -> #REF! | L15: =F15*100/$L$8 -> #REF! | M15: =G15*100/$M$8 -> #REF! | N15: =H15*100/$N$8 -> #REF! | O15: =I15*100/$O$8 -> #REF! | P15: =IF(J15<'TEST MARKS '!#REF!,"N","Y") -> #REF! | Q15: =IF(K15<'TEST MARKS '!#REF!,"N","Y") -> #REF! | R15: =IF(L15<'TEST MARKS '!#REF!,"N","Y") -> #REF! | S15: =IF(M15<'TEST MARKS '!#REF!,"N","Y") -> #REF! | T15: =IF(N15<'TEST MARKS '!#REF!,"N","Y") -> #REF! | U15: =IF(O15<'TEST MARKS '!#REF!,"N","Y") -> #REF!
A16: 7 | B16: ='TEST MARKS '!B16 -> ANIL KUMAR C | C16: =SUMIF('TEST MARKS '!B14:G14,C15,'TEST MARKS '!B16:G16) -> 0 | D16: =SUMIF('TEST MARKS '!$D$8:$I$8,$D$9,'TEST MARKS '!D16:I16) -> 10 | E16: =SUMIF('TEST MARKS '!$D$8:$I$8,$E$9,'TEST MARKS '!D16:I16) -> 6 | F16: =SUMIF('TEST MARKS '!$D$8:$I$8,$F$9,'TEST MARKS '!D16:I16) -> 6 | G16: =SUMIF('TEST MARKS '!$D$8:$I$8,$G$9,'TEST MARKS '!D16:I16) -> 5 | H16: =SUMIF('TEST MARKS '!$D$8:$I$8,$H$9,'TEST MARKS '!D16:I16) -> 6 | I16: =SUMIF('TEST MARKS '!$D$8:$I$8,$I$9,'TEST MARKS '!D16:I16) -> 7 | J16: =D16*100/$J$8 -> #REF! | K16: =E16*100/$K$8 -> #REF! | L16: =F16*100/$L$8 -> #REF! | M16: =G16*100/$M$8 -> #REF! | N16: =H16*100/$N$8 -> #REF! | O16: =I16*100/$O$8 -> #REF! | P16: =IF(J16<'TEST MARKS '!#REF!,"N","Y") -> #REF! | Q16: =IF(K16<'TEST MARKS '!#REF!,"N","Y") -> #REF! | R16: =IF(L16<'TEST MARKS '!#REF!,"N","Y") -> #REF! | S16: =IF(M16<'TEST MARKS '!#REF!,"N","Y") -> #REF! | T16: =IF(N16<'TEST MARKS '!#REF!,"N","Y") -> #REF! | U16: =IF(O16<'TEST MARKS '!#REF!,"N","Y") -> #REF!
A17: =SUMIF('TEST MARKS '!A15:F15,A16,'TEST MARKS '!A17:F17) -> 0 | B17: =SUMIF('TEST MARKS '!B15:G15,B16,'TEST MARKS '!B17:G17) -> 0 | C17: =SUMIF('TEST MARKS '!C15:H15,C16,'TEST MARKS '!C17:H17) -> 8 | D17: =SUMIF('TEST MARKS '!$D$8:$I$8,$D$9,'TEST MARKS '!D17:I17) -> 0 | E17: =SUMIF('TEST MARKS '!$D$8:$I$8,$E$9,'TEST MARKS '!D17:I17) -> 0 | F17: =SUMIF('TEST MARKS '!$D$8:$I$8,$F$9,'TEST MARKS '!D17:I17) -> 8 | G17: =SUMIF('TEST MARKS '!$D$8:$I$8,$G$9,'TEST MARKS '!D17:I17) -> 6 | H17: =SUMIF('TEST MARKS '!$D$8:$I$8,$H$9,'TEST MARKS '!D17:I17) -> 4 | I17: =SUMIF('TEST MARKS '!$D$8:$I$8,$I$9,'TEST MARKS '!D17:I17) -> 6 | J17: =D17*100/$J$8 -> #REF! | K17: =E17*100/$K$8 -> #REF! | L17: =F17*100/$L$8 -> #REF! | M17: =G17*100/$M$8 -> #REF! | N17: =H17*100/$N$8 -> #REF! | O17: =I17*100/$O$8 -> #REF! | P17: =IF(J17<'TEST MARKS '!#REF!,"N","Y") -> #REF! | Q17: =IF(K17<'TEST MARKS '!#REF!,"N","Y") -> #REF! | R17: =IF(L17<'TEST MARKS '!#REF!,"N","Y") -> #REF! | S17: =IF(M17<'TEST MARKS '!#REF!,"N","Y") -> #REF! | T17: =IF(N17<'TEST MARKS '!#REF!,"N","Y") -> #REF! | U17: =IF(O17<'TEST MARKS '!#REF!,"N","Y") -> #REF!
A18: 9 | B18: ='TEST MARKS '!B18 -> ARJUN S | C18: ='TEST MARKS '!C18 -> 1SG15ME013 | D18: =SUMIF('TEST MARKS '!$D$8:$I$8,$D$9,'TEST MARKS '!D18:I18) -> 9 | E18: =SUMIF('TEST MARKS '!$D$8:$I$8,$E$9,'TEST MARKS '!D18:I18) -> 6 | F18: =SUMIF('TEST MARKS '!$D$8:$I$8,$F$9,'TEST MARKS '!D18:I18) -> 0 | G18: =SUMIF('TEST MARKS '!$D$8:$I$8,$G$9,'TEST MARKS '!D18:I18) -> 0 | H18: =SUMIF('TEST MARKS '!$D$8:$I$8,$H$9,'TEST MARKS '!D18:I18) -> 7 | I18: =SUMIF('TEST MARKS '!$D$8:$I$8,$I$9,'TEST MARKS '!D18:I18) -> 10 | J18: =D18*100/$J$8 -> #REF! | K18: =E18*100/$K$8 -> #REF! | L18: =F18*100/$L$8 -> #REF! | M18: =G18*100/$M$8 -> #REF! | N18: =H18*100/$N$8 -> #REF! | O18: =I18*100/$O$8 -> #REF! | P18: =IF(J18<'TEST MARKS '!#REF!,"N","Y") -> #REF! | Q18: =IF(K18<'TEST MARKS '!#REF!,"N","Y") -> #REF! | R18: =IF(L18<'TEST MARKS '!#REF!,"N","Y") -> #REF! | S18: =IF(M18<'TEST MARKS '!#REF!,"N","Y") -> #REF! | T18: =IF(N18<'TEST MARKS '!#REF!,"N","Y") -> #REF! | U18: =IF(O18<'TEST MARKS '!#REF!,"N","Y") -> #REF!
A19: 10 | B19: ='TEST MARKS '!B19 -> ASHISH SHARMA | C19: ='TEST MARKS '!C19 -> 1SG15ME014 | D19: =SUMIF('TEST MARKS '!$D$8:$I$8,$D$9,'TEST MARKS '!D19:I19) -> 7 | E19: =SUMIF('TEST MARKS '!$D$8:$I$8,$E$9,'TEST MARKS '!D19:I19) -> 6 | F19: =SUMIF('TEST MARKS '!$D$8:$I$8,$F$9,'TEST MARKS '!D19:I19) -> 0 | G19: =SUMIF('TEST MARKS '!$D$8:$I$8,$G$9,'TEST MARKS '!D19:I19) -> 0 | H19: =SUMIF('TEST MARKS '!$D$8:$I$8,$H$9,'TEST MARKS '!D19:I19) -> 7 | I19: =SUMIF('TEST MARKS '!$D$8:$I$8,$I$9,'TEST MARKS '!D19:I19) -> 10 | J19: =D19*100/$J$8 -> #REF! | K19: =E19*100/$K$8 -> #REF! | L19: =F19*100/$L$8 -> #REF! | M19: =G19*100/$M$8 -> #REF! | N19: =H19*100/$N$8 -> #REF! | O19: =I19*100/$O$8 -> #REF! | P19: =IF(J19<'TEST MARKS '!#REF!,"N","Y") -> #REF! | Q19: =IF(K19<'TEST MARKS '!#REF!,"N","Y") -> #REF! | R19: =IF(L19<'TEST MARKS '!#REF!,"N","Y") -> #REF! | S19: =IF(M19<'TEST MARKS '!#REF!,"N","Y") -> #REF! | T19: =IF(N19<'TEST MARKS '!#REF!,"N","Y") -> #REF! | U19: =IF(O19<'TEST MARKS '!#REF!,"N","Y") -> #REF!
A20: 11 | B20: ='TEST MARKS '!B20 -> AYAN GUHA RAOY | C20: ='TEST MARKS '!C20 -> 1SG15ME015 | D20: =SUMIF('TEST MARKS '!$D$8:$I$8,$D$9,'TEST MARKS '!D20:I20) -> 8 | E20: =SUMIF('TEST MARKS '!$D$8:$I$8,$E$9,'TEST MARKS '!D20:I20) -> 6 | F20: =SUMIF('TEST MARKS '!$D$8:$I$8,$F$9,'TEST MARKS '!D20:I20) -> 5 | G20: =SUMIF('TEST MARKS '!$D$8:$I$8,$G$9,'TEST MARKS '!D20:I20) -> 7 | H20: =SUMIF('TEST MARKS '!$D$8:$I$8,$H$9,'TEST MARKS '!D20:I20) -> 5 | I20: =SUMIF('TEST MARKS '!$D$8:$I$8,$I$9,'TEST MARKS '!D20:I20) -> 7 | J20: =D20*100/$J$8 -> #REF! | K20: =E20*100/$K$8 -> #REF! | L20: =F20*100/$L$8 -> #REF! | M20: =G20*100/$M$8 -> #REF! | N20: =H20*100/$N$8 -> #REF! | O20: =I20*100/$O$8 -> #REF! | P20: =IF(J20<'TEST MARKS '!#REF!,"N","Y") -> #REF! | Q20: =IF(K20<'TEST MARKS '!#REF!,"N","Y") -> #REF! | R20: =IF(L20<'TEST MARKS '!#REF!,"N","Y") -> #REF! | S20: =IF(M20<'TEST MARKS '!#REF!,"N","Y") -> #REF! | T20: =IF(N20<'TEST MARKS '!#REF!,"N","Y") -> #REF! | U20: =IF(O20<'TEST MARKS '!#REF!,"N","Y") -> #REF!
A21: 12 | B21: ='TEST MARKS '!B21 -> BHARATH .V | C21: ='TEST MARKS '!C21 -> 1SG15ME017 | D21: =SUMIF('TEST MARKS '!$D$8:$I$8,$D$9,'TEST MARKS '!D21:I21) -> 9 | E21: =SUMIF('TEST MARKS '!$D$8:$I$8,$E$9,'TEST MARKS '!D21:I21) -> 8 | F21: =SUMIF('TEST MARKS '!$D$8:$I$8,$F$9,'TEST MARKS '!D21:I21) -> 8 | G21: =SUMIF('TEST MARKS '!$D$8:$I$8,$G$9,'TEST MARKS '!D21:I21) -> 7 | H21: =SUMIF('TEST MARKS '!$D$8:$I$8,$H$9,'TEST MARKS '!D21:I21) -> 7 | I21: =SUMIF('TEST MARKS '!$D$8:$I$8,$I$9,'TEST MARKS '!D21:I21) -> 7 | J21: =D21*100/$J$8 -> #REF! | K21: =E21*100/$K$8 -> #REF! | L21: =F21*100/$L$8 -> #REF! | M21: =G21*100/$M$8 -> #REF! | N21: =H21*100/$N$8 -> #REF! | O21: =I21*100/$O$8 -> #REF! | P21: =IF(J21<'TEST MARKS '!#REF!,"N","Y") -> #REF! | Q21: =IF(K21<'TEST MARKS '!#REF!,"N","Y") -> #REF! | R21: =IF(L21<'TEST MARKS '!#REF!,"N","Y") -> #REF! | S21: =IF(M21<'TEST MARKS '!#REF!,"N","Y") -> #REF! | T21: =IF(N21<'TEST MARKS '!#REF!,"N","Y") -> #REF! | U21: =IF(O21<'TEST MARKS '!#REF!,"N","Y") -> #REF!
A22: 13 | B22: ='TEST MARKS '!B22 -> C KARTHIK | C22: ='TEST MARKS '!C22 -> 1SG15ME018 | D22: =SUMIF('TEST MARKS '!$D$8:$I$8,$D$9,'TEST MARKS '!D22:I22) -> 10 | E22: =SUMIF('TEST MARKS '!$D$8:$I$8,$E$9,'TEST MARKS '!D22:I22) -> 7 | F22: =SUMIF('TEST MARKS '!$D$8:$I$8,$F$9,'TEST MARKS '!D22:I22) -> 8 | G22: =SUMIF('TEST MARKS '!$D$8:$I$8,$G$9,'TEST MARKS '!D22:I22) -> 6 | H22: =SUMIF('TEST MARKS '!$D$8:$I$8,$H$9,'TEST MARKS '!D22:I22) -> 5 | I22: =SUMIF('TEST MARKS '!$D$8:$I$8,$I$9,'TEST MARKS '!D22:I22) -> 7 | J22: =D22*100/$J$8 -> #REF! | K22: =E22*100/$K$8 -> #REF! | L22: =F22*100/$L$8 -> #REF! | M22: =G22*100/$M$8 -> #REF! | N22: =H22*100/$N$8 -> #REF! | O22: =I22*100/$O$8 -> #REF! | P22: =IF(J22<'TEST MARKS '!#REF!,"N","Y") -> #REF! | Q22: =IF(K22<'TEST MARKS '!#REF!,"N","Y") -> #REF! | R22: =IF(L22<'TEST MARKS '!#REF!,"N","Y") -> #REF! | S22: =IF(M22<'TEST MARKS '!#REF!,"N","Y") -> #REF! | T22: =IF(N22<'TEST MARKS '!#REF!,"N","Y") -> #REF! | U22: =IF(O22<'TEST MARKS '!#REF!,"N","Y") -> #REF!
A23: 14 | B23: ='TEST MARKS '!B23 -> CHETHAN I P | C23: ='TEST MARKS '!C23 -> 1SG15ME020 | D23: =SUMIF('TEST MARKS '!$D$8:$I$8,$D$9,'TEST MARKS '!D23:I23) -> 9 | E23: =SUMIF('TEST MARKS '!$D$8:$I$8,$E$9,'TEST MARKS '!D23:I23) -> 9 | F23: =SUMIF('TEST MARKS '!$D$8:$I$8,$F$9,'TEST MARKS '!D23:I23) -> 0 | G23: =SUMIF('TEST MARKS '!$D$8:$I$8,$G$9,'TEST MARKS '!D23:I23) -> 0 | H23: =SUMIF('TEST MARKS '!$D$8:$I$8,$H$9,'TEST MARKS '!D23:I23) -> 9 | I23: =SUMIF('TEST MARKS '!$D$8:$I$8,$I$9,'TEST MARKS '!D23:I23) -> 10 | J23: =D23*100/$J$8 -> #REF! | K23: =E23*100/$K$8 -> #REF! | L23: =F23*100/$L$8 -> #REF! | M23: =G23*100/$M$8 -> #REF! | N23: =H23*100/$N$8 -> #REF! | O23: =I23*100/$O$8 -> #REF! | P23: =IF(J23<'TEST MARKS '!#REF!,"N","Y") -> #REF! | Q23: =IF(K23<'TEST MARKS '!#REF!,"N","Y") -> #REF! | R23: =IF(L23<'TEST MARKS '!#REF!,"N","Y") -> #REF! | S23: =IF(M23<'TEST MARKS '!#REF!,"N","Y") -> #REF! | T23: =IF(N23<'TEST MARKS '!#REF!,"N","Y") -> #REF! | U23: =IF(O23<'TEST MARKS '!#REF!,"N","Y") -> #REF!
A24: 15 | B24: ='TEST MARKS '!B24 -> DAYANANDA M | C24: ='TEST MARKS '!C24 -> 1SG15ME021 | D24: =SUMIF('TEST MARKS '!$D$8:$I$8,$D$9,'TEST MARKS '!D24:I24) -> 7 | E24: =SUMIF('TEST MARKS '!$D$8:$I$8,$E$9,'TEST MARKS '!D24:I24) -> 5 | F24: =SUMIF('TEST MARKS '!$D$8:$I$8,$F$9,'TEST MARKS '!D24:I24) -> 0 | G24: =SUMIF('TEST MARKS '!$D$8:$I$8,$G$9,'TEST MARKS '!D24:I24) -> 0 | H24: =SUMIF('TEST MARKS '!$D$8:$I$8,$H$9,'TEST MARKS '!D24:I24) -> 7 | I24: =SUMIF('TEST MARKS '!$D$8:$I$8,$I$9,'TEST MARKS '!D24:I24) -> 5 | J24: =D24*100/$J$8 -> #REF! | K24: =E24*100/$K$8 -> #REF! | L24: =F24*100/$L$8 -> #REF! | M24: =G24*100/$M$8 -> #REF! | N24: =H24*100/$N$8 -> #REF! | O24: =I24*100/$O$8 -> #REF! | P24: =IF(J24<'TEST MARKS '!#REF!,"N","Y") -> #REF! | Q24: =IF(K24<'TEST MARKS '!#REF!,"N","Y") -> #REF! | R24: =IF(L24<'TEST MARKS '!#REF!,"N","Y") -> #REF! | S24: =IF(M24<'TEST MARKS '!#REF!,"N","Y") -> #REF! | T24: =IF(N24<'TEST MARKS '!#REF!,"N","Y") -> #REF! | U24: =IF(O24<'TEST MARKS '!#REF!,"N","Y") -> #REF!
A25: 16 | B25: ='TEST MARKS '!B25 -> DEEPU H S | C25: ='TEST MARKS '!C25 -> 1SG15ME022 | D25: =SUMIF('TEST MARKS '!$D$8:$I$8,$D$9,'TEST MARKS '!D25:I25) -> 10 | E25: =SUMIF('TEST MARKS '!$D$8:$I$8,$E$9,'TEST MARKS '!D25:I25) -> 8 | F25: =SUMIF('TEST MARKS '!$D$8:$I$8,$F$9,'TEST MARKS '!D25:I25) -> 9 | G25: =SUMIF('TEST MARKS '!$D$8:$I$8,$G$9,'TEST MARKS '!D25:I25) -> 7 | H25: =SUMIF('TEST MARKS '!$D$8:$I$8,$H$9,'TEST MARKS '!D25:I25) -> 7 | I25: =SUMIF('TEST MARKS '!$D$8:$I$8,$I$9,'TEST MARKS '!D25:I25) -> 7 | J25: =D25*100/$J$8 -> #REF! | K25: =E25*100/$K$8 -> #REF! | L25: =F25*100/$L$8 -> #REF! | M25: =G25*100/$M$8 -> #REF! | N25: =H25*100/$N$8 -> #REF! | O25: =I25*100/$O$8 -> #REF! | P25: =IF(J25<'TEST MARKS '!#REF!,"N","Y") -> #REF! | Q25: =IF(K25<'TEST MARKS '!#REF!,"N","Y") -> #REF! | R25: =IF(L25<'TEST MARKS '!#REF!,"N","Y") -> #REF! | S25: =IF(M25<'TEST MARKS '!#REF!,"N","Y") -> #REF! | T25: =IF(N25<'TEST MARKS '!#REF!,"N","Y") -> #REF! | U25: =IF(O25<'TEST MARKS '!#REF!,"N","Y") -> #REF!
A26: 17 | B26: ='TEST MARKS '!B26 -> DEVARAJ HIREMATH | C26: ='TEST MARKS '!C26 -> 1SG15ME023 | D26: =SUMIF('TEST MARKS '!$D$8:$I$8,$D$9,'TEST MARKS '!D26:I26) -> 6 | E26: =SUMIF('TEST MARKS '!$D$8:$I$8,$E$9,'TEST MARKS '!D26:I26) -> 6 | F26: =SUMIF('TEST MARKS '!$D$8:$I$8,$F$9,'TEST MARKS '!D26:I26) -> 9 | G26: =SUMIF('TEST MARKS '!$D$8:$I$8,$G$9,'TEST MARKS '!D26:I26) -> 7 | H26: =SUMIF('TEST MARKS '!$D$8:$I$8,$H$9,'TEST MARKS '!D26:I26) -> 0 | I26: =SUMIF('TEST MARKS '!$D$8:$I$8,$I$9,'TEST MARKS '!D26:I26) -> 0 | J26: =D26*100/$J$8 -> #REF! | K26: =E26*100/$K$8 -> #REF! | L26: =F26*100/$L$8 -> #REF! | M26: =G26*100/$M$8 -> #REF! | N26: =H26*100/$N$8 -> #REF! | O26: =I26*100/$O$8 -> #REF! | P26: =IF(J26<'TEST MARKS '!#REF!,"N","Y") -> #REF! | Q26: =IF(K26<'TEST MARKS '!#REF!,"N","Y") -> #REF! | R26: =IF(L26<'TEST MARKS '!#REF!,"N","Y") -> #REF! | S26: =IF(M26<'TEST MARKS '!#REF!,"N","Y") -> #REF! | T26: =IF(N26<'TEST MARKS '!#REF!,"N","Y") -> #REF! | U26: =IF(O26<'TEST MARKS '!#REF!,"N","Y") -> #REF!
A27: 18 | B27: ='TEST MARKS '!B27 -> DHANANJAYA V | C27: ='TEST MARKS '!C27 -> 1SG15ME024 | D27: =SUMIF('TEST MARKS '!$D$8:$I$8,$D$9,'TEST MARKS '!D27:I27) -> 0 | E27: =SUMIF('TEST MARKS '!$D$8:$I$8,$E$9,'TEST MARKS '!D27:I27) -> 0 | F27: =SUMIF('TEST MARKS '!$D$8:$I$8,$F$9,'TEST MARKS '!D27:I27) -> 5 | G27: =SUMIF('TEST MARKS '!$D$8:$I$8,$G$9,'TEST MARKS '!D27:I27) -> 7 | H27: =SUMIF('TEST MARKS '!$D$8:$I$8,$H$9,'TEST MARKS '!D27:I27) -> 5 | I27: =SUMIF('TEST MARKS '!$D$8:$I$8,$I$9,'TEST MARKS '!D27:I27) -> 7 | J27: =D27*100/$J$8 -> #REF! | K27: =E27*100/$K$8 -> #REF! | L27: =F27*100/$L$8 -> #REF! | M27: =G27*100/$M$8 -> #REF! | N27: =H27*100/$N$8 -> #REF! | O27: =I27*100/$O$8 -> #REF! | P27: =IF(J27<'TEST MARKS '!#REF!,"N","Y") -> #REF! | Q27: =IF(K27<'TEST MARKS '!#REF!,"N","Y") -> #REF! | R27: =IF(L27<'TEST MARKS '!#REF!,"N","Y") -> #REF! | S27: =IF(M27<'TEST MARKS '!#REF!,"N","Y") -> #REF! | T27: =IF(N27<'TEST MARKS '!#REF!,"N","Y") -> #REF! | U27: =IF(O27<'TEST MARKS '!#REF!,"N","Y") -> #REF!
A28: 19 | B28: ='TEST MARKS '!B28 -> DHANRAJ M | C28: ='TEST MARKS '!C28 -> 1SG15ME025 | D28: =SUMIF('TEST MARKS '!$D$8:$I$8,$D$9,'TEST MARKS '!D28:I28) -> 7 | E28: =SUMIF('TEST MARKS '!$D$8:$I$8,$E$9,'TEST MARKS '!D28:I28) -> 5 | F28: =SUMIF('TEST MARKS '!$D$8:$I$8,$F$9,'TEST MARKS '!D28:I28) -> 7 | G28: =SUMIF('TEST MARKS '!$D$8:$I$8,$G$9,'TEST MARKS '!D28:I28) -> 6 | H28: =SUMIF('TEST MARKS '!$D$8:$I$8,$H$9,'TEST MARKS '!D28:I28) -> 6 | I28: =SUMIF('TEST MARKS '!$D$8:$I$8,$I$9,'TEST MARKS '!D28:I28) -> 9 | J28: =D28*100/$J$8 -> #REF! | K28: =E28*100/$K$8 -> #REF! | L28: =F28*100/$L$8 -> #REF! | M28: =G28*100/$M$8 -> #REF! | N28: =H28*100/$N$8 -> #REF! | O28: =I28*100/$O$8 -> #REF! | P28: =IF(J28<'TEST MARKS '!#REF!,"N","Y") -> #REF! | Q28: =IF(K28<'TEST MARKS '!#REF!,"N","Y") -> #REF! | R28: =IF(L28<'TEST MARKS '!#REF!,"N","Y") -> #REF! | S28: =IF(M28<'TEST MARKS '!#REF!,"N","Y") -> #REF! | T28: =IF(N28<'TEST MARKS '!#REF!,"N","Y") -> #REF! | U28: =IF(O28<'TEST MARKS '!#REF!,"N","Y") -> #REF!
A29: 20 | B29: ='TEST MARKS '!B29 -> DHARSHAN M J | C29: ='TEST MARKS '!C29 -> 1SG15ME026 | D29: =SUMIF('TEST MARKS '!$D$8:$I$8,$D$9,'TEST MARKS '!D29:I29) -> 8 | E29: =SUMIF('TEST MARKS '!$D$8:$I$8,$E$9,'TEST MARKS '!D29:I29) -> 6 | F29: =SUMIF('TEST MARKS '!$D$8:$I$8,$F$9,'TEST MARKS '!D29:I29) -> 0 | G29: =SUMIF('TEST MARKS '!$D$8:$I$8,$G$9,'TEST MARKS '!D29:I29) -> 0 | H29: =SUMIF('TEST MARKS '!$D$8:$I$8,$H$9,'TEST MARKS '!D29:I29) -> 7 | I29: =SUMIF('TEST MARKS '!$D$8:$I$8,$I$9,'TEST MARKS '!D29:I29) -> 9 | J29: =D29*100/$J$8 -> #REF! | K29: =E29*100/$K$8 -> #REF! | L29: =F29*100/$L$8 -> #REF! | M29: =G29*100/$M$8 -> #REF! | N29: =H29*100/$N$8 -> #REF! | O29: =I29*100/$O$8 -> #REF! | P29: =IF(J29<'TEST MARKS '!#REF!,"N","Y") -> #REF! | Q29: =IF(K29<'TEST MARKS '!#REF!,"N","Y") -> #REF! | R29: =IF(L29<'TEST MARKS '!#REF!,"N","Y") -> #REF! | S29: =IF(M29<'TEST MARKS '!#REF!,"N","Y") -> #REF! | T29: =IF(N29<'TEST MARKS '!#REF!,"N","Y") -> #REF! | U29: =IF(O29<'TEST MARKS '!#REF!,"N","Y") -> #REF!
... A66: 57 | B66: ='TEST MARKS '!B66 -> RAVISHANKAR .G | C66: ='TEST MARKS '!C66 -> 1SG15ME078 | D66: =SUMIF('TEST MARKS '!$D$8:$I$8,$D$9,'TEST MARKS '!D66:I66) -> 7 | E66: =SUMIF('TEST MARKS '!$D$8:$I$8,$E$9,'TEST MARKS '!D66:I66) -> 5 | F66: =SUMIF('TEST MARKS '!$D$8:$I$8,$F$9,'TEST MARKS '!D66:I66) -> 6 | G66: =SUMIF('TEST MARKS '!$D$8:$I$8,$G$9,'TEST MARKS '!D66:I66) -> 5 | H66: =SUMIF('TEST MARKS '!$D$8:$I$8,$H$9,'TEST MARKS '!D66:I66) -> 7 | I66: =SUMIF('TEST MARKS '!$D$8:$I$8,$I$9,'TEST MARKS '!D66:I66) -> 9 | J66: =D66*100/$J$8 -> #REF! | K66: =E66*100/$K$8 -> #REF! | L66: =F66*100/$L$8 -> #REF! | M66: =G66*100/$M$8 -> #REF! | N66: =H66*100/$N$8 -> #REF! | O66: =I66*100/$O$8 -> #REF! | P66: =IF(J66<'TEST MARKS '!#REF!,"N","Y") -> #REF! | Q66: =IF(K66<'TEST MARKS '!#REF!,"N","Y") -> #REF! | R66: =IF(L66<'TEST MARKS '!#REF!,"N","Y") -> #REF! | S66: =IF(M66<'TEST MARKS '!#REF!,"N","Y") -> #REF! | T66: =IF(N66<'TEST MARKS '!#REF!,"N","Y") -> #REF! | U66: =IF(O66<'TEST MARKS '!#REF!,"N","Y") -> #REF!
A67: 58 | B67: ='TEST MARKS '!B67 -> ROHAN A | C67: ='TEST MARKS '!C67 -> 1SG15ME079 | D67: =SUMIF('TEST MARKS '!$D$8:$I$8,$D$9,'TEST MARKS '!D67:H67) -> 7 | E67: =SUMIF('TEST MARKS '!$D$8:$I$8,$E$9,'TEST MARKS '!D67:H67) -> 7 | F67: =SUMIF('TEST MARKS '!$D$8:$I$8,$F$9,'TEST MARKS '!D67:H67) -> 0 | G67: =SUMIF('TEST MARKS '!$D$8:$I$8,$G$9,'TEST MARKS '!D67:H67) -> 0 | H67: =SUMIF('TEST MARKS '!$D$8:$I$8,$H$9,'TEST MARKS '!D67:H67) -> 7 | I67: =SUMIF('TEST MARKS '!$D$8:$I$8,$I$9,'TEST MARKS '!D67:H67) -> 9 | J67: =D67*100/$J$8 -> #REF! | K67: =E67*100/$K$8 -> #REF! | L67: =F67*100/$L$8 -> #REF! | M67: =G67*100/$M$8 -> #REF! | N67: =H67*100/$N$8 -> #REF! | O67: =I67*100/$O$8 -> #REF! | P67: =IF(J67<'TEST MARKS '!#REF!,"N","Y") -> #REF! | Q67: =IF(K67<'TEST MARKS '!#REF!,"N","Y") -> #REF! | R67: =IF(L67<'TEST MARKS '!#REF!,"N","Y") -> #REF! | S67: =IF(M67<'TEST MARKS '!#REF!,"N","Y") -> #REF! | T67: =IF(N67<'TEST MARKS '!#REF!,"N","Y") -> #REF! | U67: =IF(O67<'TEST MARKS '!#REF!,"N","Y") -> #REF!
A68: 59 | B68: ='TEST MARKS '!B68 -> S HANUMANTHA REDDY | C68: ='TEST MARKS '!C68 -> 1SG15ME080 | D68: =SUMIF('TEST MARKS '!$D$8:$I$8,$D$9,'TEST MARKS '!D68:I68) -> 7 | E68: =SUMIF('TEST MARKS '!$D$8:$I$8,$E$9,'TEST MARKS '!D68:I68) -> 5 | F68: =SUMIF('TEST MARKS '!$D$8:$I$8,$F$9,'TEST MARKS '!D68:I68) -> 0 | G68: =SUMIF('TEST MARKS '!$D$8:$I$8,$G$9,'TEST MARKS '!D68:I68) -> 0 | H68: =SUMIF('TEST MARKS '!$D$8:$I$8,$H$9,'TEST MARKS '!D68:I68) -> 6 | I68: =SUMIF('TEST MARKS '!$D$8:$I$8,$I$9,'TEST MARKS '!D68:I68) -> 7 | J68: =D68*100/$J$8 -> #REF! | K68: =E68*100/$K$8 -> #REF! | L68: =F68*100/$L$8 -> #REF! | M68: =G68*100/$M$8 -> #REF! | N68: =H68*100/$N$8 -> #REF! | O68: =I68*100/$O$8 -> #REF! | P68: =IF(J68<'TEST MARKS '!#REF!,"N","Y") -> #REF! | Q68: =IF(K68<'TEST MARKS '!#REF!,"N","Y") -> #REF! | R68: =IF(L68<'TEST MARKS '!#REF!,"N","Y") -> #REF! | S68: =IF(M68<'TEST MARKS '!#REF!,"N","Y") -> #REF! | T68: =IF(N68<'TEST MARKS '!#REF!,"N","Y") -> #REF! | U68: =IF(O68<'TEST MARKS '!#REF!,"N","Y") -> #REF!
A69: 60 | B69: ='TEST MARKS '!B69 -> SADANANDA LAXMINARAYAN HEGDE | C69: ='TEST MARKS '!C69 -> 1SG15ME081 | D69: =SUMIF('TEST MARKS '!$D$8:$I$8,$D$9,'TEST MARKS '!D69:I69) -> 5 | E69: =SUMIF('TEST MARKS '!$D$8:$I$8,$E$9,'TEST MARKS '!D69:I69) -> 7 | F69: =SUMIF('TEST MARKS '!$D$8:$I$8,$F$9,'TEST MARKS '!D69:I69) -> 0 | G69: =SUMIF('TEST MARKS '!$D$8:$I$8,$G$9,'TEST MARKS '!D69:I69) -> 0 | H69: =SUMIF('TEST MARKS '!$D$8:$I$8,$H$9,'TEST MARKS '!D69:I69) -> 7 | I69: =SUMIF('TEST MARKS '!$D$8:$I$8,$I$9,'TEST MARKS '!D69:I69) -> 6 | J69: =D69*100/$J$8 -> #REF! | K69: =E69*100/$K$8 -> #REF! | L69: =F69*100/$L$8 -> #REF! | M69: =G69*100/$M$8 -> #REF! | N69: =H69*100/$N$8 -> #REF! | O69: =I69*100/$O$8 -> #REF! | P69: =IF(J69<'TEST MARKS '!#REF!,"N","Y") -> #REF! | Q69: =IF(K69<'TEST MARKS '!#REF!,"N","Y") -> #REF! | R69: =IF(L69<'TEST MARKS '!#REF!,"N","Y") -> #REF! | S69: =IF(M69<'TEST MARKS '!#REF!,"N","Y") -> #REF! | T69: =IF(N69<'TEST MARKS '!#REF!,"N","Y") -> #REF! | U69: =IF(O69<'TEST MARKS '!#REF!,"N","Y") -> #REF!
A70: 61 | B70: ='TEST MARKS '!B70 -> SAKSHAM KANTHAK | C70: ='TEST MARKS '!C70 -> 1SG15ME082 | D70: =SUMIF('TEST MARKS '!$D$8:$I$8,$D$9,'TEST MARKS '!D70:I70) -> 9 | E70: =SUMIF('TEST MARKS '!$D$8:$I$8,$E$9,'TEST MARKS '!D70:I70) -> 8 | F70: =SUMIF('TEST MARKS '!$D$8:$I$8,$F$9,'TEST MARKS '!D70:I70) -> 0 | G70: =SUMIF('TEST MARKS '!$D$8:$I$8,$G$9,'TEST MARKS '!D70:I70) -> 0 | H70: =SUMIF('TEST MARKS '!$D$8:$I$8,$H$9,'TEST MARKS '!D70:I70) -> 5 | I70: =SUMIF('TEST MARKS '!$D$8:$I$8,$I$9,'TEST MARKS '!D70:I70) -> 7 | J70: =D70*100/$J$8 -> #REF! | K70: =E70*100/$K$8 -> #REF! | L70: =F70*100/$L$8 -> #REF! | M70: =G70*100/$M$8 -> #REF! | N70: =H70*100/$N$8 -> #REF! | O70: =I70*100/$O$8 -> #REF! | P70: =IF(J70<'TEST MARKS '!#REF!,"N","Y") -> #REF! | Q70: =IF(K70<'TEST MARKS '!#REF!,"N","Y") -> #REF! | R70: =IF(L70<'TEST MARKS '!#REF!,"N","Y") -> #REF! | S70: =IF(M70<'TEST MARKS '!#REF!,"N","Y") -> #REF! | T70: =IF(N70<'TEST MARKS '!#REF!,"N","Y") -> #REF! | U70: =IF(O70<'TEST MARKS '!#REF!,"N","Y") -> #REF!
A71: 62 | B71: ='TEST MARKS '!B71 -> SANTHOSHA | C71: ='TEST MARKS '!C71 -> 1SG15ME083 | D71: =SUMIF('TEST MARKS '!$D$8:$I$8,$D$9,'TEST MARKS '!D71:I71) -> 8 | E71: =SUMIF('TEST MARKS '!$D$8:$I$8,$E$9,'TEST MARKS '!D71:I71) -> 6 | F71: =SUMIF('TEST MARKS '!$D$8:$I$8,$F$9,'TEST MARKS '!D71:I71) -> 7 | G71: =SUMIF('TEST MARKS '!$D$8:$I$8,$G$9,'TEST MARKS '!D71:I71) -> 7 | H71: =SUMIF('TEST MARKS '!$D$8:$I$8,$H$9,'TEST MARKS '!D71:I71) -> 7 | I71: =SUMIF('TEST MARKS '!$D$8:$I$8,$I$9,'TEST MARKS '!D71:I71) -> 8 | J71: =D71*100/$J$8 -> #REF! | K71: =E71*100/$K$8 -> #REF! | L71: =F71*100/$L$8 -> #REF! | M71: =G71*100/$M$8 -> #REF! | N71: =H71*100/$N$8 -> #REF! | O71: =I71*100/$O$8 -> #REF! | P71: =IF(J71<'TEST MARKS '!#REF!,"N","Y") -> #REF! | Q71: =IF(K71<'TEST MARKS '!#REF!,"N","Y") -> #REF! | R71: =IF(L71<'TEST MARKS '!#REF!,"N","Y") -> #REF! | S71: =IF(M71<'TEST MARKS '!#REF!,"N","Y") -> #REF! | T71: =IF(N71<'TEST MARKS '!#REF!,"N","Y") -> #REF! | U71: =IF(O71<'TEST MARKS '!#REF!,"N","Y") -> #REF!
A72: 63 | B72: ='TEST MARKS '!B72 -> SAURABH RAJESH PARAVE | C72: ='TEST MARKS '!C72 -> 1SG15ME084 | D72: =SUMIF('TEST MARKS '!$D$8:$I$8,$D$9,'TEST MARKS '!D72:I72) -> 0 | E72: =SUMIF('TEST MARKS '!$D$8:$I$8,$E$9,'TEST MARKS '!D72:I72) -> 0 | F72: =SUMIF('TEST MARKS '!$D$8:$I$8,$F$9,'TEST MARKS '!D72:I72) -> 7 | G72: =SUMIF('TEST MARKS '!$D$8:$I$8,$G$9,'TEST MARKS '!D72:I72) -> 6 | H72: =SUMIF('TEST MARKS '!$D$8:$I$8,$H$9,'TEST MARKS '!D72:I72) -> 4 | I72: =SUMIF('TEST MARKS '!$D$8:$I$8,$I$9,'TEST MARKS '!D72:I72) -> 6 | J72: =D72*100/$J$8 -> #REF! | K72: =E72*100/$K$8 -> #REF! | L72: =F72*100/$L$8 -> #REF! | M72: =G72*100/$M$8 -> #REF! | N72: =H72*100/$N$8 -> #REF! | O72: =I72*100/$O$8 -> #REF! | P72: =IF(J72<'TEST MARKS '!#REF!,"N","Y") -> #REF! | Q72: =IF(K72<'TEST MARKS '!#REF!,"N","Y") -> #REF! | R72: =IF(L72<'TEST MARKS '!#REF!,"N","Y") -> #REF! | S72: =IF(M72<'TEST MARKS '!#REF!,"N","Y") -> #REF! | T72: =IF(N72<'TEST MARKS '!#REF!,"N","Y") -> #REF! | U72: =IF(O72<'TEST MARKS '!#REF!,"N","Y") -> #REF!
A73: 64 | B73: ='TEST MARKS '!B73 -> SHARATH.A.R | C73: ='TEST MARKS '!C73 -> 1SG15ME089 | D73: =SUMIF('TEST MARKS '!$D$8:$I$8,$D$9,'TEST MARKS '!D73:I73) -> 7 | E73: =SUMIF('TEST MARKS '!$D$8:$I$8,$E$9,'TEST MARKS '!D73:I73) -> 5 | F73: =SUMIF('TEST MARKS '!$D$8:$I$8,$F$9,'TEST MARKS '!D73:I73) -> 9 | G73: =SUMIF('TEST MARKS '!$D$8:$I$8,$G$9,'TEST MARKS '!D73:I73) -> 7 | H73: =SUMIF('TEST MARKS '!$D$8:$I$8,$H$9,'TEST MARKS '!D73:I73) -> 6 | I73: =SUMIF('TEST MARKS '!$D$8:$I$8,$I$9,'TEST MARKS '!D73:I73) -> 6 | J73: =D73*100/$J$8 -> #REF! | K73: =E73*100/$K$8 -> #REF! | L73: =F73*100/$L$8 -> #REF! | M73: =G73*100/$M$8 -> #REF! | N73: =H73*100/$N$8 -> #REF! | O73: =I73*100/$O$8 -> #REF! | P73: =IF(J73<'TEST MARKS '!#REF!,"N","Y") -> #REF! | Q73: =IF(K73<'TEST MARKS '!#REF!,"N","Y") -> #REF! | R73: =IF(L73<'TEST MARKS '!#REF!,"N","Y") -> #REF! | S73: =IF(M73<'TEST MARKS '!#REF!,"N","Y") -> #REF! | T73: =IF(N73<'TEST MARKS '!#REF!,"N","Y") -> #REF! | U73: =IF(O73<'TEST MARKS '!#REF!,"N","Y") -> #REF!
A74: 65 | B74: ='TEST MARKS '!B74 -> SHASHANK H PRASAD | C74: ='TEST MARKS '!C74 -> 1SG15ME091 | D74: =SUMIF('TEST MARKS '!$D$8:$I$8,$D$9,'TEST MARKS '!D74:I74) -> 9 | E74: =SUMIF('TEST MARKS '!$D$8:$I$8,$E$9,'TEST MARKS '!D74:I74) -> 8 | F74: =SUMIF('TEST MARKS '!$D$8:$I$8,$F$9,'TEST MARKS '!D74:I74) -> 9 | G74: =SUMIF('TEST MARKS '!$D$8:$I$8,$G$9,'TEST MARKS '!D74:I74) -> 8 | H74: =SUMIF('TEST MARKS '!$D$8:$I$8,$H$9,'TEST MARKS '!D74:I74) -> 7 | I74: =SUMIF('TEST MARKS '!$D$8:$I$8,$I$9,'TEST MARKS '!D74:I74) -> 7 | J74: =D74*100/$J$8 -> #REF! | K74: =E74*100/$K$8 -> #REF! | L74: =F74*100/$L$8 -> #REF! | M74: =G74*100/$M$8 -> #REF! | N74: =H74*100/$N$8 -> #REF! | O74: =I74*100/$O$8 -> #REF! | P74: =IF(J74<'TEST MARKS '!#REF!,"N","Y") -> #REF! | Q74: =IF(K74<'TEST MARKS '!#REF!,"N","Y") -> #REF! | R74: =IF(L74<'TEST MARKS '!#REF!,"N","Y") -> #REF! | S74: =IF(M74<'TEST MARKS '!#REF!,"N","Y") -> #REF! | T74: =IF(N74<'TEST MARKS '!#REF!,"N","Y") -> #REF! | U74: =IF(O74<'TEST MARKS '!#REF!,"N","Y") -> #REF!
A75: 66 | B75: ='TEST MARKS '!B75 -> SHUBHAM MAJHI | C75: ='TEST MARKS '!C75 -> 1SG15ME092 | D75: =SUMIF('TEST MARKS '!$D$8:$I$8,$D$9,'TEST MARKS '!D75:I75) -> 0 | E75: =SUMIF('TEST MARKS '!$D$8:$I$8,$E$9,'TEST MARKS '!D75:I75) -> 0 | F75: =SUMIF('TEST MARKS '!$D$8:$I$8,$F$9,'TEST MARKS '!D75:I75) -> 7 | G75: =SUMIF('TEST MARKS '!$D$8:$I$8,$G$9,'TEST MARKS '!D75:I75) -> 7 | H75: =SUMIF('TEST MARKS '!$D$8:$I$8,$H$9,'TEST MARKS '!D75:I75) -> 5 | I75: =SUMIF('TEST MARKS '!$D$8:$I$8,$I$9,'TEST MARKS '!D75:I75) -> 7 | J75: =D75*100/$J$8 -> #REF! | K75: =E75*100/$K$8 -> #REF! | L75: =F75*100/$L$8 -> #REF! | M75: =G75*100/$M$8 -> #REF! | N75: =H75*100/$N$8 -> #REF! | O75: =I75*100/$O$8 -> #REF! | P75: =IF(J75<'TEST MARKS '!#REF!,"N","Y") -> #REF! | Q75: =IF(K75<'TEST MARKS '!#REF!,"N","Y") -> #REF! | R75: =IF(L75<'TEST MARKS '!#REF!,"N","Y") -> #REF! | S75: =IF(M75<'TEST MARKS '!#REF!,"N","Y") -> #REF! | T75: =IF(N75<'TEST MARKS '!#REF!,"N","Y") -> #REF! | U75: =IF(O75<'TEST MARKS '!#REF!,"N","Y") -> #REF!
A76: 67 | B76: ='TEST MARKS '!B76 -> SRIDHAR N S | C76: ='TEST MARKS '!C76 -> 1SG15ME094 | D76: =SUMIF('TEST MARKS '!$D$8:$I$8,$D$9,'TEST MARKS '!D76:I76) -> 6 | E76: =SUMIF('TEST MARKS '!$D$8:$I$8,$E$9,'TEST MARKS '!D76:I76) -> 4 | F76: =SUMIF('TEST MARKS '!$D$8:$I$8,$F$9,'TEST MARKS '!D76:I76) -> 7 | G76: =SUMIF('TEST MARKS '!$D$8:$I$8,$G$9,'TEST MARKS '!D76:I76) -> 6 | H76: =SUMIF('TEST MARKS '!$D$8:$I$8,$H$9,'TEST MARKS '!D76:I76) -> 7 | I76: =SUMIF('TEST MARKS '!$D$8:$I$8,$I$9,'TEST MARKS '!D76:I76) -> 7 | J76: =D76*100/$J$8 -> #REF! | K76: =E76*100/$K$8 -> #REF! | L76: =F76*100/$L$8 -> #REF! | M76: =G76*100/$M$8 -> #REF! | N76: =H76*100/$N$8 -> #REF! | O76: =I76*100/$O$8 -> #REF! | P76: =IF(J76<'TEST MARKS '!#REF!,"N","Y") -> #REF! | Q76: =IF(K76<'TEST MARKS '!#REF!,"N","Y") -> #REF! | R76: =IF(L76<'TEST MARKS '!#REF!,"N","Y") -> #REF! | S76: =IF(M76<'TEST MARKS '!#REF!,"N","Y") -> #REF! | T76: =IF(N76<'TEST MARKS '!#REF!,"N","Y") -> #REF! | U76: =IF(O76<'TEST MARKS '!#REF!,"N","Y") -> #REF!
A77: 68 | B77: ='TEST MARKS '!#REF! -> #REF! | C77: ='TEST MARKS '!C77 -> 1SG15ME095 | D77: =SUMIF('TEST MARKS '!$D$8:$I$8,$D$9,'TEST MARKS '!B77:I77) -> 0 | E77: =SUMIF('TEST MARKS '!$D$8:$I$8,$E$9,'TEST MARKS '!B77:I77) -> 0 | F77: =SUMIF('TEST MARKS '!$D$8:$I$8,$F$9,'TEST MARKS '!B77:I77) -> 8 | G77: =SUMIF('TEST MARKS '!$D$8:$I$8,$G$9,'TEST MARKS '!B77:I77) -> 7 | H77: =SUMIF('TEST MARKS '!$D$8:$I$8,$H$9,'TEST MARKS '!B77:I77) -> 0 | I77: =SUMIF('TEST MARKS '!$D$8:$I$8,$I$9,'TEST MARKS '!B77:I77) -> 0 | J77: =D77*100/$J$8 -> #REF! | K77: =E77*100/$K$8 -> #REF! | L77: =F77*100/$L$8 -> #REF! | M77: =G77*100/$M$8 -> #REF! | N77: =H77*100/$N$8 -> #REF! | O77: =I77*100/$O$8 -> #REF! | P77: =IF(J77<'TEST MARKS '!#REF!,"N","Y") -> #REF! | Q77: =IF(K77<'TEST MARKS '!#REF!,"N","Y") -> #REF! | R77: =IF(L77<'TEST MARKS '!#REF!,"N","Y") -> #REF! | S77: =IF(M77<'TEST MARKS '!#REF!,"N","Y") -> #REF! | T77: =IF(N77<'TEST MARKS '!#REF!,"N","Y") -> #REF! | U77: =IF(O77<'TEST MARKS '!#REF!,"N","Y") -> #REF!
A78: 69 | B78: ='TEST MARKS '!#REF! -> #REF! | C78: ='TEST MARKS '!C78 -> 1SG15ME096 | D78: =SUMIF('TEST MARKS '!$D$8:$I$8,$D$9,'TEST MARKS '!B78:I78) -> 0 | E78: =SUMIF('TEST MARKS '!$D$8:$I$8,$E$9,'TEST MARKS '!B78:I78) -> 0 | F78: =SUMIF('TEST MARKS '!$D$8:$I$8,$F$9,'TEST MARKS '!B78:I78) -> 9 | G78: =SUMIF('TEST MARKS '!$D$8:$I$8,$G$9,'TEST MARKS '!B78:I78) -> 5 | H78: =SUMIF('TEST MARKS '!$D$8:$I$8,$H$9,'TEST MARKS '!B78:I78) -> 7 | I78: =SUMIF('TEST MARKS '!$D$8:$I$8,$I$9,'TEST MARKS '!B78:I78) -> 7 | J78: =D78*100/$J$8 -> #REF! | K78: =E78*100/$K$8 -> #REF! | L78: =F78*100/$L$8 -> #REF! | M78: =G78*100/$M$8 -> #REF! | N78: =H78*100/$N$8 -> #REF! | O78: =I78*100/$O$8 -> #REF! | P78: =IF(J78<'TEST MARKS '!#REF!,"N","Y") -> #REF! | Q78: =IF(K78<'TEST MARKS '!#REF!,"N","Y") -> #REF! | R78: =IF(L78<'TEST MARKS '!#REF!,"N","Y") -> #REF! | S78: =IF(M78<'TEST MARKS '!#REF!,"N","Y") -> #REF! | T78: =IF(N78<'TEST MARKS '!#REF!,"N","Y") -> #REF! | U78: =IF(O78<'TEST MARKS '!#REF!,"N","Y") -> #REF!
A79: 70 | B79: ='TEST MARKS '!#REF! -> #REF! | C79: ='TEST MARKS '!C79 -> 1SG15ME098 | D79: =SUMIF('TEST MARKS '!$D$8:$I$8,$D$9,'TEST MARKS '!B79:I79) -> 0 | E79: =SUMIF('TEST MARKS '!$D$8:$I$8,$E$9,'TEST MARKS '!B79:I79) -> 0 | F79: =SUMIF('TEST MARKS '!$D$8:$I$8,$F$9,'TEST MARKS '!B79:I79) -> 9 | G79: =SUMIF('TEST MARKS '!$D$8:$I$8,$G$9,'TEST MARKS '!B79:I79) -> 9 | H79: =SUMIF('TEST MARKS '!$D$8:$I$8,$H$9,'TEST MARKS '!B79:I79) -> 7 | I79: =SUMIF('TEST MARKS '!$D$8:$I$8,$I$9,'TEST MARKS '!B79:I79) -> 10 | J79: =D79*100/$J$8 -> #REF! | K79: =E79*100/$K$8 -> #REF! | L79: =F79*100/$L$8 -> #REF! | M79: =G79*100/$M$8 -> #REF! | N79: =H79*100/$N$8 -> #REF! | O79: =I79*100/$O$8 -> #REF! | P79: =IF(J79<'TEST MARKS '!#REF!,"N","Y") -> #REF! | Q79: =IF(K79<'TEST MARKS '!#REF!,"N","Y") -> #REF! | R79: =IF(L79<'TEST MARKS '!#REF!,"N","Y") -> #REF! | S79: =IF(M79<'TEST MARKS '!#REF!,"N","Y") -> #REF! | T79: =IF(N79<'TEST MARKS '!#REF!,"N","Y") -> #REF! | U79: =IF(O79<'TEST MARKS '!#REF!,"N","Y") -> #REF!
A80: 71 | B80: ='TEST MARKS '!#REF! -> #REF! | C80: ='TEST MARKS '!C80 -> 1SG15ME099 | D80: =SUMIF('TEST MARKS '!$D$8:$I$8,$D$9,'TEST MARKS '!B80:I80) -> 0 | E80: =SUMIF('TEST MARKS '!$D$8:$I$8,$E$9,'TEST MARKS '!B80:I80) -> 0 | F80: =SUMIF('TEST MARKS '!$D$8:$I$8,$F$9,'TEST MARKS '!B80:I80) -> 6 | G80: =SUMIF('TEST MARKS '!$D$8:$I$8,$G$9,'TEST MARKS '!B80:I80) -> 6 | H80: =SUMIF('TEST MARKS '!$D$8:$I$8,$H$9,'TEST MARKS '!B80:I80) -> 6 | I80: =SUMIF('TEST MARKS '!$D$8:$I$8,$I$9,'TEST MARKS '!B80:I80) -> 8 | J80: =D80*100/$J$8 -> #REF! | K80: =E80*100/$K$8 -> #REF! | L80: =F80*100/$L$8 -> #REF! | M80: =G80*100/$M$8 -> #REF! | N80: =H80*100/$N$8 -> #REF! | O80: =I80*100/$O$8 -> #REF! | P80: =IF(J80<'TEST MARKS '!#REF!,"N","Y") -> #REF! | Q80: =IF(K80<'TEST MARKS '!#REF!,"N","Y") -> #REF! | R80: =IF(L80<'TEST MARKS '!#REF!,"N","Y") -> #REF! | S80: =IF(M80<'TEST MARKS '!#REF!,"N","Y") -> #REF! | T80: =IF(N80<'TEST MARKS '!#REF!,"N","Y") -> #REF! | U80: =IF(O80<'TEST MARKS '!#REF!,"N","Y") -> #REF!
A81: 72 | B81: ='TEST MARKS '!#REF! -> #REF! | C81: ='TEST MARKS '!C81 -> 1SG15ME101 | D81: =SUMIF('TEST MARKS '!$D$8:$I$8,$D$9,'TEST MARKS '!B81:I81) -> 0 | E81: =SUMIF('TEST MARKS '!$D$8:$I$8,$E$9,'TEST MARKS '!B81:I81) -> 0 | F81: =SUMIF('TEST MARKS '!$D$8:$I$8,$F$9,'TEST MARKS '!B81:I81) -> 6 | G81: =SUMIF('TEST MARKS '!$D$8:$I$8,$G$9,'TEST MARKS '!B81:I81) -> 5 | H81: =SUMIF('TEST MARKS '!$D$8:$I$8,$H$9,'TEST MARKS '!B81:I81) -> 4 | I81: =SUMIF('TEST MARKS '!$D$8:$I$8,$I$9,'TEST MARKS '!B81:I81) -> 6 | J81: =D81*100/$J$8 -> #REF! | K81: =E81*100/$K$8 -> #REF! | L81: =F81*100/$L$8 -> #REF! | M81: =G81*100/$M$8 -> #REF! | N81: =H81*100/$N$8 -> #REF! | O81: =I81*100/$O$8 -> #REF! | P81: =IF(J81<'TEST MARKS '!#REF!,"N","Y") -> #REF! | Q81: =IF(K81<'TEST MARKS '!#REF!,"N","Y") -> #REF! | R81: =IF(L81<'TEST MARKS '!#REF!,"N","Y") -> #REF! | S81: =IF(M81<'TEST MARKS '!#REF!,"N","Y") -> #REF! | T81: =IF(N81<'TEST MARKS '!#REF!,"N","Y") -> #REF! | U81: =IF(O81<'TEST MARKS '!#REF!,"N","Y") -> #REF!
A82: 73 | B82: ='TEST MARKS '!#REF! -> #REF! | C82: ='TEST MARKS '!C82 -> 1SG15ME102 | D82: =SUMIF('TEST MARKS '!$D$8:$I$8,$D$9,'TEST MARKS '!B82:I82) -> 0 | E82: =SUMIF('TEST MARKS '!$D$8:$I$8,$E$9,'TEST MARKS '!B82:I82) -> 0 | F82: =SUMIF('TEST MARKS '!$D$8:$I$8,$F$9,'TEST MARKS '!B82:I82) -> 4 | G82: =SUMIF('TEST MARKS '!$D$8:$I$8,$G$9,'TEST MARKS '!B82:I82) -> 3 | H82: =SUMIF('TEST MARKS '!$D$8:$I$8,$H$9,'TEST MARKS '!B82:I82) -> 7 | I82: =SUMIF('TEST MARKS '!$D$8:$I$8,$I$9,'TEST MARKS '!B82:I82) -> 8 | J82: =D82*100/$J$8 -> #REF! | K82: =E82*100/$K$8 -> #REF! | L82: =F82*100/$L$8 -> #REF! | M82: =G82*100/$M$8 -> #REF! | N82: =H82*100/$N$8 -> #REF! | O82: =I82*100/$O$8 -> #REF! | P82: =IF(J82<'TEST MARKS '!#REF!,"N","Y") -> #REF! | Q82: =IF(K82<'TEST MARKS '!#REF!,"N","Y") -> #REF! | R82: =IF(L82<'TEST MARKS '!#REF!,"N","Y") -> #REF! | S82: =IF(M82<'TEST MARKS '!#REF!,"N","Y") -> #REF! | T82: =IF(N82<'TEST MARKS '!#REF!,"N","Y") -> #REF! | U82: =IF(O82<'TEST MARKS '!#REF!,"N","Y") -> #REF!
...

Sheet Assignment CO 
B1: Sapthagiri College of Engineering
B2: Department of Mechanical Engineering
D3: Mechanics of Materials
B4: III Semester B Section Test marks for ODD Sem 2017-18 | P4: TARGET: 90% OF STUDENTS TO SCORE 80% and ABOVE
A5: Sl. No. | B5: Name of the student | C5: USN | J5: ASSIGNMENT ATTAINMENT (%) | P5: Y OR N
D7: I | E7: II | F7: III | G7: IV | H7: V | I7: V | J7: I | K7: II | L7: III | M7: IV | N7: V | O7: V | P7: I | Q7: II | R7: III | S7: IV | T7: V | U7: V
D8: CO1 | E8: CO2 | F8: CO3 | G8: CO4 | H8: CO5 | I8: CO6 | J8: CO1 | K8: CO2 | L8: CO3 | M8: CO4 | N8: CO5 | O8: CO6 | P8: CO1 | Q8: CO2 | R8: CO3 | S8: CO4 | T8: CO5 | U8: CO6
A9: ='TEST MARKS '!A10 -> 1 | B9: ='TEST MARKS '!B10 -> AFTAB AHMED WALA | C9: ='TEST MARKS '!C10 -> 1SG15ME004 | D9: ='TEST MARKS '!J10 -> 4 | E9: ='TEST MARKS '!K10 -> 4 | F9: ='TEST MARKS '!L10 -> 4 | G9: ='TEST MARKS '!M10 -> 4 | H9: ='TEST MARKS '!N10 -> 4 | I9: ='TEST MARKS '!O10 -> 4 | J9: =D9/'TEST MARKS '!#REF!*100 -> #REF! | K9: =E9/'TEST MARKS '!#REF!*100 -> #REF! | L9: =F9/'TEST MARKS '!#REF!*100 -> #REF! | M9: =G9/'TEST MARKS '!#REF!*100 -> #REF! | N9: =H9/'TEST MARKS '!#REF!*100 -> #REF! | O9: =I9/'TEST MARKS '!#REF!*100 -> #REF! | P9: =IF(J9<'TEST MARKS '!#REF!,"N","Y") -> #REF! | Q9: =IF(K9<'TEST MARKS '!#REF!,"N","Y") -> #REF! | R9: =IF(L9<'TEST MARKS '!#REF!,"N","Y") -> #REF! | S9: =IF(M9<'TEST MARKS '!#REF!,"N","Y") -> #REF! | T9: =IF(N9<'TEST MARKS '!#REF!,"N","Y") -> #REF! | U9: =IF(O9<'TEST MARKS '!#REF!,"N","Y") -> #REF!
A10: ='TEST MARKS '!A11 -> 2 | B10: ='TEST MARKS '!B11 -> AJEYA.V | C10: ='TEST MARKS '!C11 -> 1SG15ME006 | D10: ='TEST MARKS '!J11 -> 5 | E10: ='TEST MARKS '!K11 -> 5 | F10: ='TEST MARKS '!L11 -> 5 | G10: ='TEST MARKS '!M11 -> 5 | H10: ='TEST MARKS '!N11 -> 5 | I10: ='TEST MARKS '!O11 -> 5 | J10: =D10/'TEST MARKS '!#REF!*100 -> #REF! | K10: =E10/'TEST MARKS '!#REF!*100 -> #REF! | L10: =F10/'TEST MARKS '!#REF!*100 -> #REF! | M10: =G10/'TEST MARKS '!#REF!*100 -> #REF! | N10: =H10/'TEST MARKS '!#REF!*100 -> #REF! | O10: =I10/'TEST MARKS '!#REF!*100 -> #REF! | P10: =IF(J10<'TEST MARKS '!#REF!,"N","Y") -> #REF! | Q10: =IF(K10<'TEST MARKS '!#REF!,"N","Y") -> #REF! | R10: =IF(L10<'TEST MARKS '!#REF!,"N","Y") -> #REF! | S10: =IF(M10<'TEST MARKS '!#REF!,"N","Y") -> #REF! | T10: =IF(N10<'TEST MARKS '!#REF!,"N","Y") -> #REF! | U10: =IF(O10<'TEST MARKS '!#REF!,"N","Y") -> #REF!
A11: ='TEST MARKS '!A12 -> 3 | B11: ='TEST MARKS '!B12 -> AJITH S P | C11: ='TEST MARKS '!C12 -> 1SG15ME007 | D11: ='TEST MARKS '!J12 -> 5 | E11: ='TEST MARKS '!K12 -> 5 | F11: ='TEST MARKS '!L12 -> 5 | G11: ='TEST MARKS '!M12 -> 5 | H11: ='TEST MARKS '!N12 -> 5 | I11: ='TEST MARKS '!O12 -> 5 | J11: =D11/'TEST MARKS '!#REF!*100 -> #REF! | K11: =E11/'TEST MARKS '!#REF!*100 -> #REF! | L11: =F11/'TEST MARKS '!#REF!*100 -> #REF! | M11: =G11/'TEST MARKS '!#REF!*100 -> #REF! | N11: =H11/'TEST MARKS '!#REF!*100 -> #REF! | O11: =I11/'TEST MARKS '!#REF!*100 -> #REF! | P11: =IF(J11<'TEST MARKS '!#REF!,"N","Y") -> #REF! | Q11: =IF(K11<'TEST MARKS '!#REF!,"N","Y") -> #REF! | R11: =IF(L11<'TEST MARKS '!#REF!,"N","Y") -> #REF! | S11: =IF(M11<'TEST MARKS '!#REF!,"N","Y") -> #REF! | T11: =IF(N11<'TEST MARKS '!#REF!,"N","Y") -> #REF! | U11: =IF(O11<'TEST MARKS '!#REF!,"N","Y") -> #REF!
A12: ='TEST MARKS '!A13 -> 4 | B12: ='TEST MARKS '!B13 -> AKSHAY S | C12: ='TEST MARKS '!C13 -> 1SG15ME008 | D12: ='TEST MARKS '!J13 -> 5 | E12: ='TEST MARKS '!K13 -> 5 | F12: ='TEST MARKS '!L13 -> 5 | G12: ='TEST MARKS '!M13 -> 5 | H12: ='TEST MARKS '!N13 -> 5 | I12: ='TEST MARKS '!O13 -> 5 | J12: =D12/'TEST MARKS '!#REF!*100 -> #REF! | K12: =E12/'TEST MARKS '!#REF!*100 -> #REF! | L12: =F12/'TEST MARKS '!#REF!*100 -> #REF! | M12: =G12/'TEST MARKS '!#REF!*100 -> #REF! | N12: =H12/'TEST MARKS '!#REF!*100 -> #REF! | O12: =I12/'TEST MARKS '!#REF!*100 -> #REF! | P12: =IF(J12<'TEST MARKS '!#REF!,"N","Y") -> #REF! | Q12: =IF(K12<'TEST MARKS '!#REF!,"N","Y") -> #REF! | R12: =IF(L12<'TEST MARKS '!#REF!,"N","Y") -> #REF! | S12: =IF(M12<'TEST MARKS '!#REF!,"N","Y") -> #REF! | T12: =IF(N12<'TEST MARKS '!#REF!,"N","Y") -> #REF! | U12: =IF(O12<'TEST MARKS '!#REF!,"N","Y") -> #REF!
A13: ='TEST MARKS '!A14 -> 5 | B13: ='TEST MARKS '!B14 -> AMAN NAIN | C13: ='TEST MARKS '!C14 -> 1SG15ME009 | D13: ='TEST MARKS '!J14 -> 4 | E13: ='TEST MARKS '!K14 -> 4 | F13: ='TEST MARKS '!L14 -> 4 | G13: ='TEST MARKS '!M14 -> 4 | H13: ='TEST MARKS '!N14 -> 4 | I13: ='TEST MARKS '!O14 -> 4 | J13: =D13/'TEST MARKS '!#REF!*100 -> #REF! | K13: =E13/'TEST MARKS '!#REF!*100 -> #REF! | L13: =F13/'TEST MARKS '!#REF!*100 -> #REF! | M13: =G13/'TEST MARKS '!#REF!*100 -> #REF! | N13: =H13/'TEST MARKS '!#REF!*100 -> #REF! | O13: =I13/'TEST MARKS '!#REF!*100 -> #REF! | P13: =IF(J13<'TEST MARKS '!#REF!,"N","Y") -> #REF! | Q13: =IF(K13<'TEST MARKS '!#REF!,"N","Y") -> #REF! | R13: =IF(L13<'TEST MARKS '!#REF!,"N","Y") -> #REF! | S13: =IF(M13<'TEST MARKS '!#REF!,"N","Y") -> #REF! | T13: =IF(N13<'TEST MARKS '!#REF!,"N","Y") -> #REF! | U13: =IF(O13<'TEST MARKS '!#REF!,"N","Y") -> #REF!
A14: ='TEST MARKS '!A15 -> 6 | B14: ='TEST MARKS '!B15 -> AMITH.R | C14: ='TEST MARKS '!C15 -> 1SG15ME010 | D14: ='TEST MARKS '!J15 -> 4 | E14: ='TEST MARKS '!K15 -> 4 | F14: ='TEST MARKS '!L15 -> 4 | G14: ='TEST MARKS '!M15 -> 4 | H14: ='TEST MARKS '!N15 -> 4 | I14: ='TEST MARKS '!O15 -> 4 | J14: =D14/'TEST MARKS '!#REF!*100 -> #REF! | K14: =E14/'TEST MARKS '!#REF!*100 -> #REF! | L14: =F14/'TEST MARKS '!#REF!*100 -> #REF! | M14: =G14/'TEST MARKS '!#REF!*100 -> #REF! | N14: =H14/'TEST MARKS '!#REF!*100 -> #REF! | O14: =I14/'TEST MARKS '!#REF!*100 -> #REF! | P14: =IF(J14<'TEST MARKS '!#REF!,"N","Y") -> #REF! | Q14: =IF(K14<'TEST MARKS '!#REF!,"N","Y") -> #REF! | R14: =IF(L14<'TEST MARKS '!#REF!,"N","Y") -> #REF! | S14: =IF(M14<'TEST MARKS '!#REF!,"N","Y") -> #REF! | T14: =IF(N14<'TEST MARKS '!#REF!,"N","Y") -> #REF! | U14: =IF(O14<'TEST MARKS '!#REF!,"N","Y") -> #REF!
A15: ='TEST MARKS '!A16 -> 7 | B15: ='TEST MARKS '!B16 -> ANIL KUMAR C | C15: ='TEST MARKS '!C16 -> 1SG15ME011 | D15: ='TEST MARKS '!J16 -> 5 | E15: ='TEST MARKS '!K16 -> 5 | F15: ='TEST MARKS '!L16 -> 5 | G15: ='TEST MARKS '!M16 -> 5 | H15: ='TEST MARKS '!N16 -> 5 | I15: ='TEST MARKS '!O16 -> 5 | J15: =D15/'TEST MARKS '!#REF!*100 -> #REF! | K15: =E15/'TEST MARKS '!#REF!*100 -> #REF! | L15: =F15/'TEST MARKS '!#REF!*100 -> #REF! | M15: =G15/'TEST MARKS '!#REF!*100 -> #REF! | N15: =H15/'TEST MARKS '!#REF!*100 -> #REF! | O15: =I15/'TEST MARKS '!#REF!*100 -> #REF! | P15: =IF(J15<'TEST MARKS '!#REF!,"N","Y") -> #REF! | Q15: =IF(K15<'TEST MARKS '!#REF!,"N","Y") -> #REF! | R15: =IF(L15<'TEST MARKS '!#REF!,"N","Y") -> #REF! | S15: =IF(M15<'TEST MARKS '!#REF!,"N","Y") -> #REF! | T15: =IF(N15<'TEST MARKS '!#REF!,"N","Y") -> #REF! | U15: =IF(O15<'TEST MARKS '!#REF!,"N","Y") -> #REF!
A16: ='TEST MARKS '!A17 -> 8 | B16: ='TEST MARKS '!B17 -> ANIRUDH R K | C16: ='TEST MARKS '!C17 -> 1SG15ME012 | D16: ='TEST MARKS '!J17 -> 4 | E16: ='TEST MARKS '!K17 -> 4 | F16: ='TEST MARKS '!L17 -> 4 | G16: ='TEST MARKS '!M17 -> 4 | H16: ='TEST MARKS '!N17 -> 4 | I16: ='TEST MARKS '!O17 -> 4 | J16: =D16/'TEST MARKS '!#REF!*100 -> #REF! | K16: =E16/'TEST MARKS '!#REF!*100 -> #REF! | L16: =F16/'TEST MARKS '!#REF!*100 -> #REF! | M16: =G16/'TEST MARKS '!#REF!*100 -> #REF! | N16: =H16/'TEST MARKS '!#REF!*100 -> #REF! | O16: =I16/'TEST MARKS '!#REF!*100 -> #REF! | P16: =IF(J16<'TEST MARKS '!#REF!,"N","Y") -> #REF! | Q16: =IF(K16<'TEST MARKS '!#REF!,"N","Y") -> #REF! | R16: =IF(L16<'TEST MARKS '!#REF!,"N","Y") -> #REF! | S16: =IF(M16<'TEST MARKS '!#REF!,"N","Y") -> #REF! | T16: =IF(N16<'TEST MARKS '!#REF!,"N","Y") -> #REF! | U16: =IF(O16<'TEST MARKS '!#REF!,"N","Y") -> #REF!
A17: ='TEST MARKS '!A18 -> 9 | B17: ='TEST MARKS '!B18 -> ARJUN S | C17: ='TEST MARKS '!C18 -> 1SG15ME013 | D17: ='TEST MARKS '!J18 -> 5 | E17: ='TEST MARKS '!K18 -> 5 | F17: ='TEST MARKS '!L18 -> 5 | G17: ='TEST MARKS '!M18 -> 5 | H17: ='TEST MARKS '!N18 -> 5 | I17: ='TEST MARKS '!O18 -> 5 | J17: =D17/'TEST MARKS '!#REF!*100 -> #REF! | K17: =E17/'TEST MARKS '!#REF!*100 -> #REF! | L17: =F17/'TEST MARKS '!#REF!*100 -> #REF! | M17: =G17/'TEST MARKS '!#REF!*100 -> #REF! | N17: =H17/'TEST MARKS '!#REF!*100 -> #REF! | O17: =I17/'TEST MARKS '!#REF!*100 -> #REF! | P17: =IF(J17<'TEST MARKS '!#REF!,"N","Y") -> #REF! | Q17: =IF(K17<'TEST MARKS '!#REF!,"N","Y") -> #REF! | R17: =IF(L17<'TEST MARKS '!#REF!,"N","Y") -> #REF! | S17: =IF(M17<'TEST MARKS '!#REF!,"N","Y") -> #REF! | T17: =IF(N17<'TEST MARKS '!#REF!,"N","Y") -> #REF! | U17: =IF(O17<'TEST MARKS '!#REF!,"N","Y") -> #REF!
A18: ='TEST MARKS '!A19 -> 10 | B18: ='TEST MARKS '!B19 -> ASHISH SHARMA | C18: ='TEST MARKS '!C19 -> 1SG15ME014 | D18: ='TEST MARKS '!J19 -> 5 | E18: ='TEST MARKS '!K19 -> 5 | F18: ='TEST MARKS '!L19 -> 5 | G18: ='TEST MARKS '!M19 -> 5 | H18: ='TEST MARKS '!N19 -> 5 | I18: ='TEST MARKS '!O19 -> 5 | J18: =D18/'TEST MARKS '!#REF!*100 -> #REF! | K18: =E18/'TEST MARKS '!#REF!*100 -> #REF! | L18: =F18/'TEST MARKS '!#REF!*100 -> #REF! | M18: =G18/'TEST MARKS '!#REF!*100 -> #REF! | N18: =H18/'TEST MARKS '!#REF!*100 -> #REF! | O18: =I18/'TEST MARKS '!#REF!*100 -> #REF! | P18: =IF(J18<'TEST MARKS '!#REF!,"N","Y") -> #REF! | Q18: =IF(K18<'TEST MARKS '!#REF!,"N","Y") -> #REF! | R18: =IF(L18<'TEST MARKS '!#REF!,"N","Y") -> #REF! | S18: =IF(M18<'TEST MARKS '!#REF!,"N","Y") -> #REF! | T18: =IF(N18<'TEST MARKS '!#REF!,"N","Y") -> #REF! | U18: =IF(O18<'TEST MARKS '!#REF!,"N","Y") -> #REF!
A19: ='TEST MARKS '!A20 -> 11 | B19: ='TEST MARKS '!B20 -> AYAN GUHA RAOY | C19: ='TEST MARKS '!C20 -> 1SG15ME015 | D19: ='TEST MARKS '!J20 -> 4 | E19: ='TEST MARKS '!K20 -> 4 | F19: ='TEST MARKS '!L20 -> 4 | G19: ='TEST MARKS '!M20 -> 4 | H19: ='TEST MARKS '!N20 -> 4 | I19: ='TEST MARKS '!O20 -> 4 | J19: =D19/'TEST MARKS '!#REF!*100 -> #REF! | K19: =E19/'TEST MARKS '!#REF!*100 -> #REF! | L19: =F19/'TEST MARKS '!#REF!*100 -> #REF! | M19: =G19/'TEST MARKS '!#REF!*100 -> #REF! | N19: =H19/'TEST MARKS '!#REF!*100 -> #REF! | O19: =I19/'TEST MARKS '!#REF!*100 -> #REF! | P19: =IF(J19<'TEST MARKS '!#REF!,"N","Y") -> #REF! | Q19: =IF(K19<'TEST MARKS '!#REF!,"N","Y") -> #REF! | R19: =IF(L19<'TEST MARKS '!#REF!,"N","Y") -> #REF! | S19: =IF(M19<'TEST MARKS '!#REF!,"N","Y") -> #REF! | T19: =IF(N19<'TEST MARKS '!#REF!,"N","Y") -> #REF! | U19: =IF(O19<'TEST MARKS '!#REF!,"N","Y") -> #REF!
A20: ='TEST MARKS '!A21 -> 12 | B20: ='TEST MARKS '!B21 -> BHARATH .V | C20: ='TEST MARKS '!C21 -> 1SG15ME017 | D20: ='TEST MARKS '!J21 -> 4 | E20: ='TEST MARKS '!K21 -> 4 | F20: ='TEST MARKS '!L21 -> 4 | G20: ='TEST MARKS '!M21 -> 4 | H20: ='TEST MARKS '!N21 -> 4 | I20: ='TEST MARKS '!O21 -> 4 | J20: =D20/'TEST MARKS '!#REF!*100 -> #REF! | K20: =E20/'TEST MARKS '!#REF!*100 -> #REF! | L20: =F20/'TEST MARKS '!#REF!*100 -> #REF! | M20: =G20/'TEST MARKS '!#REF!*100 -> #REF! | N20: =H20/'TEST MARKS '!#REF!*100 -> #REF! | O20: =I20/'TEST MARKS '!#REF!*100 -> #REF! | P20: =IF(J20<'TEST MARKS '!#REF!,"N","Y") -> #REF! | Q20: =IF(K20<'TEST MARKS '!#REF!,"N","Y") -> #REF! | R20: =IF(L20<'TEST MARKS '!#REF!,"N","Y") -> #REF! | S20: =IF(M20<'TEST MARKS '!#REF!,"N","Y") -> #REF! | T20: =IF(N20<'TEST MARKS '!#REF!,"N","Y") -> #REF! | U20: =IF(O20<'TEST MARKS '!#REF!,"N","Y") -> #REF!
... A54: ='TEST MARKS '!A55 -> 46 | B54: ='TEST MARKS '!B55 -> pradeep B N | C54: ='TEST MARKS '!C55 -> 1SG15ME066 | D54: ='TEST MARKS '!J55 -> 5 | E54: ='TEST MARKS '!K55 -> 5 | F54: ='TEST MARKS '!L55 -> 5 | G54: ='TEST MARKS '!M55 -> 5 | H54: ='TEST MARKS '!N55 -> 5 | I54: ='TEST MARKS '!O55 -> 5 | J54: =D54/'TEST MARKS '!#REF!*100 -> #REF! | K54: =E54/'TEST MARKS '!#REF!*100 -> #REF! | L54: =F54/'TEST MARKS '!#REF!*100 -> #REF! | M54: =G54/'TEST MARKS '!#REF!*100 -> #REF! | N54: =H54/'TEST MARKS '!#REF!*100 -> #REF! | O54: =I54/'TEST MARKS '!#REF!*100 -> #REF! | P54: =IF(J54<'TEST MARKS '!#REF!,"N","Y") -> #REF! | Q54: =IF(K54<'TEST MARKS '!#REF!,"N","Y") -> #REF! | R54: =IF(L54<'TEST MARKS '!#REF!,"N","Y") -> #REF! | S54: =IF(M54<'TEST MARKS '!#REF!,"N","Y") -> #REF! | T54: =IF(N54<'TEST MARKS '!#REF!,"N","Y") -> #REF! | U54: =IF(O54<'TEST MARKS '!#REF!,"N","Y") -> #REF!
A55: ='TEST MARKS '!A56 -> 47 | B55: ='TEST MARKS '!B56 -> PRATHEEK S | C55: ='TEST MARKS '!C56 -> 1SG15ME067 | D55: ='TEST MARKS '!J76 -> 5 | E55: ='TEST MARKS '!K56 -> 5 | F55: ='TEST MARKS '!L56 -> 5 | G55: ='TEST MARKS '!M56 -> 5 | H55: ='TEST MARKS '!N56 -> 5 | I55: ='TEST MARKS '!O56 -> 5 | J55: =D55/'TEST MARKS '!#REF!*100 -> #REF! | K55: =E55/'TEST MARKS '!#REF!*100 -> #REF! | L55: =F55/'TEST MARKS '!#REF!*100 -> #REF! | M55: =G55/'TEST MARKS '!#REF!*100 -> #REF! | N55: =H55/'TEST MARKS '!#REF!*100 -> #REF! | O55: =I55/'TEST MARKS '!#REF!*100 -> #REF! | P55: =IF(J55<'TEST MARKS '!#REF!,"N","Y") -> #REF! | Q55: =IF(K55<'TEST MARKS '!#REF!,"N","Y") -> #REF! | R55: =IF(L55<'TEST MARKS '!#REF!,"N","Y") -> #REF! | S55: =IF(M55<'TEST MARKS '!#REF!,"N","Y") -> #REF! | T55: =IF(N55<'TEST MARKS '!#REF!,"N","Y") -> #REF! | U55: =IF(O55<'TEST MARKS '!#REF!,"N","Y") -> #REF!
A56: ='TEST MARKS '!A57 -> 48 | B56: ='TEST MARKS '!B57 -> PRAVEEN.S | C56: ='TEST MARKS '!C57 -> 1SG15ME068 | D56: ='TEST MARKS '!J57 -> 5 | E56: ='TEST MARKS '!K57 -> 5 | F56: ='TEST MARKS '!L57 -> 5 | G56: ='TEST MARKS '!M57 -> 5 | H56: ='TEST MARKS '!N57 -> 5 | I56: ='TEST MARKS '!O57 -> 5 | J56: =D56/'TEST MARKS '!#REF!*100 -> #REF! | K56: =E56/'TEST MARKS '!#REF!*100 -> #REF! | L56: =F56/'TEST MARKS '!#REF!*100 -> #REF! | M56: =G56/'TEST MARKS '!#REF!*100 -> #REF! | N56: =H56/'TEST MARKS '!#REF!*100 -> #REF! | O56: =I56/'TEST MARKS '!#REF!*100 -> #REF! | P56: =IF(J56<'TEST MARKS '!#REF!,"N","Y") -> #REF! | Q56: =IF(K56<'TEST MARKS '!#REF!,"N","Y") -> #REF! | R56: =IF(L56<'TEST MARKS '!#REF!,"N","Y") -> #REF! | S56: =IF(M56<'TEST MARKS '!#REF!,"N","Y") -> #REF! | T56: =IF(N56<'TEST MARKS '!#REF!,"N","Y") -> #REF! | U56: =IF(O56<'TEST MARKS '!#REF!,"N","Y") -> #REF!
