Workbook

Sheet aaTINMENT LEVEL
F5: DIRECT ASSESSMENT METHOD
E8: 1 | F8: ENTER THE CO'S FOR THE RESPECTIVE INTERNAL WHICH YOU HAVE ASKED
E9: 2 | F9: ENTER THE MAXIMUM MARKS GIVEN TO EACH CO IN THE MARKS CELL
E10: 3 | F10: ENTER THE MARKS SCORED BY THE STUDENTS BELOW RESPECTIVE CO
E11: 4 | F11: ENTER THE PARAMETERS ASKED ( TOTAL STRENGTH, Assign target percentage…)
E12: 5 | F12: SEE- Exam marks is same for all COs of that subject | G12: tough subject | I12: 0.6
E13: 6 | F13: Target may be same or different for different CO | G13: easy subject | I13: 0.7
E14: 7 | F14: Target may be different for different subjects, theritical/problematic subject, ex
F17: FOR Any clarification contact ME HOD
D21: Attainment Levels of COs
D22: SUBJECT :BASIC THERMODYNAMICS SUB CODE:15ME33
D23: Assessment Methods | E23: Target-Attainment Levels | G23: Attainement
D24: Internal Assessment(CIE) | E24: Level 1 | F24: 60% of students scoring more than 50% marks in internal assessment tools | G24: Level 1
E25: Level 2 | F25: 70% of students scoring more than 50% marks in internal assessment tools
E26: Level 3 | F26: 80% of students scoring more than 50% marks in internal assessment tools
D29: Assessment Methods | E29: Target-Attainment Levels | G29: Attainement
D30: University Assessment (SEE) | E30: Level 1 | F30: 60% of students scoring more than 40% marks in internal assessment tools | G30: Level1
E31: Level 2 | F31: 70% of students scoring more than 40% marks in internal assessment tools
E32: Level 3 | F32: 80% of students scoring more than 40% marks in internal assessment tools

Sheet TEST MARKS 
A1: Sapthagiri College of Engineering
A2: Department of Mechanical Engineering
A3: SUBJECT :BASIC THERMODYNAMICS SUB CODE:15ME33
A4: SEM : III | C4: SEC : A | D4: YEAR : 2016-17 | G4: SCHEME :2015
A5: Sl. No. | B5: Name of the student | C5: USN | D5: I INTERNALS | F5: II INTERNALS | H5: III INTERNALS | J5: ASSIGNMENT'S | P5: EXTERNAL EXAM
D7: Q1 or 2 | E7: Q3 or 4 | F7: Q1 or 2 | G7: Q3 or 4 | H7: Q1 or 2 | I7: Q3 or 4
D8: CO1 | E8: CO2 | F8: CO6 | G8: CO5 | H8: CO3 | I8: CO4 | J8: CO1 | K8: CO2 | L8: CO3 | M8: CO4 | N8: CO5 | O8: CO6 | P8: CO1,CO2,CO3,CO4,CO5
D9: 15 | E9: 15 | F9: 15 | G9: 15 | H9: 15 | I9: 15 | J9: 5 | K9: 5 | L9: 5 | M9: 5 | N9: 5 | O9: 5
A10: 1 | B10: AFTAB AHMED WALA | C10: 1SG15ME004 | D10: 7 | E10: 5 | F10: 0 | G10: 0 | H10: 6 | I10: 6 | J10: 4 | K10: 4 | L10: 4 | M10: 4 | N10: 4 | O10: 4 | P10: 3
A11: 2 | B11: AJEYA.V | C11: 1SG15ME006 | D11: 0 | E11: 0 | F11: 5 | G11: 7 | H11: 7 | I11: 5 | J11: 5 | K11: 5 | L11: 5 | M11: 5 | N11: 5 | O11: 5 | P11: 3
A12: 3 | B12: AJITH S P | C12: 1SG15ME007 | D12: 8 | E12: 6 | F12: 0 | G12: 0 | H12: 7 | I12: 6 | J12: 5 | K12: 5 | L12: 5 | M12: 5 | N12: 5 | O12: 5 | P12: 0
A13: 4 | B13: AKSHAY S | C13: 1SG15ME008 | D13: 6 | E13: 6 | F13: 5 | G13: 7 | H13: 5 | I13: 6 | J13: 5 | K13: 5 | L13: 5 | M13: 5 | N13: 5 | O13: 5 | P13: 0
A14: 5 | B14: AMAN NAIN | C14: 1SG15ME009 | D14: 10 | E14: 9 | F14: 9 | G14: 6 | H14: 10 | I14: 9 | J14: 4 | K14: 4 | L14: 4 | M14: 4 | N14: 4 | O14: 4 | P14: 0
A15: 6 | B15: AMITH.R | C15: 1SG15ME010 | D15: 9 | E15: 7 | F15: 9 | G15: 8 | H15: 0 | I15: 0 | J15: 4 | K15: 4 | L15: 4 | M15: 4 | N15: 4 | O15: 4 | P15: 4
A16: 7 | B16: ANIL KUMAR C | C16: 1SG15ME011 | D16: 10 | E16: 6 | F16: 7 | G16: 6 | H16: 6 | I16: 5 | J16: 5 | K16: 5 | L16: 5 | M16: 5 | N16: 5 | O16: 5 | P16: 0
A17: 8 | B17: ANIRUDH R K | C17: 1SG15ME012 | D17: 0 | E17: 0 | F17: 6 | G17: 4 | H17: 8 | I17: 6 | J17: 4 | K17: 4 | L17: 4 | M17: 4 | N17: 4 | O17: 4 | P17: 4
A18: 9 | B18: ARJUN S | C18: 1SG15ME013 | D18: 9 | E18: 6 | F18: 10 | G18: 7 | H18: 0 | I18: 0 | J18: 5 | K18: 5 | L18: 5 | M18: 5 | N18: 5 | O18: 5 | P18: 0
A19: 10 | B19: ASHISH SHARMA | C19: 1SG15ME014 | D19: 7 | E19: 6 | F19: 10 | G19: 7 | H19: 0 | I19: 0 | J19: 5 | K19: 5 | L19: 5 | M19: 5 | N19: 5 | O19: 5 | P19: 8
A20: 11 | B20: AYAN GUHA RAOY | C20: 1SG15ME015 | D20: 8 | E20: 6 | F20: 7 | G20: 5 | H20: 5 | I20: 7 | J20: 4 | K20: 4 | L20: 4 | M20: 4 | N20: 4 | O20: 4 | P20: 8
A21: 12 | B21: BHARATH .V | C21: 1SG15ME017 | D21: 9 | E21: 8 | F21: 7 | G21: 7 | H21: 8 | I21: 7 | J21: 4 | K21: 4 | L21: 4 | M21: 4 | N21: 4 | O21: 4 | P21: 6
... A82: 73 | B82: VINEET KUMAR | C82: 1SG15ME102 | D82: 8 | E82: 7 | F82: 4 | G82: 3 | H82: 5 | I82: 4 | J82: 4 | K82: 4 | L82: 4 | M82: 4 | N82: 4 | O82: 4 | P82: 7
A83: 74 | B83: YOGESH GOWDA H | C83: 1SG15ME104 | D83: 6 | E83: 7 | F83: 6 | G83: 5 | H83: A | I83: A | J83: 5 | K83: 5 | L83: 5 | M83: 5 | N83: 5 | O83: 5 | P83: 6
A84: 75 | B84: YOGESH B | C84: 1SG15ME105 | D84: 5 | E84: 3 | F84: 5 | G84: 4 | H84: 6 | I84: 5 | J84: 4 | K84: 4 | L84: 4 | M84: 4 | N84: 4 | O84: 74 | P84: 4
A85: 76 | B85: AKSHAY S R | C85: 1SG16ME400 | D85: 4 | E85: 3 | F85: 5 | G85: 5 | H85: 7 | I85: 6 | J85: 5 | K85: 5 | L85: 5 | M85: 5 | N85: 5 | O85: 5 | P85: 6
A86: 77 | B86: CHETAN GOWDA H S | C86: 1SG16ME402 | D86: 8 | E86: 7 | F86: 6 | G86: 5 | H86: 5 | I86: 4 | J86: 5 | K86: 5 | L86: 5 | M86: 5 | N86: 5 | O86: 5 | P86: 6
A87: 78 | B87: DARSHAN M E | C87: 1SG16ME404 | D87: 4 | E87: 3 | F87: 3 | G87: 3 | H87: 3 | I87: 0 | J87: 4 | K87: 4 | L87: 4 | M87: 4 | N87: 4 | O87: 4 | P87: 5
A88: 79 | B88: DARSHAN V V | C88: 1SG16ME405 | D88: 6 | E88: 7 | F88: 5 | G88: 5 | H88: 4 | I88: 3 | J88: 4 | K88: 4 | L88: 4 | M88: 4 | N88: 4 | O88: 4 | P88: 0
A89: 80 | B89: HALASWAMY C M | C89: 1SG16ME407 | D89: 7 | E89: 5 | F89: 3 | G89: 3 | H89: 4 | I89: 4 | J89: 4 | K89: 4 | L89: 4 | M89: 4 | N89: 4 | O89: 4 | P89: 5
A90: 81 | B90: HEMANTH KUMAR T | C90: 1SG16ME408 | D90: 6 | E90: 4 | F90: 5 | G90: 3 | H90: 4 | I90: 3 | J90: 4 | K90: 4 | L90: 4 | M90: 4 | N90: 4 | O90: 4 | P90: 6
A91: 82 | B91: HEMANTH L | C91: 1SG16ME409 | D91: 7 | E91: 6 | F91: A | G91: A | H91: 3 | I91: 3 | J91: 4 | K91: 4 | L91: 4 | M91: 4 | N91: 4 | O91: 4 | P91: 4
A92: 83 | B92: JAI KRISHNA J | C92: 1SG16ME410 | D92: 5 | E92: 5 | F92: 6 | G92: 6 | H92: 7 | I92: 6 | J92: 5 | K92: 5 | L92: 5 | M92: 5 | N92: 5 | O92: 5 | P92: 5
A93: 84 | B93: KESHAVAPRASHANTH S | C93: 1SG16ME411 | D93: 3 | E93: 2 | F93: 0 | G93: 0 | H93: 6 | I93: 5 | J93: 4 | K93: 4 | L93: 4 | M93: 4 | N93: 4 | O93: 4 | P93: 6
A94: 85 | B94: LOKESH M S | C94: 1SG16ME412 | D94: A | E94: A | F94: 4 | G94: 3 | H94: 9 | I94: 4 | J94: 4 | K94: 4 | L94: 4 | M94: 4 | N94: 4 | O94: 4 | P94: 5
A95: 86 | B95: MADHU D B | C95: 1SG16ME413 | D95: 6 | E95: 6 | F95: 5 | G95: 5 | H95: 5 | I95: 5 | J95: 5 | K95: 5 | L95: 5 | M95: 5 | N95: 5 | O95: 5 | P95: 0
A96: 87 | B96: MAHESH G K | C96: 1SG16ME415 | D96: 5 | E96: 3 | F96: 5 | G96: 3 | H96: 3 | I96: 1 | J96: 4 | K96: 4 | L96: 4 | M96: 4 | N96: 4 | O96: 4 | P96: 4
A97: 88 | B97: MANISH RAO S | C97: 1SG16ME416 | D97: A | E97: A | F97: 6 | G97: 4 | H97: 4 | I97: 4 | J97: 4 | K97: 4 | L97: 4 | M97: 4 | N97: 4 | O97: 4 | P97: 0
A98: 89 | B98: MANJUNATH A NILUGAL | C98: 1SG16ME417 | D98: 3 | E98: 3 | F98: 3 | G98: 3 | H98: 4 | I98: 3 | J98: 4 | K98: 4 | L98: 4 | M98: 4 | N98: 4 | O98: 4 | P98: 0
A99: 90 | B99: MANJUNATH B G | C99: 1SG16ME418 | D99: 5 | E99: 5 | F99: 5 | G99: 3 | H99: 2 | I99: 2 | J99: 4 | K99: 4 | L99: 4 | M99: 4 | N99: 4 | O99: 4 | P99: 6
A100: 91 | B100: MANOJ KUMAR J | C100: 1SG16ME420 | D100: 4 | E100: 4 | F100: 3 | G100: 5 | H100: 3 | I100: 3 | J100: 3 | K100: 1 | L100: 5 | M100: 5 | N100: 5 | O100: 5 | P100: 0
A101: 92 | B101: MOUNESH | C101: 1SG16ME421 | D101: 5 | E101: 5 | F101: 3 | G101: 2 | H101: 3 | I101: 3 | J101: 4 | K101: 4 | L101: 4 | M101: 4 | N101: 4 | O101: 4 | P101: 5
A102: 93 | B102: P K MUSTAFA | C102: 1SG16ME422 | D102: 4 | E102: 4 | F102: 3 | G102: 2 | H102: 5 | I102: 4 | J102: 3 | K102: 3 | L102: 4 | M102: 4 | N102: 4 | O102: 4 | P102: 6
A103: 94 | B103: NAGARAJ BHAT | C103: 1SG16ME423 | D103: 6 | E103: 4 | F103: 6 | G103: 6 | H103: 4 | I103: 4 | J103: 5 | K103: 5 | L103: 5 | M103: 5 | N103: 5 | O103: 5 | P103: 0
A104: 95 | B104: NIVEDITHA SHREE N | C104: 1SG16ME424 | D104: 7 | E104: 6 | F104: 5 | G104: 3 | H104: 2 | I104: 0 | J104: 5 | K104: 5 | L104: 5 | M104: 5 | N104: 5 | O104: 5 | P104: 0
A105: 96 | B105: POORVIK S | C105: 1SG16ME426 | D105: 5 | E105: 4 | F105: A | G105: A | H105: 5 | I105: 4 | J105: 4 | K105: 4 | L105: 4 | M105: 4 | N105: 4 | O105: 4 | P105: 0
A106: 97 | B106: PRASHANTH KUMAR V | C106: 1SG16ME427 | D106: 5 | E106: 5 | F106: A | G106: A | H106: 5 | I106: 3 | J106: 4 | K106: 4 | L106: 4 | M106: 4 | N106: 4 | O106: 4 | P106: 5
A107: 98 | B107: PRAVEEN N S | C107: 1SG16ME428 | D107: A | E107: A | F107: 6 | G107: 5 | H107: 5 | I107: 3 | J107: 5 | K107: 5 | L107: 5 | M107: 5 | N107: 5 | O107: 5 | P107: 4
A108: 99 | B108: PUNITH A N | C108: 1SG16ME429 | D108: A | E108: A | F108: 5 | G108: 4 | H108: 3 | I108: 2 | J108: 5 | K108: 5 | L108: 5 | M108: 5 | N108: 5 | O108: 5 | P108: 0
A109: 100 | B109: SANDEEP R P | C109: 1SG16ME430 | D109: 8 | E109: 7 | F109: 7 | G109: 6 | H109: 4 | I109: 4 | J109: 4 | K109: 4 | L109: 4 | M109: 4 | N109: 4 | O109: 4 | P109: 5
A110: 101 | B110: RAJESHA K H | C110: 1SG16ME431 | D110: 5 | E110: 4 | F110: 5 | G110: 3 | H110: 3 | I110: 2 | J110: 4 | K110: 4 | L110: 4 | M110: 4 | N110: 4 | O110: 4 | P110: 0
A111: 102 | B111: RAKESH KUMAR | C111: 1SG16ME432 | D111: 5 | E111: 5 | F111: 3 | G111: 1 | H111: A | I111: A | J111: 5 | K111: 5 | L111: 5 | M111: 5 | N111: 5 | O111: 5 | P111: 0
A112: 103 | B112: RAKSHITH K L | C112: 1SG16ME433 | D112: 6 | E112: 6 | F112: 6 | G112: 4 | H112: A | J112: 5 | K112: 5 | L112: 5 | M112: 5 | N112: 5 | O112: 5 | P112: 5
A113: 104 | B113: ROHITH J | C113: 1SG16ME434 | D113: 4 | E113: 3 | F113: 5 | G113: 3 | H113: 4 | I113: 3 | J113: 5 | K113: 5 | L113: 5 | M113: 5 | N113: 5 | O113: 5 | P113: 0
A114: 105 | B114: SANATH K S | C114: 1SG16ME436 | D114: 6 | E114: 5 | F114: 5 | G114: 4 | H114: 5 | I114: 5 | J114: 5 | K114: 5 | L114: 5 | M114: 5 | N114: 5 | O114: 5 | P114: 0
A115: 106 | B115: SHARATH C G | C115: 1SG16ME437 | D115: 7 | E115: 6 | F115: 3 | G115: 0 | H115: 3 | I115: 3 | J115: 4 | K115: 4 | L115: 4 | M115: 4 | N115: 4 | O115: 4 | P115: 4
A116: 107 | B116: SHRAVANI S | C116: 1SG16ME438 | D116: 8 | E116: 7 | F116: 2 | G116: 0 | H116: 3 | I116: 2 | J116: 4 | K116: 4 | L116: 4 | M116: 4 | N116: 4 | O116: 4 | P116: 0
A117: 108 | B117: SHREERAM A | C117: 1SG16ME439 | D117: 6 | E117: 6 | F117: 6 | G117: 5 | H117: 3 | I117: 3 | J117: 4 | K117: 4 | L117: 4 | M117: 4 | N117: 4 | O117: 4 | P117: 0
A118: 109 | B118: SHRIDHAR A S | C118: 1SG16ME440 | D118: 5 | E118: 5 | F118: 6 | G118: 5 | H118: 6 | I118: 5 | J118: 4 | K118: 4 | L118: 4 | M118: 4 | N118: 4 | O118: 4 | P118: 6
A119: 110 | B119: VIJAY M R | C119: 1SG16ME442 | D119: 5 | E119: 5 | F119: 3 | G119: 2 | H119: 2 | I119: 2 | J119: 5 | K119: 5 | L119: 5 | M119: 5 | N119: 5 | O119: 5 | P119: 4
A120: 111 | B120: VINAY M | C120: 1SG16ME443 | D120: 6 | E120: 6 | F120: 5 | G120: 4 | H120: 3 | I120: 2 | J120: 5 | K120: 5 | L120: 5 | M120: 5 | N120: 5 | O120: 5 | P120: 5
D121: =COUNTIF(D10:D120,">5") -> 75 | E121: =COUNTIF(E10:E120,">5") -> 60 | F121: =COUNTIF(F10:F120,">5") -> 70 | G121: =COUNTIF(G10:G120,">5") -> 51 | H121: =COUNTIF(H10:H120,">5") -> 49 | I121: =COUNTIF(I10:I120,">5") -> 39 | J121: =COUNTIF(J10:J120,">2") -> 111 | K121: =COUNTIF(K10:K120,">2") -> 110 | L121: =COUNTIF(L10:L120,">2") -> 111 | M121: =COUNTIF(M10:M120,">2") -> 111 | N121: =COUNTIF(N10:N120,">2") -> 111 | O121: =COUNTIF(O10:O120,">2") -> 111 | P121: =COUNTIF(P10:P120,">4") -> 56
D122: =D121/1.11 -> 67.567568 | E122: =E121/1.11 -> 54.054054 | F122: =F121/1.11 -> 63.063063 | G122: =G121/1.11 -> 45.945946 | H122: =H121/1.11 -> 44.144144 | I122: =I121/1.11 -> 35.135135 | J122: =J121/1.11 -> 100 | K122: =K121/1.11 -> 99.099099 | ... P122: =P121/1.11 -> 50.45045
D124: 68 | E124: 54 | F124: 63 | G124: 46 | H124: 44 | I124: 35 | J124: 100 | K124: 100 | L124: 100 | M124: 100 | N124: 100 | O124: 100 | P124: 50

Sheet TEST -CO 
A6: Sl. No. | B6: Name of the student | C6: USN | J6: ATTAINMENT (%) | P6: Y OR N
D8: I | E8: I | F8: II | G8: II | H8: III | I8: III | J8: ='TEST MARKS '!#REF! -> #REF! | K8: ='TEST MARKS '!#REF! -> #REF! | L8: ='TEST MARKS '!#REF! -> #REF! | M8: ='TEST MARKS '!#REF! -> #REF! | N8: ='TEST MARKS '!#REF! -> #REF! | O8: ='TEST MARKS '!#REF! -> #REF! | P8: I | Q8: I | R8: II | S8: II | T8: III | U8: III
D9: CO1 | E9: CO2 | F9: CO3 | G9: CO4 | H9: CO5 | I9: CO6 | J9: CO1 | K9: CO2 | L9: =F9 -> CO3 | M9: =G9 -> CO4 | N9: =H9 -> CO5 | O9: =I9 -> CO6 | P9: =J9 -> CO1 | Q9: =K9 -> CO2 | R9: =L9 -> CO3 | S9: =M9 -> CO4 | ... U9: =O9 -> CO6
A10: ='TEST MARKS '!A10 -> 1 | B10: ='TEST MARKS '!B10 -> AFTAB AHMED WALA | C10: ='TEST MARKS '!C10 -> 1SG15ME004 | D10: =SUMIF('TEST MARKS '!$D$8:$I$8,$D$9,'TEST MARKS '!D10:I10) -> 7 | E10: =SUMIF('TEST MARKS '!$D$8:$I$8,$E$9,'TEST MARKS '!D10:I10) -> 5 | F10: =SUMIF('TEST MARKS '!$D$8:$I$8,$F$9,'TEST MARKS '!D10:I10) -> 6 | G10: =SUMIF('TEST MARKS '!$D$8:$I$8,$G$9,'TEST MARKS '!D10:I10) -> 6 | H10: =SUMIF('TEST MARKS '!$D$8:$I$8,$H$9,'TEST MARKS '!D10:I10) -> 0 | I10: =SUMIF('TEST MARKS '!$D$8:$I$8,$I$9,'TEST MARKS '!D10:I10) -> 0 | J10: =D10*100/$J$8 -> #REF! | K10: =E10*100/$K$8 -> #REF! | L10: =F10*100/$L$8 -> #REF! | M10: =G10*100/$M$8 -> #REF! | N10: =H10*100/$N$8 -> #REF! | O10: =I10*100/$O$8 -> #REF! | P10: =IF(J10<'TEST MARKS '!#REF!,"N","Y") -> #REF! | Q10: =IF(K10<'TEST MARKS '!#REF!,"N","Y") -> #REF! | R10: =IF(L10<'TEST MARKS '!#REF!,"N","Y") -> #REF! | S10: =IF(M10<'TEST MARKS '!#REF!,"N","Y") -> #REF! | T10: =IF(N10<'TEST MARKS '!#REF!,"N","Y") -> #REF! | U10: =IF(O10<'TEST MARKS '!#REF!,"N","Y") -> #REF!
A11: 2 | B11: ='TEST MARKS '!B11 -> AJEYA.V | C11: ='TEST MARKS '!C11 -> 1SG15ME006 | D11: =SUMIF('TEST MARKS '!$D$8:$I$8,$D$9,'TEST MARKS '!D11:I11) -> 0 | E11: =SUMIF('TEST MARKS '!$D$8:$I$8,$E$9,'TEST MARKS '!D11:I11) -> 0 | F11: =SUMIF('TEST MARKS '!$D$8:$I$8,$F$9,'TEST MARKS '!D11:I11) -> 7 | G11: =SUMIF('TEST MARKS '!$D$8:$I$8,$G$9,'TEST MARKS '!D11:I11) -> 5 | H11: =SUMIF('TEST MARKS '!$D$8:$I$8,$H$9,'TEST MARKS '!D11:I11) -> 7 | I11: =SUMIF('TEST MARKS '!$D$8:$I$8,$I$9,'TEST MARKS '!D11:I11) -> 5 | J11: =D11*100/$J$8 -> #REF! | K11: =E11*100/$K$8 -> #REF! | L11: =F11*100/$L$8 -> #REF! | M11: =G11*100/$M$8 -> #REF! | N11: =H11*100/$N$8 -> #REF! | O11: =I11*100/$O$8 -> #REF! | P11: =IF(J11<'TEST MARKS '!#REF!,"N","Y") -> #REF! | Q11: =IF(K11<'TEST MARKS '!#REF!,"N","Y") -> #REF! | R11: =IF(L11<'TEST MARKS '!#REF!,"N","Y") -> #REF! | S11: =IF(M11<'TEST MARKS '!#REF!,"N","Y") -> #REF! | T11: =IF(N11<'TEST MARKS '!#REF!,"N","Y") -> #REF! | U11: =IF(O11<'TEST MARKS '!#REF!,"N","Y") -> #REF!
A12: 3 | B12: ='TEST MARKS '!B12 -> AJITH S P | C12: ='TEST MARKS '!C12 -> 1SG15ME007 | D12: =SUMIF('TEST MARKS '!$D$8:$I$8,$D$9,'TEST MARKS '!D12:I12) -> 8 | E12: =SUMIF('TEST MARKS '!$D$8:$I$8,$E$9,'TEST MARKS '!D12:I12) -> 6 | F12: =SUMIF('TEST MARKS '!$D$8:$I$8,$F$9,'TEST MARKS '!D12:I12) -> 7 | G12: =SUMIF('TEST MARKS '!$D$8:$I$8,$G$9,'TEST MARKS '!D12:I12) -> 6 | H12: =SUMIF('TEST MARKS '!$D$8:$I$8,$H$9,'TEST MARKS '!D12:I12) -> 0 | I12: =SUMIF('TEST MARKS '!$D$8:$I$8,$I$9,'TEST MARKS '!D12:I12) -> 0 | J12: =D12*100/$J$8 -> #REF! | K12: =E12*100/$K$8 -> #REF! | L12: =F12*100/$L$8 -> #REF! | M12: =G12*100/$M$8 -> #REF! | N12: =H12*100/$N$8 -> #REF! | O12: =I12*100/$O$8 -> #REF! | P12: =IF(J12<'TEST MARKS '!#REF!,"N","Y") -> #REF! | Q12: =IF(K12<'TEST MARKS '!#REF!,"N","Y") -> #REF! | R12: =IF(L12<'TEST MARKS '!#REF!,"N","Y") -> #REF! | S12: =IF(M12<'TEST MARKS '!#REF!,"N","Y") -> #REF! | T12: =IF(N12<'TEST MARKS '!#REF!,"N","Y") -> #REF! | U12: =IF(O12<'TEST MARKS '!#REF!,"N","Y") -> #REF!
A13: 4 | B13: ='TEST MARKS '!B13 -> AKSHAY S | C13: ='TEST MARKS '!C13 -> 1SG15ME008 | D13: =SUMIF('TEST MARKS '!$D$8:$I$8,$D$9,'TEST MARKS '!D13:I13) -> 6 | E13: =SUMIF('TEST MARKS '!$D$8:$I$8,$E$9,'TEST MARKS '!D13:I13) -> 6 | F13: =SUMIF('TEST MARKS '!$D$8:$I$8,$F$9,'TEST MARKS '!D13:I13) -> 5 | G13: =SUMIF('TEST MARKS '!$D$8:$I$8,$G$9,'TEST MARKS '!D13:I13) -> 6 | H13: =SUMIF('TEST MARKS '!$D$8:$I$8,$H$9,'TEST MARKS '!D13:I13) -> 7 | I13: =SUMIF('TEST MARKS '!$D$8:$I$8,$I$9,'TEST MARKS '!D13:I13) -> 5 | J13: =D13*100/$J$8 -> #REF! | K13: =E13*100/$K$8 -> #REF! | L13: =F13*100/$L$8 -> #REF! | M13: =G13*100/$M$8 -> #REF! | N13: =H13*100/$N$8 -> #REF! | O13: =I13*100/$O$8 -> #REF! | P13: =IF(J13<'TEST MARKS '!#REF!,"N","Y") -> #REF! | Q13: =IF(K13<'TEST MARKS '!#REF!,"N","Y") -> #REF! | R13: =IF(L13<'TEST MARKS '!#REF!,"N","Y") -> #REF! | S13: =IF(M13<'TEST MARKS '!#REF!,"N","Y") -> #REF! | T13: =IF(N13<'TEST MARKS '!#REF!,"N","Y") -> #REF! | U13: =IF(O13<'TEST MARKS '!#REF!,"N","Y") -> #REF!
A14: 5 | B14: ='TEST MARKS '!B14 -> AMAN NAIN | C14: ='TEST MARKS '!C14 -> 1SG15ME009 | D14: =SUMIF('TEST MARKS '!$D$8:$I$8,$D$9,'TEST MARKS '!D14:I14) -> 10 | E14: =SUMIF('TEST MARKS '!$D$8:$I$8,$E$9,'TEST MARKS '!D14:I14) -> 9 | F14: =SUMIF('TEST MARKS '!$D$8:$I$8,$F$9,'TEST MARKS '!D14:I14) -> 10 | G14: =SUMIF('TEST MARKS '!$D$8:$I$8,$G$9,'TEST MARKS '!D14:I14) -> 9 | H14: =SUMIF('TEST MARKS '!$D$8:$I$8,$H$9,'TEST MARKS '!D14:I14) -> 6 | I14: =SUMIF('TEST MARKS '!$D$8:$I$8,$I$9,'TEST MARKS '!D14:I14) -> 9 | J14: =D14*100/$J$8 -> #REF! | K14: =E14*100/$K$8 -> #REF! | L14: =F14*100/$L$8 -> #REF! | M14: =G14*100/$M$8 -> #REF! | N14: =H14*100/$N$8 -> #REF! | O14: =I14*100/$O$8 -> #REF! | P14: =IF(J14<'TEST MARKS '!#REF!,"N","Y") -> #REF! | Q14: =IF(K14<'TEST MARKS '!#REF!,"N","Y") -> #REF! | R14: =IF(L14<'TEST MARKS '!#REF!,"N","Y") -> #REF! | S14: =IF(M14<'TEST MARKS '!#REF!,"N","Y") -> #REF! | T14: =IF(N14<'TEST MARKS '!#REF!,"N","Y") -> #REF! | U14: =IF(O14<'TEST MARKS '!#REF!,"N","Y") -> #REF!
A15: 6 | B15: ='TEST MARKS '!B15 -> AMITH.R | C15: ='TEST MARKS '!C15 -> 1SG15ME010 | D15: =SUMIF('TEST MARKS '!$D$8:$I$8,$D$9,'TEST MARKS '!D15:I15) -> 9 | E15: =SUMIF('TEST MARKS '!$D$8:$I$8,$E$9,'TEST MARKS '!D15:I15) -> 7 | F15: =SUMIF('TEST MARKS '!$D$8:$I$8,$F$9,'TEST MARKS '!D15:I15) -> 0 | G15: =SUMIF('TEST MARKS '!$D$8:$I$8,$G$9,'TEST MARKS '!D15:I15) -> 0 | H15: =SUMIF('TEST MARKS '!$D$8:$I$8,$H$9,'TEST MARKS '!D15:I15) -> 8 | I15: =SUMIF('TEST MARKS '!$D$8:$I$8,$I$9,'TEST MARKS '!D15:I15) -> 9 | J15: =D15*100/$J$8 -> #REF! | K15: =E15*100/$K$8 -> #REF! | L15: =F15*100/$L$8 -> #REF! | M15: =G15*100/$M$8 -> #REF! | N15: =H15*100/$N$8 -> #REF! | O15: =I15*100/$O$8 -> #REF! | P15: =IF(J15<'TEST MARKS '!#REF!,"N","Y") -> #REF! | Q15: =IF(K15<'TEST MARKS '!#REF!,"N","Y") -> #REF! | R15: =IF(L15<'TEST MARKS '!#REF!,"N","Y") -> #REF! | S15: =IF(M15<'TEST MARKS '!#REF!,"N","Y") -> #REF! | T15: =IF(N15<'TEST MARKS '!#REF!,"N","Y") -> #REF! | U15: =IF(O15<'TEST MARKS '!#REF!,"N","Y") -> #REF!
A16: 7 | B16: ='TEST MARKS '!B16 -> ANIL KUMAR C | C16: =SUMIF('TEST MARKS '!B14:G14,C15,'TEST MARKS '!B16:G16) -> 0 | D16: =SUMIF('TEST MARKS '!$D$8:$I$8,$D$9,'TEST MARKS '!D16:I16) -> 10 | E16: =SUMIF('TEST MARKS '!$D$8:$I$8,$E$9,'TEST MARKS '!D16:I16) -> 6 | F16: =SUMIF('TEST MARKS '!$D$8:$I$8,$F$9,'TEST MARKS '!D16:I16) -> 6 | G16: =SUMIF('TEST MARKS '!$D$8:$I$8,$G$9,'TEST MARKS '!D16:I16) -> 5 | H16: =SUMIF('TEST MARKS '!$D$8:$I$8,$H$9,'TEST MARKS '!D16:I16) -> 6 | I16: =SUMIF('TEST MARKS '!$D$8:$I$8,$I$9,'TEST MARKS '!D16:I16) -> 7 | J16: =D16*100/$J$8 -> #REF! | K16: =E16*100/$K$8 -> #REF! | L16: =F16*100/$L$8 -> #REF! | M16: =G16*100/$M$8 -> #REF! | N16: =H16*100/$N$8 -> #REF! | O16: =I16*100/$O$8 -> #REF! | P16: =IF(J16<'TEST MARKS '!#REF!,"N","Y") -> #REF! | Q16: =IF(K16<'TEST MARKS '!#REF!,"N","Y") -> #REF! | R16: =IF(L16<'TEST MARKS '!#REF!,"N","Y") -> #REF! | S16: =IF(M16<'TEST MARKS '!#REF!,"N","Y") -> #REF! | T16: =IF(N16<'TEST MARKS '!#REF!,"N","Y") -> #REF! | U16: =IF(O16<'TEST MARKS '!#REF!,"N","Y") -> #REF!
A17: =SUMIF('TEST MARKS '!A15:F15,A16,'TEST MARKS '!A17:F17) -> 0 | B17: =SUMIF('TEST MARKS '!B15:G15,B16,'TEST MARKS '!B17:G17) -> 0 | C17: =SUMIF('TEST MARKS '!C15:H15,C16,'TEST MARKS '!C17:H17) -> 8 | D17: =SUMIF('TEST MARKS '!$D$8:$I$8,$D$9,'TEST MARKS '!D17:I17) -> 0 | E17: =SUMIF('TEST MARKS '!$D$8:$I$8,$E$9,'TEST MARKS '!D17:I17) -> 0 | F17: =SUMIF('TEST MARKS '!$D$8:$I$8,$F$9,'TEST MARKS '!D17:I17) -> 8 | G17: =SUMIF('TEST MARKS '!$D$8:$I$8,$G$9,'TEST MARKS '!D17:I17) -> 6 | H17: =SUMIF('TEST MARKS '!$D$8:$I$8,$H$9,'TEST MARKS '!D17:I17) -> 4 | I17: =SUMIF('TEST MARKS '!$D$8:$I$8,$I$9,'TEST MARKS '!D17:I17) -> 6 | J17: =D17*100/$J$8 -> #REF! | K17: =E17*100/$K$8 -> #REF! | L17: =F17*100/$L$8 -> #REF! | M17: =G17*100/$M$8 -> #REF! | N17: =H17*100/$N$8 -> #REF! | O17: =I17*100/$O$8 -> #REF! | P17: =IF(J17<'TEST MARKS '!#REF!,"N","Y") -> #REF! | Q17: =IF(K17<'TEST MARKS '!#REF!,"N","Y") -> #REF! | R17: =IF(L17<'TEST MARKS '!#REF!,"N","Y") -> #REF! | S17: =IF(M17<'TEST MARKS '!#REF!,"N","Y") -> #REF! | T17: =IF(N17<'TEST MARKS '!#REF!,"N","Y") -> #REF! | U17: =IF(O17<'TEST MARKS '!#REF!,"N","Y") -> #REF!
A18: 9 | B18: ='TEST MARKS '!B18 -> ARJUN S | C18: ='TEST MARKS '!C18 -> 1SG15ME013 | D18: =SUMIF('TEST MARKS '!$D$8:$I$8,$D$9,'TEST MARKS '!D18:I18) -> 9 | E18: =SUMIF('TEST MARKS '!$D$8:$I$8,$E$9,'TEST MARKS '!D18:I18) -> 6 | F18: =SUMIF('TEST MARKS '!$D$8:$I$8,$F$9,'TEST MARKS '!D18:I18) -> 0 | G18: =SUMIF('TEST MARKS '!$D$8:$I$8,$G$9,'TEST MARKS '!D18:I18) -> 0 | H18: =SUMIF('TEST MARKS '!$D$8:$I$8,$H$9,'TEST MARKS '!D18:I18) -> 7 | I18: =SUMIF('TEST MARKS '!$D$8:$I$8,$I$9,'TEST MARKS '!D18:I18) -> 10 | J18: =D18*100/$J$8 -> #REF! | K18: =E18*100/$K$8 -> #REF! | L18: =F18*100/$L$8 -> #REF! | M18: =G18*100/$M$8 -> #REF! | N18: =H18*100/$N$8 -> #REF! | O18: =I18*100/$O$8 -> #REF! | P18: =IF(J18<'TEST MARKS '!#REF!,"N","Y") -> #REF! | Q18: =IF(K18<'TEST MARKS '!#REF!,"N","Y") -> #REF! | R18: =IF(L18<'TEST MARKS '!#REF!,"N","Y") -> #REF! | S18: =IF(M18<'TEST MARKS '!#REF!,"N","Y") -> #REF! | T18: =IF(N18<'TEST MARKS '!#REF!,"N","Y") -> #REF! | U18: =IF(O18<'TEST MARKS '!#REF!,"N","Y") -> #REF!
A19: 10 | B19: ='TEST MARKS '!B19 -> ASHISH SHARMA | C19: ='TEST MARKS '!C19 -> 1SG15ME014 | D19: =SUMIF('TEST MARKS '!$D$8:$I$8,$D$9,'TEST MARKS '!D19:I19) -> 7 | E19: =SUMIF('TEST MARKS '!$D$8:$I$8,$E$9,'TEST MARKS '!D19:I19) -> 6 | F19: =SUMIF('TEST MARKS '!$D$8:$I$8,$F$9,'TEST MARKS '!D19:I19) -> 0 | G19: =SUMIF('TEST MARKS '!$D$8:$I$8,$G$9,'TEST MARKS '!D19:I19) -> 0 | H19: =SUMIF('TEST MARKS '!$D$8:$I$8,$H$9,'TEST MARKS '!D19:I19) -> 7 | I19: =SUMIF('TEST MARKS '!$D$8:$I$8,$I$9,'TEST MARKS '!D19:I19) -> 10 | J19: =D19*100/$J$8 -> #REF! | K19: =E19*100/$K$8 -> #REF! | L19: =F19*100/$L$8 -> #REF! | M19: =G19*100/$M$8 -> #REF! | N19: =H19*100/$N$8 -> #REF! | O19: =I19*100/$O$8 -> #REF! | P19: =IF(J19<'TEST MARKS '!#REF!,"N","Y") -> #REF! | Q19: =IF(K19<'TEST MARKS '!#REF!,"N","Y") -> #REF! | R19: =IF(L19<'TEST MARKS '!#REF!,"N","Y") -> #REF! | S19: =IF(M19<'TEST MARKS '!#REF!,"N","Y") -> #REF! | T19: =IF(N19<'TEST MARKS '!#REF!,"N","Y") -> #REF! | U19: =IF(O19<'TEST MARKS '!#REF!,"N","Y") -> #REF!
A20: 11 | B20: ='TEST MARKS '!B20 -> AYAN GUHA RAOY | C20: ='TEST MARKS '!C20 -> 1SG15ME015 | D20: =SUMIF('TEST MARKS '!$D$8:$I$8,$D$9,'TEST MARKS '!D20:I20) -> 8 | E20: =SUMIF('TEST MARKS '!$D$8:$I$8,$E$9,'TEST MARKS '!D20:I20) -> 6 | F20: =SUMIF('TEST MARKS '!$D$8:$I$8,$F$9,'TEST MARKS '!D20:I20) -> 5 | G20: =SUMIF('TEST MARKS '!$D$8:$I$8,$G$9,'TEST MARKS '!D20:I20) -> 7 | H20: =SUMIF('TEST MARKS '!$D$8:$I$8,$H$9,'TEST MARKS '!D20:I20) -> 5 | I20: =SUMIF('TEST MARKS '!$D$8:$I$8,$I$9,'TEST MARKS '!D20:I20) -> 7 | J20: =D20*100/$J$8 -> #REF! | K20: =E20*100/$K$8 -> #REF! | L20: =F20*100/$L$8 -> #REF! | M20: =G20*100/$M$8 -> #REF! | N20: =H20*100/$N$8 -> #REF! | O20: =I20*100/$O$8 -> #REF! | P20: =IF(J20<'TEST MARKS '!#REF!,"N","Y") -> #REF! | Q20: =IF(K20<'TEST MARKS '!#REF!,"N","Y") -> #REF! | R20: =IF(L20<'TEST MARKS '!#REF!,"N","Y") -> #REF! | S20: =IF(M20<'TEST MARKS '!#REF!,"N","Y") -> #REF! | T20: =IF(N20<'TEST MARKS '!#REF!,"N","Y") -> #REF! | U20: =IF(O20<'TEST MARKS '!#REF!,"N","Y") -> #REF!
A21: 12 | B21: ='TEST MARKS '!B21 -> BHARATH .V | C21: ='TEST MARKS '!C21 -> 1SG15ME017 | D21: =SUMIF('TEST MARKS '!$D$8:$I$8,$D$9,'TEST MARKS '!D21:I21) -> 9 | E21: =SUMIF('TEST MARKS '!$D$8:$I$8,$E$9,'TEST MARKS '!D21:I21) -> 8 | F21: =SUMIF('TEST MARKS '!$D$8:$I$8,$F$9,'TEST MARKS '!D21:I21) -> 8 | G21: =SUMIF('TEST MARKS '!$D$8:$I$8,$G$9,'TEST MARKS '!D21:I21) -> 7 | H21: =SUMIF('TEST MARKS '!$D$8:$I$8,$H$9,'TEST MARKS '!D21:I21) -> 7 | I21: =SUMIF('TEST MARKS '!$D$8:$I$8,$I$9,'TEST MARKS '!D21:I21) -> 7 | J21: =D21*100/$J$8 -> #REF! | K21: =E21*100/$K$8 -> #REF! | L21: =F21*100/$L$8 -> #REF! | M21: =G21*100/$M$8 -> #REF! | N21: =H21*100/$N$8 -> #REF! | O21: =I21*100/$O$8 -> #REF! | P21: =IF(J21<'TEST MARKS '!#REF!,"N","Y") -> #REF! | Q21: =IF(K21<'TEST MARKS '!#REF!,"N","Y") -> #REF! | R21: =IF(L21<'TEST MARKS '!#REF!,"N","Y") -> #REF! | S21: =IF(M21<'TEST MARKS '!#REF!,"N","Y") -> #REF! | T21: =IF(N21<'TEST MARKS '!#REF!,"N","Y") -> #REF! | U21: =IF(O21<'TEST MARKS '!#REF!,"N","Y") -> #REF!
A22: 13 | B22: ='TEST MARKS '!B22 -> C KARTHIK | C22: ='TEST MARKS '!C22 -> 1SG15ME018 | D22: =SUMIF('TEST MARKS '!$D$8:$I$8,$D$9,'TEST MARKS '!D22:I22) -> 10 | E22: =SUMIF('TEST MARKS '!$D$8:$I$8,$E$9,'TEST MARKS '!D22:I22) -> 7 | F22: =SUMIF('TEST MARKS '!$D$8:$I$8,$F$9,'TEST MARKS '!D22:I22) -> 8 | G22: =SUMIF('TEST MARKS '!$D$8:$I$8,$G$9,'TEST MARKS '!D22:I22) -> 6 | H22: =SUMIF('TEST MARKS '!$D$8:$I$8,$H$9,'TEST MARKS '!D22:I22) -> 5 | I22: =SUMIF('TEST MARKS '!$D$8:$I$8,$I$9,'TEST MARKS '!D22:I22) -> 7 | J22: =D22*100/$J$8 -> #REF! | K22: =E22*100/$K$8 -> #REF! | L22: =F22*100/$L$8 -> #REF! | M22: =G22*100/$M$8 -> #REF! | N22: =H22*100/$N$8 -> #REF! | O22: =I22*100/$O$8 -> #REF! | P22: =IF(J22<'TEST MARKS '!#REF!,"N","Y") -> #REF! | Q22: =IF(K22<'TEST MARKS '!#REF!,"N","Y") -> #REF! | R22: =IF(L22<'TEST MARKS '!#REF!,"N","Y") -> #REF! | S22: =IF(M22<'TEST MARKS '!#REF!,"N","Y") -> #REF! | T22: =IF(N22<'TEST MARKS '!#REF!,"N","Y") -> #REF! | U22: =IF(O22<'TEST MARKS '!#REF!,"N","Y") -> #REF!
A23: 14 | B23: ='TEST MARKS '!B23 -> CHETHAN I P | C23: ='TEST MARKS '!C23 -> 1SG15ME020 | D23: =SUMIF('TEST MARKS '!$D$8:$I$8,$D$9,'TEST MARKS '!D23:I23) -> 9 | E23: =SUMIF('TEST MARKS '!$D$8:$I$8,$E$9,'TEST MARKS '!D23:I23) -> 9 | F23: =SUMIF('TEST MARKS '!$D$8:$I$8,$F$9,'TEST MARKS '!D23:I23) -> 0 | G23: =SUMIF('TEST MARKS '!$D$8:$I$8,$G$9,'TEST MARKS '!D23:I23) -> 0 | H23: =SUMIF('TEST MARKS '!$D$8:$I$8,$H$9,'TEST MARKS '!D23:I23) -> 9 | I23: =SUMIF('TEST MARKS '!$D$8:$I$8,$I$9,'TEST MARKS '!D23:I23) -> 10 | J23: =D23*100/$J$8 -> #REF! | K23: =E23*100/$K$8 -> #REF! | L23: =F23*100/$L$8 -> #REF! | M23: =G23*100/$M$8 -> #REF! | N23: =H23*100/$N$8 -> #REF! | O23: =I23*100/$O$8 -> #REF! | P23: =IF(J23<'TEST MARKS '!#REF!,"N","Y") -> #REF! | Q23: =IF(K23<'TEST MARKS '!#REF!,"N","Y") -> #REF! | R23: =IF(L23<'TEST MARKS '!#REF!,"N","Y") -> #REF! | S23: =IF(M23<'TEST MARKS '!#REF!,"N","Y") -> #REF! | T23: =IF(N23<'TEST MARKS '!#REF!,"N","Y") -> #REF! | U23: =IF(O23<'TEST MARKS '!#REF!,"N","Y") -> #REF!
A24: 15 | B24: ='TEST MARKS '!B24 -> DAYANANDA M | C24: ='TEST MARKS '!C24 -> 1SG15ME021 | D24: =SUMIF('TEST MARKS '!$D$8:$I$8,$D$9,'TEST MARKS '!D24:I24) -> 7 | E24: =SUMIF('TEST MARKS '!$D$8:$I$8,$E$9,'TEST MARKS '!D24:I24) -> 5 | F24: =SUMIF('TEST MARKS '!$D$8:$I$8,$F$9,'TEST MARKS '!D24:I24) -> 0 | G24: =SUMIF('TEST MARKS '!$D$8:$I$8,$G$9,'TEST MARKS '!D24:I24) -> 0 | H24: =SUMIF('TEST MARKS '!$D$8:$I$8,$H$9,'TEST MARKS '!D24:I24) -> 7 | I24: =SUMIF('TEST MARKS '!$D$8:$I$8,$I$9,'TEST MARKS '!D24:I24) -> 5 | J24: =D24*100/$J$8 -> #REF! | K24: =E24*100/$K$8 -> #REF! | L24: =F24*100/$L$8 -> #REF! | M24: =G24*100/$M$8 -> #REF! | N24: =H24*100/$N$8 -> #REF! | O24: =I24*100/$O$8 -> #REF! | P24: =IF(J24<'TEST MARKS '!#REF!,"N","Y") -> #REF! | Q24: =IF(K24<'TEST MARKS '!#REF!,"N","Y") -> #REF! | R24: =IF(L24<'TEST MARKS '!#REF!,"N","Y") -> #REF! | S24: =IF(M24<'TEST MARKS '!#REF!,"N","Y") -> #REF! | T24: =IF(N24<'TEST MARKS '!#REF!,"N","Y") -> #REF! | U24: =IF(O24<'TEST MARKS '!#REF!,"N","Y") -> #REF!
A25: 16 | B25: ='TEST MARKS '!B25 -> DEEPU H S | C25: ='TEST MARKS '!C25 -> 1SG15ME022 | D25: =SUMIF('TEST MARKS '!$D$8:$I$8,$D$9,'TEST MARKS '!D25:I25) -> 10 | E25: =SUMIF('TEST MARKS '!$D$8:$I$8,$E$9,'TEST MARKS '!D25:I25) -> 8 | F25: =SUMIF('TEST MARKS '!$D$8:$I$8,$F$9,'TEST MARKS '!D25:I25) -> 9 | G25: =SUMIF('TEST MARKS '!$D$8:$I$8,$G$9,'TEST MARKS '!D25:I25) -> 7 | H25: =SUMIF('TEST MARKS '!$D$8:$I$8,$H$9,'TEST MARKS '!D25:I25) -> 7 | I25: =SUMIF('TEST MARKS '!$D$8:$I$8,$I$9,'TEST MARKS '!D25:I25) -> 7 | J25: =D25*100/$J$8 -> #REF! | K25: =E25*100/$K$8 -> #REF! | L25: =F25*100/$L$8 -> #REF! | M25: =G25*100/$M$8 -> #REF! | N25: =H25*100/$N$8 -> #REF! | O25: =I25*100/$O$8 -> #REF! | P25: =IF(J25<'TEST MARKS '!#REF!,"N","Y") -> #REF! | Q25: =IF(K25<'TEST MARKS '!#REF!,"N","Y") -> #REF! | R25: =IF(L25<'TEST MARKS '!#REF!,"N","Y") -> #REF! | S25: =IF(M25<'TEST MARKS '!#REF!,"N","Y") -> #REF! | T25: =IF(N25<'TEST MARKS '!#REF!,"N","Y") -> #REF! | U25: =IF(O25<'TEST MARKS '!#REF!,"N","Y") -> #REF!
A26: 17 | B26: ='TEST MARKS '!B26 -> DEVARAJ HIREMATH | C26: ='TEST MARKS '!C26 -> 1SG15ME023 | D26: =SUMIF('TEST MARKS '!$D$8:$I$8,$D$9,'TEST MARKS '!D26:I26) -> 6 | E26: =SUMIF('TEST MARKS '!$D$8:$I$8,$E$9,'TEST MARKS '!D26:I26) -> 6 | F26: =SUMIF('TEST MARKS '!$D$8:$I$8,$F$9,'TEST MARKS '!D26:I26) -> 9 | G26: =SUMIF('TEST MARKS '!$D$8:$I$8,$G$9,'TEST MARKS '!D26:I26) -> 7 | H26: =SUMIF('TEST MARKS '!$D$8:$I$8,$H$9,'TEST MARKS '!D26:I26) -> 0 | I26: =SUMIF('TEST MARKS '!$D$8:$I$8,$I$9,'TEST MARKS '!D26:I26) -> 0 | J26: =D26*100/$J$8 -> #REF! | K26: =E26*100/$K$8 -> #REF! | L26: =F26*100/$L$8 -> #REF! | M26: =G26*100/$M$8 -> #REF! | N26: =H26*100/$N$8 -> #REF! | O26: =I26*100/$O$8 -> #REF! | P26: =IF(J26<'TEST MARKS '!#REF!,"N","Y") -> #REF! | Q26: =IF(K26<'TEST MARKS '!#REF!,"N","Y") -> #REF! | R26: =IF(L26<'TEST MARKS '!#REF!,"N","Y") -> #REF! | S26: =IF(M26<'TEST MARKS '!#REF!,"N","Y") -> #REF! | T26: =IF(N26<'TEST MARKS '!#REF!,"N","Y") -> #REF! | U26: =IF(O26<'TEST MARKS '!#REF!,"N","Y") -> #REF!
A27: 18 | B27: ='TEST MARKS '!B27 -> DHANANJAYA V | C27: ='TEST MARKS '!C27 -> 1SG15ME024 | D27: =SUMIF('TEST MARKS '!$D$8:$I$8,$D$9,'TEST MARKS '!D27:I27) -> 0 | E27: =SUMIF('TEST MARKS '!$D$8:$I$8,$E$9,'TEST MARKS '!D27:I27) -> 0 | F27: =SUMIF('TEST MARKS '!$D$8:$I$8,$F$9,'TEST MARKS '!D27:I27) -> 5 | G27: =SUMIF('TEST MARKS '!$D$8:$I$8,$G$9,'TEST MARKS '!D27:I27) -> 7 | H27: =SUMIF('TEST MARKS '!$D$8:$I$8,$H$9,'TEST MARKS '!D27:I27) -> 5 | I27: =SUMIF('TEST MARKS '!$D$8:$I$8,$I$9,'TEST MARKS '!D27:I27) -> 7 | J27: =D27*100/$J$8 -> #REF! | K27: =E27*100/$K$8 -> #REF! | L27: =F27*100/$L$8 -> #REF! | M27: =G27*100/$M$8 -> #REF! | N27: =H27*100/$N$8 -> #REF! | O27: =I27*100/$O$8 -> #REF! | P27: =IF(J27<'TEST MARKS '!#REF!,"N","Y") -> #REF! | Q27: =IF(K27<'TEST MARKS '!#REF!,"N","Y") -> #REF! | R27: =IF(L27<'TEST MARKS '!#REF!,"N","Y") -> #REF! | S27: =IF(M27<'TEST MARKS '!#REF!,"N","Y") -> #REF! | T27: =IF(N27<'TEST MARKS '!#REF!,"N","Y") -> #REF! | U27: =IF(O27<'TEST MARKS '!#REF!,"N","Y") -> #REF!
A28: 19 | B28: ='TEST MARKS '!B28 -> DHANRAJ M | C28: ='TEST MARKS '!C28 -> 1SG15ME025 | D28: =SUMIF('TEST MARKS '!$D$8:$I$8,$D$9,'TEST MARKS '!D28:I28) -> 7 | E28: =SUMIF('TEST MARKS '!$D$8:$I$8,$E$9,'TEST MARKS '!D28:I28) -> 5 | F28: =SUMIF('TEST MARKS '!$D$8:$I$8,$F$9,'TEST MARKS '!D28:I28) -> 7 | G28: =SUMIF('TEST MARKS '!$D$8:$I$8,$G$9,'TEST MARKS '!D28:I28) -> 6 | H28: =SUMIF('TEST MARKS '!$D$8:$I$8,$H$9,'TEST MARKS '!D28:I28) -> 6 | I28: =SUMIF('TEST MARKS '!$D$8:$I$8,$I$9,'TEST MARKS '!D28:I28) -> 9 | J28: =D28*100/$J$8 -> #REF! | K28: =E28*100/$K$8 -> #REF! | L28: =F28*100/$L$8 -> #REF! | M28: =G28*100/$M$8 -> #REF! | N28: =H28*100/$N$8 -> #REF! | O28: =I28*100/$O$8 -> #REF! | P28: =IF(J28<'TEST MARKS '!#REF!,"N","Y") -> #REF! | Q28: =IF(K28<'TEST MARKS '!#REF!,"N","Y") -> #REF! | R28: =IF(L28<'TEST MARKS '!#REF!,"N","Y") -> #REF! | S28: =IF(M28<'TEST MARKS '!#REF!,"N","Y") -> #REF! | T28: =IF(N28<'TEST MARKS '!#REF!,"N","Y") -> #REF! | U28: =IF(O28<'TEST MARKS '!#REF!,"N","Y") -> #REF!
A29: 20 | B29: ='TEST MARKS '!B29 -> DHARSHAN M J | C29: ='TEST MARKS '!C29 -> 1SG15ME026 | D29: =SUMIF('TEST MARKS '!$D$8:$I$8,$D$9,'TEST MARKS '!D29:I29) -> 8 | E29: =SUMIF('TEST MARKS '!$D$8:$I$8,$E$9,'TEST MARKS '!D29:I29) -> 6 | F29: =SUMIF('TEST MARKS '!$D$8:$I$8,$F$9,'TEST MARKS '!D29:I29) -> 0 | G29: =SUMIF('TEST MARKS '!$D$8:$I$8,$G$9,'TEST MARKS '!D29:I29) -> 0 | H29: =SUMIF('TEST MARKS '!$D$8:$I$8,$H$9,'TEST MARKS '!D29:I29) -> 7 | I29: =SUMIF('TEST MARKS '!$D$8:$I$8,$I$9,'TEST MARKS '!D29:I29) -> 9 | J29: =D29*100/$J$8 -> #REF! | K29: =E29*100/$K$8 -> #REF! | L29: =F29*100/$L$8 -> #REF! | M29: =G29*100/$M$8 -> #REF! | N29: =H29*100/$N$8 -> #REF! | O29: =I29*100/$O$8 -> #REF! | P29: =IF(J29<'TEST MARKS '!#REF!,"N","Y") -> #REF! | Q29: =IF(K29<'TEST MARKS '!#REF!,"N","Y") -> #REF! | R29: =IF(L29<'TEST MARKS '!#REF!,"N","Y") -> #REF! | S29: =IF(M29<'TEST MARKS '!#REF!,"N","Y") -> #REF! | T29: =IF(N29<'TEST MARKS '!#REF!,"N","Y") -> #REF! | U29: =IF(O29<'TEST MARKS '!#REF!,"N","Y") -> #REF!
... A66: 57 | B66: ='TEST MARKS '!B66 -> RAVISHANKAR .G | C66: ='TEST MARKS '!C66 -> 1SG15ME078 | D66: =SUMIF('TEST MARKS '!$D$8:$I$8,$D$9,'TEST MARKS '!D66:I66) -> 7 | E66: =SUMIF('TEST MARKS '!$D$8:$I$8,$E$9,'TEST MARKS '!D66:I66) -> 5 | F66: =SUMIF('TEST MARKS '!$D$8:$I$8,$F$9,'TEST MARKS '!D66:I66) -> 6 | G66: =SUMIF('TEST MARKS '!$D$8:$I$8,$G$9,'TEST MARKS '!D66:I66) -> 5 | H66: =SUMIF('TEST MARKS '!$D$8:$I$8,$H$9,'TEST MARKS '!D66:I66) -> 7 | I66: =SUMIF('TEST MARKS '!$D$8:$I$8,$I$9,'TEST MARKS '!D66:I66) -> 9 | J66: =D66*100/$J$8 -> #REF! | K66: =E66*100/$K$8 -> #REF! | L66: =F66*100/$L$8 -> #REF! | M66: =G66*100/$M$8 -> #REF! | N66: =H66*100/$N$8 -> #REF! | O66: =I66*100/$O$8 -> #REF! | P66: =IF(J66<'TEST MARKS '!#REF!,"N","Y") -> #REF! | Q66: =IF(K66<'TEST MARKS '!#REF!,"N","Y") -> #REF! | R66: =IF(L66<'TEST MARKS '!#REF!,"N","Y") -> #REF! | S66: =IF(M66<'TEST MARKS '!#REF!,"N","Y") -> #REF! | T66: =IF(N66<'TEST MARKS '!#REF!,"N","Y") -> #REF! | U66: =IF(O66<'TEST MARKS '!#REF!,"N","Y") -> #REF!
A67: 58 | B67: ='TEST MARKS '!B67 -> ROHAN A | C67: ='TEST MARKS '!C67 -> 1SG15ME079 | D67: =SUMIF('TEST MARKS '!$D$8:$I$8,$D$9,'TEST MARKS '!D67:H67) -> 7 | E67: =SUMIF('TEST MARKS '!$D$8:$I$8,$E$9,'TEST MARKS '!D67:H67) -> 7 | F67: =SUMIF('TEST MARKS '!$D$8:$I$8,$F$9,'TEST MARKS '!D67:H67) -> 0 | G67: =SUMIF('TEST MARKS '!$D$8:$I$8,$G$9,'TEST MARKS '!D67:H67) -> 0 | H67: =SUMIF('TEST MARKS '!$D$8:$I$8,$H$9,'TEST MARKS '!D67:H67) -> 7 | I67: =SUMIF('TEST MARKS '!$D$8:$I$8,$I$9,'TEST MARKS '!D67:H67) -> 9 | J67: =D67*100/$J$8 -> #REF! | K67: =E67*100/$K$8 -> #REF! | L67: =F67*100/$L$8 -> #REF! | M67: =G67*100/$M$8 -> #REF! | N67: =H67*100/$N$8 -> #REF! | O67: =I67*100/$O$8 -> #REF! | P67: =IF(J67<'TEST MARKS '!#REF!,"N","Y") -> #REF! | Q67: =IF(K67<'TEST MARKS '!#REF!,"N","Y") -> #REF! | R67: =IF(L67<'TEST MARKS '!#REF!,"N","Y") -> #REF! | S67: =IF(M67<'TEST MARKS '!#REF!,"N","Y") -> #REF! | T67: =IF(N67<'TEST MARKS '!#REF!,"N","Y") -> #REF! | U67: =IF(O67<'TEST MARKS '!#REF!,"N","Y") -> #REF!
A68: 59 | B68: ='TEST MARKS '!B68 -> S HANUMANTHA REDDY | C68: ='TEST MARKS '!C68 -> 1SG15ME080 | D68: =SUMIF('TEST MARKS '!$D$8:$I$8,$D$9,'TEST MARKS '!D68:I68) -> 7 | E68: =SUMIF('TEST MARKS '!$D$8:$I$8,$E$9,'TEST MARKS '!D68:I68) -> 5 | F68: =SUMIF('TEST MARKS '!$D$8:$I$8,$F$9,'TEST MARKS '!D68:I68) -> 0 | G68: =SUMIF('TEST MARKS '!$D$8:$I$8,$G$9,'TEST MARKS '!D68:I68) -> 0 | H68: =SUMIF('TEST MARKS '!$D$8:$I$8,$H$9,'TEST MARKS '!D68:I68) -> 6 | I68: =SUMIF('TEST MARKS '!$D$8:$I$8,$I$9,'TEST MARKS '!D68:I68) -> 7 | J68: =D68*100/$J$8 -> #REF! | K68: =E68*100/$K$8 -> #REF! | L68: =F68*100/$L$8 -> #REF! | M68: =G68*100/$M$8 -> #REF! | N68: =H68*100/$N$8 -> #REF! | O68: =I68*100/$O$8 -> #REF! | P68: =IF(J68<'TEST MARKS '!#REF!,"N","Y") -> #REF! | Q68: =IF(K68<'TEST MARKS '!#REF!,"N","Y") -> #REF! | R68: =IF(L68<'TEST MARKS '!#REF!,"N","Y") -> #REF! | S68: =IF(M68<'TEST MARKS '!#REF!,"N","Y") -> #REF! | T68: =IF(N68<'TEST MARKS '!#REF!,"N","Y") -> #REF! | U68: =IF(O68<'TEST MARKS '!#REF!,"N","Y") -> #REF!
A69: 60 | B69: ='TEST MARKS '!B69 -> SADANANDA LAXMINARAYAN HEGDE | C69: ='TEST MARKS '!C69 -> 1SG15ME081 | D69: =SUMIF('TEST MARKS '!$D$8:$I$8,$D$9,'TEST MARKS '!D69:I69) -> 5 | E69: =SUMIF('TEST MARKS '!$D$8:$I$8,$E$9,'TEST MARKS '!D69:I69) -> 7 | F69: =SUMIF('TEST MARKS '!$D$8:$I$8,$F$9,'TEST MARKS '!D69:I69) -> 0 | G69: =SUMIF('TEST MARKS '!$D$8:$I$8,$G$9,'TEST MARKS '!D69:I69) -> 0 | H69: =SUMIF('TEST MARKS '!$D$8:$I$8,$H$9,'TEST MARKS '!D69:I69) -> 7 | I69: =SUMIF('TEST MARKS '!$D$8:$I$8,$I$9,'TEST MARKS '!D69:I69) -> 6 | J69: =D69*100/$J$8 -> #REF! | K69: =E69*100/$K$8 -> #REF! | L69: =F69*100/$L$8 -> #REF! | M69: =G69*100/$M$8 -> #REF! | N69: =H69*100/$N$8 -> #REF! | O69: =I69*100/$O$8 -> #REF! | P69: =IF(J69<'TEST MARKS '!#REF!,"N","Y") -> #REF! | Q69: =IF(K69<'TEST MARKS '!#REF!,"N","Y") -> #REF! | R69: =IF(L69<'TEST MARKS '!#REF!,"N","Y") -> #REF! | S69: =IF(M69<'TEST MARKS '!#REF!,"N","Y") -> #REF! | T69: =IF(N69<'TEST MARKS '!#REF!,"N","Y") -> #REF! | U69: =IF(O69<'TEST MARKS '!#REF!,"N","Y") -> #REF!
A70: 61 | B70: ='TEST MARKS '!B70 -> SAKSHAM KANTHAK | C70: ='TEST MARKS '!C70 -> 1SG15ME082 | D70: =SUMIF('TEST MARKS '!$D$8:$I$8,$D$9,'TEST MARKS '!D70:I70) -> 9 | E70: =SUMIF('TEST MARKS '!$D$8:$I$8,$E$9,'TEST MARKS '!D70:I70) -> 8 | F70: =SUMIF('TEST MARKS '!$D$8:$I$8,$F$9,'TEST MARKS '!D70:I70) -> 0 | G70: =SUMIF('TEST MARKS '!$D$8:$I$8,$G$9,'TEST MARKS '!D70:I70) -> 0 | H70: =SUMIF('TEST MARKS '!$D$8:$I$8,$H$9,'TEST MARKS '!D70:I70) -> 5 | I70: =SUMIF('TEST MARKS '!$D$8:$I$8,$I$9,'TEST MARKS '!D70:I70) -> 7 | J70: =D70*100/$J$8 -> #REF! | K70: =E70*100/$K$8 -> #REF! | L70: =F70*100/$L$8 -> #REF! | M70: =G70*100/$M$8 -> #REF! | N70: =H70*100/$N$8 -> #REF! | O70: =I70*100/$O$8 -> #REF! | P70: =IF(J70<'TEST MARKS '!#REF!,"N","Y") -> #REF! | Q70: =IF(K70<'TEST MARKS '!#REF!,"N","Y") -> #REF! | R70: =IF(L70<'TEST MARKS '!#REF!,"N","Y") -> #REF! | S70: =IF(M70<'TEST MARKS '!#REF!,"N","Y") -> #REF! | T70: =IF(N70<'TEST MARKS '!#REF!,"N","Y") -> #REF! | U70: =IF(O70<'TEST MARKS '!#REF!,"N","Y") -> #REF!
A71: 62 | B71: ='TEST MARKS '!B71 -> SANTHOSHA | C71: ='TEST MARKS '!C71 -> 1SG15ME083 | D71: =SUMIF('TEST MARKS '!$D$8:$I$8,$D$9,'TEST MARKS '!D71:I71) -> 8 | E71: =SUMIF('TEST MARKS '!$D$8:$I$8,$E$9,'TEST MARKS '!D71:I71) -> 6 | F71: =SUMIF('TEST MARKS '!$D$8:$I$8,$F$9,'TEST MARKS '!D71:I71) -> 7 | G71: =SUMIF('TEST MARKS '!$D$8:$I$8,$G$9,'TEST MARKS '!D71:I71) -> 7 | H71: =SUMIF('TEST MARKS '!$D$8:$I$8,$H$9,'TEST MARKS '!D71:I71) -> 7 | I71: =SUMIF('TEST MARKS '!$D$8:$I$8,$I$9,'TEST MARKS '!D71:I71) -> 8 | J71: =D71*100/$J$8 -> #REF! | K71: =E71*100/$K$8 -> #REF! | L71: =F71*100/$L$8 -> #REF! | M71: =G71*100/$M$8 -> #REF! | N71: =H71*100/$N$8 -> #REF! | O71: =I71*100/$O$8 -> #REF! | P71: =IF(J71<'TEST MARKS '!#REF!,"N","Y") -> #REF! | Q71: =IF(K71<'TEST MARKS '!#REF!,"N","Y") -> #REF! | R71: =IF(L71<'TEST MARKS '!#REF!,"N","Y") -> #REF! | S71: =IF(M71<'TEST MARKS '!#REF!,"N","Y") -> #REF! | T71: =IF(N71<'TEST MARKS '!#REF!,"N","Y") -> #REF! | U71: =IF(O71<'TEST MARKS '!#REF!,"N","Y") -> #REF!
A72: 63 | B72: ='TEST MARKS '!B72 -> SAURABH RAJESH PARAVE | C72: ='TEST MARKS '!C72 -> 1SG15ME084 | D72: =SUMIF('TEST MARKS '!$D$8:$I$8,$D$9,'TEST MARKS '!D72:I72) -> 0 | E72: =SUMIF('TEST MARKS '!$D$8:$I$8,$E$9,'TEST MARKS '!D72:I72) -> 0 | F72: =SUMIF('TEST MARKS '!$D$8:$I$8,$F$9,'TEST MARKS '!D72:I72) -> 7 | G72: =SUMIF('TEST MARKS '!$D$8:$I$8,$G$9,'TEST MARKS '!D72:I72) -> 6 | H72: =SUMIF('TEST MARKS '!$D$8:$I$8,$H$9,'TEST MARKS '!D72:I72) -> 4 | I72: =SUMIF('TEST MARKS '!$D$8:$I$8,$I$9,'TEST MARKS '!D72:I72) -> 6 | J72: =D72*100/$J$8 -> #REF! | K72: =E72*100/$K$8 -> #REF! | L72: =F72*100/$L$8 -> #REF! | M72: =G72*100/$M$8 -> #REF! | N72: =H72*100/$N$8 -> #REF! | O72: =I72*100/$O$8 -> #REF! | P72: =IF(J72<'TEST MARKS '!#REF!,"N","Y") -> #REF! | Q72: =IF(K72<'TEST MARKS '!#REF!,"N","Y") -> #REF! | R72: =IF(L72<'TEST MARKS '!#REF!,"N","Y") -> #REF! | S72: =IF(M72<'TEST MARKS '!#REF!,"N","Y") -> #REF! | T72: =IF(N72<'TEST MARKS '!#REF!,"N","Y") -> #REF! | U72: =IF(O72<'TEST MARKS '!#REF!,"N","Y") -> #REF!
A73: 64 | B73: ='TEST MARKS '!B73 -> SHARATH.A.R | C73: ='TEST MARKS '!C73 -> 1SG15ME089 | D73: =SUMIF('TEST MARKS '!$D$8:$I$8,$D$9,'TEST MARKS '!D73:I73) -> 7 | E73: =SUMIF('TEST MARKS '!$D$8:$I$8,$E$9,'TEST MARKS '!D73:I73) -> 5 | F73: =SUMIF('TEST MARKS '!$D$8:$I$8,$F$9,'TEST MARKS '!D73:I73) -> 9 | G73: =SUMIF('TEST MARKS '!$D$8:$I$8,$G$9,'TEST MARKS '!D73:I73) -> 7 | H73: =SUMIF('TEST MARKS '!$D$8:$I$8,$H$9,'TEST MARKS '!D73:I73) -> 6 | I73: =SUMIF('TEST MARKS '!$D$8:$I$8,$I$9,'TEST MARKS '!D73:I73) -> 6 | J73: =D73*100/$J$8 -> #REF! | K73: =E73*100/$K$8 -> #REF! | L73: =F73*100/$L$8 -> #REF! | M73: =G73*100/$M$8 -> #REF! | N73: =H73*100/$N$8 -> #REF! | O73: =I73*100/$O$8 -> #REF! | P73: =IF(J73<'TEST MARKS '!#REF!,"N","Y") -> #REF! | Q73: =IF(K73<'TEST MARKS '!#REF!,"N","Y") -> #REF! | R73: =IF(L73<'TEST MARKS '!#REF!,"N","Y") -> #REF! | S73: =IF(M73<'TEST MARKS '!#REF!,"N","Y") -> #REF! | T73: =IF(N73<'TEST MARKS '!#REF!,"N","Y") -> #REF! | U73: =IF(O73<'TEST MARKS '!#REF!,"N","Y") -> #REF!
A74: 65 | B74: ='TEST MARKS '!B74 -> SHASHANK H PRASAD | C74: ='TEST MARKS '!C74 -> 1SG15ME091 | D74: =SUMIF('TEST MARKS '!$D$8:$I$8,$D$9,'TEST MARKS '!D74:I74) -> 9 | E74: =SUMIF('TEST MARKS '!$D$8:$I$8,$E$9,'TEST MARKS '!D74:I74) -> 8 | F74: =SUMIF('TEST MARKS '!$D$8:$I$8,$F$9,'TEST MARKS '!D74:I74) -> 9 | G74: =SUMIF('TEST MARKS '!$D$8:$I$8,$G$9,'TEST MARKS '!D74:I74) -> 8 | H74: =SUMIF('TEST MARKS '!$D$8:$I$8,$H$9,'TEST MARKS '!D74:I74) -> 7 | I74: =SUMIF('TEST MARKS '!$D$8:$I$8,$I$9,'TEST MARKS '!D74:I74) -> 7 | J74: =D74*100/$J$8 -> #REF! | K74: =E74*100/$K$8 -> #REF! | L74: =F74*100/$L$8 -> #REF! | M74: =G74*100/$M$8 -> #REF! | N74: =H74*100/$N$8 -> #REF! | O74: =I74*100/$O$8 -> #REF! | P74: =IF(J74<'TEST MARKS '!#REF!,"N","Y") -> #REF! | Q74: =IF(K74<'TEST MARKS '!#REF!,"N","Y") -> #REF! | R74: =IF(L74<'TEST MARKS '!#REF!,"N","Y") -> #REF! | S74: =IF(M74<'TEST MARKS '!#REF!,"N","Y") -> #REF! | T74: =IF(N74<'TEST MARKS '!#REF!,"N","Y") -> #REF! | U74: =IF(O74<'TEST MARKS '!#REF!,"N","Y") -> #REF!
A75: 66 | B75: ='TEST MARKS '!B75 -> SHUBHAM MAJHI | C75: ='TEST MARKS '!C75 -> 1SG15ME092 | D75: =SUMIF('TEST MARKS '!$D$8:$I$8,$D$9,'TEST MARKS '!D75:I75) -> 0 | E75: =SUMIF('TEST MARKS '!$D$8:$I$8,$E$9,'TEST MARKS '!D75:I75) -> 0 | F75: =SUMIF('TEST MARKS '!$D$8:$I$8,$F$9,'TEST MARKS '!D75:I75) -> 7 | G75: =SUMIF('TEST MARKS '!$D$8:$I$8,$G$9,'TEST MARKS '!D75:I75) -> 7 | H75: =SUMIF('TEST MARKS '!$D$8:$I$8,$H$9,'TEST MARKS '!D75:I75) -> 5 | I75: =SUMIF('TEST MARKS '!$D$8:$I$8,$I$9,'TEST MARKS '!D75:I75) -> 7 | J75: =D75*100/$J$8 -> #REF! | K75: =E75*100/$K$8 -> #REF! | L75: =F75*100/$L$8 -> #REF! | M75: =G75*100/$M$8 -> #REF! | N75: =H75*100/$N$8 -> #REF! | O75: =I75*100/$O$8 -> #REF! | P75: =IF(J75<'TEST MARKS '!#REF!,"N","Y") -> #REF! | Q75: =IF(K75<'TEST MARKS '!#REF!,"N","Y") -> #REF! | R75: =IF(L75<'TEST MARKS '!#REF!,"N","Y") -> #REF! | S75: =IF(M75<'TEST MARKS '!#REF!,"N","Y") -> #REF! | T75: =IF(N75<'TEST MARKS '!#REF!,"N","Y") -> #REF! | U75: =IF(O75<'TEST MARKS '!#REF!,"N","Y") -> #REF!
A76: 67 | B76: ='TEST MARKS '!B76 -> SRIDHAR N S | C76: ='TEST MARKS '!C76 -> 1SG15ME094 | D76: =SUMIF('TEST MARKS '!$D$8:$I$8,$D$9,'TEST MARKS '!D76:I76) -> 6 | E76: =SUMIF('TEST MARKS '!$D$8:$I$8,$E$9,'TEST MARKS '!D76:I76) -> 4 | F76: =SUMIF('TEST MARKS '!$D$8:$I$8,$F$9,'TEST MARKS '!D76:I76) -> 7 | G76: =SUMIF('TEST MARKS '!$D$8:$I$8,$G$9,'TEST MARKS '!D76:I76) -> 6 | H76: =SUMIF('TEST MARKS '!$D$8:$I$8,$H$9,'TEST MARKS '!D76:I76) -> 7 | I76: =SUMIF('TEST MARKS '!$D$8:$I$8,$I$9,'TEST MARKS '!D76:I76) -> 7 | J76: =D76*100/$J$8 -> #REF! | K76: =E76*100/$K$8 -> #REF! | L76: =F76*100/$L$8 -> #REF! | M76: =G76*100/$M$8 -> #REF! | N76: =H76*100/$N$8 -> #REF! | O76: =I76*100/$O$8 -> #REF! | P76: =IF(J76<'TEST MARKS '!#REF!,"N","Y") -> #REF! | Q76: =IF(K76<'TEST MARKS '!#REF!,"N","Y") -> #REF! | R76: =IF(L76<'TEST MARKS '!#REF!,"N","Y") -> #REF! | S76: =IF(M76<'TEST MARKS '!#REF!,"N","Y") -> #REF! | T76: =IF(N76<'TEST MARKS '!#REF!,"N","Y") -> #REF! | U76: =IF(O76<'TEST MARKS '!#REF!,"N","Y") -> #REF!
A77: 68 | B77: ='TEST MARKS '!#REF! -> #REF! | C77: ='TEST MARKS '!C77 -> 1SG15ME095 | D77: =SUMIF('TEST MARKS '!$D$8:$I$8,$D$9,'TEST MARKS '!B77:I77) -> 0 | E77: =SUMIF('TEST MARKS '!$D$8:$I$8,$E$9,'TEST MARKS '!B77:I77) -> 0 | F77: =SUMIF('TEST MARKS '!$D$8:$I$8,$F$9,'TEST MARKS '!B77:I77) -> 8 | G77: =SUMIF('TEST MARKS '!$D$8:$I$8,$G$9,'TEST MARKS '!B77:I77) -> 7 | H77: =SUMIF('TEST MARKS '!$D$8:$I$8,$H$9,'TEST MARKS '!B77:I77) -> 0 | I77: =SUMIF('TEST MARKS '!$D$8:$I$8,$I$9,'TEST MARKS '!B77:I77) -> 0 | J77: =D77*100/$J$8 -> #REF! | K77: =E77*100/$K$8 -> #REF! | L77: =F77*100/$L$8 -> #REF! | M77: =G77*100/$M$8 -> #REF! | N77: =H77*100/$N$8 -> #REF! | O77: =I77*100/$O$8 -> #REF! | P77: =IF(J77<'TEST MARKS '!#REF!,"N","Y") -> #REF! | Q77: =IF(K77<'TEST MARKS '!#REF!,"N","Y") -> #REF! | R77: =IF(L77<'TEST MARKS '!#REF!,"N","Y") -> #REF! | S77: =IF(M77<'TEST MARKS '!#REF!,"N","Y") -> #REF! | T77: =IF(N77<'TEST MARKS '!#REF!,"N","Y") -> #REF! | U77: =IF(O77<'TEST MARKS '!#REF!,"N","Y") -> #REF!
A78: 69 | B78: ='TEST MARKS '!#REF! -> #REF! | C78: ='TEST MARKS '!C78 -> 1SG15ME096 | D78: =SUMIF('TEST MARKS '!$D$8:$I$8,$D$9,'TEST MARKS '!B78:I78) -> 0 | E78: =SUMIF('TEST MARKS '!$D$8:$I$8,$E$9,'TEST MARKS '!B78:I78) -> 0 | F78: =SUMIF('TEST MARKS '!$D$8:$I$8,$F$9,'TEST MARKS '!B78:I78) -> 9 | G78: =SUMIF('TEST MARKS '!$D$8:$I$8,$G$9,'TEST MARKS '!B78:I78) -> 5 | H78: =SUMIF('TEST MARKS '!$D$8:$I$8,$H$9,'TEST MARKS '!B78:I78) -> 7 | I78: =SUMIF('TEST MARKS '!$D$8:$I$8,$I$9,'TEST MARKS '!B78:I78) -> 7 | J78: =D78*100/$J$8 -> #REF! | K78: =E78*100/$K$8 -> #REF! | L78: =F78*100/$L$8 -> #REF! | M78: =G78*100/$M$8 -> #REF! | N78: =H78*100/$N$8 -> #REF! | O78: =I78*100/$O$8 -> #REF! | P78: =IF(J78<'TEST MARKS '!#REF!,"N","Y") -> #REF! | Q78: =IF(K78<'TEST MARKS '!#REF!,"N","Y") -> #REF! | R78: =IF(L78<'TEST MARKS '!#REF!,"N","Y") -> #REF! | S78: =IF(M78<'TEST MARKS '!#REF!,"N","Y") -> #REF! | T78: =IF(N78<'TEST MARKS '!#REF!,"N","Y") -> #REF! | U78: =IF(O78<'TEST MARKS '!#REF!,"N","Y") -> #REF!
A79: 70 | B79: ='TEST MARKS '!#REF! -> #REF! | C79: ='TEST MARKS '!C79 -> 1SG15ME098 | D79: =SUMIF('TEST MARKS '!$D$8:$I$8,$D$9,'TEST MARKS '!B79:I79) -> 0 | E79: =SUMIF('TEST MARKS '!$D$8:$I$8,$E$9,'TEST MARKS '!B79:I79) -> 0 | F79: =SUMIF('TEST MARKS '!$D$8:$I$8,$F$9,'TEST MARKS '!B79:I79) -> 9 | G79: =SUMIF('TEST MARKS '!$D$8:$I$8,$G$9,'TEST MARKS '!B79:I79) -> 9 | H79: =SUMIF('TEST MARKS '!$D$8:$I$8,$H$9,'TEST MARKS '!B79:I79) -> 7 | I79: =SUMIF('TEST MARKS '!$D$8:$I$8,$I$9,'TEST MARKS '!B79:I79) -> 10 | J79: =D79*100/$J$8 -> #REF! | K79: =E79*100/$K$8 -> #REF! | L79: =F79*100/$L$8 -> #REF! | M79: =G79*100/$M$8 -> #REF! | N79: =H79*100/$N$8 -> #REF! | O79: =I79*100/$O$8 -> #REF! | P79: =IF(J79<'TEST MARKS '!#REF!,"N","Y") -> #REF! | Q79: =IF(K79<'TEST MARKS '!#REF!,"N","Y") -> #REF! | R79: =IF(L79<'TEST MARKS '!#REF!,"N","Y") -> #REF! | S79: =IF(M79<'TEST MARKS '!#REF!,"N","Y") -> #REF! | T79: =IF(N79<'TEST MARKS '!#REF!,"N","Y") -> #REF! | U79: =IF(O79<'TEST MARKS '!#REF!,"N","Y") -> #REF!
A80: 71 | B80: ='TEST MARKS '!#REF! -> #REF! | C80: ='TEST MARKS '!C80 -> 1SG15ME099 | D80: =SUMIF('TEST MARKS '!$D$8:$I$8,$D$9,'TEST MARKS '!B80:I80) -> 0 | E80: =SUMIF('TEST MARKS '!$D$8:$I$8,$E$9,'TEST MARKS '!B80:I80) -> 0 | F80: =SUMIF('TEST MARKS '!$D$8:$I$8,$F$9,'TEST MARKS '!B80:I80) -> 6 | G80: =SUMIF('TEST MARKS '!$D$8:$I$8,$G$9,'TEST MARKS '!B80:I80) -> 6 | H80: =SUMIF('TEST MARKS '!$D$8:$I$8,$H$9,'TEST MARKS '!B80:I80) -> 6 | I80: =SUMIF('TEST MARKS '!$D$8:$I$8,$I$9,'TEST MARKS '!B80:I80) -> 8 | J80: =D80*100/$J$8 -> #REF! | K80: =E80*100/$K$8 -> #REF! | L80: =F80*100/$L$8 -> #REF! | M80: =G80*100/$M$8 -> #REF! | N80: =H80*100/$N$8 -> #REF! | O80: =I80*100/$O$8 -> #REF! | P80: =IF(J80<'TEST MARKS '!#REF!,"N","Y") -> #REF! | Q80: =IF(K80<'TEST MARKS '!#REF!,"N","Y") -> #REF! | R80: =IF(L80<'TEST MARKS '!#REF!,"N","Y") -> #REF! | S80: =IF(M80<'TEST MARKS '!#REF!,"N","Y") -> #REF! | T80: =IF(N80<'TEST MARKS '!#REF!,"N","Y") -> #REF! | U80: =IF(O80<'TEST MARKS '!#REF!,"N","Y") -> #REF!
A81: 72 | B81: ='TEST MARKS '!#REF! -> #REF! | C81: ='TEST MARKS '!C81 -> 1SG15ME101 | D81: =SUMIF('TEST MARKS '!$D$8:$I$8,$D$9,'TEST MARKS '!B81:I81) -> 0 | E81: =SUMIF('TEST MARKS '!$D$8:$I$8,$E$9,'TEST MARKS '!B81:I81) -> 0 | F81: =SUMIF('TEST MARKS '!$D$8:$I$8,$F$9,'TEST MARKS '!B81:I81) -> 6 | G81: =SUMIF('TEST MARKS '!$D$8:$I$8,$G$9,'TEST MARKS '!B81:I81) -> 5 | H81: =SUMIF('TEST MARKS '!$D$8:$I$8,$H$9,'TEST MARKS '!B81:I81) -> 4 | I81: =SUMIF('TEST MARKS '!$D$8:$I$8,$I$9,'TEST MARKS '!B81:I81) -> 6 | J81: =D81*100/$J$8 -> #REF! | K81: =E81*100/$K$8 -> #REF! | L81: =F81*100/$L$8 -> #REF! | M81: =G81*100/$M$8 -> #REF! | N81: =H81*100/$N$8 -> #REF! | O81: =I81*100/$O$8 -> #REF! | P81: =IF(J81<'TEST MARKS '!#REF!,"N","Y") -> #REF! | Q81: =IF(K81<'TEST MARKS '!#REF!,"N","Y") -> #REF! | R81: =IF(L81<'TEST MARKS '!#REF!,"N","Y") -> #REF! | S81: =IF(M81<'TEST MARKS '!#REF!,"N","Y") -> #REF! | T81: =IF(N81<'TEST MARKS '!#REF!,"N","Y") -> #REF! | U81: =IF(O81<'TEST MARKS '!#REF!,"N","Y") -> #REF!
A82: 73 | B82: ='TEST MARKS '!#REF! -> #REF! | C82: ='TEST MARKS '!C82 -> 1SG15ME102 | D82: =SUMIF('TEST MARKS '!$D$8:$I$8,$D$9,'TEST MARKS '!B82:I82) -> 0 | E82: =SUMIF('TEST MARKS '!$D$8:$I$8,$E$9,'TEST MARKS '!B82:I82) -> 0 | F82: =SUMIF('TEST MARKS '!$D$8:$I$8,$F$9,'TEST MARKS '!B82:I82) -> 4 | G82: =SUMIF('TEST MARKS '!$D$8:$I$8,$G$9,'TEST MARKS '!B82:I82) -> 3 | H82: =SUMIF('TEST MARKS '!$D$8:$I$8,$H$9,'TEST MARKS '!B82:I82) -> 7 | I82: =SUMIF('TEST MARKS '!$D$8:$I$8,$I$9,'TEST MARKS '!B82:I82) -> 8 | J82: =D82*100/$J$8 -> #REF! | K82: =E82*100/$K$8 -> #REF! | L82: =F82*100/$L$8 -> #REF! | M82: =G82*100/$M$8 -> #REF! | N82: =H82*100/$N$8 -> #REF! | O82: =I82*100/$O$8 -> #REF! | P82: =IF(J82<'TEST MARKS '!#REF!,"N","Y") -> #REF! | Q82: =IF(K82<'TEST MARKS '!#REF!,"N","Y") -> #REF! | R82: =IF(L82<'TEST MARKS '!#REF!,"N","Y") -> #REF! | S82: =IF(M82<'TEST MARKS '!#REF!,"N","Y") -> #REF! | T82: =IF(N82<'TEST MARKS '!#REF!,"N","Y") -> #REF! | U82: =IF(O82<'TEST MARKS '!#REF!,"N","Y") -> #REF!
A83: 74 | B83: ='TEST MARKS '!#REF! -> #REF! | C83: ='TEST MARKS '!C83 -> 1SG15ME104 | D83: =SUMIF('TEST MARKS '!$D$8:$I$8,$D$9,'TEST MARKS '!B83:I83) -> 0 | E83: =SUMIF('TEST MARKS '!$D$8:$I$8,$E$9,'TEST MARKS '!B83:I83) -> 0 | F83: =SUMIF('TEST MARKS '!$D$8:$I$8,$F$9,'TEST MARKS '!B83:I83) -> 6 | G83: =SUMIF('TEST MARKS '!$D$8:$I$8,$G$9,'TEST MARKS '!B83:I83) -> 5 | H83: =SUMIF('TEST MARKS '!$D$8:$I$8,$H$9,'TEST MARKS '!B83:I83) -> 7 | I83: =SUMIF('TEST MARKS '!$D$8:$I$8,$I$9,'TEST MARKS '!B83:I83) -> 6 | J83: =D83*100/$J$8 -> #REF! | K83: =E83*100/$K$8 -> #REF! | L83: =F83*100/$L$8 -> #REF! | M83: =G83*100/$M$8 -> #REF! | N83: =H83*100/$N$8 -> #REF! | O83: =I83*100/$O$8 -> #REF! | P83: =IF(J83<'TEST MARKS '!#REF!,"N","Y") -> #REF! | Q83: =IF(K83<'TEST MARKS '!#REF!,"N","Y") -> #REF! | R83: =IF(L83<'TEST MARKS '!#REF!,"N","Y") -> #REF! | S83: =IF(M83<'TEST MARKS '!#REF!,"N","Y") -> #REF! | T83: =IF(N83<'TEST MARKS '!#REF!,"N","Y") -> #REF! | U83: =IF(O83<'TEST MARKS '!#REF!,"N","Y") -> #REF!
A84: 75 | B84: ='TEST MARKS '!#REF! -> #REF! | C84: ='TEST MARKS '!C84 -> 1SG15ME105 | D84: =SUMIF('TEST MARKS '!$D$8:$I$8,$D$9,'TEST MARKS '!B84:I84) -> 0 | E84: =SUMIF('TEST MARKS '!$D$8:$I$8,$E$9,'TEST MARKS '!B84:I84) -> 0 | F84: =SUMIF('TEST MARKS '!$D$8:$I$8,$F$9,'TEST MARKS '!B84:I84) -> 5 | G84: =SUMIF('TEST MARKS '!$D$8:$I$8,$G$9,'TEST MARKS '!B84:I84) -> 4 | H84: =SUMIF('TEST MARKS '!$D$8:$I$8,$H$9,'TEST MARKS '!B84:I84) -> 3 | I84: =SUMIF('TEST MARKS '!$D$8:$I$8,$I$9,'TEST MARKS '!B84:I84) -> 5 | J84: =D84*100/$J$8 -> #REF! | K84: =E84*100/$K$8 -> #REF! | L84: =F84*100/$L$8 -> #REF! | M84: =G84*100/$M$8 -> #REF! | N84: =H84*100/$N$8 -> #REF! | O84: =I84*100/$O$8 -> #REF! | P84: =IF(J84<'TEST MARKS '!#REF!,"N","Y") -> #REF! | Q84: =IF(K84<'TEST MARKS '!#REF!,"N","Y") -> #REF! | R84: =IF(L84<'TEST MARKS '!#REF!,"N","Y") -> #REF! | S84: =IF(M84<'TEST MARKS '!#REF!,"N","Y") -> #REF! | T84: =IF(N84<'TEST MARKS '!#REF!,"N","Y") -> #REF! | U84: =IF(O84<'TEST MARKS '!#REF!,"N","Y") -> #REF!
A85: 76 | B85: ='TEST MARKS '!#REF! -> #REF! | C85: ='TEST MARKS '!C85 -> 1SG16ME400 | D85: =SUMIF('TEST MARKS '!$D$8:$I$8,$D$9,'TEST MARKS '!B85:I85) -> 0 | E85: =SUMIF('TEST MARKS '!$D$8:$I$8,$E$9,'TEST MARKS '!B85:I85) -> 0 | F85: =SUMIF('TEST MARKS '!$D$8:$I$8,$F$9,'TEST MARKS '!B85:I85) -> 5 | G85: =SUMIF('TEST MARKS '!$D$8:$I$8,$G$9,'TEST MARKS '!B85:I85) -> 5 | H85: =SUMIF('TEST MARKS '!$D$8:$I$8,$H$9,'TEST MARKS '!B85:I85) -> 3 | I85: =SUMIF('TEST MARKS '!$D$8:$I$8,$I$9,'TEST MARKS '!B85:I85) -> 4 | J85: =D85*100/$J$8 -> #REF! | K85: =E85*100/$K$8 -> #REF! | L85: =F85*100/$L$8 -> #REF! | M85: =G85*100/$M$8 -> #REF! | N85: =H85*100/$N$8 -> #REF! | O85: =I85*100/$O$8 -> #REF! | P85: =IF(J85<'TEST MARKS '!#REF!,"N","Y") -> #REF! | Q85: =IF(K85<'TEST MARKS '!#REF!,"N","Y") -> #REF! | R85: =IF(L85<'TEST MARKS '!#REF!,"N","Y") -> #REF! | S85: =IF(M85<'TEST MARKS '!#REF!,"N","Y") -> #REF! | T85: =IF(N85<'TEST MARKS '!#REF!,"N","Y") -> #REF! | U85: =IF(O85<'TEST MARKS '!#REF!,"N","Y") -> #REF!
A86: 77 | B86: ='TEST MARKS '!#REF! -> #REF! | C86: ='TEST MARKS '!C86 -> 1SG16ME402 | D86: =SUMIF('TEST MARKS '!$D$8:$I$8,$D$9,'TEST MARKS '!B86:I86) -> 0 | E86: =SUMIF('TEST MARKS '!$D$8:$I$8,$E$9,'TEST MARKS '!B86:I86) -> 0 | F86: =SUMIF('TEST MARKS '!$D$8:$I$8,$F$9,'TEST MARKS '!B86:I86) -> 6 | G86: =SUMIF('TEST MARKS '!$D$8:$I$8,$G$9,'TEST MARKS '!B86:I86) -> 5 | H86: =SUMIF('TEST MARKS '!$D$8:$I$8,$H$9,'TEST MARKS '!B86:I86) -> 7 | I86: =SUMIF('TEST MARKS '!$D$8:$I$8,$I$9,'TEST MARKS '!B86:I86) -> 8 | J86: =D86*100/$J$8 -> #REF! | K86: =E86*100/$K$8 -> #REF! | L86: =F86*100/$L$8 -> #REF! | M86: =G86*100/$M$8 -> #REF! | N86: =H86*100/$N$8 -> #REF! | O86: =I86*100/$O$8 -> #REF! | P86: =IF(J86<'TEST MARKS '!#REF!,"N","Y") -> #REF! | Q86: =IF(K86<'TEST MARKS '!#REF!,"N","Y") -> #REF! | R86: =IF(L86<'TEST MARKS '!#REF!,"N","Y") -> #REF! | S86: =IF(M86<'TEST MARKS '!#REF!,"N","Y") -> #REF! | T86: =IF(N86<'TEST MARKS '!#REF!,"N","Y") -> #REF! | U86: =IF(O86<'TEST MARKS '!#REF!,"N","Y") -> #REF!
A87: 78 | B87: ='TEST MARKS '!#REF! -> #REF! | C87: ='TEST MARKS '!C87 -> 1SG16ME404 | D87: =SUMIF('TEST MARKS '!$D$8:$I$8,$D$9,'TEST MARKS '!B87:I87) -> 0 | E87: =SUMIF('TEST MARKS '!$D$8:$I$8,$E$9,'TEST MARKS '!B87:I87) -> 0 | F87: =SUMIF('TEST MARKS '!$D$8:$I$8,$F$9,'TEST MARKS '!B87:I87) -> 3 | G87: =SUMIF('TEST MARKS '!$D$8:$I$8,$G$9,'TEST MARKS '!B87:I87) -> 3 | H87: =SUMIF('TEST MARKS '!$D$8:$I$8,$H$9,'TEST MARKS '!B87:I87) -> 3 | I87: =SUMIF('TEST MARKS '!$D$8:$I$8,$I$9,'TEST MARKS '!B87:I87) -> 4 | J87: =D87*100/$J$8 -> #REF! | K87: =E87*100/$K$8 -> #REF! | L87: =F87*100/$L$8 -> #REF! | M87: =G87*100/$M$8 -> #REF! | N87: =H87*100/$N$8 -> #REF! | O87: =I87*100/$O$8 -> #REF! | P87: =IF(J87<'TEST MARKS '!#REF!,"N","Y") -> #REF! | Q87: =IF(K87<'TEST MARKS '!#REF!,"N","Y") -> #REF! | R87: =IF(L87<'TEST MARKS '!#REF!,"N","Y") -> #REF! | S87: =IF(M87<'TEST MARKS '!#REF!,"N","Y") -> #REF! | T87: =IF(N87<'TEST MARKS '!#REF!,"N","Y") -> #REF! | U87: =IF(O87<'TEST MARKS '!#REF!,"N","Y") -> #REF!
A88: 79 | B88: ='TEST MARKS '!#REF! -> #REF! | C88: ='TEST MARKS '!C88 -> 1SG16ME405 | D88: =SUMIF('TEST MARKS '!$D$8:$I$8,$D$9,'TEST MARKS '!B88:I88) -> 0 | E88: =SUMIF('TEST MARKS '!$D$8:$I$8,$E$9,'TEST MARKS '!B88:I88) -> 0 | F88: =SUMIF('TEST MARKS '!$D$8:$I$8,$F$9,'TEST MARKS '!B88:I88) -> 5 | G88: =SUMIF('TEST MARKS '!$D$8:$I$8,$G$9,'TEST MARKS '!B88:I88) -> 5 | H88: =SUMIF('TEST MARKS '!$D$8:$I$8,$H$9,'TEST MARKS '!B88:I88) -> 7 | I88: =SUMIF('TEST MARKS '!$D$8:$I$8,$I$9,'TEST MARKS '!B88:I88) -> 6 | J88: =D88*100/$J$8 -> #REF! | K88: =E88*100/$K$8 -> #REF! | L88: =F88*100/$L$8 -> #REF! | M88: =G88*100/$M$8 -> #REF! | N88: =H88*100/$N$8 -> #REF! | O88: =I88*100/$O$8 -> #REF! | P88: =IF(J88<'TEST MARKS '!#REF!,"N","Y") -> #REF! | Q88: =IF(K88<'TEST MARKS '!#REF!,"N","Y") -> #REF! | R88: =IF(L88<'TEST MARKS '!#REF!,"N","Y") -> #REF! | S88: =IF(M88<'TEST MARKS '!#REF!,"N","Y") -> #REF! | T88: =IF(N88<'TEST MARKS '!#REF!,"N","Y") -> #REF! | U88: =IF(O88<'TEST MARKS '!#REF!,"N","Y") -> #REF!
... A120: 111 | B120: ='TEST MARKS '!#REF! -> #REF! | C120: ='TEST MARKS '!C120 -> 1SG16ME443 | D120: =SUMIF('TEST MARKS '!$D$8:$I$8,$D$9,'TEST MARKS '!B120:I120) -> 0 | E120: =SUMIF('TEST MARKS '!$D$8:$I$8,$E$9,'TEST MARKS '!B120:I120) -> 0 | F120: =SUMIF('TEST MARKS '!$D$8:$I$8,$F$9,'TEST MARKS '!B120:I120) -> 5 | G120: =SUMIF('TEST MARKS '!$D$8:$I$8,$G$9,'TEST MARKS '!B120:I120) -> 4 | H120: =SUMIF('TEST MARKS '!$D$8:$I$8,$H$9,'TEST MARKS '!B120:I120) -> 6 | I120: =SUMIF('TEST MARKS '!$D$8:$I$8,$I$9,'TEST MARKS '!B120:I120) -> 6 | J120: =D120*100/$J$8 -> #REF! | K120: =E120*100/$K$8 -> #REF! | L120: =F120*100/$L$8 -> #REF! | M120: =G120*100/$M$8 -> #REF! | N120: =H120*100/$N$8 -> #REF! | O120: =I120*100/$O$8 -> #REF! | P120: =IF(J120<'TEST MARKS '!#REF!,"N","Y") -> #REF! | Q120: =IF(K120<'TEST MARKS '!#REF!,"N","Y") -> #REF! | R120: =IF(L120<'TEST MARKS '!#REF!,"N","Y") -> #REF! | S120: =IF(M120<'TEST MARKS '!#REF!,"N","Y") -> #REF! | T120: =IF(N120<'TEST MARKS '!#REF!,"N","Y") -> #REF! | U120: =IF(O120<'TEST MARKS '!#REF!,"N","Y") -> #REF!
A121: 112 | B121: ='TEST MARKS '!#REF! -> #REF! | C121: ='TEST MARKS '!#REF! -> #REF! | D121: =SUMIF('TEST MARKS '!$D$8:$I$8,$D$9,'TEST MARKS '!#REF!) -> #REF! | E121: =SUMIF('TEST MARKS '!$D$8:$I$8,$E$9,'TEST MARKS '!#REF!) -> #REF! | F121: =SUMIF('TEST MARKS '!$D$8:$I$8,$F$9,'TEST MARKS '!#REF!) -> #REF! | G121: =SUMIF('TEST MARKS '!$D$8:$I$8,$G$9,'TEST MARKS '!#REF!) -> #REF! | H121: =SUMIF('TEST MARKS '!$D$8:$I$8,$H$9,'TEST MARKS '!#REF!) -> #REF! | I121: =SUMIF('TEST MARKS '!$D$8:$I$8,$I$9,'TEST MARKS '!#REF!) -> #REF! | J121: =D121*100/$J$8 -> #REF! | K121: =E121*100/$K$8 -> #REF! | L121: =F121*100/$L$8 -> #REF! | M121: =G121*100/$M$8 -> #REF! | N121: =H121*100/$N$8 -> #REF! | O121: =I121*100/$O$8 -> #REF! | P121: =IF(J121<'TEST MARKS '!#REF!,"N","Y") -> #REF! | Q121: =IF(K121<'TEST MARKS '!#REF!,"N","Y") -> #REF! | R121: =IF(L121<'TEST MARKS '!#REF!,"N","Y") -> #REF! | S121: =IF(M121<'TEST MARKS '!#REF!,"N","Y") -> #REF! | T121: =IF(N121<'TEST MARKS '!#REF!,"N","Y") -> #REF! | U121: =IF(O121<'TEST MARKS '!#REF!,"N","Y") -> #REF!
A122: 113 | B122: ='TEST MARKS '!#REF! -> #REF! | C122: ='TEST MARKS '!#REF! -> #REF! | D122: =SUMIF('TEST MARKS '!$D$8:$I$8,$D$9,'TEST MARKS '!#REF!) -> #REF! | E122: =SUMIF('TEST MARKS '!$D$8:$I$8,$E$9,'TEST MARKS '!#REF!) -> #REF! | F122: =SUMIF('TEST MARKS '!$D$8:$I$8,$F$9,'TEST MARKS '!#REF!) -> #REF! | G122: =SUMIF('TEST MARKS '!$D$8:$I$8,$G$9,'TEST MARKS '!#REF!) -> #REF! | H122: =SUMIF('TEST MARKS '!$D$8:$I$8,$H$9,'TEST MARKS '!#REF!) -> #REF! | I122: =SUMIF('TEST MARKS '!$D$8:$I$8,$I$9,'TEST MARKS '!#REF!) -> #REF! | J122: =D122*100/$J$8 -> #REF! | K122: =E122*100/$K$8 -> #REF! | L122: =F122*100/$L$8 -> #REF! | M122: =G122*100/$M$8 -> #REF! | N122: =H122*100/$N$8 -> #REF! | O122: =I122*100/$O$8 -> #REF! | P122: =IF(J122<'TEST MARKS '!#REF!,"N","Y") -> #REF! | Q122: =IF(K122<'TEST MARKS '!#REF!,"N","Y") -> #REF! | R122: =IF(L122<'TEST MARKS '!#REF!,"N","Y") -> #REF! | S122: =IF(M122<'TEST MARKS '!#REF!,"N","Y") -> #REF! | T122: =IF(N122<'TEST MARKS '!#REF!,"N","Y") -> #REF! | U122: =IF(O122<'TEST MARKS '!#REF!,"N","Y") -> #REF!
A123: 114 | B123: ='TEST MARKS '!#REF! -> #REF! | C123: ='TEST MARKS '!#REF! -> #REF! | D123: =SUMIF('TEST MARKS '!$D$8:$I$8,$D$9,'TEST MARKS '!#REF!) -> #REF! | E123: =SUMIF('TEST MARKS '!$D$8:$I$8,$E$9,'TEST MARKS '!#REF!) -> #REF! | F123: =SUMIF('TEST MARKS '!$D$8:$I$8,$F$9,'TEST MARKS '!#REF!) -> #REF! | G123: =SUMIF('TEST MARKS '!$D$8:$I$8,$G$9,'TEST MARKS '!#REF!) -> #REF! | H123: =SUMIF('TEST MARKS '!$D$8:$I$8,$H$9,'TEST MARKS '!#REF!) -> #REF! | I123: =SUMIF('TEST MARKS '!$D$8:$I$8,$I$9,'TEST MARKS '!#REF!) -> #REF! | J123: =D123*100/$J$8 -> #REF! | K123: =E123*100/$K$8 -> #REF! | L123: =F123*100/$L$8 -> #REF! | M123: =G123*100/$M$8 -> #REF! | N123: =H123*100/$N$8 -> #REF! | O123: =I123*100/$O$8 -> #REF! | P123: =IF(J123<'TEST MARKS '!#REF!,"N","Y") -> #REF! | Q123: =IF(K123<'TEST MARKS '!#REF!,"N","Y") -> #REF! | R123: =IF(L123<'TEST MARKS '!#REF!,"N","Y") -> #REF! | S123: =IF(M123<'TEST MARKS '!#REF!,"N","Y") -> #REF! | T123: =IF(N123<'TEST MARKS '!#REF!,"N","Y") -> #REF! | U123: =IF(O123<'TEST MARKS '!#REF!,"N","Y") -> #REF!
A124: 115 | B124: ='TEST MARKS '!#REF! -> #REF! | C124: ='TEST MARKS '!#REF! -> #REF! | D124: =SUMIF('TEST MARKS '!$D$8:$I$8,$D$9,'TEST MARKS '!#REF!) -> #REF! | E124: =SUMIF('TEST MARKS '!$D$8:$I$8,$E$9,'TEST MARKS '!#REF!) -> #REF! | F124: =SUMIF('TEST MARKS '!$D$8:$I$8,$F$9,'TEST MARKS '!#REF!) -> #REF! | G124: =SUMIF('TEST MARKS '!$D$8:$I$8,$G$9,'TEST MARKS '!#REF!) -> #REF! | H124: =SUMIF('TEST MARKS '!$D$8:$I$8,$H$9,'TEST MARKS '!#REF!) -> #REF! | I124: =SUMIF('TEST MARKS '!$D$8:$I$8,$I$9,'TEST MARKS '!#REF!) -> #REF! | J124: =D124*100/$J$8 -> #REF! | K124: =E124*100/$K$8 -> #REF! | L124: =F124*100/$L$8 -> #REF! | M124: =G124*100/$M$8 -> #REF! | N124: =H124*100/$N$8 -> #REF! | O124: =I124*100/$O$8 -> #REF! | P124: =IF(J124<'TEST MARKS '!#REF!,"N","Y") -> #REF! | Q124: =IF(K124<'TEST MARKS '!#REF!,"N","Y") -> #REF! | R124: =IF(L124<'TEST MARKS '!#REF!,"N","Y") -> #REF! | S124: =IF(M124<'TEST MARKS '!#REF!,"N","Y") -> #REF! | T124: =IF(N124<'TEST MARKS '!#REF!,"N","Y") -> #REF! | U124: =IF(O124<'TEST MARKS '!#REF!,"N","Y") -> #REF!
A125: 116 | B125: ='TEST MARKS '!#REF! -> #REF! | C125: ='TEST MARKS '!#REF! -> #REF! | D125: =SUMIF('TEST MARKS '!$D$8:$I$8,$D$9,'TEST MARKS '!#REF!) -> #REF! | E125: =SUMIF('TEST MARKS '!$D$8:$I$8,$E$9,'TEST MARKS '!#REF!) -> #REF! | F125: =SUMIF('TEST MARKS '!$D$8:$I$8,$F$9,'TEST MARKS '!#REF!) -> #REF! | G125: =SUMIF('TEST MARKS '!$D$8:$I$8,$G$9,'TEST MARKS '!#REF!) -> #REF! | H125: =SUMIF('TEST MARKS '!$D$8:$I$8,$H$9,'TEST MARKS '!#REF!) -> #REF! | I125: =SUMIF('TEST MARKS '!$D$8:$I$8,$I$9,'TEST MARKS '!#REF!) -> #REF! | J125: =D125*100/$J$8 -> #REF! | K125: =E125*100/$K$8 -> #REF! | L125: =F125*100/$L$8 -> #REF! | M125: =G125*100/$M$8 -> #REF! | N125: =H125*100/$N$8 -> #REF! | O125: =I125*100/$O$8 -> #REF! | P125: =IF(J125<'TEST MARKS '!#REF!,"N","Y") -> #REF! | Q125: =IF(K125<'TEST MARKS '!#REF!,"N","Y") -> #REF! | R125: =IF(L125<'TEST MARKS '!#REF!,"N","Y") -> #REF! | S125: =IF(M125<'TEST MARKS '!#REF!,"N","Y") -> #REF! | T125: =IF(N125<'TEST MARKS '!#REF!,"N","Y") -> #REF! | U125: =IF(O125<'TEST MARKS '!#REF!,"N","Y") -> #REF!
A126: 117 | B126: ='TEST MARKS '!#REF! -> #REF! | C126: ='TEST MARKS '!#REF! -> #REF! | D126: =SUMIF('TEST MARKS '!$D$8:$I$8,$D$9,'TEST MARKS '!#REF!) -> #REF! | E126: =SUMIF('TEST MARKS '!$D$8:$I$8,$E$9,'TEST MARKS '!#REF!) -> #REF! | F126: =SUMIF('TEST MARKS '!$D$8:$I$8,$F$9,'TEST MARKS '!#REF!) -> #REF! | G126: =SUMIF('TEST MARKS '!$D$8:$I$8,$G$9,'TEST MARKS '!#REF!) -> #REF! | H126: =SUMIF('TEST MARKS '!$D$8:$I$8,$H$9,'TEST MARKS '!#REF!) -> #REF! | I126: =SUMIF('TEST MARKS '!$D$8:$I$8,$I$9,'TEST MARKS '!#REF!) -> #REF! | J126: =D126*100/$J$8 -> #REF! | K126: =E126*100/$K$8 -> #REF! | L126: =F126*100/$L$8 -> #REF! | M126: =G126*100/$M$8 -> #REF! | N126: =H126*100/$N$8 -> #REF! | O126: =I126*100/$O$8 -> #REF! | P126: =IF(J126<'TEST MARKS '!#REF!,"N","Y") -> #REF! | Q126: =IF(K126<'TEST MARKS '!#REF!,"N","Y") -> #REF! | R126: =IF(L126<'TEST MARKS '!#REF!,"N","Y") -> #REF! | S126: =IF(M126<'TEST MARKS '!#REF!,"N","Y") -> #REF! | T126: =IF(N126<'TEST MARKS '!#REF!,"N","Y") -> #REF! | U126: =IF(O126<'TEST MARKS '!#REF!,"N","Y") -> #REF!
A127: 118 | B127: ='TEST MARKS '!#REF! -> #REF! | C127: ='TEST MARKS '!#REF! -> #REF! | D127: =SUMIF('TEST MARKS '!$D$8:$I$8,$D$9,'TEST MARKS '!#REF!) -> #REF! | E127: =SUMIF('TEST MARKS '!$D$8:$I$8,$E$9,'TEST MARKS '!#REF!) -> #REF! | F127: =SUMIF('TEST MARKS '!$D$8:$I$8,$F$9,'TEST MARKS '!#REF!) -> #REF! | G127: =SUMIF('TEST MARKS '!$D$8:$I$8,$G$9,'TEST MARKS '!#REF!) -> #REF! | H127: =SUMIF('TEST MARKS '!$D$8:$I$8,$H$9,'TEST MARKS '!#REF!) -> #REF! | I127: =SUMIF('TEST MARKS '!$D$8:$I$8,$I$9,'TEST MARKS '!#REF!) -> #REF! | J127: =D127*100/$J$8 -> #REF! | K127: =E127*100/$K$8 -> #REF! | L127: =F127*100/$L$8 -> #REF! | M127: =G127*100/$M$8 -> #REF! | N127: =H127*100/$N$8 -> #REF! | O127: =I127*100/$O$8 -> #REF! | P127: =IF(J127<'TEST MARKS '!#REF!,"N","Y") -> #REF! | Q127: =IF(K127<'TEST MARKS '!#REF!,"N","Y") -> #REF! | R127: =IF(L127<'TEST MARKS '!#REF!,"N","Y") -> #REF! | S127: =IF(M127<'TEST MARKS '!#REF!,"N","Y") -> #REF! | T127: =IF(N127<'TEST MARKS '!#REF!,"N","Y") -> #REF! | U127: =IF(O127<'TEST MARKS '!#REF!,"N","Y") -> #REF!
A128: 119 | B128: ='TEST MARKS '!#REF! -> #REF! | C128: ='TEST MARKS '!#REF! -> #REF! | D128: =SUMIF('TEST MARKS '!$D$8:$I$8,$D$9,'TEST MARKS '!#REF!) -> #REF! | E128: =SUMIF('TEST MARKS '!$D$8:$I$8,$E$9,'TEST MARKS '!#REF!) -> #REF! | F128: =SUMIF('TEST MARKS '!$D$8:$I$8,$F$9,'TEST MARKS '!#REF!) -> #REF! | G128: =SUMIF('TEST MARKS '!$D$8:$I$8,$G$9,'TEST MARKS '!#REF!) -> #REF! | H128: =SUMIF('TEST MARKS '!$D$8:$I$8,$H$9,'TEST MARKS '!#REF!) -> #REF! | I128: =SUMIF('TEST MARKS '!$D$8:$I$8,$I$9,'TEST MARKS '!#REF!) -> #REF! | J128: =D128*100/$J$8 -> #REF! | K128: =E128*100/$K$8 -> #REF! | L128: =F128*100/$L$8 -> #REF! | M128: =G128*100/$M$8 -> #REF! | N128: =H128*100/$N$8 -> #REF! | O128: =I128*100/$O$8 -> #REF! | P128: =IF(J128<'TEST MARKS '!#REF!,"N","Y") -> #REF! | Q128: =IF(K128<'TEST MARKS '!#REF!,"N","Y") -> #REF! | R128: =IF(L128<'TEST MARKS '!#REF!,"N","Y") -> #REF! | S128: =IF(M128<'TEST MARKS '!#REF!,"N","Y") -> #REF! | T128: =IF(N128<'TEST MARKS '!#REF!,"N","Y") -> #REF! | U128: =IF(O128<'TEST MARKS '!#REF!,"N","Y") -> #REF!
A129: 120 | B129: ='TEST MARKS '!#REF! -> #REF! | C129: ='TEST MARKS '!#REF! -> #REF! | D129: =SUMIF('TEST MARKS '!$D$8:$I$8,$D$9,'TEST MARKS '!#REF!) -> #REF! | E129: =SUMIF('TEST MARKS '!$D$8:$I$8,$E$9,'TEST MARKS '!#REF!) -> #REF! | F129: =SUMIF('TEST MARKS '!$D$8:$I$8,$F$9,'TEST MARKS '!#REF!) -> #REF! | G129: =SUMIF('TEST MARKS '!$D$8:$I$8,$G$9,'TEST MARKS '!#REF!) -> #REF! | H129: =SUMIF('TEST MARKS '!$D$8:$I$8,$H$9,'TEST MARKS '!#REF!) -> #REF! | I129: =SUMIF('TEST MARKS '!$D$8:$I$8,$I$9,'TEST MARKS '!#REF!) -> #REF! | J129: =D129*100/$J$8 -> #REF! | K129: =E129*100/$K$8 -> #REF! | L129: =F129*100/$L$8 -> #REF! | M129: =G129*100/$M$8 -> #REF! | N129: =H129*100/$N$8 -> #REF! | O129: =I129*100/$O$8 -> #REF! | P129: =IF(J129<'TEST MARKS '!#REF!,"N","Y") -> #REF! | Q129: =IF(K129<'TEST MARKS '!#REF!,"N","Y") -> #REF! | R129: =IF(L129<'TEST MARKS '!#REF!,"N","Y") -> #REF! | S129: =IF(M129<'TEST MARKS '!#REF!,"N","Y") -> #REF! | T129: =IF(N129<'TEST MARKS '!#REF!,"N","Y") -> #REF! | U129: =IF(O129<'TEST MARKS '!#REF!,"N","Y") -> #REF!
O131: NO OF Y | P131: =COUNTIF(P10:P129,"Y") -> 0 | Q131: =COUNTIF(Q10:Q129,"Y") -> 0 | R131: =COUNTIF(R10:R129,"Y") -> 0 | S131: =COUNTIF(S10:S129,"Y") -> 0 | T131: =COUNTIF(T10:T129,"Y") -> 0 | U131: =COUNTIF(U10:U129,"Y") -> 0
O132: ATTAINMENT | P132: =P131/'TEST MARKS '!#REF! -> #REF! | Q132: =Q131/'TEST MARKS '!#REF! -> #REF! | R132: =R131/'TEST MARKS '!#REF! -> #REF! | S132: =S131/'TEST MARKS '!#REF! -> #REF! | T132: =T131/'TEST MARKS '!#REF! -> #REF! | U132: =U131/'TEST MARKS '!#REF! -> #REF!
O136: CO's | P136: CO1 | Q136: CO2 | R136: CO3 | S136: CO4 | T136: CO5 | U136: CO6
O137: IA MARKS ATTAINMENT | P137: =P131*100/'TEST MARKS '!#REF! -> #REF! | Q137: =Q131*100/'TEST MARKS '!#REF! -> #REF! | R137: =R131*100/'TEST MARKS '!#REF! -> #REF! | S137: =S131*100/'TEST MARKS '!#REF! -> #REF! | T137: =T131*100/'TEST MARKS '!#REF! -> #REF! | U137: =U131*100/'TEST MARKS '!#REF! -> #REF!

Sheet Assignment CO 
B1: Sapthagiri College of Engineering
B2: Department of Mechanical Engineering
D3: Mechanics of Materials
B4: III Semester B Section Test marks for ODD Sem 2017-18 | P4: TARGET: 90% OF STUDENTS TO SCORE 80% and ABOVE
A5: Sl. No. | B5: Name of the student | C5: USN | J5: ASSIGNMENT ATTAINMENT (%) | P5: Y OR N
D7: I | E7: II | F7: III | G7: IV | H7: V | I7: V | J7: I | K7: II | L7: III | M7: IV | N7: V | O7: V | P7: I | Q7: II | R7: III | S7: IV | T7: V | U7: V
D8: CO1 | E8: CO2 | F8: CO3 | G8: CO4 | H8: CO5 | I8: CO6 | J8: CO1 | K8: CO2 | L8: CO3 | M8: CO4 | N8: CO5 | O8: CO6 | P8: CO1 | Q8: CO2 | R8: CO3 | S8: CO4 | T8: CO5 | U8: CO6
A9: ='TEST MARKS '!A10 -> 1 | B9: ='TEST MARKS '!B10 -> AFTAB AHMED WALA | C9: ='TEST MARKS '!C10 -> 1SG15ME004 | D9: ='TEST MARKS '!J10 -> 4 | E9: ='TEST MARKS '!K10 -> 4 | F9: ='TEST MARKS '!L10 -> 4 | G9: ='TEST MARKS '!M10 -> 4 | H9: ='TEST MARKS '!N10 -> 4 | I9: ='TEST MARKS '!O10 -> 4 | J9: =D9/'TEST MARKS '!#REF!*100 -> #REF! | K9: =E9/'TEST MARKS '!#REF!*100 -> #REF! | L9: =F9/'TEST MARKS '!#REF!*100 -> #REF! | M9: =G9/'TEST MARKS '!#REF!*100 -> #REF! | N9: =H9/'TEST MARKS '!#REF!*100 -> #REF! | O9: =I9/'TEST MARKS '!#REF!*100 -> #REF! | P9: =IF(J9<'TEST MARKS '!#REF!,"N","Y") -> #REF! | Q9: =IF(K9<'TEST MARKS '!#REF!,"N","Y") -> #REF! | R9: =IF(L9<'TEST MARKS '!#REF!,"N","Y") -> #REF! | S9: =IF(M9<'TEST MARKS '!#REF!,"N","Y") -> #REF! | T9: =IF(N9<'TEST MARKS '!#REF!,"N","Y") -> #REF! | U9: =IF(O9<'TEST MARKS '!#REF!,"N","Y") -> #REF!
A10: ='TEST MARKS '!A11 -> 2 | B10: ='TEST MARKS '!B11 -> AJEYA.V | C10: ='TEST MARKS '!C11 -> 1SG15ME006 | D10: ='TEST MARKS '!J11 -> 5 | E10: ='TEST MARKS '!K11 -> 5 | F10: ='TEST MARKS '!L11 -> 5 | G10: ='TEST MARKS '!M11 -> 5 | H10: ='TEST MARKS '!N11 -> 5 | I10: ='TEST MARKS '!O11 -> 5 | J10: =D10/'TEST MARKS '!#REF!*100 -> #REF! | K10: =E10/'TEST MARKS '!#REF!*100 -> #REF! | L10: =F10/'TEST MARKS '!#REF!*100 -> #REF! | M10: =G10/'TEST MARKS '!#REF!*100 -> #REF! | N10: =H10/'TEST MARKS '!#REF!*100 -> #REF! | O10: =I10/'TEST MARKS '!#REF!*100 -> #REF! | P10: =IF(J10<'TEST MARKS '!#REF!,"N","Y") -> #REF! | Q10: =IF(K10<'TEST MARKS '!#REF!,"N","Y") -> #REF! | R10: =IF(L10<'TEST MARKS '!#REF!,"N","Y") -> #REF! | S10: =IF(M10<'TEST MARKS '!#REF!,"N","Y") -> #REF! | T10: =IF(N10<'TEST MARKS '!#REF!,"N","Y") -> #REF! | U10: =IF(O10<'TEST MARKS '!#REF!,"N","Y") -> #REF!
A11: ='TEST MARKS '!A12 -> 3 | B11: ='TEST MARKS '!B12 -> AJITH S P | C11: ='TEST MARKS '!C12 -> 1SG15ME007 | D11: ='TEST MARKS '!J12 -> 5 | E11: ='TEST MARKS '!K12 -> 5 | F11: ='TEST MARKS '!L12 -> 5 | G11: ='TEST MARKS '!M12 -> 5 | H11: ='TEST MARKS '!N12 -> 5 | I11: ='TEST MARKS '!O12 -> 5 | J11: =D11/'TEST MARKS '!#REF!*100 -> #REF! | K11: =E11/'TEST MARKS '!#REF!*100 -> #REF! | L11: =F11/'TEST MARKS '!#REF!*100 -> #REF! | M11: =G11/'TEST MARKS '!#REF!*100 -> #REF! | N11: =H11/'TEST MARKS '!#REF!*100 -> #REF! | O11: =I11/'TEST MARKS '!#REF!*100 -> #REF! | P11: =IF(J11<'TEST MARKS '!#REF!,"N","Y") -> #REF! | Q11: =IF(K11<'TEST MARKS '!#REF!,"N","Y") -> #REF! | R11: =IF(L11<'TEST MARKS '!#REF!,"N","Y") -> #REF! | S11: =IF(M11<'TEST MARKS '!#REF!,"N","Y") -> #REF! | T11: =IF(N11<'TEST MARKS '!#REF!,"N","Y") -> #REF! | U11: =IF(O11<'TEST MARKS '!#REF!,"N","Y") -> #REF!
A12: ='TEST MARKS '!A13 -> 4 | B12: ='TEST MARKS '!B13 -> AKSHAY S | C12: ='TEST MARKS '!C13 -> 1SG15ME008 | D12: ='TEST MARKS '!J13 -> 5 | E12: ='TEST MARKS '!K13 -> 5 | F12: ='TEST MARKS '!L13 -> 5 | G12: ='TEST MARKS '!M13 -> 5 | H12: ='TEST MARKS '!N13 -> 5 | I12: ='TEST MARKS '!O13 -> 5 | J12: =D12/'TEST MARKS '!#REF!*100 -> #REF! | K12: =E12/'TEST MARKS '!#REF!*100 -> #REF! | L12: =F12/'TEST MARKS '!#REF!*100 -> #REF! | M12: =G12/'TEST MARKS '!#REF!*100 -> #REF! | N12: =H12/'TEST MARKS '!#REF!*100 -> #REF! | O12: =I12/'TEST MARKS '!#REF!*100 -> #REF! | P12: =IF(J12<'TEST MARKS '!#REF!,"N","Y") -> #REF! | Q12: =IF(K12<'TEST MARKS '!#REF!,"N","Y") -> #REF! | R12: =IF(L12<'TEST MARKS '!#REF!,"N","Y") -> #REF! | S12: =IF(M12<'TEST MARKS '!#REF!,"N","Y") -> #REF! | T12: =IF(N12<'TEST MARKS '!#REF!,"N","Y") -> #REF! | U12: =IF(O12<'TEST MARKS '!#REF!,"N","Y") -> #REF!
A13: ='TEST MARKS '!A14 -> 5 | B13: ='TEST MARKS '!B14 -> AMAN NAIN | C13: ='TEST MARKS '!C14 -> 1SG15ME009 | D13: ='TEST MARKS '!J14 -> 4 | E13: ='TEST MARKS '!K14 -> 4 | F13: ='TEST MARKS '!L14 -> 4 | G13: ='TEST MARKS '!M14 -> 4 | H13: ='TEST MARKS '!N14 -> 4 | I13: ='TEST MARKS '!O14 -> 4 | J13: =D13/'TEST MARKS '!#REF!*100 -> #REF! | K13: =E13/'TEST MARKS '!#REF!*100 -> #REF! | L13: =F13/'TEST MARKS '!#REF!*100 -> #REF! | M13: =G13/'TEST MARKS '!#REF!*100 -> #REF! | N13: =H13/'TEST MARKS '!#REF!*100 -> #REF! | O13: =I13/'TEST MARKS '!#REF!*100 -> #REF! | P13: =IF(J13<'TEST MARKS '!#REF!,"N","Y") -> #REF! | Q13: =IF(K13<'TEST MARKS '!#REF!,"N","Y") -> #REF! | R13: =IF(L13<'TEST MARKS '!#REF!,"N","Y") -> #REF! | S13: =IF(M13<'TEST MARKS '!#REF!,"N","Y") -> #REF! | T13: =IF(N13<'TEST MARKS '!#REF!,"N","Y") -> #REF! | U13: =IF(O13<'TEST MARKS '!#REF!,"N","Y") -> #REF!
A14: ='TEST MARKS '!A15 -> 6 | B14: ='TEST MARKS '!B15 -> AMITH.R | C14: ='TEST MARKS '!C15 -> 1SG15ME010 | D14: ='TEST MARKS '!J15 -> 4 | E14: ='TEST MARKS '!K15 -> 4 | F14: ='TEST MARKS '!L15 -> 4 | G14: ='TEST MARKS '!M15 -> 4 | H14: ='TEST MARKS '!N15 -> 4 | I14: ='TEST MARKS '!O15 -> 4 | J14: =D14/'TEST MARKS '!#REF!*100 -> #REF! | K14: =E14/'TEST MARKS '!#REF!*100 -> #REF! | L14: =F14/'TEST MARKS '!#REF!*100 -> #REF! | M14: =G14/'TEST MARKS '!#REF!*100 -> #REF! | N14: =H14/'TEST MARKS '!#REF!*100 -> #REF! | O14: =I14/'TEST MARKS '!#REF!*100 -> #REF! | P14: =IF(J14<'TEST MARKS '!#REF!,"N","Y") -> #REF! | Q14: =IF(K14<'TEST MARKS '!#REF!,"N","Y") -> #REF! | R14: =IF(L14<'TEST MARKS '!#REF!,"N","Y") -> #REF! | S14: =IF(M14<'TEST MARKS '!#REF!,"N","Y") -> #REF! | T14: =IF(N14<'TEST MARKS '!#REF!,"N","Y") -> #REF! | U14: =IF(O14<'TEST MARKS '!#REF!,"N","Y") -> #REF!
A15: ='TEST MARKS '!A16 -> 7 | B15: ='TEST MARKS '!B16 -> ANIL KUMAR C | C15: ='TEST MARKS '!C16 -> 1SG15ME011 | D15: ='TEST MARKS '!J16 -> 5 | E15: ='TEST MARKS '!K16 -> 5 | F15: ='TEST MARKS '!L16 -> 5 | G15: ='TEST MARKS '!M16 -> 5 | H15: ='TEST MARKS '!N16 -> 5 | I15: ='TEST MARKS '!O16 -> 5 | J15: =D15/'TEST MARKS '!#REF!*100 -> #REF! | K15: =E15/'TEST MARKS '!#REF!*100 -> #REF! | L15: =F15/'TEST MARKS '!#REF!*100 -> #REF! | M15: =G15/'TEST MARKS '!#REF!*100 -> #REF! | N15: =H15/'TEST MARKS '!#REF!*100 -> #REF! | O15: =I15/'TEST MARKS '!#REF!*100 -> #REF! | P15: =IF(J15<'TEST MARKS '!#REF!,"N","Y") -> #REF! | Q15: =IF(K15<'TEST MARKS '!#REF!,"N","Y") -> #REF! | R15: =IF(L15<'TEST MARKS '!#REF!,"N","Y") -> #REF! | S15: =IF(M15<'TEST MARKS '!#REF!,"N","Y") -> #REF! | T15: =IF(N15<'TEST MARKS '!#REF!,"N","Y") -> #REF! | U15: =IF(O15<'TEST MARKS '!#REF!,"N","Y") -> #REF!
A16: ='TEST MARKS '!A17 -> 8 | B16: ='TEST MARKS '!B17 -> ANIRUDH R K | C16: ='TEST MARKS '!C17 -> 1SG15ME012 | D16: ='TEST MARKS '!J17 -> 4 | E16: ='TEST MARKS '!K17 -> 4 | F16: ='TEST MARKS '!L17 -> 4 | G16: ='TEST MARKS '!M17 -> 4 | H16: ='TEST MARKS '!N17 -> 4 | I16: ='TEST MARKS '!O17 -> 4 | J16: =D16/'TEST MARKS '!#REF!*100 -> #REF! | K16: =E16/'TEST MARKS '!#REF!*100 -> #REF! | L16: =F16/'TEST MARKS '!#REF!*100 -> #REF! | M16: =G16/'TEST MARKS '!#REF!*100 -> #REF! | N16: =H16/'TEST MARKS '!#REF!*100 -> #REF! | O16: =I16/'TEST MARKS '!#REF!*100 -> #REF! | P16: =IF(J16<'TEST MARKS '!#REF!,"N","Y") -> #REF! | Q16: =IF(K16<'TEST MARKS '!#REF!,"N","Y") -> #REF! | R16: =IF(L16<'TEST MARKS '!#REF!,"N","Y") -> #REF! | S16: =IF(M16<'TEST MARKS '!#REF!,"N","Y") -> #REF! | T16: =IF(N16<'TEST MARKS '!#REF!,"N","Y") -> #REF! | U16: =IF(O16<'TEST MARKS '!#REF!,"N","Y") -> #REF!
A17: ='TEST MARKS '!A18 -> 9 | B17: ='TEST MARKS '!B18 -> ARJUN S | C17: ='TEST MARKS '!C18 -> 1SG15ME013 | D17: ='TEST MARKS '!J18 -> 5 | E17: ='TEST MARKS '!K18 -> 5 | F17: ='TEST MARKS '!L18 -> 5 | G17: ='TEST MARKS '!M18 -> 5 | H17: ='TEST MARKS '!N18 -> 5 | I17: ='TEST MARKS '!O18 -> 5 | J17: =D17/'TEST MARKS '!#REF!*100 -> #REF! | K17: =E17/'TEST MARKS '!#REF!*100 -> #REF! | L17: =F17/'TEST MARKS '!#REF!*100 -> #REF! | M17: =G17/'TEST MARKS '!#REF!*100 -> #REF! | N17: =H17/'TEST MARKS '!#REF!*100 -> #REF! | O17: =I17/'TEST MARKS '!#REF!*100 -> #REF! | P17: =IF(J17<'TEST MARKS '!#REF!,"N","Y") -> #REF! | Q17: =IF(K17<'TEST MARKS '!#REF!,"N","Y") -> #REF! | R17: =IF(L17<'TEST MARKS '!#REF!,"N","Y") -> #REF! | S17: =IF(M17<'TEST MARKS '!#REF!,"N","Y") -> #REF! | T17: =IF(N17<'TEST MARKS '!#REF!,"N","Y") -> #REF! | U17: =IF(O17<'TEST MARKS '!#REF!,"N","Y") -> #REF!
A18: ='TEST MARKS '!A19 -> 10 | B18: ='TEST MARKS '!B19 -> ASHISH SHARMA | C18: ='TEST MARKS '!C19 -> 1SG15ME014 | D18: ='TEST MARKS '!J19 -> 5 | E18: ='TEST MARKS '!K19 -> 5 | F18: ='TEST MARKS '!L19 -> 5 | G18: ='TEST MARKS '!M19 -> 5 | H18: ='TEST MARKS '!N19 -> 5 | I18: ='TEST MARKS '!O19 -> 5 | J18: =D18/'TEST MARKS '!#REF!*100 -> #REF! | K18: =E18/'TEST MARKS '!#REF!*100 -> #REF! | L18: =F18/'TEST MARKS '!#REF!*100 -> #REF! | M18: =G18/'TEST MARKS '!#REF!*100 -> #REF! | N18: =H18/'TEST MARKS '!#REF!*100 -> #REF! | O18: =I18/'TEST MARKS '!#REF!*100 -> #REF! | P18: =IF(J18<'TEST MARKS '!#REF!,"N","Y") -> #REF! | Q18: =IF(K18<'TEST MARKS '!#REF!,"N","Y") -> #REF! | R18: =IF(L18<'TEST MARKS '!#REF!,"N","Y") -> #REF! | S18: =IF(M18<'TEST MARKS '!#REF!,"N","Y") -> #REF! | T18: =IF(N18<'TEST MARKS '!#REF!,"N","Y") -> #REF! | U18: =IF(O18<'TEST MARKS '!#REF!,"N","Y") -> #REF!
A19: ='TEST MARKS '!A20 -> 11 | B19: ='TEST MARKS '!B20 -> AYAN GUHA RAOY | C19: ='TEST MARKS '!C20 -> 1SG15ME015 | D19: ='TEST MARKS '!J20 -> 4 | E19: ='TEST MARKS '!K20 -> 4 | F19: ='TEST MARKS '!L20 -> 4 | G19: ='TEST MARKS '!M20 -> 4 | H19: ='TEST MARKS '!N20 -> 4 | I19: ='TEST MARKS '!O20 -> 4 | J19: =D19/'TEST MARKS '!#REF!*100 -> #REF! | K19: =E19/'TEST MARKS '!#REF!*100 -> #REF! | L19: =F19/'TEST MARKS '!#REF!*100 -> #REF! | M19: =G19/'TEST MARKS '!#REF!*100 -> #REF! | N19: =H19/'TEST MARKS '!#REF!*100 -> #REF! | O19: =I19/'TEST MARKS '!#REF!*100 -> #REF! | P19: =IF(J19<'TEST MARKS '!#REF!,"N","Y") -> #REF! | Q19: =IF(K19<'TEST MARKS '!#REF!,"N","Y") -> #REF! | R19: =IF(L19<'TEST MARKS '!#REF!,"N","Y") -> #REF! | S19: =IF(M19<'TEST MARKS '!#REF!,"N","Y") -> #REF! | T19: =IF(N19<'TEST MARKS '!#REF!,"N","Y") -> #REF! | U19: =IF(O19<'TEST MARKS '!#REF!,"N","Y") -> #REF!
A20: ='TEST MARKS '!A21 -> 12 | B20: ='TEST MARKS '!B21 -> BHARATH .V | C20: ='TEST MARKS '!C21 -> 1SG15ME017 | D20: ='TEST MARKS '!J21 -> 4 | E20: ='TEST MARKS '!K21 -> 4 | F20: ='TEST MARKS '!L21 -> 4 | G20: ='TEST MARKS '!M21 -> 4 | H20: ='TEST MARKS '!N21 -> 4 | I20: ='TEST MARKS '!O21 -> 4 | J20: =D20/'TEST MARKS '!#REF!*100 -> #REF! | K20: =E20/'TEST MARKS '!#REF!*100 -> #REF! | L20: =F20/'TEST MARKS '!#REF!*100 -> #REF! | M20: =G20/'TEST MARKS '!#REF!*100 -> #REF! | N20: =H20/'TEST MARKS '!#REF!*100 -> #REF! | O20: =I20/'TEST MARKS '!#REF!*100 -> #REF! | P20: =IF(J20<'TEST MARKS '!#REF!,"N","Y") -> #REF! | Q20: =IF(K20<'TEST MARKS '!#REF!,"N","Y") -> #REF! | R20: =IF(L20<'TEST MARKS '!#REF!,"N","Y") -> #REF! | S20: =IF(M20<'TEST MARKS '!#REF!,"N","Y") -> #REF! | T20: =IF(N20<'TEST MARKS '!#REF!,"N","Y") -> #REF! | U20: =IF(O20<'TEST MARKS '!#REF!,"N","Y") -> #REF!
... A54: ='TEST MARKS '!A55 -> 46 | B54: ='TEST MARKS '!B55 -> pradeep B N | C54: ='TEST MARKS '!C55 -> 1SG15ME066 | D54: ='TEST MARKS '!J55 -> 5 | E54: ='TEST MARKS '!K55 -> 5 | F54: ='TEST MARKS '!L55 -> 5 | G54: ='TEST MARKS '!M55 -> 5 | H54: ='TEST MARKS '!N55 -> 5 | I54: ='TEST MARKS '!O55 -> 5 | J54: =D54/'TEST MARKS '!#REF!*100 -> #REF! | K54: =E54/'TEST MARKS '!#REF!*100 -> #REF! | L54: =F54/'TEST MARKS '!#REF!*100 -> #REF! | M54: =G54/'TEST MARKS '!#REF!*100 -> #REF! | N54: =H54/'TEST MARKS '!#REF!*100 -> #REF! | O54: =I54/'TEST MARKS '!#REF!*100 -> #REF! | P54: =IF(J54<'TEST MARKS '!#REF!,"N","Y") -> #REF! | Q54: =IF(K54<'TEST MARKS '!#REF!,"N","Y") -> #REF! | R54: =IF(L54<'TEST MARKS '!#REF!,"N","Y") -> #REF! | S54: =IF(M54<'TEST MARKS '!#REF!,"N","Y") -> #REF! | T54: =IF(N54<'TEST MARKS '!#REF!,"N","Y") -> #REF! | U54: =IF(O54<'TEST MARKS '!#REF!,"N","Y") -> #REF!
A55: ='TEST MARKS '!A56 -> 47 | B55: ='TEST MARKS '!B56 -> PRATHEEK S | C55: ='TEST MARKS '!C56 -> 1SG15ME067 | D55: ='TEST MARKS '!J76 -> 5 | E55: ='TEST MARKS '!K56 -> 5 | F55: ='TEST MARKS '!L56 -> 5 | G55: ='TEST MARKS '!M56 -> 5 | H55: ='TEST MARKS '!N56 -> 5 | I55: ='TEST MARKS '!O56 -> 5 | J55: =D55/'TEST MARKS '!#REF!*100 -> #REF! | K55: =E55/'TEST MARKS '!#REF!*100 -> #REF! | L55: =F55/'TEST MARKS '!#REF!*100 -> #REF! | M55: =G55/'TEST MARKS '!#REF!*100 -> #REF! | N55: =H55/'TEST MARKS '!#REF!*100 -> #REF! | O55: =I55/'TEST MARKS '!#REF!*100 -> #REF! | P55: =IF(J55<'TEST MARKS '!#REF!,"N","Y") -> #REF! | Q55: =IF(K55<'TEST MARKS '!#REF!,"N","Y") -> #REF! | R55: =IF(L55<'TEST MARKS '!#REF!,"N","Y") -> #REF! | S55: =IF(M55<'TEST MARKS '!#REF!,"N","Y") -> #REF! | T55: =IF(N55<'TEST MARKS '!#REF!,"N","Y") -> #REF! | U55: =IF(O55<'TEST MARKS '!#REF!,"N","Y") -> #REF!
A56: ='TEST MARKS '!A57 -> 48 | B56: ='TEST MARKS '!B57 -> PRAVEEN.S | C56: ='TEST MARKS '!C57 -> 1SG15ME068 | D56: ='TEST MARKS '!J57 -> 5 | E56: ='TEST MARKS '!K57 -> 5 | F56: ='TEST MARKS '!L57 -> 5 | G56: ='TEST MARKS '!M57 -> 5 | H56: ='TEST MARKS '!N57 -> 5 | I56: ='TEST MARKS '!O57 -> 5 | J56: =D56/'TEST MARKS '!#REF!*100 -> #REF! | K56: =E56/'TEST MARKS '!#REF!*100 -> #REF! | L56: =F56/'TEST MARKS '!#REF!*100 -> #REF! | M56: =G56/'TEST MARKS '!#REF!*100 -> #REF! | N56: =H56/'TEST MARKS '!#REF!*100 -> #REF! | O56: =I56/'TEST MARKS '!#REF!*100 -> #REF! | P56: =IF(J56<'TEST MARKS '!#REF!,"N","Y") -> #REF! | Q56: =IF(K56<'TEST MARKS '!#REF!,"N","Y") -> #REF! | R56: =IF(L56<'TEST MARKS '!#REF!,"N","Y") -> #REF! | S56: =IF(M56<'TEST MARKS '!#REF!,"N","Y") -> #REF! | T56: =IF(N56<'TEST MARKS '!#REF!,"N","Y") -> #REF! | U56: =IF(O56<'TEST MARKS '!#REF!,"N","Y") -> #REF!
A57: ='TEST MARKS '!A58 -> 49 | B57: ='TEST MARKS '!B58 -> RAGHAVA SURYA.M | C57: ='TEST MARKS '!C58 -> 1SG15ME071 | D57: ='TEST MARKS '!J58 -> 5 | E57: ='TEST MARKS '!K58 -> 5 | F57: ='TEST MARKS '!L58 -> 5 | G57: ='TEST MARKS '!M58 -> 5 | H57: ='TEST MARKS '!N58 -> 5 | I57: ='TEST MARKS '!O58 -> 5 | J57: =D57/'TEST MARKS '!#REF!*100 -> #REF! | K57: =E57/'TEST MARKS '!#REF!*100 -> #REF! | L57: =F57/'TEST MARKS '!#REF!*100 -> #REF! | M57: =G57/'TEST MARKS '!#REF!*100 -> #REF! | N57: =H57/'TEST MARKS '!#REF!*100 -> #REF! | O57: =I57/'TEST MARKS '!#REF!*100 -> #REF! | P57: =IF(J57<'TEST MARKS '!#REF!,"N","Y") -> #REF! | Q57: =IF(K57<'TEST MARKS '!#REF!,"N","Y") -> #REF! | R57: =IF(L57<'TEST MARKS '!#REF!,"N","Y") -> #REF! | S57: =IF(M57<'TEST MARKS '!#REF!,"N","Y") -> #REF! | T57: =IF(N57<'TEST MARKS '!#REF!,"N","Y") -> #REF! | U57: =IF(O57<'TEST MARKS '!#REF!,"N","Y") -> #REF!
A58: ='TEST MARKS '!A59 -> 50 | B58: ='TEST MARKS '!B59 -> RAHUL N DIXIT | C58: ='TEST MARKS '!C59 -> 1SG15ME072 | D58: ='TEST MARKS '!J59 -> 5 | E58: ='TEST MARKS '!K59 -> 5 | F58: ='TEST MARKS '!L59 -> 5 | G58: ='TEST MARKS '!M59 -> 5 | H58: ='TEST MARKS '!N59 -> 5 | I58: ='TEST MARKS '!O59 -> 5 | J58: =D58/'TEST MARKS '!#REF!*100 -> #REF! | K58: =E58/'TEST MARKS '!#REF!*100 -> #REF! | L58: =F58/'TEST MARKS '!#REF!*100 -> #REF! | M58: =G58/'TEST MARKS '!#REF!*100 -> #REF! | N58: =H58/'TEST MARKS '!#REF!*100 -> #REF! | O58: =I58/'TEST MARKS '!#REF!*100 -> #REF! | P58: =IF(J58<'TEST MARKS '!#REF!,"N","Y") -> #REF! | Q58: =IF(K58<'TEST MARKS '!#REF!,"N","Y") -> #REF! | R58: =IF(L58<'TEST MARKS '!#REF!,"N","Y") -> #REF! | S58: =IF(M58<'TEST MARKS '!#REF!,"N","Y") -> #REF! | T58: =IF(N58<'TEST MARKS '!#REF!,"N","Y") -> #REF! | U58: =IF(O58<'TEST MARKS '!#REF!,"N","Y") -> #REF!
A59: ='TEST MARKS '!A60 -> 51 | B59: ='TEST MARKS '!B60 -> RAHUL V | C59: ='TEST MARKS '!C60 -> 1SG15ME073 | D59: ='TEST MARKS '!J60 -> 5 | E59: ='TEST MARKS '!K60 -> 5 | F59: ='TEST MARKS '!L60 -> 5 | G59: ='TEST MARKS '!M60 -> 5 | H59: ='TEST MARKS '!N60 -> 5 | I59: ='TEST MARKS '!O60 -> 5 | J59: =D59/'TEST MARKS '!#REF!*100 -> #REF! | K59: =E59/'TEST MARKS '!#REF!*100 -> #REF! | L59: =F59/'TEST MARKS '!#REF!*100 -> #REF! | M59: =G59/'TEST MARKS '!#REF!*100 -> #REF! | N59: =H59/'TEST MARKS '!#REF!*100 -> #REF! | O59: =I59/'TEST MARKS '!#REF!*100 -> #REF! | P59: =IF(J59<'TEST MARKS '!#REF!,"N","Y") -> #REF! | Q59: =IF(K59<'TEST MARKS '!#REF!,"N","Y") -> #REF! | R59: =IF(L59<'TEST MARKS '!#REF!,"N","Y") -> #REF! | S59: =IF(M59<'TEST MARKS '!#REF!,"N","Y") -> #REF! | T59: =IF(N59<'TEST MARKS '!#REF!,"N","Y") -> #REF! | U59: =IF(O59<'TEST MARKS '!#REF!,"N","Y") -> #REF!
A60: ='TEST MARKS '!A61 -> 52 | B60: ='TEST MARKS '!B61 -> RAJATH G MOODITHAYA | C60: ='TEST MARKS '!C61 -> 1SG15ME074 | D60: ='TEST MARKS '!J61 -> 5 | E60: ='TEST MARKS '!K61 -> 5 | F60: ='TEST MARKS '!L61 -> 5 | G60: ='TEST MARKS '!M61 -> 5 | H60: ='TEST MARKS '!N61 -> 5 | I60: ='TEST MARKS '!O61 -> 5 | J60: =D60/'TEST MARKS '!#REF!*100 -> #REF! | K60: =E60/'TEST MARKS '!#REF!*100 -> #REF! | L60: =F60/'TEST MARKS '!#REF!*100 -> #REF! | M60: =G60/'TEST MARKS '!#REF!*100 -> #REF! | N60: =H60/'TEST MARKS '!#REF!*100 -> #REF! | O60: =I60/'TEST MARKS '!#REF!*100 -> #REF! | P60: =IF(J60<'TEST MARKS '!#REF!,"N","Y") -> #REF! | Q60: =IF(K60<'TEST MARKS '!#REF!,"N","Y") -> #REF! | R60: =IF(L60<'TEST MARKS '!#REF!,"N","Y") -> #REF! | S60: =IF(M60<'TEST MARKS '!#REF!,"N","Y") -> #REF! | T60: =IF(N60<'TEST MARKS '!#REF!,"N","Y") -> #REF! | U60: =IF(O60<'TEST MARKS '!#REF!,"N","Y") -> #REF!
A61: ='TEST MARKS '!A62 -> 53 | B61: ='TEST MARKS '!B62 -> RAMESH P | C61: ='TEST MARKS '!C62 -> 1SG15ME076 | D61: ='TEST MARKS '!J62 -> 5 | E61: ='TEST MARKS '!K62 -> 5 | F61: ='TEST MARKS '!L62 -> 5 | G61: ='TEST MARKS '!M62 -> 5 | H61: ='TEST MARKS '!N62 -> 5 | I61: ='TEST MARKS '!O62 -> 5 | J61: =D61/'TEST MARKS '!#REF!*100 -> #REF! | K61: =E61/'TEST MARKS '!#REF!*100 -> #REF! | L61: =F61/'TEST MARKS '!#REF!*100 -> #REF! | M61: =G61/'TEST MARKS '!#REF!*100 -> #REF! | N61: =H61/'TEST MARKS '!#REF!*100 -> #REF! | O61: =I61/'TEST MARKS '!#REF!*100 -> #REF! | P61: =IF(J61<'TEST MARKS '!#REF!,"N","Y") -> #REF! | Q61: =IF(K61<'TEST MARKS '!#REF!,"N","Y") -> #REF! | R61: =IF(L61<'TEST MARKS '!#REF!,"N","Y") -> #REF! | S61: =IF(M61<'TEST MARKS '!#REF!,"N","Y") -> #REF! | T61: =IF(N61<'TEST MARKS '!#REF!,"N","Y") -> #REF! | U61: =IF(O61<'TEST MARKS '!#REF!,"N","Y") -> #REF!
A62: ='TEST MARKS '!A63 -> 54 | B62: ='TEST MARKS '!B63 -> RAVI KUDLAPPA CHELUWADI | C62: ='TEST MARKS '!C63 -> 1SG15ME077 | D62: ='TEST MARKS '!J63 -> 5 | E62: ='TEST MARKS '!K63 -> 5 | F62: ='TEST MARKS '!L63 -> 5 | G62: ='TEST MARKS '!M63 -> 5 | H62: ='TEST MARKS '!N63 -> 5 | I62: ='TEST MARKS '!O63 -> 5 | J62: =D62/'TEST MARKS '!#REF!*100 -> #REF! | K62: =E62/'TEST MARKS '!#REF!*100 -> #REF! | L62: =F62/'TEST MARKS '!#REF!*100 -> #REF! | M62: =G62/'TEST MARKS '!#REF!*100 -> #REF! | N62: =H62/'TEST MARKS '!#REF!*100 -> #REF! | O62: =I62/'TEST MARKS '!#REF!*100 -> #REF! | P62: =IF(J62<'TEST MARKS '!#REF!,"N","Y") -> #REF! | Q62: =IF(K62<'TEST MARKS '!#REF!,"N","Y") -> #REF! | R62: =IF(L62<'TEST MARKS '!#REF!,"N","Y") -> #REF! | S62: =IF(M62<'TEST MARKS '!#REF!,"N","Y") -> #REF! | T62: =IF(N62<'TEST MARKS '!#REF!,"N","Y") -> #REF! | U62: =IF(O62<'TEST MARKS '!#REF!,"N","Y") -> #REF!
A63: ='TEST MARKS '!A64 -> 55 | B63: ='TEST MARKS '!B64 -> CHANDRUCHUD S | C63: ='TEST MARKS '!C64 -> 1SG14ME025 | D63: ='TEST MARKS '!J64 -> 5 | E63: ='TEST MARKS '!K64 -> 5 | F63: ='TEST MARKS '!L64 -> 5 | G63: ='TEST MARKS '!M64 -> 5 | H63: ='TEST MARKS '!N64 -> 5 | I63: ='TEST MARKS '!O64 -> 5 | J63: =D63/'TEST MARKS '!#REF!*100 -> #REF! | K63: =E63/'TEST MARKS '!#REF!*100 -> #REF! | L63: =F63/'TEST MARKS '!#REF!*100 -> #REF! | M63: =G63/'TEST MARKS '!#REF!*100 -> #REF! | N63: =H63/'TEST MARKS '!#REF!*100 -> #REF! | O63: =I63/'TEST MARKS '!#REF!*100 -> #REF! | P63: =IF(J63<'TEST MARKS '!#REF!,"N","Y") -> #REF! | Q63: =IF(K63<'TEST MARKS '!#REF!,"N","Y") -> #REF! | R63: =IF(L63<'TEST MARKS '!#REF!,"N","Y") -> #REF! | S63: =IF(M63<'TEST MARKS '!#REF!,"N","Y") -> #REF! | T63: =IF(N63<'TEST MARKS '!#REF!,"N","Y") -> #REF! | U63: =IF(O63<'TEST MARKS '!#REF!,"N","Y") -> #REF!
A64: ='TEST MARKS '!A65 -> 56 | B64: ='TEST MARKS '!B65 -> JAIWANTH G C | C64: ='TEST MARKS '!C65 -> 1SG14ME039 | D64: ='TEST MARKS '!J65 -> 5 | E64: ='TEST MARKS '!K65 -> 5 | F64: ='TEST MARKS '!L65 -> 5 | G64: ='TEST MARKS '!M65 -> 5 | H64: ='TEST MARKS '!N65 -> 5 | I64: ='TEST MARKS '!O65 -> 5 | J64: =D64/'TEST MARKS '!#REF!*100 -> #REF! | K64: =E64/'TEST MARKS '!#REF!*100 -> #REF! | L64: =F64/'TEST MARKS '!#REF!*100 -> #REF! | M64: =G64/'TEST MARKS '!#REF!*100 -> #REF! | N64: =H64/'TEST MARKS '!#REF!*100 -> #REF! | O64: =I64/'TEST MARKS '!#REF!*100 -> #REF! | P64: =IF(J64<'TEST MARKS '!#REF!,"N","Y") -> #REF! | Q64: =IF(K64<'TEST MARKS '!#REF!,"N","Y") -> #REF! | R64: =IF(L64<'TEST MARKS '!#REF!,"N","Y") -> #REF! | S64: =IF(M64<'TEST MARKS '!#REF!,"N","Y") -> #REF! | T64: =IF(N64<'TEST MARKS '!#REF!,"N","Y") -> #REF! | U64: =IF(O64<'TEST MARKS '!#REF!,"N","Y") -> #REF!
A65: ='TEST MARKS '!A66 -> 57 | B65: ='TEST MARKS '!B66 -> RAVISHANKAR .G | C65: ='TEST MARKS '!C66 -> 1SG15ME078 | D65: ='TEST MARKS '!J66 -> 5 | E65: ='TEST MARKS '!K66 -> 5 | F65: ='TEST MARKS '!L66 -> 5 | G65: ='TEST MARKS '!M66 -> 5 | H65: ='TEST MARKS '!N66 -> 5 | I65: ='TEST MARKS '!O66 -> 5 | J65: =D65/'TEST MARKS '!#REF!*100 -> #REF! | K65: =E65/'TEST MARKS '!#REF!*100 -> #REF! | L65: =F65/'TEST MARKS '!#REF!*100 -> #REF! | M65: =G65/'TEST MARKS '!#REF!*100 -> #REF! | N65: =H65/'TEST MARKS '!#REF!*100 -> #REF! | O65: =I65/'TEST MARKS '!#REF!*100 -> #REF! | P65: =IF(J65<'TEST MARKS '!#REF!,"N","Y") -> #REF! | Q65: =IF(K65<'TEST MARKS '!#REF!,"N","Y") -> #REF! | R65: =IF(L65<'TEST MARKS '!#REF!,"N","Y") -> #REF! | S65: =IF(M65<'TEST MARKS '!#REF!,"N","Y") -> #REF! | T65: =IF(N65<'TEST MARKS '!#REF!,"N","Y") -> #REF! | U65: =IF(O65<'TEST MARKS '!#REF!,"N","Y") -> #REF!
A66: ='TEST MARKS '!A67 -> 58 | B66: ='TEST MARKS '!B67 -> ROHAN A | C66: ='TEST MARKS '!C67 -> 1SG15ME079 | D66: ='TEST MARKS '!J67 -> 5 | E66: ='TEST MARKS '!K67 -> 5 | F66: ='TEST MARKS '!L67 -> 5 | G66: ='TEST MARKS '!M67 -> 5 | H66: ='TEST MARKS '!N67 -> 5 | I66: ='TEST MARKS '!O67 -> 5 | J66: =D66/'TEST MARKS '!#REF!*100 -> #REF! | K66: =E66/'TEST MARKS '!#REF!*100 -> #REF! | L66: =F66/'TEST MARKS '!#REF!*100 -> #REF! | M66: =G66/'TEST MARKS '!#REF!*100 -> #REF! | N66: =H66/'TEST MARKS '!#REF!*100 -> #REF! | O66: =I66/'TEST MARKS '!#REF!*100 -> #REF! | P66: =IF(J66<'TEST MARKS '!#REF!,"N","Y") -> #REF! | Q66: =IF(K66<'TEST MARKS '!#REF!,"N","Y") -> #REF! | R66: =IF(L66<'TEST MARKS '!#REF!,"N","Y") -> #REF! | S66: =IF(M66<'TEST MARKS '!#REF!,"N","Y") -> #REF! | T66: =IF(N66<'TEST MARKS '!#REF!,"N","Y") -> #REF! | U66: =IF(O66<'TEST MARKS '!#REF!,"N","Y") -> #REF!
A67: ='TEST MARKS '!A68 -> 59 | B67: ='TEST MARKS '!B68 -> S HANUMANTHA REDDY | C67: ='TEST MARKS '!C68 -> 1SG15ME080 | D67: ='TEST MARKS '!J68 -> 5 | E67: ='TEST MARKS '!K68 -> 5 | F67: ='TEST MARKS '!L68 -> 5 | G67: ='TEST MARKS '!M68 -> 5 | H67: ='TEST MARKS '!N68 -> 5 | I67: ='TEST MARKS '!O68 -> 5 | J67: =D67/'TEST MARKS '!#REF!*100 -> #REF! | K67: =E67/'TEST MARKS '!#REF!*100 -> #REF! | L67: =F67/'TEST MARKS '!#REF!*100 -> #REF! | M67: =G67/'TEST MARKS '!#REF!*100 -> #REF! | N67: =H67/'TEST MARKS '!#REF!*100 -> #REF! | O67: =I67/'TEST MARKS '!#REF!*100 -> #REF! | P67: =IF(J67<'TEST MARKS '!#REF!,"N","Y") -> #REF! | Q67: =IF(K67<'TEST MARKS '!#REF!,"N","Y") -> #REF! | R67: =IF(L67<'TEST MARKS '!#REF!,"N","Y") -> #REF! | S67: =IF(M67<'TEST MARKS '!#REF!,"N","Y") -> #REF! | T67: =IF(N67<'TEST MARKS '!#REF!,"N","Y") -> #REF! | U67: =IF(O67<'TEST MARKS '!#REF!,"N","Y") -> #REF!
... A74: ='TEST MARKS '!A75 -> 66 | B74: ='TEST MARKS '!B75 -> SHUBHAM MAJHI | C74: ='TEST MARKS '!C75 -> 1SG15ME092 | D74: ='TEST MARKS '!J75 -> 5 | E74: ='TEST MARKS '!K75 -> 5 | F74: ='TEST MARKS '!L75 -> 5 | G74: ='TEST MARKS '!M75 -> 5 | H74: ='TEST MARKS '!N75 -> 5 | I74: ='TEST MARKS '!O75 -> 5 | J74: =D74/'TEST MARKS '!#REF!*100 -> #REF! | K74: =E74/'TEST MARKS '!#REF!*100 -> #REF! | L74: =F74/'TEST MARKS '!#REF!*100 -> #REF! | M74: =G74/'TEST MARKS '!#REF!*100 -> #REF! | N74: =H74/'TEST MARKS '!#REF!*100 -> #REF! | O74: =I74/'TEST MARKS '!#REF!*100 -> #REF! | P74: =IF(J74<'TEST MARKS '!#REF!,"N","Y") -> #REF! | Q74: =IF(K74<'TEST MARKS '!#REF!,"N","Y") -> #REF! | R74: =IF(L74<'TEST MARKS '!#REF!,"N","Y") -> #REF! | S74: =IF(M74<'TEST MARKS '!#REF!,"N","Y") -> #REF! | T74: =IF(N74<'TEST MARKS '!#REF!,"N","Y") -> #REF! | U74: =IF(O74<'TEST MARKS '!#REF!,"N","Y") -> #REF!
A75: ='TEST MARKS '!A76 -> 67 | B75: ='TEST MARKS '!B76 -> SRIDHAR N S | C75: ='TEST MARKS '!C76 -> 1SG15ME094 | D75: ='TEST MARKS '!#REF! -> #REF! | E75: ='TEST MARKS '!K76 -> 5 | F75: ='TEST MARKS '!L76 -> 5 | G75: ='TEST MARKS '!M76 -> 5 | H75: ='TEST MARKS '!N76 -> 5 | I75: ='TEST MARKS '!O76 -> 5 | J75: =D75/'TEST MARKS '!#REF!*100 -> #REF! | K75: =E75/'TEST MARKS '!#REF!*100 -> #REF! | L75: =F75/'TEST MARKS '!#REF!*100 -> #REF! | M75: =G75/'TEST MARKS '!#REF!*100 -> #REF! | N75: =H75/'TEST MARKS '!#REF!*100 -> #REF! | O75: =I75/'TEST MARKS '!#REF!*100 -> #REF! | P75: =IF(J75<'TEST MARKS '!#REF!,"N","Y") -> #REF! | Q75: =IF(K75<'TEST MARKS '!#REF!,"N","Y") -> #REF! | R75: =IF(L75<'TEST MARKS '!#REF!,"N","Y") -> #REF! | S75: =IF(M75<'TEST MARKS '!#REF!,"N","Y") -> #REF! | T75: =IF(N75<'TEST MARKS '!#REF!,"N","Y") -> #REF! | U75: =IF(O75<'TEST MARKS '!#REF!,"N","Y") -> #REF!
A76: ='TEST MARKS '!A77 -> 68 | B76: ='TEST MARKS '!#REF! -> #REF! | C76: ='TEST MARKS '!C77 -> 1SG15ME095 | D76: ='TEST MARKS '!J77 -> 4 | E76: ='TEST MARKS '!K77 -> 4 | F76: ='TEST MARKS '!L77 -> 4 | G76: ='TEST MARKS '!M77 -> 4 | H76: ='TEST MARKS '!N77 -> 4 | I76: ='TEST MARKS '!O77 -> 4 | J76: =D76/'TEST MARKS '!#REF!*100 -> #REF! | K76: =E76/'TEST MARKS '!#REF!*100 -> #REF! | L76: =F76/'TEST MARKS '!#REF!*100 -> #REF! | M76: =G76/'TEST MARKS '!#REF!*100 -> #REF! | N76: =H76/'TEST MARKS '!#REF!*100 -> #REF! | O76: =I76/'TEST MARKS '!#REF!*100 -> #REF! | P76: =IF(J76<'TEST MARKS '!#REF!,"N","Y") -> #REF! | Q76: =IF(K76<'TEST MARKS '!#REF!,"N","Y") -> #REF! | R76: =IF(L76<'TEST MARKS '!#REF!,"N","Y") -> #REF! | S76: =IF(M76<'TEST MARKS '!#REF!,"N","Y") -> #REF! | T76: =IF(N76<'TEST MARKS '!#REF!,"N","Y") -> #REF! | U76: =IF(O76<'TEST MARKS '!#REF!,"N","Y") -> #REF!
A77: ='TEST MARKS '!A78 -> 69 | B77: ='TEST MARKS '!#REF! -> #REF! | C77: ='TEST MARKS '!C78 -> 1SG15ME096 | D77: ='TEST MARKS '!J78 -> 5 | E77: ='TEST MARKS '!K78 -> 5 | F77: ='TEST MARKS '!L78 -> 5 | G77: ='TEST MARKS '!M78 -> 5 | H77: ='TEST MARKS '!N78 -> 5 | I77: ='TEST MARKS '!O78 -> 5 | J77: =D77/'TEST MARKS '!#REF!*100 -> #REF! | K77: =E77/'TEST MARKS '!#REF!*100 -> #REF! | L77: =F77/'TEST MARKS '!#REF!*100 -> #REF! | M77: =G77/'TEST MARKS '!#REF!*100 -> #REF! | N77: =H77/'TEST MARKS '!#REF!*100 -> #REF! | O77: =I77/'TEST MARKS '!#REF!*100 -> #REF! | P77: =IF(J77<'TEST MARKS '!#REF!,"N","Y") -> #REF! | Q77: =IF(K77<'TEST MARKS '!#REF!,"N","Y") -> #REF! | R77: =IF(L77<'TEST MARKS '!#REF!,"N","Y") -> #REF! | S77: =IF(M77<'TEST MARKS '!#REF!,"N","Y") -> #REF! | T77: =IF(N77<'TEST MARKS '!#REF!,"N","Y") -> #REF! | U77: =IF(O77<'TEST MARKS '!#REF!,"N","Y") -> #REF!
A78: ='TEST MARKS '!A79 -> 70 | B78: ='TEST MARKS '!#REF! -> #REF! | C78: ='TEST MARKS '!C79 -> 1SG15ME098 | D78: ='TEST MARKS '!J79 -> 5 | E78: ='TEST MARKS '!K79 -> 5 | F78: ='TEST MARKS '!L79 -> 5 | G78: ='TEST MARKS '!M79 -> 5 | H78: ='TEST MARKS '!N79 -> 5 | I78: ='TEST MARKS '!O79 -> 5 | J78: =D78/'TEST MARKS '!#REF!*100 -> #REF! | K78: =E78/'TEST MARKS '!#REF!*100 -> #REF! | L78: =F78/'TEST MARKS '!#REF!*100 -> #REF! | M78: =G78/'TEST MARKS '!#REF!*100 -> #REF! | N78: =H78/'TEST MARKS '!#REF!*100 -> #REF! | O78: =I78/'TEST MARKS '!#REF!*100 -> #REF! | P78: =IF(J78<'TEST MARKS '!#REF!,"N","Y") -> #REF! | Q78: =IF(K78<'TEST MARKS '!#REF!,"N","Y") -> #REF! | R78: =IF(L78<'TEST MARKS '!#REF!,"N","Y") -> #REF! | S78: =IF(M78<'TEST MARKS '!#REF!,"N","Y") -> #REF! | T78: =IF(N78<'TEST MARKS '!#REF!,"N","Y") -> #REF! | U78: =IF(O78<'TEST MARKS '!#REF!,"N","Y") -> #REF!
A79: ='TEST MARKS '!A80 -> 71 | B79: ='TEST MARKS '!#REF! -> #REF! | C79: ='TEST MARKS '!C80 -> 1SG15ME099 | D79: ='TEST MARKS '!J80 -> 5 | E79: ='TEST MARKS '!K80 -> 5 | F79: ='TEST MARKS '!L80 -> 5 | G79: ='TEST MARKS '!M80 -> 5 | H79: ='TEST MARKS '!N80 -> 5 | I79: ='TEST MARKS '!O80 -> 5 | J79: =D79/'TEST MARKS '!#REF!*100 -> #REF! | K79: =E79/'TEST MARKS '!#REF!*100 -> #REF! | L79: =F79/'TEST MARKS '!#REF!*100 -> #REF! | M79: =G79/'TEST MARKS '!#REF!*100 -> #REF! | N79: =H79/'TEST MARKS '!#REF!*100 -> #REF! | O79: =I79/'TEST MARKS '!#REF!*100 -> #REF! | P79: =IF(J79<'TEST MARKS '!#REF!,"N","Y") -> #REF! | Q79: =IF(K79<'TEST MARKS '!#REF!,"N","Y") -> #REF! | R79: =IF(L79<'TEST MARKS '!#REF!,"N","Y") -> #REF! | S79: =IF(M79<'TEST MARKS '!#REF!,"N","Y") -> #REF! | T79: =IF(N79<'TEST MARKS '!#REF!,"N","Y") -> #REF! | U79: =IF(O79<'TEST MARKS '!#REF!,"N","Y") -> #REF!
A80: ='TEST MARKS '!A81 -> 72 | B80: ='TEST MARKS '!#REF! -> #REF! | C80: ='TEST MARKS '!C81 -> 1SG15ME101 | D80: ='TEST MARKS '!J81 -> 4 | E80: ='TEST MARKS '!K81 -> 4 | F80: ='TEST MARKS '!L81 -> 4 | G80: ='TEST MARKS '!M81 -> 4 | H80: ='TEST MARKS '!N81 -> 4 | I80: ='TEST MARKS '!O81 -> 4 | J80: =D80/'TEST MARKS '!#REF!*100 -> #REF! | K80: =E80/'TEST MARKS '!#REF!*100 -> #REF! | L80: =F80/'TEST MARKS '!#REF!*100 -> #REF! | M80: =G80/'TEST MARKS '!#REF!*100 -> #REF! | N80: =H80/'TEST MARKS '!#REF!*100 -> #REF! | O80: =I80/'TEST MARKS '!#REF!*100 -> #REF! | P80: =IF(J80<'TEST MARKS '!#REF!,"N","Y") -> #REF! | Q80: =IF(K80<'TEST MARKS '!#REF!,"N","Y") -> #REF! | R80: =IF(L80<'TEST MARKS '!#REF!,"N","Y") -> #REF! | S80: =IF(M80<'TEST MARKS '!#REF!,"N","Y") -> #REF! | T80: =IF(N80<'TEST MARKS '!#REF!,"N","Y") -> #REF! | U80: =IF(O80<'TEST MARKS '!#REF!,"N","Y") -> #REF!
A81: ='TEST MARKS '!A82 -> 73 | B81: ='TEST MARKS '!#REF! -> #REF! | C81: ='TEST MARKS '!C82 -> 1SG15ME102 | D81: ='TEST MARKS '!J82 -> 4 | E81: ='TEST MARKS '!K82 -> 4 | F81: ='TEST MARKS '!L82 -> 4 | G81: ='TEST MARKS '!M82 -> 4 | H81: ='TEST MARKS '!N82 -> 4 | I81: ='TEST MARKS '!O82 -> 4 | J81: =D81/'TEST MARKS '!#REF!*100 -> #REF! | K81: =E81/'TEST MARKS '!#REF!*100 -> #REF! | L81: =F81/'TEST MARKS '!#REF!*100 -> #REF! | M81: =G81/'TEST MARKS '!#REF!*100 -> #REF! | N81: =H81/'TEST MARKS '!#REF!*100 -> #REF! | O81: =I81/'TEST MARKS '!#REF!*100 -> #REF! | P81: =IF(J81<'TEST MARKS '!#REF!,"N","Y") -> #REF! | Q81: =IF(K81<'TEST MARKS '!#REF!,"N","Y") -> #REF! | R81: =IF(L81<'TEST MARKS '!#REF!,"N","Y") -> #REF! | S81: =IF(M81<'TEST MARKS '!#REF!,"N","Y") -> #REF! | T81: =IF(N81<'TEST MARKS '!#REF!,"N","Y") -> #REF! | U81: =IF(O81<'TEST MARKS '!#REF!,"N","Y") -> #REF!
A82: ='TEST MARKS '!A83 -> 74 | B82: ='TEST MARKS '!#REF! -> #REF! | C82: ='TEST MARKS '!C83 -> 1SG15ME104 | D82: ='TEST MARKS '!J83 -> 5 | E82: ='TEST MARKS '!K83 -> 5 | F82: ='TEST MARKS '!L83 -> 5 | G82: ='TEST MARKS '!M83 -> 5 | H82: ='TEST MARKS '!N83 -> 5 | I82: ='TEST MARKS '!O83 -> 5 | J82: =D82/'TEST MARKS '!#REF!*100 -> #REF! | K82: =E82/'TEST MARKS '!#REF!*100 -> #REF! | L82: =F82/'TEST MARKS '!#REF!*100 -> #REF! | M82: =G82/'TEST MARKS '!#REF!*100 -> #REF! | N82: =H82/'TEST MARKS '!#REF!*100 -> #REF! | O82: =I82/'TEST MARKS '!#REF!*100 -> #REF! | P82: =IF(J82<'TEST MARKS '!#REF!,"N","Y") -> #REF! | Q82: =IF(K82<'TEST MARKS '!#REF!,"N","Y") -> #REF! | R82: =IF(L82<'TEST MARKS '!#REF!,"N","Y") -> #REF! | S82: =IF(M82<'TEST MARKS '!#REF!,"N","Y") -> #REF! | T82: =IF(N82<'TEST MARKS '!#REF!,"N","Y") -> #REF! | U82: =IF(O82<'TEST MARKS '!#REF!,"N","Y") -> #REF!
A83: ='TEST MARKS '!A84 -> 75 | B83: ='TEST MARKS '!#REF! -> #REF! | C83: ='TEST MARKS '!C84 -> 1SG15ME105 | D83: ='TEST MARKS '!J84 -> 4 | E83: ='TEST MARKS '!K84 -> 4 | F83: ='TEST MARKS '!L84 -> 4 | G83: ='TEST MARKS '!M84 -> 4 | H83: ='TEST MARKS '!N84 -> 4 | I83: ='TEST MARKS '!O84 -> 74 | J83: =D83/'TEST MARKS '!#REF!*100 -> #REF! | K83: =E83/'TEST MARKS '!#REF!*100 -> #REF! | L83: =F83/'TEST MARKS '!#REF!*100 -> #REF! | M83: =G83/'TEST MARKS '!#REF!*100 -> #REF! | N83: =H83/'TEST MARKS '!#REF!*100 -> #REF! | O83: =I83/'TEST MARKS '!#REF!*100 -> #REF! | P83: =IF(J83<'TEST MARKS '!#REF!,"N","Y") -> #REF! | Q83: =IF(K83<'TEST MARKS '!#REF!,"N","Y") -> #REF! | R83: =IF(L83<'TEST MARKS '!#REF!,"N","Y") -> #REF! | S83: =IF(M83<'TEST MARKS '!#REF!,"N","Y") -> #REF! | T83: =IF(N83<'TEST MARKS '!#REF!,"N","Y") -> #REF! | U83: =IF(O83<'TEST MARKS '!#REF!,"N","Y") -> #REF!
A84: ='TEST MARKS '!A85 -> 76 | B84: ='TEST MARKS '!#REF! -> #REF! | C84: ='TEST MARKS '!C85 -> 1SG16ME400 | D84: ='TEST MARKS '!J85 -> 5 | E84: ='TEST MARKS '!K85 -> 5 | F84: ='TEST MARKS '!L85 -> 5 | G84: ='TEST MARKS '!M85 -> 5 | H84: ='TEST MARKS '!N85 -> 5 | I84: ='TEST MARKS '!O85 -> 5 | J84: =D84/'TEST MARKS '!#REF!*100 -> #REF! | K84: =E84/'TEST MARKS '!#REF!*100 -> #REF! | L84: =F84/'TEST MARKS '!#REF!*100 -> #REF! | M84: =G84/'TEST MARKS '!#REF!*100 -> #REF! | N84: =H84/'TEST MARKS '!#REF!*100 -> #REF! | O84: =I84/'TEST MARKS '!#REF!*100 -> #REF! | P84: =IF(J84<'TEST MARKS '!#REF!,"N","Y") -> #REF! | Q84: =IF(K84<'TEST MARKS '!#REF!,"N","Y") -> #REF! | R84: =IF(L84<'TEST MARKS '!#REF!,"N","Y") -> #REF! | S84: =IF(M84<'TEST MARKS '!#REF!,"N","Y") -> #REF! | T84: =IF(N84<'TEST MARKS '!#REF!,"N","Y") -> #REF! | U84: =IF(O84<'TEST MARKS '!#REF!,"N","Y") -> #REF!
A85: ='TEST MARKS '!A86 -> 77 | B85: ='TEST MARKS '!#REF! -> #REF! | C85: ='TEST MARKS '!C86 -> 1SG16ME402 | D85: ='TEST MARKS '!J86 -> 5 | E85: ='TEST MARKS '!K86 -> 5 | F85: ='TEST MARKS '!L86 -> 5 | G85: ='TEST MARKS '!M86 -> 5 | H85: ='TEST MARKS '!N86 -> 5 | I85: ='TEST MARKS '!O86 -> 5 | J85: =D85/'TEST MARKS '!#REF!*100 -> #REF! | K85: =E85/'TEST MARKS '!#REF!*100 -> #REF! | L85: =F85/'TEST MARKS '!#REF!*100 -> #REF! | M85: =G85/'TEST MARKS '!#REF!*100 -> #REF! | N85: =H85/'TEST MARKS '!#REF!*100 -> #REF! | O85: =I85/'TEST MARKS '!#REF!*100 -> #REF! | P85: =IF(J85<'TEST MARKS '!#REF!,"N","Y") -> #REF! | Q85: =IF(K85<'TEST MARKS '!#REF!,"N","Y") -> #REF! | R85: =IF(L85<'TEST MARKS '!#REF!,"N","Y") -> #REF! | S85: =IF(M85<'TEST MARKS '!#REF!,"N","Y") -> #REF! | T85: =IF(N85<'TEST MARKS '!#REF!,"N","Y") -> #REF! | U85: =IF(O85<'TEST MARKS '!#REF!,"N","Y") -> #REF!
A86: ='TEST MARKS '!A87 -> 78 | B86: ='TEST MARKS '!#REF! -> #REF! | C86: ='TEST MARKS '!C87 -> 1SG16ME404 | D86: ='TEST MARKS '!J87 -> 4 | E86: ='TEST MARKS '!K87 -> 4 | F86: ='TEST MARKS '!L87 -> 4 | G86: ='TEST MARKS '!M87 -> 4 | H86: ='TEST MARKS '!N87 -> 4 | I86: ='TEST MARKS '!O87 -> 4 | J86: =D86/'TEST MARKS '!#REF!*100 -> #REF! | K86: =E86/'TEST MARKS '!#REF!*100 -> #REF! | L86: =F86/'TEST MARKS '!#REF!*100 -> #REF! | M86: =G86/'TEST MARKS '!#REF!*100 -> #REF! | N86: =H86/'TEST MARKS '!#REF!*100 -> #REF! | O86: =I86/'TEST MARKS '!#REF!*100 -> #REF! | P86: =IF(J86<'TEST MARKS '!#REF!,"N","Y") -> #REF! | Q86: =IF(K86<'TEST MARKS '!#REF!,"N","Y") -> #REF! | R86: =IF(L86<'TEST MARKS '!#REF!,"N","Y") -> #REF! | S86: =IF(M86<'TEST MARKS '!#REF!,"N","Y") -> #REF! | T86: =IF(N86<'TEST MARKS '!#REF!,"N","Y") -> #REF! | U86: =IF(O86<'TEST MARKS '!#REF!,"N","Y") -> #REF!
A87: ='TEST MARKS '!A88 -> 79 | B87: ='TEST MARKS '!#REF! -> #REF! | C87: ='TEST MARKS '!C88 -> 1SG16ME405 | D87: ='TEST MARKS '!J88 -> 4 | E87: ='TEST MARKS '!K88 -> 4 | F87: ='TEST MARKS '!L88 -> 4 | G87: ='TEST MARKS '!M88 -> 4 | H87: ='TEST MARKS '!N88 -> 4 | I87: ='TEST MARKS '!O88 -> 4 | J87: =D87/'TEST MARKS '!#REF!*100 -> #REF! | K87: =E87/'TEST MARKS '!#REF!*100 -> #REF! | L87: =F87/'TEST MARKS '!#REF!*100 -> #REF! | M87: =G87/'TEST MARKS '!#REF!*100 -> #REF! | N87: =H87/'TEST MARKS '!#REF!*100 -> #REF! | O87: =I87/'TEST MARKS '!#REF!*100 -> #REF! | P87: =IF(J87<'TEST MARKS '!#REF!,"N","Y") -> #REF! | Q87: =IF(K87<'TEST MARKS '!#REF!,"N","Y") -> #REF! | R87: =IF(L87<'TEST MARKS '!#REF!,"N","Y") -> #REF! | S87: =IF(M87<'TEST MARKS '!#REF!,"N","Y") -> #REF! | T87: =IF(N87<'TEST MARKS '!#REF!,"N","Y") -> #REF! | U87: =IF(O87<'TEST MARKS '!#REF!,"N","Y") -> #REF!
... A119: ='TEST MARKS '!A120 -> 111 | B119: ='TEST MARKS '!#REF! -> #REF! | C119: ='TEST MARKS '!C120 -> 1SG16ME443 | D119: ='TEST MARKS '!J120 -> 5 | E119: ='TEST MARKS '!K120 -> 5 | F119: ='TEST MARKS '!L120 -> 5 | G119: ='TEST MARKS '!M120 -> 5 | H119: ='TEST MARKS '!N120 -> 5 | I119: ='TEST MARKS '!O120 -> 5 | J119: =D119/'TEST MARKS '!#REF!*100 -> #REF! | K119: =E119/'TEST MARKS '!#REF!*100 -> #REF! | L119: =F119/'TEST MARKS '!#REF!*100 -> #REF! | M119: =G119/'TEST MARKS '!#REF!*100 -> #REF! | N119: =H119/'TEST MARKS '!#REF!*100 -> #REF! | O119: =I119/'TEST MARKS '!#REF!*100 -> #REF! | P119: =IF(J119<'TEST MARKS '!#REF!,"N","Y") -> #REF! | Q119: =IF(K119<'TEST MARKS '!#REF!,"N","Y") -> #REF! | R119: =IF(L119<'TEST MARKS '!#REF!,"N","Y") -> #REF! | S119: =IF(M119<'TEST MARKS '!#REF!,"N","Y") -> #REF! | T119: =IF(N119<'TEST MARKS '!#REF!,"N","Y") -> #REF! | U119: =IF(O119<'TEST MARKS '!#REF!,"N","Y") -> #REF!
A120: ='TEST MARKS '!#REF! -> #REF! | B120: ='TEST MARKS '!#REF! -> #REF! | C120: ='TEST MARKS '!#REF! -> #REF! | D120: ='TEST MARKS '!#REF! -> #REF! | E120: ='TEST MARKS '!#REF! -> #REF! | F120: ='TEST MARKS '!#REF! -> #REF! | G120: ='TEST MARKS '!#REF! -> #REF! | H120: ='TEST MARKS '!#REF! -> #REF! | I120: ='TEST MARKS '!#REF! -> #REF! | J120: =D120/'TEST MARKS '!#REF!*100 -> #REF! | K120: =E120/'TEST MARKS '!#REF!*100 -> #REF! | L120: =F120/'TEST MARKS '!#REF!*100 -> #REF! | M120: =G120/'TEST MARKS '!#REF!*100 -> #REF! | N120: =H120/'TEST MARKS '!#REF!*100 -> #REF! | O120: =I120/'TEST MARKS '!#REF!*100 -> #REF! | P120: =IF(J120<'TEST MARKS '!#REF!,"N","Y") -> #REF! | Q120: =IF(K120<'TEST MARKS '!#REF!,"N","Y") -> #REF! | R120: =IF(L120<'TEST MARKS '!#REF!,"N","Y") -> #REF! | S120: =IF(M120<'TEST MARKS '!#REF!,"N","Y") -> #REF! | T120: =IF(N120<'TEST MARKS '!#REF!,"N","Y") -> #REF! | U120: =IF(O120<'TEST MARKS '!#REF!,"N","Y") -> #REF!
A121: ='TEST MARKS '!#REF! -> #REF! | B121: ='TEST MARKS '!#REF! -> #REF! | C121: ='TEST MARKS '!#REF! -> #REF! | D121: ='TEST MARKS '!#REF! -> #REF! | E121: ='TEST MARKS '!#REF! -> #REF! | F121: ='TEST MARKS '!#REF! -> #REF! | G121: ='TEST MARKS '!#REF! -> #REF! | H121: ='TEST MARKS '!#REF! -> #REF! | I121: ='TEST MARKS '!#REF! -> #REF! | J121: =D121/'TEST MARKS '!#REF!*100 -> #REF! | K121: =E121/'TEST MARKS '!#REF!*100 -> #REF! | L121: =F121/'TEST MARKS '!#REF!*100 -> #REF! | M121: =G121/'TEST MARKS '!#REF!*100 -> #REF! | N121: =H121/'TEST MARKS '!#REF!*100 -> #REF! | O121: =I121/'TEST MARKS '!#REF!*100 -> #REF! | P121: =IF(J121<'TEST MARKS '!#REF!,"N","Y") -> #REF! | Q121: =IF(K121<'TEST MARKS '!#REF!,"N","Y") -> #REF! | R121: =IF(L121<'TEST MARKS '!#REF!,"N","Y") -> #REF! | S121: =IF(M121<'TEST MARKS '!#REF!,"N","Y") -> #REF! | T121: =IF(N121<'TEST MARKS '!#REF!,"N","Y") -> #REF! | U121: =IF(O121<'TEST MARKS '!#REF!,"N","Y") -> #REF!
A122: ='TEST MARKS '!#REF! -> #REF! | B122: ='TEST MARKS '!#REF! -> #REF! | C122: ='TEST MARKS '!#REF! -> #REF! | D122: ='TEST MARKS '!#REF! -> #REF! | E122: ='TEST MARKS '!#REF! -> #REF! | F122: ='TEST MARKS '!#REF! -> #REF! | G122: ='TEST MARKS '!#REF! -> #REF! | H122: ='TEST MARKS '!#REF! -> #REF! | I122: ='TEST MARKS '!#REF! -> #REF! | J122: =D122/'TEST MARKS '!#REF!*100 -> #REF! | K122: =E122/'TEST MARKS '!#REF!*100 -> #REF! | L122: =F122/'TEST MARKS '!#REF!*100 -> #REF! | M122: =G122/'TEST MARKS '!#REF!*100 -> #REF! | N122: =H122/'TEST MARKS '!#REF!*100 -> #REF! | O122: =I122/'TEST MARKS '!#REF!*100 -> #REF! | P122: =IF(J122<'TEST MARKS '!#REF!,"N","Y") -> #REF! | Q122: =IF(K122<'TEST MARKS '!#REF!,"N","Y") -> #REF! | R122: =IF(L122<'TEST MARKS '!#REF!,"N","Y") -> #REF! | S122: =IF(M122<'TEST MARKS '!#REF!,"N","Y") -> #REF! | T122: =IF(N122<'TEST MARKS '!#REF!,"N","Y") -> #REF! | U122: =IF(O122<'TEST MARKS '!#REF!,"N","Y") -> #REF!
A123: ='TEST MARKS '!#REF! -> #REF! | B123: ='TEST MARKS '!#REF! -> #REF! | C123: ='TEST MARKS '!#REF! -> #REF! | D123: ='TEST MARKS '!#REF! -> #REF! | E123: ='TEST MARKS '!#REF! -> #REF! | F123: ='TEST MARKS '!#REF! -> #REF! | G123: ='TEST MARKS '!#REF! -> #REF! | H123: ='TEST MARKS '!#REF! -> #REF! | I123: ='TEST MARKS '!#REF! -> #REF! | J123: =D123/'TEST MARKS '!#REF!*100 -> #REF! | K123: =E123/'TEST MARKS '!#REF!*100 -> #REF! | L123: =F123/'TEST MARKS '!#REF!*100 -> #REF! | M123: =G123/'TEST MARKS '!#REF!*100 -> #REF! | N123: =H123/'TEST MARKS '!#REF!*100 -> #REF! | O123: =I123/'TEST MARKS '!#REF!*100 -> #REF! | P123: =IF(J123<'TEST MARKS '!#REF!,"N","Y") -> #REF! | Q123: =IF(K123<'TEST MARKS '!#REF!,"N","Y") -> #REF! | R123: =IF(L123<'TEST MARKS '!#REF!,"N","Y") -> #REF! | S123: =IF(M123<'TEST MARKS '!#REF!,"N","Y") -> #REF! | T123: =IF(N123<'TEST MARKS '!#REF!,"N","Y") -> #REF! | U123: =IF(O123<'TEST MARKS '!#REF!,"N","Y") -> #REF!
A124: ='TEST MARKS '!#REF! -> #REF! | B124: ='TEST MARKS '!#REF! -> #REF! | C124: ='TEST MARKS '!#REF! -> #REF! | D124: ='TEST MARKS '!#REF! -> #REF! | E124: ='TEST MARKS '!#REF! -> #REF! | F124: ='TEST MARKS '!#REF! -> #REF! | G124: ='TEST MARKS '!#REF! -> #REF! | H124: ='TEST MARKS '!#REF! -> #REF! | I124: ='TEST MARKS '!#REF! -> #REF! | J124: =D124/'TEST MARKS '!#REF!*100 -> #REF! | K124: =E124/'TEST MARKS '!#REF!*100 -> #REF! | L124: =F124/'TEST MARKS '!#REF!*100 -> #REF! | M124: =G124/'TEST MARKS '!#REF!*100 -> #REF! | N124: =H124/'TEST MARKS '!#REF!*100 -> #REF! | O124: =I124/'TEST MARKS '!#REF!*100 -> #REF! | P124: =IF(J124<'TEST MARKS '!#REF!,"N","Y") -> #REF! | Q124: =IF(K124<'TEST MARKS '!#REF!,"N","Y") -> #REF! | R124: =IF(L124<'TEST MARKS '!#REF!,"N","Y") -> #REF! | S124: =IF(M124<'TEST MARKS '!#REF!,"N","Y") -> #REF! | T124: =IF(N124<'TEST MARKS '!#REF!,"N","Y") -> #REF! | U124: =IF(O124<'TEST MARKS '!#REF!,"N","Y") -> #REF!
A125: ='TEST MARKS '!#REF! -> #REF! | B125: ='TEST MARKS '!#REF! -> #REF! | C125: ='TEST MARKS '!#REF! -> #REF! | D125: ='TEST MARKS '!#REF! -> #REF! | E125: ='TEST MARKS '!#REF! -> #REF! | F125: ='TEST MARKS '!#REF! -> #REF! | G125: ='TEST MARKS '!#REF! -> #REF! | H125: ='TEST MARKS '!#REF! -> #REF! | I125: ='TEST MARKS '!#REF! -> #REF! | J125: =D125/'TEST MARKS '!#REF!*100 -> #REF! | K125: =E125/'TEST MARKS '!#REF!*100 -> #REF! | L125: =F125/'TEST MARKS '!#REF!*100 -> #REF! | M125: =G125/'TEST MARKS '!#REF!*100 -> #REF! | N125: =H125/'TEST MARKS '!#REF!*100 -> #REF! | O125: =I125/'TEST MARKS '!#REF!*100 -> #REF! | P125: =IF(J125<'TEST MARKS '!#REF!,"N","Y") -> #REF! | Q125: =IF(K125<'TEST MARKS '!#REF!,"N","Y") -> #REF! | R125: =IF(L125<'TEST MARKS '!#REF!,"N","Y") -> #REF! | S125: =IF(M125<'TEST MARKS '!#REF!,"N","Y") -> #REF! | T125: =IF(N125<'TEST MARKS '!#REF!,"N","Y") -> #REF! | U125: =IF(O125<'TEST MARKS '!#REF!,"N","Y") -> #REF!
A126: ='TEST MARKS '!#REF! -> #REF! | B126: ='TEST MARKS '!#REF! -> #REF! | C126: ='TEST MARKS '!#REF! -> #REF! | D126: ='TEST MARKS '!#REF! -> #REF! | E126: ='TEST MARKS '!#REF! -> #REF! | F126: ='TEST MARKS '!#REF! -> #REF! | G126: ='TEST MARKS '!#REF! -> #REF! | H126: ='TEST MARKS '!#REF! -> #REF! | I126: ='TEST MARKS '!#REF! -> #REF! | J126: =D126/'TEST MARKS '!#REF!*100 -> #REF! | K126: =E126/'TEST MARKS '!#REF!*100 -> #REF! | L126: =F126/'TEST MARKS '!#REF!*100 -> #REF! | M126: =G126/'TEST MARKS '!#REF!*100 -> #REF! | N126: =H126/'TEST MARKS '!#REF!*100 -> #REF! | O126: =I126/'TEST MARKS '!#REF!*100 -> #REF! | P126: =IF(J126<'TEST MARKS '!#REF!,"N","Y") -> #REF! | Q126: =IF(K126<'TEST MARKS '!#REF!,"N","Y") -> #REF! | R126: =IF(L126<'TEST MARKS '!#REF!,"N","Y") -> #REF! | S126: =IF(M126<'TEST MARKS '!#REF!,"N","Y") -> #REF! | T126: =IF(N126<'TEST MARKS '!#REF!,"N","Y") -> #REF! | U126: =IF(O126<'TEST MARKS '!#REF!,"N","Y") -> #REF!
A127: ='TEST MARKS '!#REF! -> #REF! | B127: ='TEST MARKS '!#REF! -> #REF! | C127: ='TEST MARKS '!#REF! -> #REF! | D127: ='TEST MARKS '!#REF! -> #REF! | E127: ='TEST MARKS '!#REF! -> #REF! | F127: ='TEST MARKS '!#REF! -> #REF! | G127: ='TEST MARKS '!#REF! -> #REF! | H127: ='TEST MARKS '!#REF! -> #REF! | I127: ='TEST MARKS '!#REF! -> #REF! | J127: =D127/'TEST MARKS '!#REF!*100 -> #REF! | K127: =E127/'TEST MARKS '!#REF!*100 -> #REF! | L127: =F127/'TEST MARKS '!#REF!*100 -> #REF! | M127: =G127/'TEST MARKS '!#REF!*100 -> #REF! | N127: =H127/'TEST MARKS '!#REF!*100 -> #REF! | O127: =I127/'TEST MARKS '!#REF!*100 -> #REF! | P127: =IF(J127<'TEST MARKS '!#REF!,"N","Y") -> #REF! | Q127: =IF(K127<'TEST MARKS '!#REF!,"N","Y") -> #REF! | R127: =IF(L127<'TEST MARKS '!#REF!,"N","Y") -> #REF! | S127: =IF(M127<'TEST MARKS '!#REF!,"N","Y") -> #REF! | T127: =IF(N127<'TEST MARKS '!#REF!,"N","Y") -> #REF! | U127: =IF(O127<'TEST MARKS '!#REF!,"N","Y") -> #REF!
A128: ='TEST MARKS '!#REF! -> #REF! | B128: ='TEST MARKS '!#REF! -> #REF! | C128: ='TEST MARKS '!#REF! -> #REF! | D128: ='TEST MARKS '!#REF! -> #REF! | E128: ='TEST MARKS '!#REF! -> #REF! | F128: ='TEST MARKS '!#REF! -> #REF! | G128: ='TEST MARKS '!#REF! -> #REF! | H128: ='TEST MARKS '!#REF! -> #REF! | I128: ='TEST MARKS '!#REF! -> #REF! | J128: =D128/'TEST MARKS '!#REF!*100 -> #REF! | K128: =E128/'TEST MARKS '!#REF!*100 -> #REF! | L128: =F128/'TEST MARKS '!#REF!*100 -> #REF! | M128: =G128/'TEST MARKS '!#REF!*100 -> #REF! | N128: =H128/'TEST MARKS '!#REF!*100 -> #REF! | O128: =I128/'TEST MARKS '!#REF!*100 -> #REF! | P128: =IF(J128<'TEST MARKS '!#REF!,"N","Y") -> #REF! | Q128: =IF(K128<'TEST MARKS '!#REF!,"N","Y") -> #REF! | R128: =IF(L128<'TEST MARKS '!#REF!,"N","Y") -> #REF! | S128: =IF(M128<'TEST MARKS '!#REF!,"N","Y") -> #REF! | T128: =IF(N128<'TEST MARKS '!#REF!,"N","Y") -> #REF! | U128: =IF(O128<'TEST MARKS '!#REF!,"N","Y") -> #REF!
O130: NO OF Y | P130: =COUNTIF(P9:P128,"Y") -> 0 | Q130: =COUNTIF(Q9:Q128,"Y") -> 0 | R130: =COUNTIF(R9:R128,"Y") -> 0 | S130: =COUNTIF(S9:S128,"Y") -> 0 | T130: =COUNTIF(T9:T128,"Y") -> 0 | U130: =COUNTIF(U9:U128,"Y") -> 0
O131: ATTAINMENT | P131: =P130/'TEST MARKS '!#REF!*100 -> #REF! | Q131: =Q130/'TEST MARKS '!#REF!*100 -> #REF! | R131: =R130/'TEST MARKS '!#REF!*100 -> #REF! | S131: =S130/'TEST MARKS '!#REF!*100 -> #REF! | T131: =T130/'TEST MARKS '!#REF!*100 -> #REF! | U131: =U130/'TEST MARKS '!#REF!*100 -> #REF!
O135: CO's | P135: CO1 | Q135: CO2 | R135: CO3 | S135: CO4 | T135: CO5 | U135: CO6
O136: ASSIGNMEENT MARKS ATTAINMENT | P136: =P131 -> #REF! | Q136: =Q131 -> #REF! | R136: =R131 -> #REF! | S136: =S131 -> #REF! | T136: =T131 -> #REF! | U136: =U131 -> #REF!

Sheet SEE-final exam CO
P1: TARGET: 70% OF STUDENTS TO SCORE 40% and ABOVE
A2: Sl. No. | B2: Name of the student | C2: USN | D2: EXAM MARKS OBTAINED(same for all COs) | J2: EXAMINATION ATTAINMENT (%) | P2: Y OR N
D5: CO1 | E5: CO2 | F5: CO3 | G5: CO4 | H5: CO5 | I5: CO6 | J5: CO1 | K5: CO2 | L5: CO3 | M5: CO4 | N5: CO5 | O5: CO6 | P5: CO1 | Q5: CO2 | R5: CO3 | S5: CO4 | T5: CO5 | U5: CO6
A6: ='TEST MARKS '!A10 -> 1 | B6: ='TEST MARKS '!B10 -> AFTAB AHMED WALA | C6: ='TEST MARKS '!C10 -> 1SG15ME004 | D6: ='TEST MARKS '!P10 -> 3 | E6: =D6 -> 3 | F6: =E6 -> 3 | G6: =F6 -> 3 | H6: =G6 -> 3 | I6: =H6 -> 3 | J6: =D6/'TEST MARKS '!#REF!*100 -> #REF! | K6: =E6/'TEST MARKS '!#REF!*100 -> #REF! | L6: =F6/'TEST MARKS '!#REF!*100 -> #REF! | M6: =G6/'TEST MARKS '!#REF!*100 -> #REF! | N6: =H6/'TEST MARKS '!#REF!*100 -> #REF! | O6: =I6/'TEST MARKS '!#REF!*100 -> #REF! | P6: =IF(J6<'TEST MARKS '!#REF!,"N","Y") -> #REF! | Q6: =IF(K6<'TEST MARKS '!#REF!,"N","Y") -> #REF! | R6: =IF(L6<'TEST MARKS '!#REF!,"N","Y") -> #REF! | S6: =IF(M6<'TEST MARKS '!#REF!,"N","Y") -> #REF! | T6: =IF(N6<'TEST MARKS '!#REF!,"N","Y") -> #REF! | U6: =IF(O6<'TEST MARKS '!#REF!,"N","Y") -> #REF!
A7: ='TEST MARKS '!A11 -> 2 | B7: ='TEST MARKS '!B11 -> AJEYA.V | C7: ='TEST MARKS '!C11 -> 1SG15ME006 | D7: ='TEST MARKS '!P11 -> 3 | E7: =D7 -> 3 | F7: =E7 -> 3 | G7: =F7 -> 3 | H7: =G7 -> 3 | I7: =H7 -> 3 | J7: =D7/'TEST MARKS '!#REF!*100 -> #REF! | K7: =E7/'TEST MARKS '!#REF!*100 -> #REF! | L7: =F7/'TEST MARKS '!#REF!*100 -> #REF! | M7: =G7/'TEST MARKS '!#REF!*100 -> #REF! | N7: =H7/'TEST MARKS '!#REF!*100 -> #REF! | O7: =I7/'TEST MARKS '!#REF!*100 -> #REF! | P7: =IF(J7<'TEST MARKS '!#REF!,"N","Y") -> #REF! | Q7: =IF(K7<'TEST MARKS '!#REF!,"N","Y") -> #REF! | R7: =IF(L7<'TEST MARKS '!#REF!,"N","Y") -> #REF! | S7: =IF(M7<'TEST MARKS '!#REF!,"N","Y") -> #REF! | T7: =IF(N7<'TEST MARKS '!#REF!,"N","Y") -> #REF! | U7: =IF(O7<'TEST MARKS '!#REF!,"N","Y") -> #REF!
A8: ='TEST MARKS '!A12 -> 3 | B8: ='TEST MARKS '!B12 -> AJITH S P | C8: ='TEST MARKS '!C12 -> 1SG15ME007 | D8: ='TEST MARKS '!P12 -> 0 | E8: =D8 -> 0 | F8: =E8 -> 0 | G8: =F8 -> 0 | H8: =G8 -> 0 | I8: =H8 -> 0 | J8: =D8/'TEST MARKS '!#REF!*100 -> #REF! | K8: =E8/'TEST MARKS '!#REF!*100 -> #REF! | L8: =F8/'TEST MARKS '!#REF!*100 -> #REF! | M8: =G8/'TEST MARKS '!#REF!*100 -> #REF! | N8: =H8/'TEST MARKS '!#REF!*100 -> #REF! | O8: =I8/'TEST MARKS '!#REF!*100 -> #REF! | P8: =IF(J8<'TEST MARKS '!#REF!,"N","Y") -> #REF! | Q8: =IF(K8<'TEST MARKS '!#REF!,"N","Y") -> #REF! | R8: =IF(L8<'TEST MARKS '!#REF!,"N","Y") -> #REF! | S8: =IF(M8<'TEST MARKS '!#REF!,"N","Y") -> #REF! | T8: =IF(N8<'TEST MARKS '!#REF!,"N","Y") -> #REF! | U8: =IF(O8<'TEST MARKS '!#REF!,"N","Y") -> #REF!
A9: ='TEST MARKS '!A13 -> 4 | B9: ='TEST MARKS '!B13 -> AKSHAY S | C9: ='TEST MARKS '!C13 -> 1SG15ME008 | D9: ='TEST MARKS '!P13 -> 0 | E9: =D9 -> 0 | F9: =E9 -> 0 | G9: =F9 -> 0 | H9: =G9 -> 0 | I9: =H9 -> 0 | J9: =D9/'TEST MARKS '!#REF!*100 -> #REF! | K9: =E9/'TEST MARKS '!#REF!*100 -> #REF! | L9: =F9/'TEST MARKS '!#REF!*100 -> #REF! | M9: =G9/'TEST MARKS '!#REF!*100 -> #REF! | N9: =H9/'TEST MARKS '!#REF!*100 -> #REF! | O9: =I9/'TEST MARKS '!#REF!*100 -> #REF! | P9: =IF(J9<'TEST MARKS '!#REF!,"N","Y") -> #REF! | Q9: =IF(K9<'TEST MARKS '!#REF!,"N","Y") -> #REF! | R9: =IF(L9<'TEST MARKS '!#REF!,"N","Y") -> #REF! | S9: =IF(M9<'TEST MARKS '!#REF!,"N","Y") -> #REF! | T9: =IF(N9<'TEST MARKS '!#REF!,"N","Y") -> #REF! | U9: =IF(O9<'TEST MARKS '!#REF!,"N","Y") -> #REF!
A10: ='TEST MARKS '!A14 -> 5 | B10: ='TEST MARKS '!B14 -> AMAN NAIN | C10: ='TEST MARKS '!C14 -> 1SG15ME009 | D10: ='TEST MARKS '!P14 -> 0 | E10: =D10 -> 0 | F10: =E10 -> 0 | G10: =F10 -> 0 | H10: =G10 -> 0 | I10: =H10 -> 0 | J10: =D10/'TEST MARKS '!#REF!*100 -> #REF! | K10: =E10/'TEST MARKS '!#REF!*100 -> #REF! | L10: =F10/'TEST MARKS '!#REF!*100 -> #REF! | M10: =G10/'TEST MARKS '!#REF!*100 -> #REF! | N10: =H10/'TEST MARKS '!#REF!*100 -> #REF! | O10: =I10/'TEST MARKS '!#REF!*100 -> #REF! | P10: =IF(J10<'TEST MARKS '!#REF!,"N","Y") -> #REF! | Q10: =IF(K10<'TEST MARKS '!#REF!,"N","Y") -> #REF! | R10: =IF(L10<'TEST MARKS '!#REF!,"N","Y") -> #REF! | S10: =IF(M10<'TEST MARKS '!#REF!,"N","Y") -> #REF! | T10: =IF(N10<'TEST MARKS '!#REF!,"N","Y") -> #REF! | U10: =IF(O10<'TEST MARKS '!#REF!,"N","Y") -> #REF!
A11: ='TEST MARKS '!A15 -> 6 | B11: ='TEST MARKS '!B15 -> AMITH.R | C11: ='TEST MARKS '!C15 -> 1SG15ME010 | D11: ='TEST MARKS '!P15 -> 4 | E11: =D11 -> 4 | F11: =E11 -> 4 | G11: =F11 -> 4 | H11: =G11 -> 4 | I11: =H11 -> 4 | J11: =D11/'TEST MARKS '!#REF!*100 -> #REF! | K11: =E11/'TEST MARKS '!#REF!*100 -> #REF! | L11: =F11/'TEST MARKS '!#REF!*100 -> #REF! | M11: =G11/'TEST MARKS '!#REF!*100 -> #REF! | N11: =H11/'TEST MARKS '!#REF!*100 -> #REF! | O11: =I11/'TEST MARKS '!#REF!*100 -> #REF! | P11: =IF(J11<'TEST MARKS '!#REF!,"N","Y") -> #REF! | Q11: =IF(K11<'TEST MARKS '!#REF!,"N","Y") -> #REF! | R11: =IF(L11<'TEST MARKS '!#REF!,"N","Y") -> #REF! | S11: =IF(M11<'TEST MARKS '!#REF!,"N","Y") -> #REF! | T11: =IF(N11<'TEST MARKS '!#REF!,"N","Y") -> #REF! | U11: =IF(O11<'TEST MARKS '!#REF!,"N","Y") -> #REF!
A12: ='TEST MARKS '!A16 -> 7 | B12: ='TEST MARKS '!B16 -> ANIL KUMAR C | C12: ='TEST MARKS '!C16 -> 1SG15ME011 | D12: ='TEST MARKS '!P16 -> 0 | E12: =D12 -> 0 | F12: =E12 -> 0 | G12: =F12 -> 0 | H12: =G12 -> 0 | I12: =H12 -> 0 | J12: =D12/'TEST MARKS '!#REF!*100 -> #REF! | K12: =E12/'TEST MARKS '!#REF!*100 -> #REF! | L12: =F12/'TEST MARKS '!#REF!*100 -> #REF! | M12: =G12/'TEST MARKS '!#REF!*100 -> #REF! | N12: =H12/'TEST MARKS '!#REF!*100 -> #REF! | O12: =I12/'TEST MARKS '!#REF!*100 -> #REF! | P12: =IF(J12<'TEST MARKS '!#REF!,"N","Y") -> #REF! | Q12: =IF(K12<'TEST MARKS '!#REF!,"N","Y") -> #REF! | R12: =IF(L12<'TEST MARKS '!#REF!,"N","Y") -> #REF! | S12: =IF(M12<'TEST MARKS '!#REF!,"N","Y") -> #REF! | T12: =IF(N12<'TEST MARKS '!#REF!,"N","Y") -> #REF! | U12: =IF(O12<'TEST MARKS '!#REF!,"N","Y") -> #REF!
A13: ='TEST MARKS '!A17 -> 8 | B13: ='TEST MARKS '!B17 -> ANIRUDH R K | C13: ='TEST MARKS '!C17 -> 1SG15ME012 | D13: ='TEST MARKS '!P17 -> 4 | E13: =D13 -> 4 | F13: =E13 -> 4 | G13: =F13 -> 4 | H13: =G13 -> 4 | I13: =H13 -> 4 | J13: =D13/'TEST MARKS '!#REF!*100 -> #REF! | K13: =E13/'TEST MARKS '!#REF!*100 -> #REF! | L13: =F13/'TEST MARKS '!#REF!*100 -> #REF! | M13: =G13/'TEST MARKS '!#REF!*100 -> #REF! | N13: =H13/'TEST MARKS '!#REF!*100 -> #REF! | O13: =I13/'TEST MARKS '!#REF!*100 -> #REF! | P13: =IF(J13<'TEST MARKS '!#REF!,"N","Y") -> #REF! | Q13: =IF(K13<'TEST MARKS '!#REF!,"N","Y") -> #REF! | R13: =IF(L13<'TEST MARKS '!#REF!,"N","Y") -> #REF! | S13: =IF(M13<'TEST MARKS '!#REF!,"N","Y") -> #REF! | T13: =IF(N13<'TEST MARKS '!#REF!,"N","Y") -> #REF! | U13: =IF(O13<'TEST MARKS '!#REF!,"N","Y") -> #REF!
A14: ='TEST MARKS '!A18 -> 9 | B14: ='TEST MARKS '!B18 -> ARJUN S | C14: ='TEST MARKS '!C18 -> 1SG15ME013 | D14: ='TEST MARKS '!P18 -> 0 | E14: =D14 -> 0 | F14: =E14 -> 0 | G14: =F14 -> 0 | H14: =G14 -> 0 | I14: =H14 -> 0 | J14: =D14/'TEST MARKS '!#REF!*100 -> #REF! | K14: =E14/'TEST MARKS '!#REF!*100 -> #REF! | L14: =F14/'TEST MARKS '!#REF!*100 -> #REF! | M14: =G14/'TEST MARKS '!#REF!*100 -> #REF! | N14: =H14/'TEST MARKS '!#REF!*100 -> #REF! | O14: =I14/'TEST MARKS '!#REF!*100 -> #REF! | P14: =IF(J14<'TEST MARKS '!#REF!,"N","Y") -> #REF! | Q14: =IF(K14<'TEST MARKS '!#REF!,"N","Y") -> #REF! | R14: =IF(L14<'TEST MARKS '!#REF!,"N","Y") -> #REF! | S14: =IF(M14<'TEST MARKS '!#REF!,"N","Y") -> #REF! | T14: =IF(N14<'TEST MARKS '!#REF!,"N","Y") -> #REF! | U14: =IF(O14<'TEST MARKS '!#REF!,"N","Y") -> #REF!
A15: ='TEST MARKS '!A19 -> 10 | B15: ='TEST MARKS '!B19 -> ASHISH SHARMA | C15: ='TEST MARKS '!C19 -> 1SG15ME014 | D15: ='TEST MARKS '!P19 -> 8 | E15: =D15 -> 8 | F15: =E15 -> 8 | G15: =F15 -> 8 | H15: =G15 -> 8 | I15: =H15 -> 8 | J15: =D15/'TEST MARKS '!#REF!*100 -> #REF! | K15: =E15/'TEST MARKS '!#REF!*100 -> #REF! | L15: =F15/'TEST MARKS '!#REF!*100 -> #REF! | M15: =G15/'TEST MARKS '!#REF!*100 -> #REF! | N15: =H15/'TEST MARKS '!#REF!*100 -> #REF! | O15: =I15/'TEST MARKS '!#REF!*100 -> #REF! | P15: =IF(J15<'TEST MARKS '!#REF!,"N","Y") -> #REF! | Q15: =IF(K15<'TEST MARKS '!#REF!,"N","Y") -> #REF! | R15: =IF(L15<'TEST MARKS '!#REF!,"N","Y") -> #REF! | S15: =IF(M15<'TEST MARKS '!#REF!,"N","Y") -> #REF! | T15: =IF(N15<'TEST MARKS '!#REF!,"N","Y") -> #REF! | U15: =IF(O15<'TEST MARKS '!#REF!,"N","Y") -> #REF!
A16: ='TEST MARKS '!A20 -> 11 | B16: ='TEST MARKS '!B20 -> AYAN GUHA RAOY | C16: ='TEST MARKS '!C20 -> 1SG15ME015 | D16: ='TEST MARKS '!P20 -> 8 | E16: =D16 -> 8 | F16: =E16 -> 8 | G16: =F16 -> 8 | H16: =G16 -> 8 | I16: =H16 -> 8 | J16: =D16/'TEST MARKS '!#REF!*100 -> #REF! | K16: =E16/'TEST MARKS '!#REF!*100 -> #REF! | L16: =F16/'TEST MARKS '!#REF!*100 -> #REF! | M16: =G16/'TEST MARKS '!#REF!*100 -> #REF! | N16: =H16/'TEST MARKS '!#REF!*100 -> #REF! | O16: =I16/'TEST MARKS '!#REF!*100 -> #REF! | P16: =IF(J16<'TEST MARKS '!#REF!,"N","Y") -> #REF! | Q16: =IF(K16<'TEST MARKS '!#REF!,"N","Y") -> #REF! | R16: =IF(L16<'TEST MARKS '!#REF!,"N","Y") -> #REF! | S16: =IF(M16<'TEST MARKS '!#REF!,"N","Y") -> #REF! | T16: =IF(N16<'TEST MARKS '!#REF!,"N","Y") -> #REF! | U16: =IF(O16<'TEST MARKS '!#REF!,"N","Y") -> #REF!
A17: ='TEST MARKS '!A21 -> 12 | B17: ='TEST MARKS '!B21 -> BHARATH .V | C17: ='TEST MARKS '!C21 -> 1SG15ME017 | D17: ='TEST MARKS '!P21 -> 6 | E17: =D17 -> 6 | F17: =E17 -> 6 | G17: =F17 -> 6 | H17: =G17 -> 6 | I17: =H17 -> 6 | J17: =D17/'TEST MARKS '!#REF!*100 -> #REF! | K17: =E17/'TEST MARKS '!#REF!*100 -> #REF! | L17: =F17/'TEST MARKS '!#REF!*100 -> #REF! | M17: =G17/'TEST MARKS '!#REF!*100 -> #REF! | N17: =H17/'TEST MARKS '!#REF!*100 -> #REF! | O17: =I17/'TEST MARKS '!#REF!*100 -> #REF! | P17: =IF(J17<'TEST MARKS '!#REF!,"N","Y") -> #REF! | Q17: =IF(K17<'TEST MARKS '!#REF!,"N","Y") -> #REF! | R17: =IF(L17<'TEST MARKS '!#REF!,"N","Y") -> #REF! | S17: =IF(M17<'TEST MARKS '!#REF!,"N","Y") -> #REF! | T17: =IF(N17<'TEST MARKS '!#REF!,"N","Y") -> #REF! | U17: =IF(O17<'TEST MARKS '!#REF!,"N","Y") -> #REF!
... A72: ='TEST MARKS '!A76 -> 67 | B72: ='TEST MARKS '!B76 -> SRIDHAR N S | C72: ='TEST MARKS '!C76 -> 1SG15ME094 | D72: ='TEST MARKS '!P76 -> 0 | E72: =D72 -> 0 | F72: =E72 -> 0 | G72: =F72 -> 0 | H72: =G72 -> 0 | I72: =H72 -> 0 | J72: =D72/'TEST MARKS '!#REF!*100 -> #REF! | K72: =E72/'TEST MARKS '!#REF!*100 -> #REF! | L72: =F72/'TEST MARKS '!#REF!*100 -> #REF! | M72: =G72/'TEST MARKS '!#REF!*100 -> #REF! | N72: =H72/'TEST MARKS '!#REF!*100 -> #REF! | O72: =I72/'TEST MARKS '!#REF!*100 -> #REF! | P72: =IF(J72<'TEST MARKS '!#REF!,"N","Y") -> #REF! | Q72: =IF(K72<'TEST MARKS '!#REF!,"N","Y") -> #REF! | R72: =IF(L72<'TEST MARKS '!#REF!,"N","Y") -> #REF! | S72: =IF(M72<'TEST MARKS '!#REF!,"N","Y") -> #REF! | T72: =IF(N72<'TEST MARKS '!#REF!,"N","Y") -> #REF! | U72: =IF(O72<'TEST MARKS '!#REF!,"N","Y") -> #REF!
A73: ='TEST MARKS '!A77 -> 68 | B73: ='TEST MARKS '!#REF! -> #REF! | C73: ='TEST MARKS '!C77 -> 1SG15ME095 | D73: ='TEST MARKS '!P77 -> 7 | E73: =D73 -> 7 | F73: =E73 -> 7 | G73: =F73 -> 7 | H73: =G73 -> 7 | I73: =H73 -> 7 | J73: =D73/'TEST MARKS '!#REF!*100 -> #REF! | K73: =E73/'TEST MARKS '!#REF!*100 -> #REF! | L73: =F73/'TEST MARKS '!#REF!*100 -> #REF! | M73: =G73/'TEST MARKS '!#REF!*100 -> #REF! | N73: =H73/'TEST MARKS '!#REF!*100 -> #REF! | O73: =I73/'TEST MARKS '!#REF!*100 -> #REF! | P73: =IF(J73<'TEST MARKS '!#REF!,"N","Y") -> #REF! | Q73: =IF(K73<'TEST MARKS '!#REF!,"N","Y") -> #REF! | R73: =IF(L73<'TEST MARKS '!#REF!,"N","Y") -> #REF! | S73: =IF(M73<'TEST MARKS '!#REF!,"N","Y") -> #REF! | T73: =IF(N73<'TEST MARKS '!#REF!,"N","Y") -> #REF! | U73: =IF(O73<'TEST MARKS '!#REF!,"N","Y") -> #REF!
A74: ='TEST MARKS '!A78 -> 69 | B74: ='TEST MARKS '!#REF! -> #REF! | C74: ='TEST MARKS '!C78 -> 1SG15ME096 | D74: ='TEST MARKS '!P78 -> 6 | E74: =D74 -> 6 | F74: =E74 -> 6 | G74: =F74 -> 6 | H74: =G74 -> 6 | I74: =H74 -> 6 | J74: =D74/'TEST MARKS '!#REF!*100 -> #REF! | K74: =E74/'TEST MARKS '!#REF!*100 -> #REF! | L74: =F74/'TEST MARKS '!#REF!*100 -> #REF! | M74: =G74/'TEST MARKS '!#REF!*100 -> #REF! | N74: =H74/'TEST MARKS '!#REF!*100 -> #REF! | O74: =I74/'TEST MARKS '!#REF!*100 -> #REF! | P74: =IF(J74<'TEST MARKS '!#REF!,"N","Y") -> #REF! | Q74: =IF(K74<'TEST MARKS '!#REF!,"N","Y") -> #REF! | R74: =IF(L74<'TEST MARKS '!#REF!,"N","Y") -> #REF! | S74: =IF(M74<'TEST MARKS '!#REF!,"N","Y") -> #REF! | T74: =IF(N74<'TEST MARKS '!#REF!,"N","Y") -> #REF! | U74: =IF(O74<'TEST MARKS '!#REF!,"N","Y") -> #REF!
A75: ='TEST MARKS '!A79 -> 70 | B75: ='TEST MARKS '!#REF! -> #REF! | C75: ='TEST MARKS '!C79 -> 1SG15ME098 | D75: ='TEST MARKS '!P79 -> 6 | E75: =D75 -> 6 | F75: =E75 -> 6 | G75: =F75 -> 6 | H75: =G75 -> 6 | I75: =H75 -> 6 | J75: =D75/'TEST MARKS '!#REF!*100 -> #REF! | K75: =E75/'TEST MARKS '!#REF!*100 -> #REF! | L75: =F75/'TEST MARKS '!#REF!*100 -> #REF! | M75: =G75/'TEST MARKS '!#REF!*100 -> #REF! | N75: =H75/'TEST MARKS '!#REF!*100 -> #REF! | O75: =I75/'TEST MARKS '!#REF!*100 -> #REF! | P75: =IF(J75<'TEST MARKS '!#REF!,"N","Y") -> #REF! | Q75: =IF(K75<'TEST MARKS '!#REF!,"N","Y") -> #REF! | R75: =IF(L75<'TEST MARKS '!#REF!,"N","Y") -> #REF! | S75: =IF(M75<'TEST MARKS '!#REF!,"N","Y") -> #REF! | T75: =IF(N75<'TEST MARKS '!#REF!,"N","Y") -> #REF! | U75: =IF(O75<'TEST MARKS '!#REF!,"N","Y") -> #REF!
A76: ='TEST MARKS '!A80 -> 71 | B76: ='TEST MARKS '!#REF! -> #REF! | C76: ='TEST MARKS '!C80 -> 1SG15ME099 | D76: ='TEST MARKS '!P80 -> 5 | E76: =D76 -> 5 | F76: =E76 -> 5 | G76: =F76 -> 5 | H76: =G76 -> 5 | I76: =H76 -> 5 | J76: =D76/'TEST MARKS '!#REF!*100 -> #REF! | K76: =E76/'TEST MARKS '!#REF!*100 -> #REF! | L76: =F76/'TEST MARKS '!#REF!*100 -> #REF! | M76: =G76/'TEST MARKS '!#REF!*100 -> #REF! | N76: =H76/'TEST MARKS '!#REF!*100 -> #REF! | O76: =I76/'TEST MARKS '!#REF!*100 -> #REF! | P76: =IF(J76<'TEST MARKS '!#REF!,"N","Y") -> #REF! | Q76: =IF(K76<'TEST MARKS '!#REF!,"N","Y") -> #REF! | R76: =IF(L76<'TEST MARKS '!#REF!,"N","Y") -> #REF! | S76: =IF(M76<'TEST MARKS '!#REF!,"N","Y") -> #REF! | T76: =IF(N76<'TEST MARKS '!#REF!,"N","Y") -> #REF! | U76: =IF(O76<'TEST MARKS '!#REF!,"N","Y") -> #REF!
A77: ='TEST MARKS '!A81 -> 72 | B77: ='TEST MARKS '!#REF! -> #REF! | C77: ='TEST MARKS '!C81 -> 1SG15ME101 | D77: ='TEST MARKS '!P81 -> 7 | E77: =D77 -> 7 | F77: =E77 -> 7 | G77: =F77 -> 7 | H77: =G77 -> 7 | I77: =H77 -> 7 | J77: =D77/'TEST MARKS '!#REF!*100 -> #REF! | K77: =E77/'TEST MARKS '!#REF!*100 -> #REF! | L77: =F77/'TEST MARKS '!#REF!*100 -> #REF! | M77: =G77/'TEST MARKS '!#REF!*100 -> #REF! | N77: =H77/'TEST MARKS '!#REF!*100 -> #REF! | O77: =I77/'TEST MARKS '!#REF!*100 -> #REF! | P77: =IF(J77<'TEST MARKS '!#REF!,"N","Y") -> #REF! | Q77: =IF(K77<'TEST MARKS '!#REF!,"N","Y") -> #REF! | R77: =IF(L77<'TEST MARKS '!#REF!,"N","Y") -> #REF! | S77: =IF(M77<'TEST MARKS '!#REF!,"N","Y") -> #REF! | T77: =IF(N77<'TEST MARKS '!#REF!,"N","Y") -> #REF! | U77: =IF(O77<'TEST MARKS '!#REF!,"N","Y") -> #REF!
A78: ='TEST MARKS '!A82 -> 73 | B78: ='TEST MARKS '!#REF! -> #REF! | C78: ='TEST MARKS '!C82 -> 1SG15ME102 | D78: ='TEST MARKS '!P82 -> 7 | E78: =D78 -> 7 | F78: =E78 -> 7 | G78: =F78 -> 7 | H78: =G78 -> 7 | I78: =H78 -> 7 | J78: =D78/'TEST MARKS '!#REF!*100 -> #REF! | K78: =E78/'TEST MARKS '!#REF!*100 -> #REF! | L78: =F78/'TEST MARKS '!#REF!*100 -> #REF! | M78: =G78/'TEST MARKS '!#REF!*100 -> #REF! | N78: =H78/'TEST MARKS '!#REF!*100 -> #REF! | O78: =I78/'TEST MARKS '!#REF!*100 -> #REF! | P78: =IF(J78<'TEST MARKS '!#REF!,"N","Y") -> #REF! | Q78: =IF(K78<'TEST MARKS '!#REF!,"N","Y") -> #REF! | R78: =IF(L78<'TEST MARKS '!#REF!,"N","Y") -> #REF! | S78: =IF(M78<'TEST MARKS '!#REF!,"N","Y") -> #REF! | T78: =IF(N78<'TEST MARKS '!#REF!,"N","Y") -> #REF! | U78: =IF(O78<'TEST MARKS '!#REF!,"N","Y") -> #REF!
A79: ='TEST MARKS '!A83 -> 74 | B79: ='TEST MARKS '!#REF! -> #REF! | C79: ='TEST MARKS '!C83 -> 1SG15ME104 | D79: ='TEST MARKS '!P83 -> 6 | E79: =D79 -> 6 | F79: =E79 -> 6 | G79: =F79 -> 6 | H79: =G79 -> 6 | I79: =H79 -> 6 | J79: =D79/'TEST MARKS '!#REF!*100 -> #REF! | K79: =E79/'TEST MARKS '!#REF!*100 -> #REF! | L79: =F79/'TEST MARKS '!#REF!*100 -> #REF! | M79: =G79/'TEST MARKS '!#REF!*100 -> #REF! | N79: =H79/'TEST MARKS '!#REF!*100 -> #REF! | O79: =I79/'TEST MARKS '!#REF!*100 -> #REF! | P79: =IF(J79<'TEST MARKS '!#REF!,"N","Y") -> #REF! | Q79: =IF(K79<'TEST MARKS '!#REF!,"N","Y") -> #REF! | R79: =IF(L79<'TEST MARKS '!#REF!,"N","Y") -> #REF! | S79: =IF(M79<'TEST MARKS '!#REF!,"N","Y") -> #REF! | T79: =IF(N79<'TEST MARKS '!#REF!,"N","Y") -> #REF! | U79: =IF(O79<'TEST MARKS '!#REF!,"N","Y") -> #REF!
A80: ='TEST MARKS '!A84 -> 75 | B80: ='TEST MARKS '!#REF! -> #REF! | C80: ='TEST MARKS '!C84 -> 1SG15ME105 | D80: ='TEST MARKS '!P84 -> 4 | E80: =D80 -> 4 | F80: =E80 -> 4 | G80: =F80 -> 4 | H80: =G80 -> 4 | I80: =H80 -> 4 | J80: =D80/'TEST MARKS '!#REF!*100 -> #REF! | K80: =E80/'TEST MARKS '!#REF!*100 -> #REF! | L80: =F80/'TEST MARKS '!#REF!*100 -> #REF! | M80: =G80/'TEST MARKS '!#REF!*100 -> #REF! | N80: =H80/'TEST MARKS '!#REF!*100 -> #REF! | O80: =I80/'TEST MARKS '!#REF!*100 -> #REF! | P80: =IF(J80<'TEST MARKS '!#REF!,"N","Y") -> #REF! | Q80: =IF(K80<'TEST MARKS '!#REF!,"N","Y") -> #REF! | R80: =IF(L80<'TEST MARKS '!#REF!,"N","Y") -> #REF! | S80: =IF(M80<'TEST MARKS '!#REF!,"N","Y") -> #REF! | T80: =IF(N80<'TEST MARKS '!#REF!,"N","Y") -> #REF! | U80: =IF(O80<'TEST MARKS '!#REF!,"N","Y") -> #REF!
A81: ='TEST MARKS '!A85 -> 76 | B81: ='TEST MARKS '!#REF! -> #REF! | C81: ='TEST MARKS '!C85 -> 1SG16ME400 | D81: ='TEST MARKS '!P85 -> 6 | E81: =D81 -> 6 | F81: =E81 -> 6 | G81: =F81 -> 6 | H81: =G81 -> 6 | I81: =H81 -> 6 | J81: =D81/'TEST MARKS '!#REF!*100 -> #REF! | K81: =E81/'TEST MARKS '!#REF!*100 -> #REF! | L81: =F81/'TEST MARKS '!#REF!*100 -> #REF! | M81: =G81/'TEST MARKS '!#REF!*100 -> #REF! | N81: =H81/'TEST MARKS '!#REF!*100 -> #REF! | O81: =I81/'TEST MARKS '!#REF!*100 -> #REF! | P81: =IF(J81<'TEST MARKS '!#REF!,"N","Y") -> #REF! | Q81: =IF(K81<'TEST MARKS '!#REF!,"N","Y") -> #REF! | R81: =IF(L81<'TEST MARKS '!#REF!,"N","Y") -> #REF! | S81: =IF(M81<'TEST MARKS '!#REF!,"N","Y") -> #REF! | T81: =IF(N81<'TEST MARKS '!#REF!,"N","Y") -> #REF! | U81: =IF(O81<'TEST MARKS '!#REF!,"N","Y") -> #REF!
A82: ='TEST MARKS '!A86 -> 77 | B82: ='TEST MARKS '!#REF! -> #REF! | C82: ='TEST MARKS '!C86 -> 1SG16ME402 | D82: ='TEST MARKS '!P86 -> 6 | E82: =D82 -> 6 | F82: =E82 -> 6 | G82: =F82 -> 6 | H82: =G82 -> 6 | I82: =H82 -> 6 | J82: =D82/'TEST MARKS '!#REF!*100 -> #REF! | K82: =E82/'TEST MARKS '!#REF!*100 -> #REF! | L82: =F82/'TEST MARKS '!#REF!*100 -> #REF! | M82: =G82/'TEST MARKS '!#REF!*100 -> #REF! | N82: =H82/'TEST MARKS '!#REF!*100 -> #REF! | O82: =I82/'TEST MARKS '!#REF!*100 -> #REF! | P82: =IF(J82<'TEST MARKS '!#REF!,"N","Y") -> #REF! | Q82: =IF(K82<'TEST MARKS '!#REF!,"N","Y") -> #REF! | R82: =IF(L82<'TEST MARKS '!#REF!,"N","Y") -> #REF! | S82: =IF(M82<'TEST MARKS '!#REF!,"N","Y") -> #REF! | T82: =IF(N82<'TEST MARKS '!#REF!,"N","Y") -> #REF! | U82: =IF(O82<'TEST MARKS '!#REF!,"N","Y") -> #REF!
A83: ='TEST MARKS '!A87 -> 78 | B83: ='TEST MARKS '!#REF! -> #REF! | C83: ='TEST MARKS '!C87 -> 1SG16ME404 | D83: ='TEST MARKS '!P87 -> 5 | E83: =D83 -> 5 | F83: =E83 -> 5 | G83: =F83 -> 5 | H83: =G83 -> 5 | I83: =H83 -> 5 | J83: =D83/'TEST MARKS '!#REF!*100 -> #REF! | K83: =E83/'TEST MARKS '!#REF!*100 -> #REF! | L83: =F83/'TEST MARKS '!#REF!*100 -> #REF! | M83: =G83/'TEST MARKS '!#REF!*100 -> #REF! | N83: =H83/'TEST MARKS '!#REF!*100 -> #REF! | O83: =I83/'TEST MARKS '!#REF!*100 -> #REF! | P83: =IF(J83<'TEST MARKS '!#REF!,"N","Y") -> #REF! | Q83: =IF(K83<'TEST MARKS '!#REF!,"N","Y") -> #REF! | R83: =IF(L83<'TEST MARKS '!#REF!,"N","Y") -> #REF! | S83: =IF(M83<'TEST MARKS '!#REF!,"N","Y") -> #REF! | T83: =IF(N83<'TEST MARKS '!#REF!,"N","Y") -> #REF! | U83: =IF(O83<'TEST MARKS '!#REF!,"N","Y") -> #REF!
A84: ='TEST MARKS '!A88 -> 79 | B84: ='TEST MARKS '!#REF! -> #REF! | C84: ='TEST MARKS '!C88 -> 1SG16ME405 | D84: ='TEST MARKS '!P88 -> 0 | E84: =D84 -> 0 | F84: =E84 -> 0 | G84: =F84 -> 0 | H84: =G84 -> 0 | I84: =H84 -> 0 | J84: =D84/'TEST MARKS '!#REF!*100 -> #REF! | K84: =E84/'TEST MARKS '!#REF!*100 -> #REF! | L84: =F84/'TEST MARKS '!#REF!*100 -> #REF! | M84: =G84/'TEST MARKS '!#REF!*100 -> #REF! | N84: =H84/'TEST MARKS '!#REF!*100 -> #REF! | O84: =I84/'TEST MARKS '!#REF!*100 -> #REF! | P84: =IF(J84<'TEST MARKS '!#REF!,"N","Y") -> #REF! | Q84: =IF(K84<'TEST MARKS '!#REF!,"N","Y") -> #REF! | R84: =IF(L84<'TEST MARKS '!#REF!,"N","Y") -> #REF! | S84: =IF(M84<'TEST MARKS '!#REF!,"N","Y") -> #REF! | T84: =IF(N84<'TEST MARKS '!#REF!,"N","Y") -> #REF! | U84: =IF(O84<'TEST MARKS '!#REF!,"N","Y") -> #REF!
... A116: ='TEST MARKS '!A120 -> 111 | B116: ='TEST MARKS '!#REF! -> #REF! | C116: ='TEST MARKS '!C120 -> 1SG16ME443 | D116: ='TEST MARKS '!P120 -> 5 | E116: =D116 -> 5 | F116: =E116 -> 5 | G116: =F116 -> 5 | H116: =G116 -> 5 | I116: =H116 -> 5 | J116: =D116/'TEST MARKS '!#REF!*100 -> #REF! | K116: =E116/'TEST MARKS '!#REF!*100 -> #REF! | L116: =F116/'TEST MARKS '!#REF!*100 -> #REF! | M116: =G116/'TEST MARKS '!#REF!*100 -> #REF! | N116: =H116/'TEST MARKS '!#REF!*100 -> #REF! | O116: =I116/'TEST MARKS '!#REF!*100 -> #REF! | P116: =IF(J116<'TEST MARKS '!#REF!,"N","Y") -> #REF! | Q116: =IF(K116<'TEST MARKS '!#REF!,"N","Y") -> #REF! | R116: =IF(L116<'TEST MARKS '!#REF!,"N","Y") -> #REF! | S116: =IF(M116<'TEST MARKS '!#REF!,"N","Y") -> #REF! | T116: =IF(N116<'TEST MARKS '!#REF!,"N","Y") -> #REF! | U116: =IF(O116<'TEST MARKS '!#REF!,"N","Y") -> #REF!
A117: ='TEST MARKS '!#REF! -> #REF! | B117: ='TEST MARKS '!#REF! -> #REF! | C117: ='TEST MARKS '!#REF! -> #REF! | D117: ='TEST MARKS '!#REF! -> #REF! | E117: =D117 -> #REF! | F117: =E117 -> #REF! | G117: =F117 -> #REF! | H117: =G117 -> #REF! | I117: =H117 -> #REF! | J117: =D117/'TEST MARKS '!#REF!*100 -> #REF! | K117: =E117/'TEST MARKS '!#REF!*100 -> #REF! | L117: =F117/'TEST MARKS '!#REF!*100 -> #REF! | M117: =G117/'TEST MARKS '!#REF!*100 -> #REF! | N117: =H117/'TEST MARKS '!#REF!*100 -> #REF! | O117: =I117/'TEST MARKS '!#REF!*100 -> #REF! | P117: =IF(J117<'TEST MARKS '!#REF!,"N","Y") -> #REF! | Q117: =IF(K117<'TEST MARKS '!#REF!,"N","Y") -> #REF! | R117: =IF(L117<'TEST MARKS '!#REF!,"N","Y") -> #REF! | S117: =IF(M117<'TEST MARKS '!#REF!,"N","Y") -> #REF! | T117: =IF(N117<'TEST MARKS '!#REF!,"N","Y") -> #REF! | U117: =IF(O117<'TEST MARKS '!#REF!,"N","Y") -> #REF!
A118: ='TEST MARKS '!#REF! -> #REF! | B118: ='TEST MARKS '!#REF! -> #REF! | C118: ='TEST MARKS '!#REF! -> #REF! | D118: ='TEST MARKS '!#REF! -> #REF! | E118: =D118 -> #REF! | F118: =E118 -> #REF! | G118: =F118 -> #REF! | H118: =G118 -> #REF! | I118: =H118 -> #REF! | J118: =D118/'TEST MARKS '!#REF!*100 -> #REF! | K118: =E118/'TEST MARKS '!#REF!*100 -> #REF! | L118: =F118/'TEST MARKS '!#REF!*100 -> #REF! | M118: =G118/'TEST MARKS '!#REF!*100 -> #REF! | N118: =H118/'TEST MARKS '!#REF!*100 -> #REF! | O118: =I118/'TEST MARKS '!#REF!*100 -> #REF! | P118: =IF(J118<'TEST MARKS '!#REF!,"N","Y") -> #REF! | Q118: =IF(K118<'TEST MARKS '!#REF!,"N","Y") -> #REF! | R118: =IF(L118<'TEST MARKS '!#REF!,"N","Y") -> #REF! | S118: =IF(M118<'TEST MARKS '!#REF!,"N","Y") -> #REF! | T118: =IF(N118<'TEST MARKS '!#REF!,"N","Y") -> #REF! | U118: =IF(O118<'TEST MARKS '!#REF!,"N","Y") -> #REF!
A119: ='TEST MARKS '!#REF! -> #REF! | B119: ='TEST MARKS '!#REF! -> #REF! | C119: ='TEST MARKS '!#REF! -> #REF! | D119: ='TEST MARKS '!#REF! -> #REF! | E119: =D119 -> #REF! | F119: =E119 -> #REF! | G119: =F119 -> #REF! | H119: =G119 -> #REF! | I119: =H119 -> #REF! | J119: =D119/'TEST MARKS '!#REF!*100 -> #REF! | K119: =E119/'TEST MARKS '!#REF!*100 -> #REF! | L119: =F119/'TEST MARKS '!#REF!*100 -> #REF! | M119: =G119/'TEST MARKS '!#REF!*100 -> #REF! | N119: =H119/'TEST MARKS '!#REF!*100 -> #REF! | O119: =I119/'TEST MARKS '!#REF!*100 -> #REF! | P119: =IF(J119<'TEST MARKS '!#REF!,"N","Y") -> #REF! | Q119: =IF(K119<'TEST MARKS '!#REF!,"N","Y") -> #REF! | R119: =IF(L119<'TEST MARKS '!#REF!,"N","Y") -> #REF! | S119: =IF(M119<'TEST MARKS '!#REF!,"N","Y") -> #REF! | T119: =IF(N119<'TEST MARKS '!#REF!,"N","Y") -> #REF! | U119: =IF(O119<'TEST MARKS '!#REF!,"N","Y") -> #REF!
A120: ='TEST MARKS '!#REF! -> #REF! | B120: ='TEST MARKS '!#REF! -> #REF! | C120: ='TEST MARKS '!#REF! -> #REF! | D120: ='TEST MARKS '!#REF! -> #REF! | E120: =D120 -> #REF! | F120: =E120 -> #REF! | G120: =F120 -> #REF! | H120: =G120 -> #REF! | I120: =H120 -> #REF! | J120: =D120/'TEST MARKS '!#REF!*100 -> #REF! | K120: =E120/'TEST MARKS '!#REF!*100 -> #REF! | L120: =F120/'TEST MARKS '!#REF!*100 -> #REF! | M120: =G120/'TEST MARKS '!#REF!*100 -> #REF! | N120: =H120/'TEST MARKS '!#REF!*100 -> #REF! | O120: =I120/'TEST MARKS '!#REF!*100 -> #REF! | P120: =IF(J120<'TEST MARKS '!#REF!,"N","Y") -> #REF! | Q120: =IF(K120<'TEST MARKS '!#REF!,"N","Y") -> #REF! | R120: =IF(L120<'TEST MARKS '!#REF!,"N","Y") -> #REF! | S120: =IF(M120<'TEST MARKS '!#REF!,"N","Y") -> #REF! | T120: =IF(N120<'TEST MARKS '!#REF!,"N","Y") -> #REF! | U120: =IF(O120<'TEST MARKS '!#REF!,"N","Y") -> #REF!
A121: ='TEST MARKS '!#REF! -> #REF! | B121: ='TEST MARKS '!#REF! -> #REF! | C121: ='TEST MARKS '!#REF! -> #REF! | D121: ='TEST MARKS '!#REF! -> #REF! | E121: =D121 -> #REF! | F121: =E121 -> #REF! | G121: =F121 -> #REF! | H121: =G121 -> #REF! | I121: =H121 -> #REF! | J121: =D121/'TEST MARKS '!#REF!*100 -> #REF! | K121: =E121/'TEST MARKS '!#REF!*100 -> #REF! | L121: =F121/'TEST MARKS '!#REF!*100 -> #REF! | M121: =G121/'TEST MARKS '!#REF!*100 -> #REF! | N121: =H121/'TEST MARKS '!#REF!*100 -> #REF! | O121: =I121/'TEST MARKS '!#REF!*100 -> #REF! | P121: =IF(J121<'TEST MARKS '!#REF!,"N","Y") -> #REF! | Q121: =IF(K121<'TEST MARKS '!#REF!,"N","Y") -> #REF! | R121: =IF(L121<'TEST MARKS '!#REF!,"N","Y") -> #REF! | S121: =IF(M121<'TEST MARKS '!#REF!,"N","Y") -> #REF! | T121: =IF(N121<'TEST MARKS '!#REF!,"N","Y") -> #REF! | U121: =IF(O121<'TEST MARKS '!#REF!,"N","Y") -> #REF!
A122: ='TEST MARKS '!#REF! -> #REF! | B122: ='TEST MARKS '!#REF! -> #REF! | C122: ='TEST MARKS '!#REF! -> #REF! | D122: ='TEST MARKS '!#REF! -> #REF! | E122: =D122 -> #REF! | F122: =E122 -> #REF! | G122: =F122 -> #REF! | H122: =G122 -> #REF! | I122: =H122 -> #REF! | J122: =D122/'TEST MARKS '!#REF!*100 -> #REF! | K122: =E122/'TEST MARKS '!#REF!*100 -> #REF! | L122: =F122/'TEST MARKS '!#REF!*100 -> #REF! | M122: =G122/'TEST MARKS '!#REF!*100 -> #REF! | N122: =H122/'TEST MARKS '!#REF!*100 -> #REF! | O122: =I122/'TEST MARKS '!#REF!*100 -> #REF! | P122: =IF(J122<'TEST MARKS '!#REF!,"N","Y") -> #REF! | Q122: =IF(K122<'TEST MARKS '!#REF!,"N","Y") -> #REF! | R122: =IF(L122<'TEST MARKS '!#REF!,"N","Y") -> #REF! | S122: =IF(M122<'TEST MARKS '!#REF!,"N","Y") -> #REF! | T122: =IF(N122<'TEST MARKS '!#REF!,"N","Y") -> #REF! | U122: =IF(O122<'TEST MARKS '!#REF!,"N","Y") -> #REF!
A123: ='TEST MARKS '!#REF! -> #REF! | B123: ='TEST MARKS '!#REF! -> #REF! | C123: ='TEST MARKS '!#REF! -> #REF! | D123: ='TEST MARKS '!#REF! -> #REF! | E123: =D123 -> #REF! | F123: =E123 -> #REF! | G123: =F123 -> #REF! | H123: =G123 -> #REF! | I123: =H123 -> #REF! | J123: =D123/'TEST MARKS '!#REF!*100 -> #REF! | K123: =E123/'TEST MARKS '!#REF!*100 -> #REF! | L123: =F123/'TEST MARKS '!#REF!*100 -> #REF! | M123: =G123/'TEST MARKS '!#REF!*100 -> #REF! | N123: =H123/'TEST MARKS '!#REF!*100 -> #REF! | O123: =I123/'TEST MARKS '!#REF!*100 -> #REF! | P123: =IF(J123<'TEST MARKS '!#REF!,"N","Y") -> #REF! | Q123: =IF(K123<'TEST MARKS '!#REF!,"N","Y") -> #REF! | R123: =IF(L123<'TEST MARKS '!#REF!,"N","Y") -> #REF! | S123: =IF(M123<'TEST MARKS '!#REF!,"N","Y") -> #REF! | T123: =IF(N123<'TEST MARKS '!#REF!,"N","Y") -> #REF! | U123: =IF(O123<'TEST MARKS '!#REF!,"N","Y") -> #REF!
A124: ='TEST MARKS '!#REF! -> #REF! | B124: ='TEST MARKS '!#REF! -> #REF! | C124: ='TEST MARKS '!#REF! -> #REF! | D124: ='TEST MARKS '!#REF! -> #REF! | E124: =D124 -> #REF! | F124: =E124 -> #REF! | G124: =F124 -> #REF! | H124: =G124 -> #REF! | I124: =H124 -> #REF! | J124: =D124/'TEST MARKS '!#REF!*100 -> #REF! | K124: =E124/'TEST MARKS '!#REF!*100 -> #REF! | L124: =F124/'TEST MARKS '!#REF!*100 -> #REF! | M124: =G124/'TEST MARKS '!#REF!*100 -> #REF! | N124: =H124/'TEST MARKS '!#REF!*100 -> #REF! | O124: =I124/'TEST MARKS '!#REF!*100 -> #REF! | P124: =IF(J124<'TEST MARKS '!#REF!,"N","Y") -> #REF! | Q124: =IF(K124<'TEST MARKS '!#REF!,"N","Y") -> #REF! | R124: =IF(L124<'TEST MARKS '!#REF!,"N","Y") -> #REF! | S124: =IF(M124<'TEST MARKS '!#REF!,"N","Y") -> #REF! | T124: =IF(N124<'TEST MARKS '!#REF!,"N","Y") -> #REF! | U124: =IF(O124<'TEST MARKS '!#REF!,"N","Y") -> #REF!
A125: ='TEST MARKS '!#REF! -> #REF! | B125: ='TEST MARKS '!#REF! -> #REF! | C125: ='TEST MARKS '!#REF! -> #REF! | D125: ='TEST MARKS '!#REF! -> #REF! | E125: =D125 -> #REF! | F125: =E125 -> #REF! | G125: =F125 -> #REF! | H125: =G125 -> #REF! | I125: =H125 -> #REF! | J125: =D125/'TEST MARKS '!#REF!*100 -> #REF! | K125: =E125/'TEST MARKS '!#REF!*100 -> #REF! | L125: =F125/'TEST MARKS '!#REF!*100 -> #REF! | M125: =G125/'TEST MARKS '!#REF!*100 -> #REF! | N125: =H125/'TEST MARKS '!#REF!*100 -> #REF! | O125: =I125/'TEST MARKS '!#REF!*100 -> #REF! | P125: =IF(J125<'TEST MARKS '!#REF!,"N","Y") -> #REF! | Q125: =IF(K125<'TEST MARKS '!#REF!,"N","Y") -> #REF! | R125: =IF(L125<'TEST MARKS '!#REF!,"N","Y") -> #REF! | S125: =IF(M125<'TEST MARKS '!#REF!,"N","Y") -> #REF! | T125: =IF(N125<'TEST MARKS '!#REF!,"N","Y") -> #REF! | U125: =IF(O125<'TEST MARKS '!#REF!,"N","Y") -> #REF!
O127: NO OF Y | P127: =COUNTIF(P6:P125,"Y") -> 0 | Q127: =COUNTIF(Q6:Q125,"Y") -> 0 | R127: =COUNTIF(R6:R125,"Y") -> 0 | S127: =COUNTIF(S6:S125,"Y") -> 0 | T127: =COUNTIF(T6:T125,"Y") -> 0 | U127: =COUNTIF(U6:U125,"Y") -> 0
O128: ATTAINMENT | P128: =P127*100/'TEST MARKS '!#REF! -> #REF! | Q128: =Q127*100/'TEST MARKS '!#REF! -> #REF! | R128: =R127*100/'TEST MARKS '!#REF! -> #REF! | S128: =S127*100/'TEST MARKS '!#REF! -> #REF! | T128: =T127*100/'TEST MARKS '!#REF! -> #REF! | U128: =U127*100/'TEST MARKS '!#REF! -> #REF!
O132: CO's | P132: CO1 | Q132: CO2 | R132: CO3 | S132: CO4 | T132: CO5 | U132: CO6
O133: EXAMINATION MARKS ATTAINMENT | P133: =P128 -> #REF! | Q133: =Q128 -> #REF! | R133: =R128 -> #REF! | S133: =S128 -> #REF! | T133: =T128 -> #REF! | U133: =U128 -> #REF!

Sheet TOTAL CO 
B2: Equal weigtage to TEST, ASSIGNMENT & EXAM MARKS | L2: OR | O2: 50% Weightage each for CIE and SEE | W2: OR | Y2: 40% Weightage for CIE and 60% for SEE
E3: TARGET: 50% ATTAINMENT | N3: TARGET: 70% ATTAINMENT | Y3: TARGET: 70% ATTAINMENT
E6: CO1 | F6: CO2 | G6: CO3 | H6: CO4 | I6: CO5 | J6: CO6 | N6: CO'S | O6: CO1 | P6: CO2 | Q6: CO3 | R6: CO4 | S6: CO5 | T6: CO6
D7: IA MARKS ATTAINMENT | E7: 68 | F7: 54 | G7: 63 | H7: 46 | I7: 44 | J7: 35 | N7: IA MARKS ATTAINMENT | O7: =E7 -> 68 | P7: =F7 -> 54 | Q7: =G7 -> 63 | R7: =H7 -> 46 | S7: =I7 -> 44 | T7: =J7 -> 35
D8: Assignment ATTAINMENT | E8: 100 | F8: 100 | G8: 100 | H8: 100 | I8: 100 | J8: 100 | N8: Assignment ATTAINMENT | O8: =E8 -> 100 | P8: =F8 -> 100 | Q8: =G8 -> 100 | R8: =H8 -> 100 | S8: =I8 -> 100 | T8: =J8 -> 100 | Y8: CIE: AVG OF TEST & ASSIGNMENT | Z8: 84 | AA8: 77 | AB8: 82 | AC8: 73 | AD8: 72 | AE8: 68
D9: EXAM ATTAINMENT | E9: 50 | F9: 50 | G9: 50 | H9: 50 | I9: 50 | J9: 50 | N9: CIE: AVG OF TEST & ASSIGNMENT | O9: =(O7+O8)/2 -> 84 | P9: =(P7+P8)/2 -> 77 | Q9: =(Q7+Q8)/2 -> 81.5 | R9: =(R7+R8)/2 -> 73 | S9: =(S7+S8)/2 -> 72 | T9: =(T7+T8)/2 -> 67.5 | Y9: X BY0.4 | Z9: =Z8*0.4 -> 33.6 | AA9: =AA8*0.4 -> 30.8 | AB9: =AB8*0.4 -> 32.8 | AC9: =AC8*0.4 -> 29.2 | AD9: =AD8*0.4 -> 28.8 | AE9: =AE8*0.4 -> 27.2
D10: AVARAGE | E10: =(E7+E8+E9)/3 -> 72.666667 | F10: =(F7+F8+F9)/3 -> 68 | G10: =(G7+G8+G9)/3 -> 71 | H10: =(H7+H8+H9)/3 -> 65.333333 | I10: =(I7+I8+I9)/3 -> 64.666667 | J10: =(J7+J8+J9)/3 -> 61.666667
Y11: SEE | Z11: 50 | AA11: 50 | AB11: 50 | AC11: 50 | AD11: 50 | AE11: 50
N12: CIE | Y12: X BY 0.60 | Z12: 48 | AA12: 48 | AB12: 48 | AC12: 48 | AD12: 48 | AE12: 48
N13: SEE
E14: CO1 | F14: CO2 | G14: CO3 | H14: CO4 | I14: CO5 | J14: CO6 | N14: AVARAGE | O14: =(O12+O13)/2 -> 0 | P14: =(P12+P13)/2 -> 0 | Q14: =(Q12+Q13)/2 -> 0 | R14: =(R12+R13)/2 -> 0 | S14: =(S12+S13)/2 -> 0 | T14: =(T12+T13)/2 -> 0
D15: ATTAINMENT of COs | E15: =E10 -> 72.666667 | F15: =F10 -> 68 | G15: =G10 -> 71 | H15: =H10 -> 65.333333 | I15: =I10 -> 64.666667 | J15: =J10 -> 61.666667 | Y15: ATTAINMENT | Z15: =Z9+Z12 -> 81.6 | AA15: =AA9+AA12 -> 78.8 | AB15: =AB9+AB12 -> 80.8 | AC15: =AC9+AC12 -> 77.2 | AD15: =AD9+AD12 -> 76.8 | AE15: =AE9+AE12 -> 75.2
AB23: graph
D35: NEXT ACADEMIC YEAR TARGET CAN BE: 75%

Sheet FB
A1: Timestamp | B1: NAME | C1: USN | D1: CO1 : Are you able to describe the Basic Principles of control system and controllers | E1: CO2 :Are you able to formulate the governing equation and represent the mathematical models for physical system of equations | F1: CO3 : Are you able to determine the transfer function of a control system using block diagram reduction technique and Signal flow graphs ? | G1: CO4 : Are you able to the find the stability of the control system using Polar, Bode and root locus methods ? | H1: CO5 : Are you able to apply the State Equations to find controllability and observability using Kalman and Gilbert’s test.
A2: 43262.417 | B2: Dr.Tulsidas D. | C2: 1SGME100 | D2: 4 | E2: 5 | F2: 5 | G2: 5 | H2: 5
A3: 43262.59 | B3: Varsha D | C3: 1sg14me116 | D3: 4 | E3: 4 | F3: 5 | G3: 4 | H3: 5
A4: 43262.598 | B4: Prasad Hegde | C4: 1SG14ME078 | D4: 5 | E4: 4 | F4: 5 | G4: 5 | H4: 3
A5: 43262.615 | B5: Nandakumara H G | C5: 1sg15me415 | D5: 5 | E5: 5 | F5: 5 | G5: 5 | H5: 5
A6: 43262.62 | B6: Matlub Rahman | C6: 1sg14me066 | D6: 4 | E6: 4 | F6: 4 | G6: 4 | H6: 4
A7: 43262.645 | B7: Prateek Gupta | C7: 1SG14ME080 | D7: 5 | E7: 4 | F7: 5 | G7: 5 | H7: 5
A8: 43262.659 | B8: Vishweshwar | C8: 1sg14me124 | D8: 4 | E8: 4 | F8: 4 | G8: 4 | H8: 4
A9: 43262.67 | B9: Vasavi suresh | C9: 1SG14ME118 | D9: 4 | E9: 4 | F9: 5 | G9: 5 | H9: 3
A10: 43262.697 | B10: Md shoeb anwar | C10: 1ag14me068 | D10: 4 | E10: 2 | F10: 4 | G10: 3 | H10: 2
A11: 43262.709 | B11: RAVI KANT | C11: 1sg14me089 | D11: 5 | E11: 4 | F11: 5 | G11: 5 | H11: 3
A12: 43262.736 | B12: Sailen Hembrom | C12: 1SG14ME097 | D12: 5 | E12: 4 | F12: 5 | G12: 5 | H12: 5
A13: 43262.838 | B13: Ravisha M R | C13: 1sg14me090 | D13: 4 | E13: 4 | F13: 4 | G13: 5 | H13: 4
... A44: 43264.961 | B44: Karthik R | C44: 1SG14ME047 | D44: 4 | E44: 3 | F44: 5 | G44: 5 | H44: 4
A45: 1S | D45: =COUNTIF(D2:D44,1) -> 0 | E45: =COUNTIF(E2:E44,1) -> 1 | F45: =COUNTIF(F2:F44,1) -> 0 | G45: =COUNTIF(G2:G44,1) -> 0 | H45: =COUNTIF(H2:H44,1) -> 0
A46: 2S | D46: =COUNTIF(D2:D44,2) -> 0 | E46: =COUNTIF(E2:E44,2) -> 3 | F46: =COUNTIF(F2:F44,2) -> 0 | G46: =COUNTIF(G2:G44,2) -> 0 | H46: =COUNTIF(H2:H44,2) -> 2
A47: 3S | D47: =COUNTIF(D2:D44,3) -> 0 | E47: =COUNTIF(E2:E44,3) -> 4 | F47: =COUNTIF(F2:F44,3) -> 1 | G47: =COUNTIF(G2:G44,3) -> 2 | H47: =COUNTIF(H2:H44,3) -> 5
A48: 4S | D48: =COUNTIF(D2:D44,4) -> 16 | E48: =COUNTIF(E2:E44,4) -> 22 | F48: =COUNTIF(F2:F44,4) -> 11 | G48: =COUNTIF(G2:G44,4) -> 12 | H48: =COUNTIF(H2:H44,4) -> 18
A49: 5S | D49: =COUNTIF(D2:D44,5) -> 27 | E49: =COUNTIF(E2:E44,5) -> 13 | F49: =COUNTIF(F2:F44,5) -> 31 | G49: =COUNTIF(G2:G44,5) -> 29 | H49: =COUNTIF(H2:H44,5) -> 18
A50: TOTAL | D50: =SUM(D45:D49) -> 43 | E50: =SUM(E45:E49) -> 43 | F50: =SUM(F45:F49) -> 43 | G50: =SUM(G45:G49) -> 43 | H50: =SUM(H45:H49) -> 43
B54: 1S | C54: 2S | D54: 3S | E54: 4S | F54: 5S | G54: TOTAL
B57: 0 | C57: 0 | D57: 0 | E57: 16 | F57: 27 | G57: 43
B58: 1 | C58: 3 | D58: 4 | E58: 22 | F58: 13 | G58: 43
B59: 0 | C59: 0 | D59: 1 | E59: 11 | F59: 31 | G59: 43
B60: 0 | C60: 0 | D60: 2 | E60: 12 | F60: 29 | G60: 43
B61: 0 | C61: 2 | D61: 5 | E61: 18 | F61: 18 | G61: 43

Sheet COURSE FINAL  ATTAINMENT 
A1: INDIRECT ASSESSMENT METHOD for CO- COURSE END SURVEY
A2: Sub Code: 15ME33 | C2: Sub: BASIC THERMODYNAMICS | K2: Class: ME, 'A & B' Sec
D3: Ratings 0-5 by Number of students | K3: out of 5
A4: CO.No | B4: CO Description | C4: Course Exit survey questions | D4: 1 | E4: 2 | F4: 3 | G4: 4 | H4: 5 | J4: Total | K4: weightage avarage | L4: % attainment | M4: CO's Count
A5: CO1 | B5: Able to determine heat and work interactions in thermodynamic systems | C5: 1) Are you able to determine heat and work interactions in thermodynamic systems | D5: 0 | E5: 0 | F5: 0 | G5: 16 | H5: 27 | J5: =(D5+E5+F5+G5+H5) -> 43 | K5: =(D5*1+E5*2+F5*3+G5*4+H5*5)/J5 -> 4.627907 | L5: =K5*100/5 -> 92.55814 | M5: 5
A6: CO2 | B6: Able to apply first and second law of thermodynamics for work and heat interactions in thermodynamic systems | C6: 2) Are you able to apply first and second law of thermodynamics for work and heat interactions in thermodynamic systems | D6: 1 | E6: 3 | F6: 4 | G6: 22 | H6: 13 | J6: =(D6+E6+F6+G6+H6) -> 43 | K6: =(D6*1+E6*2+F6*3+G6*4+H6*5)/J6 -> 4 | L6: =K6*100/5 -> 80 | M6: 5
A7: CO3 | B7: Able to analyse reversible and irreversible processes based on change in entropy | C7: 3) Are you able to analyse reversible and irreversible processes based on change in entropy | D7: 0 | E7: 0 | F7: 1 | G7: 11 | H7: 31 | J7: =(D7+E7+F7+G7+H7) -> 43 | K7: =(D7*1+E7*2+F7*3+G7*4+H7*5)/J7 -> 4.6976744 | L7: =K7*100/5 -> 93.953488 | M7: 5
A8: CO4 | B8: Able to determine thermodynamic properties of pure substancen | C8: 4) Are you able to determine thermodynamic properties of pure substancen | D8: 0 | E8: 0 | F8: 2 | G8: 12 | H8: 29 | J8: =(D8+E8+F8+G8+H8) -> 43 | K8: =(D8*1+E8*2+F8*3+G8*4+H8*5)/J8 -> 4.627907 | L8: =K8*100/5 -> 92.55814 | M8: 5
A9: CO5 | B9: Able to compute available energy in thermodynamic processes using thermodynamic relations | C9: 5) Are you able to compute available energy in thermodynamic processes using thermodynamic relations | D9: 0 | E9: 2 | F9: 5 | G9: 18 | H9: 18 | J9: =(D9+E9+F9+G9+H9) -> 43 | K9: =(D9*1+E9*2+F9*3+G9*4+H9*5)/J9 -> 4.2093023 | L9: =K9*100/5 -> 84.186047 | M9: 5
A10: C06 | B10: Able to determine the behavior of the ideal and real gases using gas laws | C10: 6) Are you able to determine the behavior of the ideal and real gases using gas laws | D10: 1 | E10: 3 | F10: 4 | G10: 22 | H10: 13 | J10: =(D10+E10+F10+G10+H10) -> 43 | K10: =(D10*1+E10*2+F10*3+G10*4+H10*5)/J10 -> 4 | L10: =K10*100/5 -> 80 | M10: 5
C13: CO's | D13: CO1 | E13: CO2 | F13: CO3 | G13: CO4 | H13: CO5 | I13: CO6
C14: weightage avarage | D14: =SUMIF($A$5:$A$10,D13,$K$5:$K$11) -> 4.627907 | E14: =SUMIF($A$5:$A$10,E13,$K$5:$K$11) -> 4 | F14: =SUMIF($A$5:$A$10,F13,$K$5:$K$11) -> 4.6976744 | G14: =SUMIF($A$5:$A$10,G13,$K$5:$K$11) -> 4.627907 | H14: =SUMIF($A$5:$A$10,H13,$K$5:$K$11) -> 4.2093023 | I14: =K10 -> 4
C15: Total | D15: =SUMIF($A$5:$A$10,D13,$M$5:$M$11) -> 5 | E15: =SUMIF($A$5:$A$10,E13,$M$5:$M$11) -> 5 | F15: =SUMIF($A$5:$A$10,F13,$M$5:$M$11) -> 5 | G15: =SUMIF($A$5:$A$10,G13,$M$5:$M$11) -> 5 | H15: =SUMIF($A$5:$A$10,H13,$M$5:$M$11) -> 5 | I15: 5
C16: % attainment | D16: =D14/D15*100 -> 92.55814 | E16: =E14/E15*100 -> 80 | F16: =F14/F15*100 -> 93.953488 | G16: =G14/G15*100 -> 92.55814 | H16: =H14/H15*100 -> 84.186047 | I16: =I14/I15*100 -> 80
C18: CO Assessment method | D18: CO1 | E18: CO2 | F18: CO3 | G18: CO4 | H18: CO5 | I18: CO6
B19: IA,Assignment, quiz,exam, etc | C19: Direct method | D19: ='TOTAL CO '!E15 -> 72.666667 | E19: ='TOTAL CO '!F15 -> 68 | F19: ='TOTAL CO '!G15 -> 71 | G19: ='TOTAL CO '!H15 -> 65.333333 | H19: ='TOTAL CO '!I15 -> 64.666667 | I19: ='TOTAL CO '!J15 -> 61.666667
C20: Weightage 80% | D20: =D19*0.8 -> 58.133333 | E20: =E19*0.8 -> 54.4 | F20: =F19*0.8 -> 56.8 | G20: =G19*0.8 -> 52.266667 | H20: =H19*0.8 -> 51.733333 | I20: =I19*0.8 -> 49.333333
B21: COURSE END SURVEY | C21: Indirect method | D21: =D16 -> 92.55814 | E21: =E16 -> 80 | F21: =F16 -> 93.953488 | G21: =G16 -> 92.55814 | H21: =H16 -> 84.186047 | I21: =I16 -> 80
C22: Weightage 20% | D22: =D21*0.2 -> 18.511628 | E22: =E21*0.2 -> 16 | F22: =F21*0.2 -> 18.790698 | G22: =G21*0.2 -> 18.511628 | H22: =H21*0.2 -> 16.837209 | I22: =I21*0.2 -> 16
C23: Final CO Attainment | D23: =D20+D22 -> 76.644961 | E23: =E20+E22 -> 70.4 | F23: =F20+F22 -> 75.590698 | G23: =G20+G22 -> 70.778295 | H23: =H20+H22 -> 68.570543 | I23: =I20+I22 -> 65.333333
C26: CO'S | D26: CO1 | E26: CO2 | F26: CO3 | G26: CO4 | H26: CO5 | I26: CO6
C27: CO ATTAINMENT CHART 2016-2017 CE -15ME33 | D27: =D23 -> 76.644961 | E27: =E23 -> 70.4 | F27: =F23 -> 75.590698 | G27: =G23 -> 70.778295 | H27: =H23 -> 68.570543 | I27: =I23 -> 65.333333
C30: 2017-2018 Target: 70%
B33: Target for next academic year 2018-2019: 75%

Sheet CO ATTAINMENT
A1: SAPTHAGIRI COLLEGE OF ENGINEERING, BENGALURU - 57.
A2: DEPARTMENT OF ELECTRICAL AND ELECTRONICS ENGINEERING
A3: CO-PO ATTAINMENT (ODD SEM. 2017-18)
A4: SEM & SEC: III"A" | D4: Subject: BASIC THERMODYNAMICS | L4: Subject Code: 15ME33
A5: NAME OF THE FACULTY :PADMANABHA G
B6: I CO Attainment
B7: A: Direct assessment (80%)-Tests, Assignment, Examination
B8: B: Indirect assessment (20%)-Course end survey
B10: COs | C10: Direct | D10: Indirect Assessment | E10: Overall Attainment | F10: Target (%) | G10: Attainment
C11: Assessment | D11: (b) | E11: 0.8 (a) + 0.2(b)
C12: (a)
B13: CO1 | C13: 73 | D13: 92.55814 | E13: =(0.8*C13)+(0.2*D13) -> 76.911628 | F13: 70 | G13: YES
B14: CO2 | C14: 68 | D14: 80 | E14: =(0.8*C14)+(0.2*D14) -> 70.4 | F14: 70 | G14: NO
B15: CO3 | C15: 71 | D15: 93.953488 | E15: =(0.8*C15)+(0.2*D15) -> 75.590698 | F15: 70 | G15: YES
B16: CO4 | C16: 65 | D16: 92.55814 | E16: =(0.8*C16)+(0.2*D16) -> 70.511628 | F16: 70 | G16: YES
B17: CO5 | C17: 65 | D17: 84.186047 | E17: =(0.8*C17)+(0.2*D17) -> 68.837209 | F17: 70 | G17: YES
B18: CO6 | C18: 62 | D18: 80 | E18: =(0.8*C18)+(0.2*D18) -> 65.6 | F18: 70 | G18: NO

Sheet CO-PO-DIRECT
B1: Mapping of Course outcomes (COs) and Program Outcomes (POs)
B2: Note: 1 = Slight 2 = Moderate 3 = Good 4 = Excellent
B4: Course outcomes | C4: Program Outcomes | O4: PSO'S
C5: PO1 | D5: PO2 | E5: PO3 | F5: PO4 | G5: PO5 | H5: PO6 | I5: PO7 | J5: PO8 | K5: PO9 | L5: PO10 | M5: PO11 | N5: PO12 | O5: PSO1 | P5: PSO2
B6: CO-1 | C6: 2 | D6: 2 | G6: 1 | H6: 2 | K6: 1
B7: CO-2 | C7: 2 | D7: 3 | E7: 2
B8: CO-3 | C8: 1 | D8: 2 | F8: 1 | G8: 1
B9: CO-4 | C9: 2 | D9: 1 | F9: 1
B10: CO-5 | C10: 3 | D10: 2 | F10: 1 | G10: 1 | H10: 2 | K10: 2
B11: CO-6 | C11: 3 | D11: 2 | E11: 2 | F11: 1 | G11: 1 | K11: 2
B12: Total | C12: 12 | D12: - | E12: - | F12: 10 | G12: - | H12: 3 | I12: 12 | J12: - | K12: 6 | L12: - | M12: - | N12: 6
B18: Mapping of Course outcomes (COs) and Program Outcomes (POs)
B19: Note: 1 = Slight 2 = Moderate 3 = Good 4 = Excellent
A21: Course outcomes | B21: CO % DIRECT | C21: Program Outcomes
C22: PO1 | D22: PO2 | E22: PO3 | F22: PO4 | G22: PO5 | H22: PO6 | I22: PO7 | J22: PO8 | K22: PO9 | L22: PO10 | M22: PO11 | N22: PO12 | O22: PSO1 | P22: PSO2
A23: CO-1 | B23: 73 | C23: =($B$23/4)*C6 -> 36.5 | D23: =($B$23/4)*D6 -> 36.5 | E23: =($B$23/4)*E6 -> 0 | F23: =($B$23/4)*F6 -> 0 | G23: =($B$23/4)*G6 -> 18.25 | H23: =($B$23/4)*H6 -> 36.5 | I23: =($B$23/4)*I6 -> 0 | J23: =($B$23/4)*J6 -> 0 | ... N23: =($B$23/4)*N6 -> 0
A24: CO-2 | B24: 68 | C24: =($B$24/4)*C7 -> 34 | D24: =($B$24/4)*D7 -> 51 | E24: =($B$24/4)*E7 -> 34 | F24: =($B$24/4)*F7 -> 0 | G24: =($B$24/4)*G7 -> 0 | H24: =($B$24/4)*H7 -> 0 | I24: =($B$24/4)*I7 -> 0 | J24: =($B$24/4)*J7 -> 0 | ... N24: =($B$24/4)*N7 -> 0
A25: CO-3 | B25: 71 | C25: =(B25/4)*C8 -> 17.75 | D25: =(C25/4)*D8 -> 8.875 | E25: =(D25/4)*E8 -> 0 | F25: =(E25/4)*F8 -> 0 | G25: =(F25/4)*G8 -> 0 | H25: =(G25/4)*H8 -> 0 | I25: =(H25/4)*I8 -> 0 | J25: =(I25/4)*J8 -> 0 | ... N25: =(M25/4)*N8 -> 0
A26: CO-4 | B26: 65 | C26: =($B$26/4)*C9 -> 32.5 | D26: =($B$26/4)*D9 -> 16.25 | E26: =($B$26/4)*E9 -> 0 | F26: =($B$26/4)*F9 -> 16.25 | G26: =($B$26/4)*G9 -> 0 | H26: =($B$26/4)*H9 -> 0 | I26: =($B$26/4)*I9 -> 0 | J26: =($B$26/4)*J9 -> 0 | ... N26: =($B$26/4)*N9 -> 0
A27: CO-5 | B27: 65 | C27: =($B$27/4)*C10 -> 48.75 | D27: =($B$27/4)*D10 -> 32.5 | E27: =($B$27/4)*E10 -> 0 | F27: =($B$27/4)*F10 -> 16.25 | G27: =($B$27/4)*G10 -> 16.25 | H27: =($B$27/4)*H10 -> 32.5 | I27: =($B$27/4)*I10 -> 0 | J27: =($B$27/4)*J10 -> 0 | ... N27: =($B$27/4)*N10 -> 0
A28: CO-6 | B28: 62 | C28: =($B$28/4)*C11 -> 46.5 | D28: =($B$28/4)*D11 -> 31 | E28: =($B$28/4)*E11 -> 31 | F28: =($B$28/4)*F11 -> 15.5 | G28: =($B$28/4)*G11 -> 15.5 | H28: =($B$28/4)*H11 -> 0 | I28: =($B$28/4)*I11 -> 0 | J28: =($B$28/4)*J11 -> 0 | ... N28: =($B$28/4)*N11 -> 0
A29: AVG | C29: =AVERAGE(C23:C28) -> 36 | D29: =AVERAGE(D23:D28) -> 29.354167 | E29: =AVERAGE(E23:E28) -> 10.833333 | F29: =AVERAGE(F23:F28) -> 8 | G29: =AVERAGE(G23:G28) -> 8.3333333 | H29: =AVERAGE(H23:H28) -> 11.5 | I29: =AVERAGE(I23:I28) -> 0 | J29: =AVERAGE(J23:J28) -> 0 | ... N29: =AVERAGE(N23:N28) -> 0

Sheet CO-PO-INDIRECT
B1: Mapping of Course outcomes (COs) and Program Outcomes (POs)
B2: Note: 1 = Slight 2 = Moderate 3 = Good 4 = Excellent
B4: Course outcomes | C4: Program Outcomes | O4: PSO'S
C5: PO1 | D5: PO2 | E5: PO3 | F5: PO4 | G5: PO5 | H5: PO6 | I5: PO7 | J5: PO8 | K5: PO9 | L5: PO10 | M5: PO11 | N5: PO12 | O5: PSO1 | P5: PSO2
B6: CO-1 | C6: 2 | D6: 2 | G6: 1 | H6: 2 | K6: 1
B7: CO-2 | C7: 2 | D7: 3 | E7: 2
B8: CO-3 | C8: 1 | D8: 2 | F8: 1 | G8: 1
B9: CO-4 | C9: 2 | D9: 1 | F9: 1
B10: CO-5 | C10: 3 | D10: 2 | F10: 1 | G10: 1 | H10: 2 | K10: 2
B11: CO-6 | C11: 3 | D11: 2 | E11: 2 | F11: 1 | G11: 1 | K11: 2
B12: Total | C12: 12 | D12: - | E12: - | F12: 10 | G12: - | H12: 3 | I12: 12 | J12: - | K12: 6 | L12: - | M12: - | N12: 6
B16: Mapping of Course outcomes (COs) and Program Outcomes (POs)
B17: Note: 1 = Slight 2 = Moderate 3 = Good 4 = Excellent
A19: Course outcomes | B19: CO % INDIRECT | C19: Program Outcomes
C20: PO1 | D20: PO2 | E20: PO3 | F20: PO4 | G20: PO5 | H20: PO6 | I20: PO7 | J20: PO8 | K20: PO9 | L20: PO10 | M20: PO11 | N20: PO12 | O20: PSO1 | P20: PSO2
A21: CO-1 | B21: 73 | C21: 80 | D21: 93.953488 | E21: 92.55814 | F21: 84.186047 | G21: =($B$21/4)*G6 -> 18.25 | H21: =($B$21/4)*H6 -> 36.5 | I21: =($B$21/4)*I6 -> 0 | J21: =($B$21/4)*J6 -> 0 | K21: =($B$21/4)*K6 -> 18.25 | L21: =($B$21/4)*L6 -> 0 | M21: =($B$21/4)*M6 -> 0 | N21: =($B$21/4)*N6 -> 0
A22: CO-2 | B22: 68 | C22: =($B$22/4)*C7 -> 34 | D22: =($B$22/4)*D7 -> 51 | E22: =($B$22/4)*E7 -> 34 | F22: =($B$22/4)*F7 -> 0 | G22: =($B$22/4)*G7 -> 0 | H22: =($B$22/4)*H7 -> 0 | I22: =($B$22/4)*I7 -> 0 | J22: =($B$22/4)*J7 -> 0 | ... N22: =($B$22/4)*N7 -> 0
A23: CO-3 | B23: 71 | C23: =(B23/4)*C8 -> 17.75 | D23: =(C23/4)*D8 -> 8.875 | E23: =(D23/4)*E8 -> 0 | F23: =(E23/4)*F8 -> 0 | G23: =(F23/4)*G8 -> 0 | H23: =(G23/4)*H8 -> 0 | I23: =(H23/4)*I8 -> 0 | J23: =(I23/4)*J8 -> 0 | ... N23: =(M23/4)*N8 -> 0
A24: CO-4 | B24: 65 | C24: =($B$24/4)*C9 -> 32.5 | D24: =($B$24/4)*D9 -> 16.25 | E24: =($B$24/4)*E9 -> 0 | F24: =($B$24/4)*F9 -> 16.25 | G24: =($B$24/4)*G9 -> 0 | H24: =($B$24/4)*H9 -> 0 | I24: =($B$24/4)*I9 -> 0 | J24: =($B$24/4)*J9 -> 0 | ... N24: =($B$24/4)*N9 -> 0
A25: CO-5 | B25: 65 | C25: =($B$25/4)*C10 -> 48.75 | D25: =($B$25/4)*D10 -> 32.5 | E25: =($B$25/4)*E10 -> 0 | F25: =($B$25/4)*F10 -> 16.25 | G25: =($B$25/4)*G10 -> 16.25 | H25: =($B$25/4)*H10 -> 32.5 | I25: =($B$25/4)*I10 -> 0 | J25: =($B$25/4)*J10 -> 0 | ... N25: =($B$25/4)*N10 -> 0
A26: CO-6 | B26: 62 | C26: =($B$26/4)*C11 -> 46.5 | D26: =($B$26/4)*D11 -> 31 | E26: =($B$26/4)*E11 -> 31 | F26: =($B$26/4)*F11 -> 15.5 | G26: =($B$26/4)*G11 -> 15.5 | H26: =($B$26/4)*H11 -> 0 | I26: =($B$26/4)*I11 -> 0 | J26: =($B$26/4)*J11 -> 0 | ... N26: =($B$26/4)*N11 -> 0
A27: AVG | C27: =AVERAGE(C21:C26) -> 43.25 | D27: =AVERAGE(D21:D26) -> 38.929748 | E27: =AVERAGE(E21:E26) -> 26.25969 | F27: =AVERAGE(F21:F26) -> 22.031008 | G27: =AVERAGE(G21:G26) -> 8.3333333 | H27: =AVERAGE(H21:H26) -> 11.5 | I27: =AVERAGE(I21:I26) -> 0 | J27: =AVERAGE(J21:J26) -> 0 | ... N27: =AVERAGE(N21:N26) -> 0

Sheet C-Sec
B1: Acharya Institute of Technology
B2: Department of Computer Science and Engineering
B3: VI Semester C Section Test marks for Even Sem 2013-14
A4: Sl. No. | B4: Name of the student | C4: USN | D4: I INTERNALS | I4: II INTERNALS | Q4: III INTERNALS
I5: PART A | M5: PART B | Q5: PART A | U5: PART B
D6: 1 | E6: 2 | F6: 3 | G6: 4 | H6: 5 | I6: 1 | J6: 2 | K6: 3 | L6: 4 | M6: 5 | N6: 6 | O6: 7 | P6: 8 | Q6: 1 | R6: 2 | S6: 3 | T6: 4 | U6: 5 | V6: 6 | W6: 7 | X6: 8
D7: CO 1 | E7: CO 2 | F7: CO 3 | G7: CO 3 | H7: CO 3 | I7: CO 3 | J7: CO 3 | K7: CO 3 | L7: CO 3 | M7: CO 1 | N7: CO 4 | O7: CO 4 | P7: CO 4 | Q7: CO 4 | R7: CO 4 | S7: CO 4 | T7: CO 4 | U7: CO 4 | V7: CO 4 | W7: CO 5 | X7: CO 5
A8: 1 | B8: SRINIDHI P C | C8: 1AY11CS113 | D8: 10 | E8: 10 | F8: 7 | G8: 10 | H8: 10 | I8: 10 | J8: 10 | K8: 10 | N8: 10 | O8: 9 | Q8: 10 | T8: 9 | U8: 10 | V8: 9 | X8: 10
A9: 2 | B9: SHRUTHIKA C RAMPURE | C9: 1AY11CS114 | D9: 10 | E9: 7 | F9: 9 | G9: 9 | H9: 4 | I9: 9 | J9: 9 | K9: 9 | L9: 9 | N9: 9 | O9: 9 | P9: 10
A10: 3 | B10: SNEHA KUMARI | C10: 1AY11CS115 | D10: 10 | E10: 8 | F10: 9 | G10: 10 | H10: 9 | I10: 10 | K10: 9 | L10: 10 | N10: 9 | O10: 10 | P10: 9 | Q10: 10 | R10: 10 | S10: 10 | T10: 10 | U10: 4 | X10: 10
A11: 4 | B11: SOMEN GORAIN | C11: 1AY11CS116 | E11: 10 | F11: 9 | G11: 9 | H11: 7 | I11: 10 | K11: 10 | M11: 10 | O11: 10 | P11: 10 | Q11: 8 | S11: 10 | T11: 10 | V11: 10 | X11: 10
A12: 5 | B12: SOUVIK KUNDU | C12: 1AY11CS117 | D12: 10 | E12: 10 | F12: 9 | G12: 5 | H12: 7 | K12: 10 | L12: 7 | M12: 10 | N12: 10 | O12: 10 | R12: 10 | S12: 10 | T12: 10 | U12: 6 | V12: 10 | W12: 6
A13: 6 | B13: SOWMYA NAGARAJU | C13: 1AY11CS118 | D13: 3 | E13: 8 | F13: 10 | G13: 8 | H13: 5 | K13: 8 | L13: 10 | M13: 4 | P13: 8 | Q13: 5 | S13: 10 | T13: 10 | U13: 6 | V13: 10 | X13: 10
A14: 7 | B14: SRISTI KUMARI | C14: 1AY11CS120 | D14: 10 | E14: 3 | F14: 7 | G14: 5 | K14: 7 | L14: 7 | M14: 10 | O14: 9 | P14: 9
A15: 8 | B15: SUBAS THAPA | C15: 1AY11CS121 | D15: 7 | E15: 3 | F15: 10 | G15: 4 | H15: 6 | I15: 9 | K15: 9 | N15: 10 | O15: 10 | P15: 8 | Q15: 10 | S15: 10 | T15: 10 | V15: 10 | X15: 9
A16: 9 | B16: SUKANYA BOSE | C16: 1AY11CS122 | D16: 7 | E16: 5 | F16: 8 | I16: 3 | J16: 9 | K16: 9 | L16: 5 | M16: 6 | N16: 4 | O16: 0 | P16: 4 | Q16: 6 | S16: 9 | T16: 4 | V16: 6
A17: 10 | B17: SUMIT KUMAR | C17: 1AY11CS123 | D17: 10 | E17: 3 | F17: 8 | G17: 5 | M17: 8 | N17: 4 | O17: 10 | P17: 5 | Q17: 10 | T17: 10 | U17: 4 | W17: 10 | X17: 10
A18: 11 | B18: SUPRIYA | C18: 1AY11CS124 | D18: 7 | E18: 8 | F18: 9 | G18: 9 | H18: 7 | J18: 8 | K18: 9 | N18: 10 | O18: 6 | P18: 10 | Q18: 8 | S18: 10 | T18: 10 | U18: 8 | V18: 8 | X18: 10
A19: 12 | B19: SURENDRA D | C19: 1AY11CS125 | D19: 10 | F19: 9 | G19: 9 | H19: 7 | I19: 10 | K19: 10 | L19: 8 | M19: 10 | O19: 10 | P19: 6 | Q19: 10 | R19: 6 | S19: 10 | T19: 6 | U19: 4 | X19: 10
A20: 13 | B20: SWATI .M .S | C20: 1AY11CS127 | D20: 10 | E20: 3 | F20: 10 | G20: 4 | H20: 9 | I20: 7 | K20: 9 | L20: 5 | N20: 8 | O20: 9 | P20: 9 | Q20: 8 | R20: 8 | S20: 10 | T20: 10 | U20: 8 | V20: 8 | X20: 10
A21: 14 | B21: TAJ UNNISA | C21: 1AY11CS128 | D21: 10 | E21: 8 | F21: 9 | G21: 10 | H21: 10 | I21: 8 | J21: 9 | L21: 9 | M21: 10 | N21: 9 | O21: 10
A22: 15 | B22: TANUSHREE .Y | C22: 1AY11CS129 | D22: 10 | E22: 4 | F22: 9 | G22: 10 | H22: 6 | I22: 10 | K22: 10 | L22: 4 | N22: 8 | O22: 10 | P22: 10 | R22: 10 | S22: 10 | U22: 10 | V22: 10 | X22: 10
A23: 16 | B23: UMESH KUMAR | C23: 1AY11CS131 | I23: 7 | J23: 9 | L23: 9 | M23: 7 | N23: 4 | O23: 6 | Q23: 6 | S23: 10 | U23: 8 | V23: 10 | X23: 10
A24: 17 | B24: V PRADEEP | C24: 1AY11CS133 | D24: 2 | E24: 10 | F24: 9 | G24: 9 | H24: 10 | I24: 9 | K24: 7 | N24: 10 | O24: 4 | P24: 10
A25: 18 | B25: VISHAL KUMAR | C25: 1AY11CS135 | D25: 10 | E25: 10 | F25: 10 | G25: 10 | H25: 10 | J25: 8 | K25: 5 | M25: 10 | N25: 2 | O25: 10 | P25: 8
A26: 19 | B26: VISHNU .N | C26: 1AY11CS136 | D26: 10 | E26: 9 | F26: 9 | G26: 10 | H26: 7 | I26: 10 | J26: 10 | M26: 10 | N26: 10 | O26: 10
A27: 20 | B27: YOGESH.N | C27: 1AY11CS137 | D27: 10 | E27: 10 | F27: 9 | G27: 10 | H27: 9 | I27: 10 | J27: 10 | K27: 9 | M27: 10 | N27: 10 | O27: 10
A28: 21 | B28: SNEHA KULHALLI | C28: 1AY11CS140 | D28: 10 | E28: 3 | F28: 7 | G28: 7 | H28: 5 | I28: 5 | J28: 7 | K28: 5 | L28: 5 | N28: 6 | O28: 9 | Q28: 10 | S28: 10 | U28: 8 | V28: 6 | X28: 10
A29: 22 | B29: AKSHITHA C | C29: 1AY12CS400 | D29: 7 | F29: 9 | G29: 7 | H29: 5 | I29: 8 | K29: 8 | N29: 4 | O29: 4 | P29: 4 | Q29: 8 | S29: 8 | T29: 8 | V29: 8
A30: 23 | B30: B B VIKAS | C30: 1AY12CS401 | J30: 8 | K30: 7 | M30: 10 | N30: 4 | O30: 10 | Q30: 5 | R30: 2 | S30: 10 | T30: 5 | U30: 2 | V30: 8 | X30: 10
A31: 24 | B31: BALAJI P | C31: 1AY12CS402 | J31: 7 | N31: 6 | O31: 10 | P31: 5 | Q31: 8 | R31: 4 | S31: 10 | V31: 8 | W31: 10
A32: 25 | B32: BASANAGOUDA | C32: 1AY12CS403 | I32: 9 | J32: 7 | N32: 4 | O32: 9 | P32: 4 | R32: 8 | S32: 10 | T32: 8 | U32: 10 | V32: 8 | X32: 10
A33: 26 | B33: BASAVARAJ S | C33: 1AY12CS404 | D33: 9 | E33: 9 | I33: 8 | K33: 9 | N33: 4 | P33: 4 | Q33: 5 | S33: 10 | T33: 10 | U33: 4 | V33: 9 | X33: 10
A34: 27 | B34: DIVYA KALA M | C34: 1AY12CS405 | D34: 10 | E34: 8 | F34: 9 | G34: 9 | H34: 9 | I34: 9 | J34: 8 | M34: 10 | N34: 4 | O34: 9 | P34: 4 | Q34: 8 | R34: 8 | S34: 10 | U34: 8 | V34: 8
A35: 28 | B35: DIVYA L | C35: 1AY12CS406 | D35: 10 | E35: 2 | F35: 7 | I35: 7 | J35: 5 | N35: 4 | O35: 4 | P35: 5 | Q35: 10 | S35: 4 | T35: 10 | U35: 3 | V35: 6 | W35: 4
A36: 29 | B36: GOPAL RAJ J T | C36: 1AY12CS407 | D36: 9 | F36: 9 | G36: 9 | H36: 7 | J36: 5 | L36: 5 | N36: 4 | O36: 6 | P36: 4 | Q36: 4 | S36: 6 | U36: 8 | V36: 8 | W36: 8
A37: 30 | B37: GURURAJ M S | C37: 1AY12CS408 | D37: 9 | E37: 8 | F37: 9 | G37: 7 | H37: 7 | K37: 5 | L37: 8 | N37: 10 | O37: 7 | Q37: 8 | R37: 8 | S37: 10 | T37: 5 | U37: 5 | X37: 10
A38: 31 | B38: JHANHAVI V | C38: 1AY12CS410 | D38: 8 | E38: 5 | F38: 9 | G38: 5 | H38: 6 | I38: 9 | L38: 8 | M38: 10 | N38: 9 | O38: 9 | P38: 8 | Q38: 8 | S38: 8 | T38: 10 | U38: 8 | X38: 8
A39: 32 | B39: LOHITH R R | C39: 1AY12CS411 | F39: 6 | G39: 7 | H39: 6 | J39: 9 | K39: 10 | N39: 10 | O39: 10 | P39: 10 | Q39: 10 | R39: 8 | S39: 10 | V39: 8 | X39: 6
A40: 33 | B40: MALLIKARJUN | C40: 1AY12CS412 | I40: 4 | J40: 6 | M40: 2 | N40: 4 | O40: 5 | P40: 4 | Q40: 8 | R40: 8 | S40: 10 | T40: 3 | V40: 8
A41: 34 | B41: MANJU S | C41: 1AY12CS414 | F41: 10 | G41: 10 | H41: 3 | K41: 7 | L41: 9 | N41: 9 | O41: 9 | P41: 9 | Q41: 8 | R41: 8 | S41: 10 | T41: 10 | V41: 8
A42: 35 | B42: MEGHANA K K | C42: 1AY12CS415 | D42: 9 | F42: 7 | Q42: 5 | R42: 5 | S42: 10 | T42: 8 | V42: 8 | W42: 5 | X42: 8
A43: 36 | B43: MONICA SM | C43: 1AY12CS416 | D43: 10 | E43: 9 | F43: 5 | G43: 5 | H43: 5 | I43: 4 | L43: 4 | M43: 10 | N43: 4 | P43: 4 | Q43: 8 | R43: 10 | S43: 10 | V43: 8 | X43: 10
A44: 37 | B44: NAVEEN KUMAR K S | C44: 1AY12CS417 | K44: 5 | L44: 5 | N44: 4 | P44: 4 | Q44: 10 | S44: 10 | U44: 6 | V44: 10 | X44: 10
A45: 38 | B45: NAYANA R R | C45: 1AY12CS418 | D45: 10 | E45: 9 | G45: 6 | H45: 5 | Q45: 6 | R45: 6 | U45: 3 | V45: 4 | X45: 10
A46: 39 | B46: PAVITHRA HJ | C46: 1AY12CS419 | I46: 8 | J46: 8 | M46: 10 | N46: 4 | O46: 4 | P46: 4 | Q46: 5 | S46: 8 | T46: 8 | U46: 4 | W46: 4 | X46: 10
A47: 40 | B47: PRASHANTH V | C47: 1AY12CS420 | D47: 8 | E47: 2 | F47: 9 | G47: 9 | H47: 1 | I47: 8 | K47: 10 | N47: 9 | O47: 10 | P47: 9
A48: 41 | B48: PRAVEEN KUMAR B | C48: 1AY12CS421 | D48: 9 | E48: 6 | F48: 6 | G48: 9 | H48: 8 | I48: 8 | J48: 9 | K48: 9 | N48: 4 | P48: 4 | Q48: 5 | S48: 8 | T48: 8 | U48: 8 | X48: 8
A49: 42 | B49: PUTTARAJU B K | C49: 1AY12CS422 | D49: 8 | F49: 5 | G49: 3 | J49: 4 | K49: 4 | M49: 9 | O49: 10 | P49: 3 | S49: 10 | T49: 10 | V49: 4 | X49: 10
A50: 43 | B50: RADHAKRISHNA G | C50: 1AY12CS423 | D50: 6 | F50: 5 | G50: 5 | H50: 5 | I50: 8 | K50: 8 | N50: 4 | O50: 4 | P50: 10 | Q50: 6 | S50: 6 | T50: 6 | U50: 10 | V50: 10 | X50: 10
A51: 44 | B51: SANTHOSH KUMAR G P | C51: 1AY12CS425 | D51: 9 | E51: 7 | F51: 9 | G51: 9 | H51: 7 | I51: 7 | J51: 7 | K51: 7 | M51: 10 | N51: 4 | O51: 10 | P51: 4
A52: 45 | B52: SHREYAS P | C52: 1AY12CS426 | D52: 10 | E52: 5 | F52: 6 | G52: 5 | H52: 5 | I52: 4 | K52: 4 | M52: 9 | N52: 2 | O52: 8
A53: 46 | B53: SHRIDHAR REDDY | C53: 1AY12CS427 | K53: 3 | N53: 4 | P53: 7 | Q53: 6 | S53: 9 | T53: 10 | U53: 10 | V53: 9 | X53: 8
A54: 47 | B54: VIDYA G | C54: 1AY12CS430 | D54: 10 | E54: 9 | F54: 9 | G54: 8 | I54: 9 | J54: 7 | M54: 10 | N54: 4 | O54: 8 | S54: 10 | T54: 10 | V54: 8 | X54: 6
B56: No of students between 9-10 | D56: =COUNTIF(D6:D54,"=9")+COUNTIF(D6:D54,"=10") -> 26 | E56: =COUNTIF(E6:E54,"=9")+COUNTIF(E6:E54,"=10") -> 11 | F56: =COUNTIF(F6:F54,"=9")+COUNTIF(F6:F54,"=10") -> 24 | G56: =COUNTIF(G6:G54,"=9")+COUNTIF(G6:G54,"=10") -> 18 | H56: =COUNTIF(H6:H54,"=9")+COUNTIF(H6:H54,"=10") -> 8 | I56: =COUNTIF(I6:I54,"=9")+COUNTIF(I6:I54,"=10") -> 14 | J56: =COUNTIF(J6:J54,"=9")+COUNTIF(J6:J54,"=10") -> 9 | K56: =COUNTIF(K6:K54,"=9")+COUNTIF(K6:K54,"=10") -> 16 | ... X56: =COUNTIF(X6:X54,"=9")+COUNTIF(X6:X54,"=10") -> 22
B57: No of students between 7-8 | D57: =COUNTIF(D6:D54,"=7")+COUNTIF(D6:D54,"=8") -> 7 | E57: =COUNTIF(E6:E54,"=7")+COUNTIF(E6:E54,"=8") -> 8 | F57: =COUNTIF(F6:F54,"=7")+COUNTIF(F6:F54,"=8") -> 7 | G57: =COUNTIF(G6:G54,"=7")+COUNTIF(G6:G54,"=8") -> 6 | H57: =COUNTIF(H6:H54,"=7")+COUNTIF(H6:H54,"=8") -> 9 | I57: =COUNTIF(I6:I54,"=7")+COUNTIF(I6:I54,"=8") -> 11 | J57: =COUNTIF(J6:J54,"=7")+COUNTIF(J6:J54,"=8") -> 10 | K57: =COUNTIF(K6:K54,"=7")+COUNTIF(K6:K54,"=8") -> 8 | ... X57: =COUNTIF(X6:X54,"=7")+COUNTIF(X6:X54,"=8") -> 5
B58: No of students between 5-6 | D58: =COUNTIF(D6:D54,"=5")+COUNTIF(D6:D54,"=6") -> 1 | E58: =COUNTIF(E6:E54,"=5")+COUNTIF(E6:E54,"=6") -> 4 | F58: =COUNTIF(F6:F54,"=5")+COUNTIF(F6:F54,"=6") -> 6 | G58: =COUNTIF(G6:G54,"=5")+COUNTIF(G6:G54,"=6") -> 8 | H58: =COUNTIF(H6:H54,"=5")+COUNTIF(H6:H54,"=6") -> 12 | I58: =COUNTIF(I6:I54,"=5")+COUNTIF(I6:I54,"=6") -> 1 | J58: =COUNTIF(J6:J54,"=5")+COUNTIF(J6:J54,"=6") -> 3 | K58: =COUNTIF(K6:K54,"=5")+COUNTIF(K6:K54,"=6") -> 4 | ... X58: =COUNTIF(X6:X54,"=5")+COUNTIF(X6:X54,"=6") -> 2
B59: No of students between 3-4 | D59: =COUNTIF(D6:D54,"=3")+COUNTIF(D6:D54,"=4") -> 1 | E59: =COUNTIF(E6:E54,"=3")+COUNTIF(E6:E54,"=4") -> 6 | F59: =COUNTIF(F6:F54,"=3")+COUNTIF(F6:F54,"=4") -> 1 | G59: =COUNTIF(G6:G54,"=3")+COUNTIF(G6:G54,"=4") -> 4 | H59: =COUNTIF(H6:H54,"=3")+COUNTIF(H6:H54,"=4") -> 2 | I59: =COUNTIF(I6:I54,"=3")+COUNTIF(I6:I54,"=4") -> 4 | J59: =COUNTIF(J6:J54,"=3")+COUNTIF(J6:J54,"=4") -> 1 | K59: =COUNTIF(K6:K54,"=3")+COUNTIF(K6:K54,"=4") -> 4 | ... X59: =COUNTIF(X6:X54,"=3")+COUNTIF(X6:X54,"=4") -> 0
B60: No of students between 1-2 | D60: =COUNTIF(D6:D54,"=1")+COUNTIF(D6:D54,"=2") -> 2 | E60: =COUNTIF(E6:E54,"=1")+COUNTIF(E6:E54,"=2") -> 3 | F60: =COUNTIF(F6:F54,"=1")+COUNTIF(F6:F54,"=2") -> 0 | G60: =COUNTIF(G6:G54,"=1")+COUNTIF(G6:G54,"=2") -> 0 | H60: =COUNTIF(H6:H54,"=1")+COUNTIF(H6:H54,"=2") -> 1 | I60: =COUNTIF(I6:I54,"=1")+COUNTIF(I6:I54,"=2") -> 1 | J60: =COUNTIF(J6:J54,"=1")+COUNTIF(J6:J54,"=2") -> 1 | K60: =COUNTIF(K6:K54,"=1")+COUNTIF(K6:K54,"=2") -> 0 | ... X60: =COUNTIF(X6:X54,"=1")+COUNTIF(X6:X54,"=2") -> 0
B61: No of students scored 0 | D61: =COUNTIF(D6:D54,"=0") -> 0 | E61: =COUNTIF(E6:E54,"=0") -> 0 | F61: =COUNTIF(F6:F54,"=0") -> 0 | G61: =COUNTIF(G6:G54,"=0") -> 0 | H61: =COUNTIF(H6:H54,"=0") -> 0 | I61: =COUNTIF(I6:I54,"=0") -> 0 | J61: =COUNTIF(J6:J54,"=0") -> 0 | K61: =COUNTIF(K6:K54,"=0") -> 0 | ... X61: =COUNTIF(X6:X54,"=0") -> 0
B62: Absentees | D62: =COUNTBLANK(D6:D54) -> 11 | E62: =COUNTBLANK(E6:E54) -> 16 | F62: =COUNTBLANK(F6:F54) -> 10 | G62: =COUNTBLANK(G6:G54) -> 12 | H62: =COUNTBLANK(H6:H54) -> 16 | I62: =COUNTBLANK(I6:I54) -> 17 | J62: =COUNTBLANK(J6:J54) -> 24 | K62: =COUNTBLANK(K6:K54) -> 16 | ... X62: =COUNTBLANK(X6:X54) -> 19
B64: Attainment | D64: =((0.35*D56)+(0.3*D57)+(0.2*D58)+(0.1*D59)+(0.05*D60)+(0*D61))/(0.35*(D56+D57+D58+D59+D60+D61))*100 -> 89.57529 | E64: =((0.35*E56)+(0.3*E57)+(0.2*E58)+(0.1*E59)+(0.05*E60)+(0*E61))/(0.35*(E56+E57+E58+E59+E60+E61))*100 -> 69.642857 | F64: =((0.35*F56)+(0.3*F57)+(0.2*F58)+(0.1*F59)+(0.05*F60)+(0*F61))/(0.35*(F56+F57+F58+F59+F60+F61))*100 -> 88.721805 | G64: =((0.35*G56)+(0.3*G57)+(0.2*G58)+(0.1*G59)+(0.05*G60)+(0*G61))/(0.35*(G56+G57+G58+G59+G60+G61))*100 -> 80.15873 | H64: =((0.35*H56)+(0.3*H57)+(0.2*H58)+(0.1*H59)+(0.05*H60)+(0*H61))/(0.35*(H56+H57+H58+H59+H60+H61))*100 -> 72.767857 | I64: =((0.35*I56)+(0.3*I57)+(0.2*I58)+(0.1*I59)+(0.05*I60)+(0*I61))/(0.35*(I56+I57+I58+I59+I60+I61))*100 -> 81.56682 | J64: =((0.35*J56)+(0.3*J57)+(0.2*J58)+(0.1*J59)+(0.05*J60)+(0*J61))/(0.35*(J56+J57+J58+J59+J60+J61))*100 -> 82.142857 | K64: =((0.35*K56)+(0.3*K57)+(0.2*K58)+(0.1*K59)+(0.05*K60)+(0*K61))/(0.35*(K56+K57+K58+K59+K60+K61))*100 -> 82.142857 | ... X64: =((0.35*X56)+(0.3*X57)+(0.2*X58)+(0.1*X59)+(0.05*X60)+(0*X61))/(0.35*(X56+X57+X58+X59+X60+X61))*100 -> 94.581281

Sheet Sheet1
A1: Course outcomes-Program outcomes mapping & Attainment table:
A2: COs | B2: COs attained in % | C2: Program outcomes | V2: Total | W2: Attainment level of Program Outcomes in % (Average) | X2: Achievement
C3: a | E3: b | G3: c | I3: d | K3: e | M3: f | O3: g | Q3: h | R3: i | S3: j | T3: k | U3: l
C4: leve | D4: Attainment | E4: leve | F4: Attainment | G4: leve | H4: Attainment | I4: leve | J4: Attainment | K4: leve | L4: Attainment | M4: leve | N4: Attainment | O4: leve | P4: Attainment | X4: (Threshold Goal:70%)
A5: CO1 | B5: 85 | C5: 1 | D5: =(C5/C9)*B5 -> 10.625 | G5: 10.625
A6: CO2 | B6: 90 | C6: 2 | D6: =(C6/C9)*B6 -> 22.5 | G6: 22.5
A7: CO3 | B7: 83 | C7: 3 | D7: =(C7/C9)*B7 -> 31.125 | G7: 31.125
A8: CO4 | B8: 75 | C8: 2 | D8: =(C8/C9)*B8 -> 18.75 | G8: 18.75
A9: Total | C9: 8
A10: Note: Mapping in terms of Slight (1), Moderate(2), Good(3) and Excellent(4) levels and COs need not map all POS

Sheet Sheet2
A5: COs | B5: Avg. COs attained in % | C5: Program outcomes | O5: Attainment level of Program Outcomes in % (Average) | P5: Achievement
C6: a | D6: b | E6: c | F6: d | G6: e | H6: f | I6: g | J6: h | K6: i | L6: j | M6: k | N6: l | P6: (Threshold Goal:70%)
A7: CO1 | B7: 85 | C7: 4
A8: CO2 | B8: 90
A9: CO3 | B9: 83
A10: CO4 | B10: 75
A11: Total
A17: Subject Code : | B17: 10ME64 | C17: Title: Finite Element Methods | J17: Faculty Name: | N17: Manjunatha B.
A18: List of Course outcomes | C18: Program Outcomes | Q18: Total
C19: a | D19: b | E19: c | F19: d | G19: e | H19: f | I19: g | K19: h | L19: I | M19: J | O19: k | P19: l
A20: CO-1 | C20: 4 | D20: 2 | E20: 1 | F20: - | G20: - | H20: - | I20: - | K20: - | L20: 1 | M20: - | O20: 2 | P20: - | Q20: 9
A21: CO-2 | C21: 2 | D21: 4 | E21: 2 | F21: 2 | G21: 2 | H21: - | I21: - | K21: - | L21: - | M21: - | O21: - | P21: 3 | Q21: 15
A22: CO-3 | C22: 1 | D22: 4 | E22: 3 | F22: 2 | G22: 4 | H22: - | I22: - | K22: - | L22: - | M22: - | O22: - | P22: 3 | Q22: 17
A23: CO-4 | C23: 2 | D23: 4 | E23: 2 | F23: - | G23: - | H23: - | I23: - | K23: - | L23: - | M23: - | O23: - | P23: - | Q23: 8
A24: CO-5 | C24: - | D24: - | E24: - | F24: 2 | G24: 1 | H24: - | I24: - | K24: - | L24: 2 | M24: - | O24: 2 | P24: - | Q24: 7
A25: Total | C25: 9 | D25: 14 | E25: 7 | F25: 6 | G25: 7 | H25: - | I25: - | K25: - | L25: 3 | M25: - | O25: 4 | P25: 6 | Q25: 50
B68: a | C68: b | D68: c | E68: d | F68: e | G68: f | H68: g | I68: h | J68: i | K68: j | L68: k | M68: l
A69: co1 | B69: 4 | C69: 2 | D69: 1 | E69: - | F69: - | G69: - | H69: - | I69: - | J69: 1 | K69: - | L69: 2 | M69: - | N69: 10
A70: co2 | B70: 2 | C70: 4 | D70: 2 | E70: 2 | F70: 2 | G70: - | H70: - | I70: - | J70: - | K70: - | L70: - | M70: 3 | N70: 15
A71: co3 | B71: 1 | C71: 4 | D71: 3 | E71: 2 | F71: 4 | G71: - | H71: - | I71: - | J71: - | K71: - | L71: - | M71: 3 | N71: 17
A72: co4 | B72: 2 | C72: 4 | D72: 2 | E72: - | F72: - | G72: - | H72: - | I72: - | J72: - | K72: - | L72: - | M72: - | N72: 8
A73: co5 | B73: - | C73: - | D73: - | E73: 2 | F73: 1 | G73: - | H73: - | I73: - | J73: 2 | K73: - | L73: 2 | M73: - | N73: 7
B74: 9 | C74: 14 | D74: 8 | E74: 6 | F74: 7 | G74: - | H74: - | I74: - | J74: 3 | K74: - | L74: 4 | M74: 6 | N74: 57
B76: 85 | C76: 73 | D76: 1 | E76: - | F76: - | G76: - | H76: - | I76: - | J76: 1 | K76: - | L76: 2 | M76: - | N76: 10
B77: 85 | C77: 70 | D77: 2 | E77: 2 | F77: 2 | G77: - | H77: - | I77: - | J77: - | K77: - | L77: - | M77: 3 | N77: 15
B78: 85 | C78: 84 | D78: 3 | E78: 2 | F78: 4 | G78: - | H78: - | I78: - | J78: - | K78: - | L78: - | M78: 3 | N78: 17
B79: 85 | C79: 84 | D79: 2 | E79: - | F79: - | G79: - | H79: - | I79: - | J79: - | K79: - | L79: - | M79: - | N79: 8
B80: - | C80: - | D80: - | E80: 2 | F80: 1 | G80: - | H80: - | I80: - | J80: 2 | K80: - | L80: 2 | M80: - | N80: 7
B81: 9 | C81: 14 | D81: 8 | E81: 6 | F81: 7 | G81: - | H81: - | I81: - | J81: 3 | K81: - | L81: 4 | M81: 6 | N81: 57
B84: =IF(B69="-",0,B69)/B$74 -> 0.44444444 | C84: =IF(C69="-",0,C69)/C$74 -> 0.14285714 | D84: =IF(D69="-",0,D69)/D$74 -> 0.125 | E84: =IF(E69="-",0,E69)/E$74 -> 0 | F84: =IF(F69="-",0,F69)/F$74 -> 0 | G84: =IF(G69="-",0,G69)/G$74 -> #VALUE! | H84: =IF(H69="-",0,H69)/H$74 -> #VALUE! | I84: =IF(I69="-",0,I69)/I$74 -> #VALUE! | ... M84: =IF(M69="-",0,M69)/M$74 -> 0 | N84: 10
B85: =IF(B70="-",0,B70)/B$74 -> 0.22222222 | C85: =IF(C70="-",0,C70)/C$74 -> 0.28571429 | D85: =IF(D70="-",0,D70)/D$74 -> 0.25 | E85: =IF(E70="-",0,E70)/E$74 -> 0.33333333 | F85: =IF(F70="-",0,F70)/F$74 -> 0.28571429 | G85: =IF(G70="-",0,G70)/G$74 -> #VALUE! | H85: =IF(H70="-",0,H70)/H$74 -> #VALUE! | I85: =IF(I70="-",0,I70)/I$74 -> #VALUE! | ... M85: =IF(M70="-",0,M70)/M$74 -> 0.5 | N85: 15
B86: =IF(B71="-",0,B71)/B$74 -> 0.11111111 | C86: =IF(C71="-",0,C71)/C$74 -> 0.28571429 | D86: =IF(D71="-",0,D71)/D$74 -> 0.375 | E86: =IF(E71="-",0,E71)/E$74 -> 0.33333333 | F86: =IF(F71="-",0,F71)/F$74 -> 0.57142857 | G86: =IF(G71="-",0,G71)/G$74 -> #VALUE! | H86: =IF(H71="-",0,H71)/H$74 -> #VALUE! | I86: =IF(I71="-",0,I71)/I$74 -> #VALUE! | ... M86: =IF(M71="-",0,M71)/M$74 -> 0.5 | N86: 17
B87: =IF(B72="-",0,B72)/B$74 -> 0.22222222 | C87: =IF(C72="-",0,C72)/C$74 -> 0.28571429 | D87: =IF(D72="-",0,D72)/D$74 -> 0.25 | E87: =IF(E72="-",0,E72)/E$74 -> 0 | F87: =IF(F72="-",0,F72)/F$74 -> 0 | G87: =IF(G72="-",0,G72)/G$74 -> #VALUE! | H87: =IF(H72="-",0,H72)/H$74 -> #VALUE! | I87: =IF(I72="-",0,I72)/I$74 -> #VALUE! | ... M87: =IF(M72="-",0,M72)/M$74 -> 0 | N87: 8
B88: =IF(B73="-",0,B73)/B$74 -> 0 | C88: =IF(C73="-",0,C73)/C$74 -> 0 | D88: =IF(D73="-",0,D73)/D$74 -> 0 | E88: =IF(E73="-",0,E73)/E$74 -> 0.33333333 | F88: =IF(F73="-",0,F73)/F$74 -> 0.14285714 | G88: =IF(G73="-",0,G73)/G$74 -> #VALUE! | H88: =IF(H73="-",0,H73)/H$74 -> #VALUE! | I88: =IF(I73="-",0,I73)/I$74 -> #VALUE! | ... M88: =IF(M73="-",0,M73)/M$74 -> 0 | N88: 7
B89: =B74/B$74 -> 1 | C89: =C74/C$74 -> 1 | D89: =D74/D$74 -> 1 | E89: =E74/E$74 -> 1 | F89: =F74/F$74 -> 1 | G89: =G74/G$74 -> #VALUE! | H89: =H74/H$74 -> #VALUE! | I89: =I74/I$74 -> #VALUE! | ... M89: =M74/M$74 -> 1 | N89: 57
B92: =B84*B76 -> 37.777778 | C92: =C84*C76 -> 10.428571 | D92: =D84*D76 -> 0.125 | E92: =E84*E76 -> #VALUE! | F92: =F84*F76 -> #VALUE! | G92: =G84*G76 -> #VALUE! | H92: =H84*H76 -> #VALUE! | I92: =I84*I76 -> #VALUE! | ... M92: =M84*M76 -> #VALUE! | N92: 10
B93: =B85*B77 -> 18.888889 | C93: =C85*C77 -> 20 | D93: =D85*D77 -> 0.5 | E93: =E85*E77 -> 0.66666667 | F93: =F85*F77 -> 0.57142857 | G93: =G85*G77 -> #VALUE! | H93: =H85*H77 -> #VALUE! | I93: =I85*I77 -> #VALUE! | ... M93: =M85*M77 -> 1.5 | N93: 15
B94: =B86*B78 -> 9.4444444 | C94: =C86*C78 -> 24 | D94: =D86*D78 -> 1.125 | E94: =E86*E78 -> 0.66666667 | F94: =F86*F78 -> 2.2857143 | G94: =G86*G78 -> #VALUE! | H94: =H86*H78 -> #VALUE! | I94: =I86*I78 -> #VALUE! | ... M94: =M86*M78 -> 1.5 | N94: 17
B95: =B87*B79 -> 18.888889 | C95: =C87*C79 -> 24 | D95: =D87*D79 -> 0.5 | E95: =E87*E79 -> #VALUE! | F95: =F87*F79 -> #VALUE! | G95: =G87*G79 -> #VALUE! | H95: =H87*H79 -> #VALUE! | I95: =I87*I79 -> #VALUE! | ... M95: =M87*M79 -> #VALUE! | N95: 8
B96: =B88*IF(B80="-",0,B88) -> 0 | C96: =C88*IF(C80="-",0,C88) -> 0 | D96: =D88*IF(D80="-",0,D88) -> 0 | E96: =E88*IF(E80="-",0,E88) -> 0.11111111 | F96: =F88*IF(F80="-",0,F88) -> 0.020408163 | G96: =G88*IF(G80="-",0,G88) -> #VALUE! | H96: =H88*IF(H80="-",0,H88) -> #VALUE! | I96: =I88*IF(I80="-",0,I88) -> #VALUE! | ... M96: =M88*IF(M80="-",0,M88) -> 0 | N96: 7
B97: =SUM(B92:B96) -> 85 | C97: =SUM(C92:C96) -> 78.428571 | D97: =SUM(D92:D96) -> 2.25 | E97: =SUM(E92:E96) -> #VALUE! | F97: =SUM(F92:F96) -> #VALUE! | G97: =SUM(G92:G96) -> #VALUE! | H97: =SUM(H92:H96) -> #VALUE! | I97: =SUM(I92:I96) -> #VALUE! | ... M97: =SUM(M92:M96) -> #VALUE! | N97: 57
