Workbook

Sheet attainment Level
F5: DIRECT ASSESSMENT METHOD
E8: 1 | F8: ENTER THE CO'S FOR THE RESPECTIVE INTERNAL WHICH YOU HAVE ASKED
E9: 2 | F9: ENTER THE MAXIMUM MARKS GIVEN TO EACH CO IN THE MARKS CELL
E10: 3 | F10: ENTER THE MARKS SCORED BY THE STUDENTS BELOW RESPECTIVE CO
E11: 4 | F11: ENTER THE PARAMETERS ASKED ( TOTAL STRENGTH, Assign target percentage…)
E12: 5 | F12: SEE- Exam marks is same for all COs of that subject | G12: tough subject | I12: 0.6
E13: 6 | F13: Target may be same or different for different CO | G13: easy subject | I13: 0.7
E14: 7 | F14: Target may be different for different subjects, theritical/problematic subject, ex
F17: FOR Any clarification contact ME HOD
D27: Attainment Levels of COs
D28: SUBJECT :ENGINEERING PHYSICS SUB CODE:15PHY22
D29: Assessment Methods | E29: Target-Attainment Levels | G29: Attainement
D30: Internal Assessment(CIE) | E30: Level 1 | F30: 60% of students scoring more than 50% marks in internal assessment tools | G30: Level 3
E31: Level 2 | F31: 70% of students scoring more than 50% marks in internal assessment tools
E32: Level 3 | F32: 80% of students scoring more than 50% marks in internal assessment tools
D35: Assessment Methods | E35: Target-Attainment Levels | G35: Attainement
D36: University Assessment (SEE) | E36: Level 1 | F36: 60% of students scoring more than 40% marks in internal assessment tools | G36: Level 1
E37: Level 2 | F37: 70% of students scoring more than 40% marks in internal assessment tools
E38: Level 3 | F38: 80% of students scoring more than 40% marks in internal assessment tools

Sheet TEST MARKS 
A1: Sapthagiri College of Engineering
A2: Department of Physics
A3: SUBJECT :ENGINEERINGPHYSIS SUB CODE:17PHY12
A4: SEM : 1st | C4: SEC :ME I & J | D4: YEAR : 2015-16 | G4: SCHEME :2015
A5: Sl. No. | B5: Name of the student | C5: USN | D5: I INTERNALS | F5: II INTERNALS | H5: III INTERNALS | J5: ASSIGNMENT'S | P5: EXTERNAL EXAM
D7: Q1 or 2 | E7: Q3 or 4 | F7: Q1 or 2 | G7: Q3 or 4 | H7: Q1 or 2 | I7: Q3 or 4
D8: CO1 | E8: CO2 | F8: CO3 | G8: CO4 | H8: CO5 | I8: CO6 | J8: CO1 | K8: CO2 | L8: CO3 | M8: CO4 | N8: CO5 | O8: CO6 | P8: CO1,CO2,CO3,CO4,CO5,CO6
D9: 20 | E9: 20 | F9: 20 | G9: 20 | H9: 20 | I9: 20 | P9: 80
A10: 1 | B10: AAKASH KUMAR | C10: 1SG15ME001 | D10: 3 | E10: 3 | F10: 5 | G10: 5 | H10: 6 | I10: 6 | P10: 24
A11: 2 | B11: ABHISHEK MADAPPAWALE | C11: 1SG15ME002 | D11: 6 | E11: 6 | F11: 12 | G11: 12 | H11: 12 | I11: 12 | P11: 52
A12: 3 | B12: ADITHYA N | C12: 1SG15ME003 | D12: 11 | E12: 11 | F12: 7 | G12: 7 | H12: 12 | I12: 12 | P12: 44
A13: 4 | B13: AFTAB AHMED MADAR WALA | C13: 1SG15ME004 | D13: 14 | E13: 14 | F13: 12 | G13: 12 | H13: 17 | I13: 17 | P13: 60
A14: 5 | B14: AJEYA.V | C14: 1SG15ME006 | D14: 15 | E14: 15 | F14: 20 | G14: 20 | H14: 20 | I14: 20 | P14: 76
A15: 6 | B15: AJAY.K | C15: 1SG15ME005 | D15: 2 | E15: 2 | F15: 7 | G15: 7 | H15: 16 | I15: 16 | P15: 30
A16: 7 | B16: AJITH S P | C16: 1SG15ME007 | D16: 6 | E16: 6 | F16: 14 | G16: 14 | H16: 11 | I16: 11 | P16: 44
A17: 8 | B17: AKSHAY S | C17: 1SG15ME008 | D17: 15 | E17: 15 | F17: 13 | G17: 13 | H17: AB | I17: AB | P17: 30
A18: 9 | B18: AMAN NAIN | C18: 1SG15ME009 | D18: 5 | E18: 5 | F18: 14 | G18: 14 | H18: 20 | I18: 20 | P18: 52
A19: 10 | B19: AMITH.R | C19: 1SG15ME010 | D19: 15 | E19: 15 | F19: Ab | G19: Ab | H19: 16 | I19: 16 | P19: 68
A20: 11 | B20: ANIL KUMAR C | C20: 1SG15ME011 | D20: 13 | E20: 13 | F20: 16 | G20: 16 | H20: 5 | I20: 5 | P20: 52
A21: 12 | B21: ANIRUDH R K | C21: 1SG15ME012 | D21: 0 | E21: 0 | F21: 14 | G21: 14 | H21: 14 | I21: 14 | P21: 36
A22: 13 | B22: ARJUN S | C22: 1SG15ME013 | D22: 12 | E22: 12 | F22: 17 | G22: 17 | H22: 14 | I22: 14 | P22: 60
A23: 14 | B23: ASHISH SHARMA | C23: 1SG15ME014 | D23: 8 | E23: 8 | F23: 12 | G23: 12 | H23: 12 | I23: 12 | P23: 60
A24: 15 | B24: AYAN GUHA RAOY | C24: 1SG15ME015 | D24: 6 | E24: 6 | F24: 14 | G24: 14 | H24: 20 | I24: 20 | P24: 68
A25: 16 | B25: BASAVARAJ DIWATAR | C25: 1SG15ME016 | D25: 13 | E25: 13 | F25: 19 | G25: 19 | H25: 5 | I25: 5 | P25: 52
A26: 17 | B26: BHARATH .V | C26: 1SG15ME017 | D26: 12 | E26: 12 | F26: 20 | G26: 20 | H26: 12 | I26: 12 | P26: 68
A27: 18 | B27: C KARTHIK | C27: 1SG15ME018 | D27: 6 | E27: 6 | F27: 16 | G27: 16 | H27: 10 | I27: 10 | P27: 52
A28: 19 | B28: CHETAN.M.WALI | C28: 1SG15ME019 | D28: 5 | E28: 5 | F28: 18 | G28: 18 | H28: 5 | I28: 5 | P28: 36
A29: 20 | B29: CHETHAN I P | C29: 1SG15ME020 | D29: 18 | E29: 18 | F29: 12 | G29: 12 | H29: 13 | I29: 13 | P29: 60
A30: 21 | B30: DAYANANDA M | C30: 1SG15ME021 | D30: 20 | E30: 20 | F30: 9 | G30: 9 | H30: 15 | I30: 15 | P30: 68
A31: 22 | B31: DEEPU H S | C31: 1SG15ME022 | D31: 20 | E31: 20 | F31: 19 | G31: 19 | H31: 8 | I31: 8 | P31: 76
... A48: 39 | B48: HITHESH T M | C48: 1SG15ME039 | D48: 6 | E48: 6 | F48: 10 | G48: 10 | H48: 13 | I48: 13 | P48: 44
A49: 40 | B49: JAHER HOSSAIN | C49: 1SG15ME040 | D49: 8 | E49: 8 | F49: AB | G49: AB | H49: AB | I49: AB | P49: 0
A50: 41 | B50: JAIDEEP PRAJAPATI | C50: 1SG15ME041 | D50: 13 | E50: 13 | F50: 16 | G50: 16 | H50: 13 | I50: 13 | P50: 52
A51: 42 | B51: JANARDHAN K N | C51: 1SG15ME042 | D51: 10 | E51: 10 | F51: 13 | G51: 13 | H51: 8 | I51: 8 | P51: 44
A52: 43 | B52: JOHN PATRICK .G | C52: 1SG15ME043 | D52: 14 | E52: 14 | F52: 18 | G52: 18 | H52: 17 | I52: 17 | P52: 60
A53: 44 | B53: K.SAISOMASEKHAR | C53: 1SG15ME048 | D53: 7 | E53: 7 | F53: 15 | G53: 15 | H53: 16 | I53: 16 | P53: 52
A54: 45 | B54: KISHAN SHARMA | C54: 1SG15ME044 | D54: 5 | E54: 5 | F54: 12 | G54: 12 | H54: 14 | I54: 14 | P54: 60
A55: 46 | B55: KISHORE S | C55: 1SG15ME045 | D55: 8 | E55: 8 | F55: 16 | G55: 16 | H55: 12 | I55: 12 | P55: 52
A56: 47 | B56: KUMAR P G | C56: 1SG15ME046 | D56: 18 | E56: 18 | F56: 18 | G56: 18 | H56: AB | I56: AB | P56: 60
A57: 48 | B57: KURUBA NITHEESH KUMAR | C57: 1SG15ME061 | D57: 14 | E57: 14 | F57: 14 | G57: 14 | H57: 6 | I57: 6 | P57: 60
...

Sheet TEST -CO 
A6: Sl. No. | B6: Name of the student | C6: USN | J6: ATTAINMENT (%) | P6: Y OR N
D8: I | E8: I | F8: II | G8: II | H8: III | I8: III | J8: ='TEST MARKS '!D155 -> 20 | K8: ='TEST MARKS '!E155 -> 20 | L8: ='TEST MARKS '!F155 -> 20 | M8: ='TEST MARKS '!G155 -> 20 | N8: ='TEST MARKS '!H155 -> 20 | O8: ='TEST MARKS '!I155 -> 20 | P8: I | Q8: I | R8: II | S8: II | T8: III | U8: III
D9: CO1 | E9: CO2 | F9: CO3 | G9: CO4 | H9: CO5 | I9: CO6 | J9: CO1 | K9: CO2 | L9: =F9 -> CO3 | M9: =G9 -> CO4 | N9: =H9 -> CO5 | O9: =I9 -> CO6 | P9: =J9 -> CO1 | Q9: =K9 -> CO2 | R9: =L9 -> CO3 | S9: =M9 -> CO4 | ... U9: =O9 -> CO6
A10: ='TEST MARKS '!A10 -> 1 | B10: ='TEST MARKS '!B10 -> AAKASH KUMAR | C10: ='TEST MARKS '!C10 -> 1SG15ME001 | D10: =SUMIF('TEST MARKS '!$D$8:$I$8,$D$9,'TEST MARKS '!D10:I10) -> 3 | E10: =SUMIF('TEST MARKS '!$D$8:$I$8,$E$9,'TEST MARKS '!D10:I10) -> 3 | F10: =SUMIF('TEST MARKS '!$D$8:$I$8,$F$9,'TEST MARKS '!D10:I10) -> 5 | G10: =SUMIF('TEST MARKS '!$D$8:$I$8,$G$9,'TEST MARKS '!D10:I10) -> 5 | H10: =SUMIF('TEST MARKS '!$D$8:$I$8,$H$9,'TEST MARKS '!D10:I10) -> 6 | I10: =SUMIF('TEST MARKS '!$D$8:$I$8,$I$9,'TEST MARKS '!D10:I10) -> 6 | J10: =D10*100/$J$8 -> 15 | K10: =E10*100/$K$8 -> 15 | L10: =F10*100/$L$8 -> 25 | M10: =G10*100/$M$8 -> 25 | N10: =H10*100/$N$8 -> 30 | O10: =I10*100/$O$8 -> 30 | P10: =IF(J10<'TEST MARKS '!$D$159,"N","Y") -> N | Q10: =IF(K10<'TEST MARKS '!$D$159,"N","Y") -> N | R10: =IF(L10<'TEST MARKS '!$D$159,"N","Y") -> N | S10: =IF(M10<'TEST MARKS '!$D$159,"N","Y") -> N | T10: =IF(N10<'TEST MARKS '!$D$159,"N","Y") -> N | U10: =IF(O10<'TEST MARKS '!$D$159,"N","Y") -> N
A11: 2 | B11: ='TEST MARKS '!B11 -> ABHISHEK MADAPPAWALE | C11: ='TEST MARKS '!C11 -> 1SG15ME002 | D11: =SUMIF('TEST MARKS '!$D$8:$I$8,$D$9,'TEST MARKS '!D11:I11) -> 6 | E11: =SUMIF('TEST MARKS '!$D$8:$I$8,$E$9,'TEST MARKS '!D11:I11) -> 6 | F11: =SUMIF('TEST MARKS '!$D$8:$I$8,$F$9,'TEST MARKS '!D11:I11) -> 12 | G11: =SUMIF('TEST MARKS '!$D$8:$I$8,$G$9,'TEST MARKS '!D11:I11) -> 12 | H11: =SUMIF('TEST MARKS '!$D$8:$I$8,$H$9,'TEST MARKS '!D11:I11) -> 12 | I11: =SUMIF('TEST MARKS '!$D$8:$I$8,$I$9,'TEST MARKS '!D11:I11) -> 12 | J11: =D11*100/$J$8 -> 30 | K11: =E11*100/$K$8 -> 30 | L11: =F11*100/$L$8 -> 60 | M11: =G11*100/$M$8 -> 60 | N11: =H11*100/$N$8 -> 60 | O11: =I11*100/$O$8 -> 60 | P11: =IF(J11<'TEST MARKS '!$D$159,"N","Y") -> N | Q11: =IF(K11<'TEST MARKS '!$D$159,"N","Y") -> N | R11: =IF(L11<'TEST MARKS '!$D$159,"N","Y") -> Y | S11: =IF(M11<'TEST MARKS '!$D$159,"N","Y") -> Y | T11: =IF(N11<'TEST MARKS '!$D$159,"N","Y") -> Y | U11: =IF(O11<'TEST MARKS '!$D$159,"N","Y") -> Y
A12: 3 | B12: ='TEST MARKS '!B12 -> ADITHYA N | C12: ='TEST MARKS '!C12 -> 1SG15ME003 | D12: =SUMIF('TEST MARKS '!$D$8:$I$8,$D$9,'TEST MARKS '!D12:I12) -> 11 | E12: =SUMIF('TEST MARKS '!$D$8:$I$8,$E$9,'TEST MARKS '!D12:I12) -> 11 | F12: =SUMIF('TEST MARKS '!$D$8:$I$8,$F$9,'TEST MARKS '!D12:I12) -> 7 | G12: =SUMIF('TEST MARKS '!$D$8:$I$8,$G$9,'TEST MARKS '!D12:I12) -> 7 | H12: =SUMIF('TEST MARKS '!$D$8:$I$8,$H$9,'TEST MARKS '!D12:I12) -> 12 | I12: =SUMIF('TEST MARKS '!$D$8:$I$8,$I$9,'TEST MARKS '!D12:I12) -> 12 | J12: =D12*100/$J$8 -> 55 | K12: =E12*100/$K$8 -> 55 | L12: =F12*100/$L$8 -> 35 | M12: =G12*100/$M$8 -> 35 | N12: =H12*100/$N$8 -> 60 | O12: =I12*100/$O$8 -> 60 | P12: =IF(J12<'TEST MARKS '!$D$159,"N","Y") -> Y | Q12: =IF(K12<'TEST MARKS '!$D$159,"N","Y") -> Y | R12: =IF(L12<'TEST MARKS '!$D$159,"N","Y") -> N | S12: =IF(M12<'TEST MARKS '!$D$159,"N","Y") -> N | T12: =IF(N12<'TEST MARKS '!$D$159,"N","Y") -> Y | U12: =IF(O12<'TEST MARKS '!$D$159,"N","Y") -> Y
A13: 4 | B13: ='TEST MARKS '!B13 -> AFTAB AHMED MADAR WALA | C13: ='TEST MARKS '!C13 -> 1SG15ME004 | D13: =SUMIF('TEST MARKS '!$D$8:$I$8,$D$9,'TEST MARKS '!D13:I13) -> 14 | E13: =SUMIF('TEST MARKS '!$D$8:$I$8,$E$9,'TEST MARKS '!D13:I13) -> 14 | F13: =SUMIF('TEST MARKS '!$D$8:$I$8,$F$9,'TEST MARKS '!D13:I13) -> 12 | G13: =SUMIF('TEST MARKS '!$D$8:$I$8,$G$9,'TEST MARKS '!D13:I13) -> 12 | H13: =SUMIF('TEST MARKS '!$D$8:$I$8,$H$9,'TEST MARKS '!D13:I13) -> 17 | I13: =SUMIF('TEST MARKS '!$D$8:$I$8,$I$9,'TEST MARKS '!D13:I13) -> 17 | J13: =D13*100/$J$8 -> 70 | K13: =E13*100/$K$8 -> 70 | L13: =F13*100/$L$8 -> 60 | M13: =G13*100/$M$8 -> 60 | N13: =H13*100/$N$8 -> 85 | O13: =I13*100/$O$8 -> 85 | P13: =IF(J13<'TEST MARKS '!$D$159,"N","Y") -> Y | Q13: =IF(K13<'TEST MARKS '!$D$159,"N","Y") -> Y | R13: =IF(L13<'TEST MARKS '!$D$159,"N","Y") -> Y | S13: =IF(M13<'TEST MARKS '!$D$159,"N","Y") -> Y | T13: =IF(N13<'TEST MARKS '!$D$159,"N","Y") -> Y | U13: =IF(O13<'TEST MARKS '!$D$159,"N","Y") -> Y
A14: 5 | B14: ='TEST MARKS '!B14 -> AJEYA.V | C14: ='TEST MARKS '!C14 -> 1SG15ME006 | D14: =SUMIF('TEST MARKS '!$D$8:$I$8,$D$9,'TEST MARKS '!D14:I14) -> 15 | E14: =SUMIF('TEST MARKS '!$D$8:$I$8,$E$9,'TEST MARKS '!D14:I14) -> 15 | F14: =SUMIF('TEST MARKS '!$D$8:$I$8,$F$9,'TEST MARKS '!D14:I14) -> 20 | G14: =SUMIF('TEST MARKS '!$D$8:$I$8,$G$9,'TEST MARKS '!D14:I14) -> 20 | H14: =SUMIF('TEST MARKS '!$D$8:$I$8,$H$9,'TEST MARKS '!D14:I14) -> 20 | I14: =SUMIF('TEST MARKS '!$D$8:$I$8,$I$9,'TEST MARKS '!D14:I14) -> 20 | J14: =D14*100/$J$8 -> 75 | K14: =E14*100/$K$8 -> 75 | L14: =F14*100/$L$8 -> 100 | M14: =G14*100/$M$8 -> 100 | N14: =H14*100/$N$8 -> 100 | O14: =I14*100/$O$8 -> 100 | P14: =IF(J14<'TEST MARKS '!$D$159,"N","Y") -> Y | Q14: =IF(K14<'TEST MARKS '!$D$159,"N","Y") -> Y | R14: =IF(L14<'TEST MARKS '!$D$159,"N","Y") -> Y | S14: =IF(M14<'TEST MARKS '!$D$159,"N","Y") -> Y | T14: =IF(N14<'TEST MARKS '!$D$159,"N","Y") -> Y | U14: =IF(O14<'TEST MARKS '!$D$159,"N","Y") -> Y
A15: 6 | B15: ='TEST MARKS '!B15 -> AJAY.K | C15: ='TEST MARKS '!C15 -> 1SG15ME005 | D15: =SUMIF('TEST MARKS '!$D$8:$I$8,$D$9,'TEST MARKS '!D15:I15) -> 2 | E15: =SUMIF('TEST MARKS '!$D$8:$I$8,$E$9,'TEST MARKS '!D15:I15) -> 2 | F15: =SUMIF('TEST MARKS '!$D$8:$I$8,$F$9,'TEST MARKS '!D15:I15) -> 7 | G15: =SUMIF('TEST MARKS '!$D$8:$I$8,$G$9,'TEST MARKS '!D15:I15) -> 7 | H15: =SUMIF('TEST MARKS '!$D$8:$I$8,$H$9,'TEST MARKS '!D15:I15) -> 16 | I15: =SUMIF('TEST MARKS '!$D$8:$I$8,$I$9,'TEST MARKS '!D15:I15) -> 16 | J15: =D15*100/$J$8 -> 10 | K15: =E15*100/$K$8 -> 10 | L15: =F15*100/$L$8 -> 35 | M15: =G15*100/$M$8 -> 35 | N15: =H15*100/$N$8 -> 80 | O15: =I15*100/$O$8 -> 80 | P15: =IF(J15<'TEST MARKS '!$D$159,"N","Y") -> N | Q15: =IF(K15<'TEST MARKS '!$D$159,"N","Y") -> N | R15: =IF(L15<'TEST MARKS '!$D$159,"N","Y") -> N | S15: =IF(M15<'TEST MARKS '!$D$159,"N","Y") -> N | T15: =IF(N15<'TEST MARKS '!$D$159,"N","Y") -> Y | U15: =IF(O15<'TEST MARKS '!$D$159,"N","Y") -> Y
A16: 7 | B16: ='TEST MARKS '!B16 -> AJITH S P | C16: =SUMIF('TEST MARKS '!B14:G14,C15,'TEST MARKS '!B16:G16) -> 0 | D16: =SUMIF('TEST MARKS '!$D$8:$I$8,$D$9,'TEST MARKS '!D16:I16) -> 6 | E16: =SUMIF('TEST MARKS '!$D$8:$I$8,$E$9,'TEST MARKS '!D16:I16) -> 6 | F16: =SUMIF('TEST MARKS '!$D$8:$I$8,$F$9,'TEST MARKS '!D16:I16) -> 14 | G16: =SUMIF('TEST MARKS '!$D$8:$I$8,$G$9,'TEST MARKS '!D16:I16) -> 14 | H16: =SUMIF('TEST MARKS '!$D$8:$I$8,$H$9,'TEST MARKS '!D16:I16) -> 11 | I16: =SUMIF('TEST MARKS '!$D$8:$I$8,$I$9,'TEST MARKS '!D16:I16) -> 11 | J16: =D16*100/$J$8 -> 30 | K16: =E16*100/$K$8 -> 30 | L16: =F16*100/$L$8 -> 70 | M16: =G16*100/$M$8 -> 70 | N16: =H16*100/$N$8 -> 55 | O16: =I16*100/$O$8 -> 55 | P16: =IF(J16<'TEST MARKS '!$D$159,"N","Y") -> N | Q16: =IF(K16<'TEST MARKS '!$D$159,"N","Y") -> N | R16: =IF(L16<'TEST MARKS '!$D$159,"N","Y") -> Y | S16: =IF(M16<'TEST MARKS '!$D$159,"N","Y") -> Y | T16: =IF(N16<'TEST MARKS '!$D$159,"N","Y") -> Y | U16: =IF(O16<'TEST MARKS '!$D$159,"N","Y") -> Y
A17: =SUMIF('TEST MARKS '!A15:F15,A16,'TEST MARKS '!A17:F17) -> 13 | B17: =SUMIF('TEST MARKS '!B15:G15,B16,'TEST MARKS '!B17:G17) -> 0 | C17: =SUMIF('TEST MARKS '!C15:H15,C16,'TEST MARKS '!C17:H17) -> 0 | D17: =SUMIF('TEST MARKS '!$D$8:$I$8,$D$9,'TEST MARKS '!D17:I17) -> 15 | E17: =SUMIF('TEST MARKS '!$D$8:$I$8,$E$9,'TEST MARKS '!D17:I17) -> 15 | F17: =SUMIF('TEST MARKS '!$D$8:$I$8,$F$9,'TEST MARKS '!D17:I17) -> 13 | G17: =SUMIF('TEST MARKS '!$D$8:$I$8,$G$9,'TEST MARKS '!D17:I17) -> 13 | H17: =SUMIF('TEST MARKS '!$D$8:$I$8,$H$9,'TEST MARKS '!D17:I17) -> 0 | I17: =SUMIF('TEST MARKS '!$D$8:$I$8,$I$9,'TEST MARKS '!D17:I17) -> 0 | J17: =D17*100/$J$8 -> 75 | K17: =E17*100/$K$8 -> 75 | L17: =F17*100/$L$8 -> 65 | M17: =G17*100/$M$8 -> 65 | N17: =H17*100/$N$8 -> 0 | O17: =I17*100/$O$8 -> 0 | P17: =IF(J17<'TEST MARKS '!$D$159,"N","Y") -> Y | Q17: =IF(K17<'TEST MARKS '!$D$159,"N","Y") -> Y | R17: =IF(L17<'TEST MARKS '!$D$159,"N","Y") -> Y | S17: =IF(M17<'TEST MARKS '!$D$159,"N","Y") -> Y | T17: =IF(N17<'TEST MARKS '!$D$159,"N","Y") -> N | U17: =IF(O17<'TEST MARKS '!$D$159,"N","Y") -> N
A18: 9 | B18: ='TEST MARKS '!B18 -> AMAN NAIN | C18: ='TEST MARKS '!C18 -> 1SG15ME009 | D18: =SUMIF('TEST MARKS '!$D$8:$I$8,$D$9,'TEST MARKS '!D18:I18) -> 5 | E18: =SUMIF('TEST MARKS '!$D$8:$I$8,$E$9,'TEST MARKS '!D18:I18) -> 5 | F18: =SUMIF('TEST MARKS '!$D$8:$I$8,$F$9,'TEST MARKS '!D18:I18) -> 14 | G18: =SUMIF('TEST MARKS '!$D$8:$I$8,$G$9,'TEST MARKS '!D18:I18) -> 14 | H18: =SUMIF('TEST MARKS '!$D$8:$I$8,$H$9,'TEST MARKS '!D18:I18) -> 20 | I18: =SUMIF('TEST MARKS '!$D$8:$I$8,$I$9,'TEST MARKS '!D18:I18) -> 20 | J18: =D18*100/$J$8 -> 25 | K18: =E18*100/$K$8 -> 25 | L18: =F18*100/$L$8 -> 70 | M18: =G18*100/$M$8 -> 70 | N18: =H18*100/$N$8 -> 100 | O18: =I18*100/$O$8 -> 100 | P18: =IF(J18<'TEST MARKS '!$D$159,"N","Y") -> N | Q18: =IF(K18<'TEST MARKS '!$D$159,"N","Y") -> N | R18: =IF(L18<'TEST MARKS '!$D$159,"N","Y") -> Y | S18: =IF(M18<'TEST MARKS '!$D$159,"N","Y") -> Y | T18: =IF(N18<'TEST MARKS '!$D$159,"N","Y") -> Y | U18: =IF(O18<'TEST MARKS '!$D$159,"N","Y") -> Y
A19: 10 | B19: ='TEST MARKS '!B19 -> AMITH.R | C19: ='TEST MARKS '!C19 -> 1SG15ME010 | D19: =SUMIF('TEST MARKS '!$D$8:$I$8,$D$9,'TEST MARKS '!D19:I19) -> 15 | E19: =SUMIF('TEST MARKS '!$D$8:$I$8,$E$9,'TEST MARKS '!D19:I19) -> 15 | F19: =SUMIF('TEST MARKS '!$D$8:$I$8,$F$9,'TEST MARKS '!D19:I19) -> 0 | G19: =SUMIF('TEST MARKS '!$D$8:$I$8,$G$9,'TEST MARKS '!D19:I19) -> 0 | H19: =SUMIF('TEST MARKS '!$D$8:$I$8,$H$9,'TEST MARKS '!D19:I19) -> 16 | I19: =SUMIF('TEST MARKS '!$D$8:$I$8,$I$9,'TEST MARKS '!D19:I19) -> 16 | J19: =D19*100/$J$8 -> 75 | K19: =E19*100/$K$8 -> 75 | L19: =F19*100/$L$8 -> 0 | M19: =G19*100/$M$8 -> 0 | N19: =H19*100/$N$8 -> 80 | O19: =I19*100/$O$8 -> 80 | P19: =IF(J19<'TEST MARKS '!$D$159,"N","Y") -> Y | Q19: =IF(K19<'TEST MARKS '!$D$159,"N","Y") -> Y | R19: =IF(L19<'TEST MARKS '!$D$159,"N","Y") -> N | S19: =IF(M19<'TEST MARKS '!$D$159,"N","Y") -> N | T19: =IF(N19<'TEST MARKS '!$D$159,"N","Y") -> Y | U19: =IF(O19<'TEST MARKS '!$D$159,"N","Y") -> Y
A20: 11 | B20: ='TEST MARKS '!B20 -> ANIL KUMAR C | C20: ='TEST MARKS '!C20 -> 1SG15ME011 | D20: =SUMIF('TEST MARKS '!$D$8:$I$8,$D$9,'TEST MARKS '!D20:I20) -> 13 | E20: =SUMIF('TEST MARKS '!$D$8:$I$8,$E$9,'TEST MARKS '!D20:I20) -> 13 | F20: =SUMIF('TEST MARKS '!$D$8:$I$8,$F$9,'TEST MARKS '!D20:I20) -> 16 | G20: =SUMIF('TEST MARKS '!$D$8:$I$8,$G$9,'TEST MARKS '!D20:I20) -> 16 | H20: =SUMIF('TEST MARKS '!$D$8:$I$8,$H$9,'TEST MARKS '!D20:I20) -> 5 | I20: =SUMIF('TEST MARKS '!$D$8:$I$8,$I$9,'TEST MARKS '!D20:I20) -> 5 | J20: =D20*100/$J$8 -> 65 | K20: =E20*100/$K$8 -> 65 | L20: =F20*100/$L$8 -> 80 | M20: =G20*100/$M$8 -> 80 | N20: =H20*100/$N$8 -> 25 | O20: =I20*100/$O$8 -> 25 | P20: =IF(J20<'TEST MARKS '!$D$159,"N","Y") -> Y | Q20: =IF(K20<'TEST MARKS '!$D$159,"N","Y") -> Y | R20: =IF(L20<'TEST MARKS '!$D$159,"N","Y") -> Y | S20: =IF(M20<'TEST MARKS '!$D$159,"N","Y") -> Y | T20: =IF(N20<'TEST MARKS '!$D$159,"N","Y") -> N | U20: =IF(O20<'TEST MARKS '!$D$159,"N","Y") -> N
A21: 12 | B21: ='TEST MARKS '!B21 -> ANIRUDH R K | C21: ='TEST MARKS '!C21 -> 1SG15ME012 | D21: =SUMIF('TEST MARKS '!$D$8:$I$8,$D$9,'TEST MARKS '!D21:I21) -> 0 | E21: =SUMIF('TEST MARKS '!$D$8:$I$8,$E$9,'TEST MARKS '!D21:I21) -> 0 | F21: =SUMIF('TEST MARKS '!$D$8:$I$8,$F$9,'TEST MARKS '!D21:I21) -> 14 | G21: =SUMIF('TEST MARKS '!$D$8:$I$8,$G$9,'TEST MARKS '!D21:I21) -> 14 | H21: =SUMIF('TEST MARKS '!$D$8:$I$8,$H$9,'TEST MARKS '!D21:I21) -> 14 | I21: =SUMIF('TEST MARKS '!$D$8:$I$8,$I$9,'TEST MARKS '!D21:I21) -> 14 | J21: =D21*100/$J$8 -> 0 | K21: =E21*100/$K$8 -> 0 | L21: =F21*100/$L$8 -> 70 | M21: =G21*100/$M$8 -> 70 | N21: =H21*100/$N$8 -> 70 | O21: =I21*100/$O$8 -> 70 | P21: =IF(J21<'TEST MARKS '!$D$159,"N","Y") -> N | Q21: =IF(K21<'TEST MARKS '!$D$159,"N","Y") -> N | R21: =IF(L21<'TEST MARKS '!$D$159,"N","Y") -> Y | S21: =IF(M21<'TEST MARKS '!$D$159,"N","Y") -> Y | T21: =IF(N21<'TEST MARKS '!$D$159,"N","Y") -> Y | U21: =IF(O21<'TEST MARKS '!$D$159,"N","Y") -> Y
A22: 13 | B22: ='TEST MARKS '!B22 -> ARJUN S | C22: ='TEST MARKS '!C22 -> 1SG15ME013 | D22: =SUMIF('TEST MARKS '!$D$8:$I$8,$D$9,'TEST MARKS '!D22:I22) -> 12 | E22: =SUMIF('TEST MARKS '!$D$8:$I$8,$E$9,'TEST MARKS '!D22:I22) -> 12 | F22: =SUMIF('TEST MARKS '!$D$8:$I$8,$F$9,'TEST MARKS '!D22:I22) -> 17 | G22: =SUMIF('TEST MARKS '!$D$8:$I$8,$G$9,'TEST MARKS '!D22:I22) -> 17 | H22: =SUMIF('TEST MARKS '!$D$8:$I$8,$H$9,'TEST MARKS '!D22:I22) -> 14 | I22: =SUMIF('TEST MARKS '!$D$8:$I$8,$I$9,'TEST MARKS '!D22:I22) -> 14 | J22: =D22*100/$J$8 -> 60 | K22: =E22*100/$K$8 -> 60 | L22: =F22*100/$L$8 -> 85 | M22: =G22*100/$M$8 -> 85 | N22: =H22*100/$N$8 -> 70 | O22: =I22*100/$O$8 -> 70 | P22: =IF(J22<'TEST MARKS '!$D$159,"N","Y") -> Y | Q22: =IF(K22<'TEST MARKS '!$D$159,"N","Y") -> Y | R22: =IF(L22<'TEST MARKS '!$D$159,"N","Y") -> Y | S22: =IF(M22<'TEST MARKS '!$D$159,"N","Y") -> Y | T22: =IF(N22<'TEST MARKS '!$D$159,"N","Y") -> Y | U22: =IF(O22<'TEST MARKS '!$D$159,"N","Y") -> Y
A23: 14 | B23: ='TEST MARKS '!B23 -> ASHISH SHARMA | C23: ='TEST MARKS '!C23 -> 1SG15ME014 | D23: =SUMIF('TEST MARKS '!$D$8:$I$8,$D$9,'TEST MARKS '!D23:I23) -> 8 | E23: =SUMIF('TEST MARKS '!$D$8:$I$8,$E$9,'TEST MARKS '!D23:I23) -> 8 | F23: =SUMIF('TEST MARKS '!$D$8:$I$8,$F$9,'TEST MARKS '!D23:I23) -> 12 | G23: =SUMIF('TEST MARKS '!$D$8:$I$8,$G$9,'TEST MARKS '!D23:I23) -> 12 | H23: =SUMIF('TEST MARKS '!$D$8:$I$8,$H$9,'TEST MARKS '!D23:I23) -> 12 | I23: =SUMIF('TEST MARKS '!$D$8:$I$8,$I$9,'TEST MARKS '!D23:I23) -> 12 | J23: =D23*100/$J$8 -> 40 | K23: =E23*100/$K$8 -> 40 | L23: =F23*100/$L$8 -> 60 | M23: =G23*100/$M$8 -> 60 | N23: =H23*100/$N$8 -> 60 | O23: =I23*100/$O$8 -> 60 | P23: =IF(J23<'TEST MARKS '!$D$159,"N","Y") -> N | Q23: =IF(K23<'TEST MARKS '!$D$159,"N","Y") -> N | R23: =IF(L23<'TEST MARKS '!$D$159,"N","Y") -> Y | S23: =IF(M23<'TEST MARKS '!$D$159,"N","Y") -> Y | T23: =IF(N23<'TEST MARKS '!$D$159,"N","Y") -> Y | U23: =IF(O23<'TEST MARKS '!$D$159,"N","Y") -> Y
A24: 15 | B24: ='TEST MARKS '!B24 -> AYAN GUHA RAOY | C24: ='TEST MARKS '!C24 -> 1SG15ME015 | D24: =SUMIF('TEST MARKS '!$D$8:$I$8,$D$9,'TEST MARKS '!D24:I24) -> 6 | E24: =SUMIF('TEST MARKS '!$D$8:$I$8,$E$9,'TEST MARKS '!D24:I24) -> 6 | F24: =SUMIF('TEST MARKS '!$D$8:$I$8,$F$9,'TEST MARKS '!D24:I24) -> 14 | G24: =SUMIF('TEST MARKS '!$D$8:$I$8,$G$9,'TEST MARKS '!D24:I24) -> 14 | H24: =SUMIF('TEST MARKS '!$D$8:$I$8,$H$9,'TEST MARKS '!D24:I24) -> 20 | I24: =SUMIF('TEST MARKS '!$D$8:$I$8,$I$9,'TEST MARKS '!D24:I24) -> 20 | J24: =D24*100/$J$8 -> 30 | K24: =E24*100/$K$8 -> 30 | L24: =F24*100/$L$8 -> 70 | M24: =G24*100/$M$8 -> 70 | N24: =H24*100/$N$8 -> 100 | O24: =I24*100/$O$8 -> 100 | P24: =IF(J24<'TEST MARKS '!$D$159,"N","Y") -> N | Q24: =IF(K24<'TEST MARKS '!$D$159,"N","Y") -> N | R24: =IF(L24<'TEST MARKS '!$D$159,"N","Y") -> Y | S24: =IF(M24<'TEST MARKS '!$D$159,"N","Y") -> Y | T24: =IF(N24<'TEST MARKS '!$D$159,"N","Y") -> Y | U24: =IF(O24<'TEST MARKS '!$D$159,"N","Y") -> Y
A25: 16 | B25: ='TEST MARKS '!B25 -> BASAVARAJ DIWATAR | C25: ='TEST MARKS '!C25 -> 1SG15ME016 | D25: =SUMIF('TEST MARKS '!$D$8:$I$8,$D$9,'TEST MARKS '!D25:I25) -> 13 | E25: =SUMIF('TEST MARKS '!$D$8:$I$8,$E$9,'TEST MARKS '!D25:I25) -> 13 | F25: =SUMIF('TEST MARKS '!$D$8:$I$8,$F$9,'TEST MARKS '!D25:I25) -> 19 | G25: =SUMIF('TEST MARKS '!$D$8:$I$8,$G$9,'TEST MARKS '!D25:I25) -> 19 | H25: =SUMIF('TEST MARKS '!$D$8:$I$8,$H$9,'TEST MARKS '!D25:I25) -> 5 | I25: =SUMIF('TEST MARKS '!$D$8:$I$8,$I$9,'TEST MARKS '!D25:I25) -> 5 | J25: =D25*100/$J$8 -> 65 | K25: =E25*100/$K$8 -> 65 | L25: =F25*100/$L$8 -> 95 | M25: =G25*100/$M$8 -> 95 | N25: =H25*100/$N$8 -> 25 | O25: =I25*100/$O$8 -> 25 | P25: =IF(J25<'TEST MARKS '!$D$159,"N","Y") -> Y | Q25: =IF(K25<'TEST MARKS '!$D$159,"N","Y") -> Y | R25: =IF(L25<'TEST MARKS '!$D$159,"N","Y") -> Y | S25: =IF(M25<'TEST MARKS '!$D$159,"N","Y") -> Y | T25: =IF(N25<'TEST MARKS '!$D$159,"N","Y") -> N | U25: =IF(O25<'TEST MARKS '!$D$159,"N","Y") -> N
A26: 17 | B26: ='TEST MARKS '!B26 -> BHARATH .V | C26: ='TEST MARKS '!C26 -> 1SG15ME017 | D26: =SUMIF('TEST MARKS '!$D$8:$I$8,$D$9,'TEST MARKS '!D26:I26) -> 12 | E26: =SUMIF('TEST MARKS '!$D$8:$I$8,$E$9,'TEST MARKS '!D26:I26) -> 12 | F26: =SUMIF('TEST MARKS '!$D$8:$I$8,$F$9,'TEST MARKS '!D26:I26) -> 20 | G26: =SUMIF('TEST MARKS '!$D$8:$I$8,$G$9,'TEST MARKS '!D26:I26) -> 20 | H26: =SUMIF('TEST MARKS '!$D$8:$I$8,$H$9,'TEST MARKS '!D26:I26) -> 12 | I26: =SUMIF('TEST MARKS '!$D$8:$I$8,$I$9,'TEST MARKS '!D26:I26) -> 12 | J26: =D26*100/$J$8 -> 60 | K26: =E26*100/$K$8 -> 60 | L26: =F26*100/$L$8 -> 100 | M26: =G26*100/$M$8 -> 100 | N26: =H26*100/$N$8 -> 60 | O26: =I26*100/$O$8 -> 60 | P26: =IF(J26<'TEST MARKS '!$D$159,"N","Y") -> Y | Q26: =IF(K26<'TEST MARKS '!$D$159,"N","Y") -> Y | R26: =IF(L26<'TEST MARKS '!$D$159,"N","Y") -> Y | S26: =IF(M26<'TEST MARKS '!$D$159,"N","Y") -> Y | T26: =IF(N26<'TEST MARKS '!$D$159,"N","Y") -> Y | U26: =IF(O26<'TEST MARKS '!$D$159,"N","Y") -> Y
A27: 18 | B27: ='TEST MARKS '!B27 -> C KARTHIK | C27: ='TEST MARKS '!C27 -> 1SG15ME018 | D27: =SUMIF('TEST MARKS '!$D$8:$I$8,$D$9,'TEST MARKS '!D27:I27) -> 6 | E27: =SUMIF('TEST MARKS '!$D$8:$I$8,$E$9,'TEST MARKS '!D27:I27) -> 6 | F27: =SUMIF('TEST MARKS '!$D$8:$I$8,$F$9,'TEST MARKS '!D27:I27) -> 16 | G27: =SUMIF('TEST MARKS '!$D$8:$I$8,$G$9,'TEST MARKS '!D27:I27) -> 16 | H27: =SUMIF('TEST MARKS '!$D$8:$I$8,$H$9,'TEST MARKS '!D27:I27) -> 10 | I27: =SUMIF('TEST MARKS '!$D$8:$I$8,$I$9,'TEST MARKS '!D27:I27) -> 10 | J27: =D27*100/$J$8 -> 30 | K27: =E27*100/$K$8 -> 30 | L27: =F27*100/$L$8 -> 80 | M27: =G27*100/$M$8 -> 80 | N27: =H27*100/$N$8 -> 50 | O27: =I27*100/$O$8 -> 50 | P27: =IF(J27<'TEST MARKS '!$D$159,"N","Y") -> N | Q27: =IF(K27<'TEST MARKS '!$D$159,"N","Y") -> N | R27: =IF(L27<'TEST MARKS '!$D$159,"N","Y") -> Y | S27: =IF(M27<'TEST MARKS '!$D$159,"N","Y") -> Y | T27: =IF(N27<'TEST MARKS '!$D$159,"N","Y") -> Y | U27: =IF(O27<'TEST MARKS '!$D$159,"N","Y") -> Y
A28: 19 | B28: ='TEST MARKS '!B28 -> CHETAN.M.WALI | C28: ='TEST MARKS '!C28 -> 1SG15ME019 | D28: =SUMIF('TEST MARKS '!$D$8:$I$8,$D$9,'TEST MARKS '!D28:I28) -> 5 | E28: =SUMIF('TEST MARKS '!$D$8:$I$8,$E$9,'TEST MARKS '!D28:I28) -> 5 | F28: =SUMIF('TEST MARKS '!$D$8:$I$8,$F$9,'TEST MARKS '!D28:I28) -> 18 | G28: =SUMIF('TEST MARKS '!$D$8:$I$8,$G$9,'TEST MARKS '!D28:I28) -> 18 | H28: =SUMIF('TEST MARKS '!$D$8:$I$8,$H$9,'TEST MARKS '!D28:I28) -> 5 | I28: =SUMIF('TEST MARKS '!$D$8:$I$8,$I$9,'TEST MARKS '!D28:I28) -> 5 | J28: =D28*100/$J$8 -> 25 | K28: =E28*100/$K$8 -> 25 | L28: =F28*100/$L$8 -> 90 | M28: =G28*100/$M$8 -> 90 | N28: =H28*100/$N$8 -> 25 | O28: =I28*100/$O$8 -> 25 | P28: =IF(J28<'TEST MARKS '!$D$159,"N","Y") -> N | Q28: =IF(K28<'TEST MARKS '!$D$159,"N","Y") -> N | R28: =IF(L28<'TEST MARKS '!$D$159,"N","Y") -> Y | S28: =IF(M28<'TEST MARKS '!$D$159,"N","Y") -> Y | T28: =IF(N28<'TEST MARKS '!$D$159,"N","Y") -> N | U28: =IF(O28<'TEST MARKS '!$D$159,"N","Y") -> N
A29: 20 | B29: ='TEST MARKS '!B29 -> CHETHAN I P | C29: ='TEST MARKS '!C29 -> 1SG15ME020 | D29: =SUMIF('TEST MARKS '!$D$8:$I$8,$D$9,'TEST MARKS '!D29:I29) -> 18 | E29: =SUMIF('TEST MARKS '!$D$8:$I$8,$E$9,'TEST MARKS '!D29:I29) -> 18 | F29: =SUMIF('TEST MARKS '!$D$8:$I$8,$F$9,'TEST MARKS '!D29:I29) -> 12 | G29: =SUMIF('TEST MARKS '!$D$8:$I$8,$G$9,'TEST MARKS '!D29:I29) -> 12 | H29: =SUMIF('TEST MARKS '!$D$8:$I$8,$H$9,'TEST MARKS '!D29:I29) -> 13 | I29: =SUMIF('TEST MARKS '!$D$8:$I$8,$I$9,'TEST MARKS '!D29:I29) -> 13 | J29: =D29*100/$J$8 -> 90 | K29: =E29*100/$K$8 -> 90 | L29: =F29*100/$L$8 -> 60 | M29: =G29*100/$M$8 -> 60 | N29: =H29*100/$N$8 -> 65 | O29: =I29*100/$O$8 -> 65 | P29: =IF(J29<'TEST MARKS '!$D$159,"N","Y") -> Y | Q29: =IF(K29<'TEST MARKS '!$D$159,"N","Y") -> Y | R29: =IF(L29<'TEST MARKS '!$D$159,"N","Y") -> Y | S29: =IF(M29<'TEST MARKS '!$D$159,"N","Y") -> Y | T29: =IF(N29<'TEST MARKS '!$D$159,"N","Y") -> Y | U29: =IF(O29<'TEST MARKS '!$D$159,"N","Y") -> Y
... A66: 57 | B66: ='TEST MARKS '!B66 -> NAGARJUN M | C66: ='TEST MARKS '!C66 -> 1SG15ME059 | D66: =SUMIF('TEST MARKS '!$D$8:$I$8,$D$9,'TEST MARKS '!D66:I66) -> 19 | E66: =SUMIF('TEST MARKS '!$D$8:$I$8,$E$9,'TEST MARKS '!D66:I66) -> 19 | F66: =SUMIF('TEST MARKS '!$D$8:$I$8,$F$9,'TEST MARKS '!D66:I66) -> 15 | G66: =SUMIF('TEST MARKS '!$D$8:$I$8,$G$9,'TEST MARKS '!D66:I66) -> 15 | H66: =SUMIF('TEST MARKS '!$D$8:$I$8,$H$9,'TEST MARKS '!D66:I66) -> 20 | I66: =SUMIF('TEST MARKS '!$D$8:$I$8,$I$9,'TEST MARKS '!D66:I66) -> 20 | J66: =D66*100/$J$8 -> 95 | K66: =E66*100/$K$8 -> 95 | L66: =F66*100/$L$8 -> 75 | M66: =G66*100/$M$8 -> 75 | N66: =H66*100/$N$8 -> 100 | O66: =I66*100/$O$8 -> 100 | P66: =IF(J66<'TEST MARKS '!$D$159,"N","Y") -> Y | Q66: =IF(K66<'TEST MARKS '!$D$159,"N","Y") -> Y | R66: =IF(L66<'TEST MARKS '!$D$159,"N","Y") -> Y | S66: =IF(M66<'TEST MARKS '!$D$159,"N","Y") -> Y | T66: =IF(N66<'TEST MARKS '!$D$159,"N","Y") -> Y | U66: =IF(O66<'TEST MARKS '!$D$159,"N","Y") -> Y
A67: 58 | B67: ='TEST MARKS '!B67 -> NAGARJUN S TAKKALAKI | C67: ='TEST MARKS '!C67 -> 1SG15ME058 | D67: =SUMIF('TEST MARKS '!$D$8:$I$8,$D$9,'TEST MARKS '!D67:H67) -> 11 | E67: =SUMIF('TEST MARKS '!$D$8:$I$8,$E$9,'TEST MARKS '!D67:H67) -> 11 | F67: =SUMIF('TEST MARKS '!$D$8:$I$8,$F$9,'TEST MARKS '!D67:H67) -> 19 | G67: =SUMIF('TEST MARKS '!$D$8:$I$8,$G$9,'TEST MARKS '!D67:H67) -> 19 | H67: =SUMIF('TEST MARKS '!$D$8:$I$8,$H$9,'TEST MARKS '!D67:H67) -> 15 | I67: =SUMIF('TEST MARKS '!$D$8:$I$8,$I$9,'TEST MARKS '!D67:H67) -> 15 | J67: =D67*100/$J$8 -> 55 | K67: =E67*100/$K$8 -> 55 | L67: =F67*100/$L$8 -> 95 | M67: =G67*100/$M$8 -> 95 | N67: =H67*100/$N$8 -> 75 | O67: =I67*100/$O$8 -> 75 | P67: =IF(J67<'TEST MARKS '!$D$159,"N","Y") -> Y | Q67: =IF(K67<'TEST MARKS '!$D$159,"N","Y") -> Y | R67: =IF(L67<'TEST MARKS '!$D$159,"N","Y") -> Y | S67: =IF(M67<'TEST MARKS '!$D$159,"N","Y") -> Y | T67: =IF(N67<'TEST MARKS '!$D$159,"N","Y") -> Y | U67: =IF(O67<'TEST MARKS '!$D$159,"N","Y") -> Y
A68: 59 | B68: ='TEST MARKS '!B68 -> NISCHITH A G | C68: ='TEST MARKS '!C68 -> 1SG15ME060 | D68: =SUMIF('TEST MARKS '!$D$8:$I$8,$D$9,'TEST MARKS '!D68:I68) -> 10 | E68: =SUMIF('TEST MARKS '!$D$8:$I$8,$E$9,'TEST MARKS '!D68:I68) -> 10 | F68: =SUMIF('TEST MARKS '!$D$8:$I$8,$F$9,'TEST MARKS '!D68:I68) -> 17 | G68: =SUMIF('TEST MARKS '!$D$8:$I$8,$G$9,'TEST MARKS '!D68:I68) -> 17 | H68: =SUMIF('TEST MARKS '!$D$8:$I$8,$H$9,'TEST MARKS '!D68:I68) -> 18 | I68: =SUMIF('TEST MARKS '!$D$8:$I$8,$I$9,'TEST MARKS '!D68:I68) -> 18 | J68: =D68*100/$J$8 -> 50 | K68: =E68*100/$K$8 -> 50 | L68: =F68*100/$L$8 -> 85 | M68: =G68*100/$M$8 -> 85 | N68: =H68*100/$N$8 -> 90 | O68: =I68*100/$O$8 -> 90 | P68: =IF(J68<'TEST MARKS '!$D$159,"N","Y") -> Y | Q68: =IF(K68<'TEST MARKS '!$D$159,"N","Y") -> Y | R68: =IF(L68<'TEST MARKS '!$D$159,"N","Y") -> Y | S68: =IF(M68<'TEST MARKS '!$D$159,"N","Y") -> Y | T68: =IF(N68<'TEST MARKS '!$D$159,"N","Y") -> Y | U68: =IF(O68<'TEST MARKS '!$D$159,"N","Y") -> Y
A69: 60 | B69: ='TEST MARKS '!B69 -> PAWAN SHARMA K S | C69: ='TEST MARKS '!C69 -> 1SG15ME063 | D69: =SUMIF('TEST MARKS '!$D$8:$I$8,$D$9,'TEST MARKS '!D69:I69) -> 10 | E69: =SUMIF('TEST MARKS '!$D$8:$I$8,$E$9,'TEST MARKS '!D69:I69) -> 10 | F69: =SUMIF('TEST MARKS '!$D$8:$I$8,$F$9,'TEST MARKS '!D69:I69) -> 15 | G69: =SUMIF('TEST MARKS '!$D$8:$I$8,$G$9,'TEST MARKS '!D69:I69) -> 15 | H69: =SUMIF('TEST MARKS '!$D$8:$I$8,$H$9,'TEST MARKS '!D69:I69) -> 13 | I69: =SUMIF('TEST MARKS '!$D$8:$I$8,$I$9,'TEST MARKS '!D69:I69) -> 13 | J69: =D69*100/$J$8 -> 50 | K69: =E69*100/$K$8 -> 50 | L69: =F69*100/$L$8 -> 75 | M69: =G69*100/$M$8 -> 75 | N69: =H69*100/$N$8 -> 65 | O69: =I69*100/$O$8 -> 65 | P69: =IF(J69<'TEST MARKS '!$D$159,"N","Y") -> Y | Q69: =IF(K69<'TEST MARKS '!$D$159,"N","Y") -> Y | R69: =IF(L69<'TEST MARKS '!$D$159,"N","Y") -> Y | S69: =IF(M69<'TEST MARKS '!$D$159,"N","Y") -> Y | T69: =IF(N69<'TEST MARKS '!$D$159,"N","Y") -> Y | U69: =IF(O69<'TEST MARKS '!$D$159,"N","Y") -> Y
A70: 61 | B70: ='TEST MARKS '!B70 -> PAWAN C | C70: ='TEST MARKS '!C70 -> 1SG15ME064 | D70: =SUMIF('TEST MARKS '!$D$8:$I$8,$D$9,'TEST MARKS '!D70:I70) -> 19 | E70: =SUMIF('TEST MARKS '!$D$8:$I$8,$E$9,'TEST MARKS '!D70:I70) -> 19 | F70: =SUMIF('TEST MARKS '!$D$8:$I$8,$F$9,'TEST MARKS '!D70:I70) -> 12 | G70: =SUMIF('TEST MARKS '!$D$8:$I$8,$G$9,'TEST MARKS '!D70:I70) -> 12 | H70: =SUMIF('TEST MARKS '!$D$8:$I$8,$H$9,'TEST MARKS '!D70:I70) -> 18 | I70: =SUMIF('TEST MARKS '!$D$8:$I$8,$I$9,'TEST MARKS '!D70:I70) -> 18 | J70: =D70*100/$J$8 -> 95 | K70: =E70*100/$K$8 -> 95 | L70: =F70*100/$L$8 -> 60 | M70: =G70*100/$M$8 -> 60 | N70: =H70*100/$N$8 -> 90 | O70: =I70*100/$O$8 -> 90 | P70: =IF(J70<'TEST MARKS '!$D$159,"N","Y") -> Y | Q70: =IF(K70<'TEST MARKS '!$D$159,"N","Y") -> Y | R70: =IF(L70<'TEST MARKS '!$D$159,"N","Y") -> Y | S70: =IF(M70<'TEST MARKS '!$D$159,"N","Y") -> Y | T70: =IF(N70<'TEST MARKS '!$D$159,"N","Y") -> Y | U70: =IF(O70<'TEST MARKS '!$D$159,"N","Y") -> Y
A71: 62 | B71: ='TEST MARKS '!B71 -> PRADEEP B N | C71: ='TEST MARKS '!C71 -> 1SG15ME066 | D71: =SUMIF('TEST MARKS '!$D$8:$I$8,$D$9,'TEST MARKS '!D71:I71) -> 15 | E71: =SUMIF('TEST MARKS '!$D$8:$I$8,$E$9,'TEST MARKS '!D71:I71) -> 15 | F71: =SUMIF('TEST MARKS '!$D$8:$I$8,$F$9,'TEST MARKS '!D71:I71) -> 11 | G71: =SUMIF('TEST MARKS '!$D$8:$I$8,$G$9,'TEST MARKS '!D71:I71) -> 11 | H71: =SUMIF('TEST MARKS '!$D$8:$I$8,$H$9,'TEST MARKS '!D71:I71) -> 13 | I71: =SUMIF('TEST MARKS '!$D$8:$I$8,$I$9,'TEST MARKS '!D71:I71) -> 13 | J71: =D71*100/$J$8 -> 75 | K71: =E71*100/$K$8 -> 75 | L71: =F71*100/$L$8 -> 55 | M71: =G71*100/$M$8 -> 55 | N71: =H71*100/$N$8 -> 65 | O71: =I71*100/$O$8 -> 65 | P71: =IF(J71<'TEST MARKS '!$D$159,"N","Y") -> Y | Q71: =IF(K71<'TEST MARKS '!$D$159,"N","Y") -> Y | R71: =IF(L71<'TEST MARKS '!$D$159,"N","Y") -> Y | S71: =IF(M71<'TEST MARKS '!$D$159,"N","Y") -> Y | T71: =IF(N71<'TEST MARKS '!$D$159,"N","Y") -> Y | U71: =IF(O71<'TEST MARKS '!$D$159,"N","Y") -> Y
A72: 63 | B72: ='TEST MARKS '!B72 -> PRATHEEK S | C72: ='TEST MARKS '!C72 -> 1SG15ME067 | D72: =SUMIF('TEST MARKS '!$D$8:$I$8,$D$9,'TEST MARKS '!D72:I72) -> 17 | E72: =SUMIF('TEST MARKS '!$D$8:$I$8,$E$9,'TEST MARKS '!D72:I72) -> 17 | F72: =SUMIF('TEST MARKS '!$D$8:$I$8,$F$9,'TEST MARKS '!D72:I72) -> 13 | G72: =SUMIF('TEST MARKS '!$D$8:$I$8,$G$9,'TEST MARKS '!D72:I72) -> 13 | H72: =SUMIF('TEST MARKS '!$D$8:$I$8,$H$9,'TEST MARKS '!D72:I72) -> 15 | I72: =SUMIF('TEST MARKS '!$D$8:$I$8,$I$9,'TEST MARKS '!D72:I72) -> 15 | J72: =D72*100/$J$8 -> 85 | K72: =E72*100/$K$8 -> 85 | L72: =F72*100/$L$8 -> 65 | M72: =G72*100/$M$8 -> 65 | N72: =H72*100/$N$8 -> 75 | O72: =I72*100/$O$8 -> 75 | P72: =IF(J72<'TEST MARKS '!$D$159,"N","Y") -> Y | Q72: =IF(K72<'TEST MARKS '!$D$159,"N","Y") -> Y | R72: =IF(L72<'TEST MARKS '!$D$159,"N","Y") -> Y | S72: =IF(M72<'TEST MARKS '!$D$159,"N","Y") -> Y | T72: =IF(N72<'TEST MARKS '!$D$159,"N","Y") -> Y | U72: =IF(O72<'TEST MARKS '!$D$159,"N","Y") -> Y
A73: 64 | B73: ='TEST MARKS '!B73 -> PRAVEEN S | C73: ='TEST MARKS '!C73 -> 1SG15ME068 | D73: =SUMIF('TEST MARKS '!$D$8:$I$8,$D$9,'TEST MARKS '!D73:I73) -> 15 | E73: =SUMIF('TEST MARKS '!$D$8:$I$8,$E$9,'TEST MARKS '!D73:I73) -> 15 | F73: =SUMIF('TEST MARKS '!$D$8:$I$8,$F$9,'TEST MARKS '!D73:I73) -> 15 | G73: =SUMIF('TEST MARKS '!$D$8:$I$8,$G$9,'TEST MARKS '!D73:I73) -> 15 | H73: =SUMIF('TEST MARKS '!$D$8:$I$8,$H$9,'TEST MARKS '!D73:I73) -> 15 | I73: =SUMIF('TEST MARKS '!$D$8:$I$8,$I$9,'TEST MARKS '!D73:I73) -> 15 | J73: =D73*100/$J$8 -> 75 | K73: =E73*100/$K$8 -> 75 | L73: =F73*100/$L$8 -> 75 | M73: =G73*100/$M$8 -> 75 | N73: =H73*100/$N$8 -> 75 | O73: =I73*100/$O$8 -> 75 | P73: =IF(J73<'TEST MARKS '!$D$159,"N","Y") -> Y | Q73: =IF(K73<'TEST MARKS '!$D$159,"N","Y") -> Y | R73: =IF(L73<'TEST MARKS '!$D$159,"N","Y") -> Y | S73: =IF(M73<'TEST MARKS '!$D$159,"N","Y") -> Y | T73: =IF(N73<'TEST MARKS '!$D$159,"N","Y") -> Y | U73: =IF(O73<'TEST MARKS '!$D$159,"N","Y") -> Y
A74: 65 | B74: ='TEST MARKS '!B74 -> PRUTHVIRAJA A S | C74: ='TEST MARKS '!C74 -> 1SG15ME069 | D74: =SUMIF('TEST MARKS '!$D$8:$I$8,$D$9,'TEST MARKS '!D74:I74) -> 12 | E74: =SUMIF('TEST MARKS '!$D$8:$I$8,$E$9,'TEST MARKS '!D74:I74) -> 12 | F74: =SUMIF('TEST MARKS '!$D$8:$I$8,$F$9,'TEST MARKS '!D74:I74) -> 13 | G74: =SUMIF('TEST MARKS '!$D$8:$I$8,$G$9,'TEST MARKS '!D74:I74) -> 13 | H74: =SUMIF('TEST MARKS '!$D$8:$I$8,$H$9,'TEST MARKS '!D74:I74) -> 13 | I74: =SUMIF('TEST MARKS '!$D$8:$I$8,$I$9,'TEST MARKS '!D74:I74) -> 13 | J74: =D74*100/$J$8 -> 60 | K74: =E74*100/$K$8 -> 60 | L74: =F74*100/$L$8 -> 65 | M74: =G74*100/$M$8 -> 65 | N74: =H74*100/$N$8 -> 65 | O74: =I74*100/$O$8 -> 65 | P74: =IF(J74<'TEST MARKS '!$D$159,"N","Y") -> Y | Q74: =IF(K74<'TEST MARKS '!$D$159,"N","Y") -> Y | R74: =IF(L74<'TEST MARKS '!$D$159,"N","Y") -> Y | S74: =IF(M74<'TEST MARKS '!$D$159,"N","Y") -> Y | T74: =IF(N74<'TEST MARKS '!$D$159,"N","Y") -> Y | U74: =IF(O74<'TEST MARKS '!$D$159,"N","Y") -> Y
A75: 66 | B75: ='TEST MARKS '!B75 -> PUNITH JADHAV | C75: ='TEST MARKS '!C75 -> 1SG15ME070 | D75: =SUMIF('TEST MARKS '!$D$8:$I$8,$D$9,'TEST MARKS '!D75:I75) -> 17 | E75: =SUMIF('TEST MARKS '!$D$8:$I$8,$E$9,'TEST MARKS '!D75:I75) -> 17 | F75: =SUMIF('TEST MARKS '!$D$8:$I$8,$F$9,'TEST MARKS '!D75:I75) -> 20 | G75: =SUMIF('TEST MARKS '!$D$8:$I$8,$G$9,'TEST MARKS '!D75:I75) -> 20 | H75: =SUMIF('TEST MARKS '!$D$8:$I$8,$H$9,'TEST MARKS '!D75:I75) -> 19 | I75: =SUMIF('TEST MARKS '!$D$8:$I$8,$I$9,'TEST MARKS '!D75:I75) -> 19 | J75: =D75*100/$J$8 -> 85 | K75: =E75*100/$K$8 -> 85 | L75: =F75*100/$L$8 -> 100 | M75: =G75*100/$M$8 -> 100 | N75: =H75*100/$N$8 -> 95 | O75: =I75*100/$O$8 -> 95 | P75: =IF(J75<'TEST MARKS '!$D$159,"N","Y") -> Y | Q75: =IF(K75<'TEST MARKS '!$D$159,"N","Y") -> Y | R75: =IF(L75<'TEST MARKS '!$D$159,"N","Y") -> Y | S75: =IF(M75<'TEST MARKS '!$D$159,"N","Y") -> Y | T75: =IF(N75<'TEST MARKS '!$D$159,"N","Y") -> Y | U75: =IF(O75<'TEST MARKS '!$D$159,"N","Y") -> Y
A76: 67 | B76: ='TEST MARKS '!B76 -> RAGHAVA SURYA M | C76: ='TEST MARKS '!C76 -> 1SG15ME071 | D76: =SUMIF('TEST MARKS '!$D$8:$I$8,$D$9,'TEST MARKS '!D76:I76) -> 10 | E76: =SUMIF('TEST MARKS '!$D$8:$I$8,$E$9,'TEST MARKS '!D76:I76) -> 10 | F76: =SUMIF('TEST MARKS '!$D$8:$I$8,$F$9,'TEST MARKS '!D76:I76) -> 20 | G76: =SUMIF('TEST MARKS '!$D$8:$I$8,$G$9,'TEST MARKS '!D76:I76) -> 20 | H76: =SUMIF('TEST MARKS '!$D$8:$I$8,$H$9,'TEST MARKS '!D76:I76) -> 16 | I76: =SUMIF('TEST MARKS '!$D$8:$I$8,$I$9,'TEST MARKS '!D76:I76) -> 16 | J76: =D76*100/$J$8 -> 50 | K76: =E76*100/$K$8 -> 50 | L76: =F76*100/$L$8 -> 100 | M76: =G76*100/$M$8 -> 100 | N76: =H76*100/$N$8 -> 80 | O76: =I76*100/$O$8 -> 80 | P76: =IF(J76<'TEST MARKS '!$D$159,"N","Y") -> Y | Q76: =IF(K76<'TEST MARKS '!$D$159,"N","Y") -> Y | R76: =IF(L76<'TEST MARKS '!$D$159,"N","Y") -> Y | S76: =IF(M76<'TEST MARKS '!$D$159,"N","Y") -> Y | T76: =IF(N76<'TEST MARKS '!$D$159,"N","Y") -> Y | U76: =IF(O76<'TEST MARKS '!$D$159,"N","Y") -> Y
A77: 68 | B77: ='TEST MARKS '!B77 -> RAHUL N DIXIT | C77: ='TEST MARKS '!C77 -> 1SG15ME072 | D77: =SUMIF('TEST MARKS '!$D$8:$I$8,$D$9,'TEST MARKS '!D77:I77) -> 18 | E77: =SUMIF('TEST MARKS '!$D$8:$I$8,$E$9,'TEST MARKS '!D77:I77) -> 18 | F77: =SUMIF('TEST MARKS '!$D$8:$I$8,$F$9,'TEST MARKS '!D77:I77) -> 14 | G77: =SUMIF('TEST MARKS '!$D$8:$I$8,$G$9,'TEST MARKS '!D77:I77) -> 14 | H77: =SUMIF('TEST MARKS '!$D$8:$I$8,$H$9,'TEST MARKS '!D77:I77) -> 16 | I77: =SUMIF('TEST MARKS '!$D$8:$I$8,$I$9,'TEST MARKS '!D77:I77) -> 16 | J77: =D77*100/$J$8 -> 90 | K77: =E77*100/$K$8 -> 90 | L77: =F77*100/$L$8 -> 70 | M77: =G77*100/$M$8 -> 70 | N77: =H77*100/$N$8 -> 80 | O77: =I77*100/$O$8 -> 80 | P77: =IF(J77<'TEST MARKS '!$D$159,"N","Y") -> Y | Q77: =IF(K77<'TEST MARKS '!$D$159,"N","Y") -> Y | R77: =IF(L77<'TEST MARKS '!$D$159,"N","Y") -> Y | S77: =IF(M77<'TEST MARKS '!$D$159,"N","Y") -> Y | T77: =IF(N77<'TEST MARKS '!$D$159,"N","Y") -> Y | U77: =IF(O77<'TEST MARKS '!$D$159,"N","Y") -> Y
A78: 69 | B78: ='TEST MARKS '!B78 -> RAHUL V | C78: ='TEST MARKS '!C78 -> 1SG15ME073 | D78: =SUMIF('TEST MARKS '!$D$8:$I$8,$D$9,'TEST MARKS '!D78:I78) -> 8 | E78: =SUMIF('TEST MARKS '!$D$8:$I$8,$E$9,'TEST MARKS '!D78:I78) -> 8 | F78: =SUMIF('TEST MARKS '!$D$8:$I$8,$F$9,'TEST MARKS '!D78:I78) -> 18 | G78: =SUMIF('TEST MARKS '!$D$8:$I$8,$G$9,'TEST MARKS '!D78:I78) -> 18 | H78: =SUMIF('TEST MARKS '!$D$8:$I$8,$H$9,'TEST MARKS '!D78:I78) -> 13 | I78: =SUMIF('TEST MARKS '!$D$8:$I$8,$I$9,'TEST MARKS '!D78:I78) -> 13 | J78: =D78*100/$J$8 -> 40 | K78: =E78*100/$K$8 -> 40 | L78: =F78*100/$L$8 -> 90 | M78: =G78*100/$M$8 -> 90 | N78: =H78*100/$N$8 -> 65 | O78: =I78*100/$O$8 -> 65 | P78: =IF(J78<'TEST MARKS '!$D$159,"N","Y") -> N | Q78: =IF(K78<'TEST MARKS '!$D$159,"N","Y") -> N | R78: =IF(L78<'TEST MARKS '!$D$159,"N","Y") -> Y | S78: =IF(M78<'TEST MARKS '!$D$159,"N","Y") -> Y | T78: =IF(N78<'TEST MARKS '!$D$159,"N","Y") -> Y | U78: =IF(O78<'TEST MARKS '!$D$159,"N","Y") -> Y
A79: 70 | B79: ='TEST MARKS '!B79 -> RAJATH G MOODITHAYA | C79: ='TEST MARKS '!C79 -> 1SG15ME074 | D79: =SUMIF('TEST MARKS '!$D$8:$I$8,$D$9,'TEST MARKS '!D79:I79) -> 16 | E79: =SUMIF('TEST MARKS '!$D$8:$I$8,$E$9,'TEST MARKS '!D79:I79) -> 16 | F79: =SUMIF('TEST MARKS '!$D$8:$I$8,$F$9,'TEST MARKS '!D79:I79) -> 16 | G79: =SUMIF('TEST MARKS '!$D$8:$I$8,$G$9,'TEST MARKS '!D79:I79) -> 16 | H79: =SUMIF('TEST MARKS '!$D$8:$I$8,$H$9,'TEST MARKS '!D79:I79) -> 16 | I79: =SUMIF('TEST MARKS '!$D$8:$I$8,$I$9,'TEST MARKS '!D79:I79) -> 16 | J79: =D79*100/$J$8 -> 80 | K79: =E79*100/$K$8 -> 80 | L79: =F79*100/$L$8 -> 80 | M79: =G79*100/$M$8 -> 80 | N79: =H79*100/$N$8 -> 80 | O79: =I79*100/$O$8 -> 80 | P79: =IF(J79<'TEST MARKS '!$D$159,"N","Y") -> Y | Q79: =IF(K79<'TEST MARKS '!$D$159,"N","Y") -> Y | R79: =IF(L79<'TEST MARKS '!$D$159,"N","Y") -> Y | S79: =IF(M79<'TEST MARKS '!$D$159,"N","Y") -> Y | T79: =IF(N79<'TEST MARKS '!$D$159,"N","Y") -> Y | U79: =IF(O79<'TEST MARKS '!$D$159,"N","Y") -> Y
... A120: 111 | B120: ='TEST MARKS '!B120 -> 0 | C120: ='TEST MARKS '!C120 -> 0 | D120: =SUMIF('TEST MARKS '!$D$8:$I$8,$D$9,'TEST MARKS '!D120:I120) -> 0 | E120: =SUMIF('TEST MARKS '!$D$8:$I$8,$E$9,'TEST MARKS '!D120:I120) -> 0 | F120: =SUMIF('TEST MARKS '!$D$8:$I$8,$F$9,'TEST MARKS '!D120:I120) -> 0 | G120: =SUMIF('TEST MARKS '!$D$8:$I$8,$G$9,'TEST MARKS '!D120:I120) -> 0 | H120: =SUMIF('TEST MARKS '!$D$8:$I$8,$H$9,'TEST MARKS '!D120:I120) -> 0 | I120: =SUMIF('TEST MARKS '!$D$8:$I$8,$I$9,'TEST MARKS '!D120:I120) -> 0 | J120: =D120*100/$J$8 -> 0 | K120: =E120*100/$K$8 -> 0 | L120: =F120*100/$L$8 -> 0 | M120: =G120*100/$M$8 -> 0 | N120: =H120*100/$N$8 -> 0 | O120: =I120*100/$O$8 -> 0 | P120: =IF(J120<'TEST MARKS '!$D$159,"N","Y") -> N | Q120: =IF(K120<'TEST MARKS '!$D$159,"N","Y") -> N | R120: =IF(L120<'TEST MARKS '!$D$159,"N","Y") -> N | S120: =IF(M120<'TEST MARKS '!$D$159,"N","Y") -> N | T120: =IF(N120<'TEST MARKS '!$D$159,"N","Y") -> N | U120: =IF(O120<'TEST MARKS '!$D$159,"N","Y") -> N
A121: 112 | B121: ='TEST MARKS '!B131 -> 0 | C121: ='TEST MARKS '!C131 -> 0 | D121: =SUMIF('TEST MARKS '!$D$8:$I$8,$D$9,'TEST MARKS '!D131:I131) -> 0 | E121: =SUMIF('TEST MARKS '!$D$8:$I$8,$E$9,'TEST MARKS '!D131:I131) -> 0 | F121: =SUMIF('TEST MARKS '!$D$8:$I$8,$F$9,'TEST MARKS '!D131:I131) -> 0 | G121: =SUMIF('TEST MARKS '!$D$8:$I$8,$G$9,'TEST MARKS '!D131:I131) -> 0 | H121: =SUMIF('TEST MARKS '!$D$8:$I$8,$H$9,'TEST MARKS '!D131:I131) -> 0 | I121: =SUMIF('TEST MARKS '!$D$8:$I$8,$I$9,'TEST MARKS '!D131:I131) -> 0 | J121: =D121*100/$J$8 -> 0 | K121: =E121*100/$K$8 -> 0 | L121: =F121*100/$L$8 -> 0 | M121: =G121*100/$M$8 -> 0 | N121: =H121*100/$N$8 -> 0 | O121: =I121*100/$O$8 -> 0 | P121: =IF(J121<'TEST MARKS '!$D$159,"N","Y") -> N | Q121: =IF(K121<'TEST MARKS '!$D$159,"N","Y") -> N | R121: =IF(L121<'TEST MARKS '!$D$159,"N","Y") -> N | S121: =IF(M121<'TEST MARKS '!$D$159,"N","Y") -> N | T121: =IF(N121<'TEST MARKS '!$D$159,"N","Y") -> N | U121: =IF(O121<'TEST MARKS '!$D$159,"N","Y") -> N
A122: 113 | B122: ='TEST MARKS '!B132 -> 0 | C122: ='TEST MARKS '!C132 -> 0 | D122: =SUMIF('TEST MARKS '!$D$8:$I$8,$D$9,'TEST MARKS '!D132:I132) -> 0 | E122: =SUMIF('TEST MARKS '!$D$8:$I$8,$E$9,'TEST MARKS '!D132:I132) -> 0 | F122: =SUMIF('TEST MARKS '!$D$8:$I$8,$F$9,'TEST MARKS '!D132:I132) -> 0 | G122: =SUMIF('TEST MARKS '!$D$8:$I$8,$G$9,'TEST MARKS '!D132:I132) -> 0 | H122: =SUMIF('TEST MARKS '!$D$8:$I$8,$H$9,'TEST MARKS '!D132:I132) -> 0 | I122: =SUMIF('TEST MARKS '!$D$8:$I$8,$I$9,'TEST MARKS '!D132:I132) -> 0 | J122: =D122*100/$J$8 -> 0 | K122: =E122*100/$K$8 -> 0 | L122: =F122*100/$L$8 -> 0 | M122: =G122*100/$M$8 -> 0 | N122: =H122*100/$N$8 -> 0 | O122: =I122*100/$O$8 -> 0 | P122: =IF(J122<'TEST MARKS '!$D$159,"N","Y") -> N | Q122: =IF(K122<'TEST MARKS '!$D$159,"N","Y") -> N | R122: =IF(L122<'TEST MARKS '!$D$159,"N","Y") -> N | S122: =IF(M122<'TEST MARKS '!$D$159,"N","Y") -> N | T122: =IF(N122<'TEST MARKS '!$D$159,"N","Y") -> N | U122: =IF(O122<'TEST MARKS '!$D$159,"N","Y") -> N
...

Sheet Assignment CO 
B1: Sapthagiri College of Engineering
B2: Department of Physics
D3: ENGINEERING PHYSICS
B4: I Semester EC A & B Section Test marks for ODD Sem 2017-18 | P4: TARGET: 90% OF STUDENTS TO SCORE 80% and ABOVE
A5: Sl. No. | B5: Name of the student | C5: USN | J5: ASSIGNMENT ATTAINMENT (%) | P5: Y OR N
D7: I | E7: II | F7: III | G7: IV | H7: V | I7: V | J7: I | K7: II | L7: III | M7: IV | N7: V | O7: V | P7: I | Q7: II | R7: III | S7: IV | T7: V | U7: V
D8: CO1 | E8: CO2 | F8: CO3 | G8: CO4 | H8: CO5 | I8: CO6 | J8: CO1 | K8: CO2 | L8: CO3 | M8: CO4 | N8: CO5 | O8: CO6 | P8: CO1 | Q8: CO2 | R8: CO3 | S8: CO4 | T8: CO5 | U8: CO6
A9: ='TEST MARKS '!A10 -> 1 | B9: ='TEST MARKS '!B10 -> AAKASH KUMAR | C9: ='TEST MARKS '!C10 -> 1SG15ME001 | D9: ='TEST MARKS '!J10 -> 0 | E9: ='TEST MARKS '!K10 -> 0 | F9: ='TEST MARKS '!L10 -> 0 | G9: ='TEST MARKS '!M10 -> 0 | H9: ='TEST MARKS '!N10 -> 0 | I9: ='TEST MARKS '!O10 -> 0 | J9: =D9/'TEST MARKS '!$J$155*100 -> #DIV/0! | K9: =E9/'TEST MARKS '!$K$155*100 -> #DIV/0! | L9: =F9/'TEST MARKS '!$L$155*100 -> #DIV/0! | M9: =G9/'TEST MARKS '!$M$155*100 -> #DIV/0! | N9: =H9/'TEST MARKS '!$N$155*100 -> #DIV/0! | O9: =I9/'TEST MARKS '!$O$155*100 -> #DIV/0! | P9: =IF(J9<'TEST MARKS '!$D$160,"N","Y") -> #DIV/0! | Q9: =IF(K9<'TEST MARKS '!$D$160,"N","Y") -> #DIV/0! | R9: =IF(L9<'TEST MARKS '!$D$160,"N","Y") -> #DIV/0! | S9: =IF(M9<'TEST MARKS '!$D$160,"N","Y") -> #DIV/0! | T9: =IF(N9<'TEST MARKS '!$D$160,"N","Y") -> #DIV/0! | U9: =IF(O9<'TEST MARKS '!$D$160,"N","Y") -> #DIV/0!
A10: ='TEST MARKS '!A11 -> 2 | B10: ='TEST MARKS '!B11 -> ABHISHEK MADAPPAWALE | C10: ='TEST MARKS '!C11 -> 1SG15ME002 | D10: ='TEST MARKS '!J11 -> 0 | E10: ='TEST MARKS '!K11 -> 0 | F10: ='TEST MARKS '!L11 -> 0 | G10: ='TEST MARKS '!M11 -> 0 | H10: ='TEST MARKS '!N11 -> 0 | I10: ='TEST MARKS '!O11 -> 0 | J10: =D10/'TEST MARKS '!$J$155*100 -> #DIV/0! | K10: =E10/'TEST MARKS '!$K$155*100 -> #DIV/0! | L10: =F10/'TEST MARKS '!$L$155*100 -> #DIV/0! | M10: =G10/'TEST MARKS '!$M$155*100 -> #DIV/0! | N10: =H10/'TEST MARKS '!$N$155*100 -> #DIV/0! | O10: =I10/'TEST MARKS '!$O$155*100 -> #DIV/0! | P10: =IF(J10<'TEST MARKS '!$D$160,"N","Y") -> #DIV/0! | Q10: =IF(K10<'TEST MARKS '!$D$160,"N","Y") -> #DIV/0! | R10: =IF(L10<'TEST MARKS '!$D$160,"N","Y") -> #DIV/0! | S10: =IF(M10<'TEST MARKS '!$D$160,"N","Y") -> #DIV/0! | T10: =IF(N10<'TEST MARKS '!$D$160,"N","Y") -> #DIV/0! | U10: =IF(O10<'TEST MARKS '!$D$160,"N","Y") -> #DIV/0!
A11: ='TEST MARKS '!A12 -> 3 | B11: ='TEST MARKS '!B12 -> ADITHYA N | C11: ='TEST MARKS '!C12 -> 1SG15ME003 | D11: ='TEST MARKS '!J12 -> 0 | E11: ='TEST MARKS '!K12 -> 0 | F11: ='TEST MARKS '!L12 -> 0 | G11: ='TEST MARKS '!M12 -> 0 | H11: ='TEST MARKS '!N12 -> 0 | I11: ='TEST MARKS '!O12 -> 0 | J11: =D11/'TEST MARKS '!$J$155*100 -> #DIV/0! | K11: =E11/'TEST MARKS '!$K$155*100 -> #DIV/0! | L11: =F11/'TEST MARKS '!$L$155*100 -> #DIV/0! | M11: =G11/'TEST MARKS '!$M$155*100 -> #DIV/0! | N11: =H11/'TEST MARKS '!$N$155*100 -> #DIV/0! | O11: =I11/'TEST MARKS '!$O$155*100 -> #DIV/0! | P11: =IF(J11<'TEST MARKS '!$D$160,"N","Y") -> #DIV/0! | Q11: =IF(K11<'TEST MARKS '!$D$160,"N","Y") -> #DIV/0! | R11: =IF(L11<'TEST MARKS '!$D$160,"N","Y") -> #DIV/0! | S11: =IF(M11<'TEST MARKS '!$D$160,"N","Y") -> #DIV/0! | T11: =IF(N11<'TEST MARKS '!$D$160,"N","Y") -> #DIV/0! | U11: =IF(O11<'TEST MARKS '!$D$160,"N","Y") -> #DIV/0!
A12: ='TEST MARKS '!A13 -> 4 | B12: ='TEST MARKS '!B13 -> AFTAB AHMED MADAR WALA | C12: ='TEST MARKS '!C13 -> 1SG15ME004 | D12: ='TEST MARKS '!J13 -> 0 | E12: ='TEST MARKS '!K13 -> 0 | F12: ='TEST MARKS '!L13 -> 0 | G12: ='TEST MARKS '!M13 -> 0 | H12: ='TEST MARKS '!N13 -> 0 | I12: ='TEST MARKS '!O13 -> 0 | J12: =D12/'TEST MARKS '!$J$155*100 -> #DIV/0! | K12: =E12/'TEST MARKS '!$K$155*100 -> #DIV/0! | L12: =F12/'TEST MARKS '!$L$155*100 -> #DIV/0! | M12: =G12/'TEST MARKS '!$M$155*100 -> #DIV/0! | N12: =H12/'TEST MARKS '!$N$155*100 -> #DIV/0! | O12: =I12/'TEST MARKS '!$O$155*100 -> #DIV/0! | P12: =IF(J12<'TEST MARKS '!$D$160,"N","Y") -> #DIV/0! | Q12: =IF(K12<'TEST MARKS '!$D$160,"N","Y") -> #DIV/0! | R12: =IF(L12<'TEST MARKS '!$D$160,"N","Y") -> #DIV/0! | S12: =IF(M12<'TEST MARKS '!$D$160,"N","Y") -> #DIV/0! | T12: =IF(N12<'TEST MARKS '!$D$160,"N","Y") -> #DIV/0! | U12: =IF(O12<'TEST MARKS '!$D$160,"N","Y") -> #DIV/0!
A13: ='TEST MARKS '!A14 -> 5 | B13: ='TEST MARKS '!B14 -> AJEYA.V | C13: ='TEST MARKS '!C14 -> 1SG15ME006 | D13: ='TEST MARKS '!J14 -> 0 | E13: ='TEST MARKS '!K14 -> 0 | F13: ='TEST MARKS '!L14 -> 0 | G13: ='TEST MARKS '!M14 -> 0 | H13: ='TEST MARKS '!N14 -> 0 | I13: ='TEST MARKS '!O14 -> 0 | J13: =D13/'TEST MARKS '!$J$155*100 -> #DIV/0! | K13: =E13/'TEST MARKS '!$K$155*100 -> #DIV/0! | L13: =F13/'TEST MARKS '!$L$155*100 -> #DIV/0! | M13: =G13/'TEST MARKS '!$M$155*100 -> #DIV/0! | N13: =H13/'TEST MARKS '!$N$155*100 -> #DIV/0! | O13: =I13/'TEST MARKS '!$O$155*100 -> #DIV/0! | P13: =IF(J13<'TEST MARKS '!$D$160,"N","Y") -> #DIV/0! | Q13: =IF(K13<'TEST MARKS '!$D$160,"N","Y") -> #DIV/0! | R13: =IF(L13<'TEST MARKS '!$D$160,"N","Y") -> #DIV/0! | S13: =IF(M13<'TEST MARKS '!$D$160,"N","Y") -> #DIV/0! | T13: =IF(N13<'TEST MARKS '!$D$160,"N","Y") -> #DIV/0! | U13: =IF(O13<'TEST MARKS '!$D$160,"N","Y") -> #DIV/0!
A14: ='TEST MARKS '!A15 -> 6 | B14: ='TEST MARKS '!B15 -> AJAY.K | C14: ='TEST MARKS '!C15 -> 1SG15ME005 | D14: ='TEST MARKS '!J15 -> 0 | E14: ='TEST MARKS '!K15 -> 0 | F14: ='TEST MARKS '!L15 -> 0 | G14: ='TEST MARKS '!M15 -> 0 | H14: ='TEST MARKS '!N15 -> 0 | I14: ='TEST MARKS '!O15 -> 0 | J14: =D14/'TEST MARKS '!$J$155*100 -> #DIV/0! | K14: =E14/'TEST MARKS '!$K$155*100 -> #DIV/0! | L14: =F14/'TEST MARKS '!$L$155*100 -> #DIV/0! | M14: =G14/'TEST MARKS '!$M$155*100 -> #DIV/0! | N14: =H14/'TEST MARKS '!$N$155*100 -> #DIV/0! | O14: =I14/'TEST MARKS '!$O$155*100 -> #DIV/0! | P14: =IF(J14<'TEST MARKS '!$D$160,"N","Y") -> #DIV/0! | Q14: =IF(K14<'TEST MARKS '!$D$160,"N","Y") -> #DIV/0! | R14: =IF(L14<'TEST MARKS '!$D$160,"N","Y") -> #DIV/0! | S14: =IF(M14<'TEST MARKS '!$D$160,"N","Y") -> #DIV/0! | T14: =IF(N14<'TEST MARKS '!$D$160,"N","Y") -> #DIV/0! | U14: =IF(O14<'TEST MARKS '!$D$160,"N","Y") -> #DIV/0!
A15: ='TEST MARKS '!A16 -> 7 | B15: ='TEST MARKS '!B16 -> AJITH S P | C15: ='TEST MARKS '!C16 -> 1SG15ME007 | D15: ='TEST MARKS '!J16 -> 0 | E15: ='TEST MARKS '!K16 -> 0 | F15: ='TEST MARKS '!L16 -> 0 | G15: ='TEST MARKS '!M16 -> 0 | H15: ='TEST MARKS '!N16 -> 0 | I15: ='TEST MARKS '!O16 -> 0 | J15: =D15/'TEST MARKS '!$J$155*100 -> #DIV/0! | K15: =E15/'TEST MARKS '!$K$155*100 -> #DIV/0! | L15: =F15/'TEST MARKS '!$L$155*100 -> #DIV/0! | M15: =G15/'TEST MARKS '!$M$155*100 -> #DIV/0! | N15: =H15/'TEST MARKS '!$N$155*100 -> #DIV/0! | O15: =I15/'TEST MARKS '!$O$155*100 -> #DIV/0! | P15: =IF(J15<'TEST MARKS '!$D$160,"N","Y") -> #DIV/0! | Q15: =IF(K15<'TEST MARKS '!$D$160,"N","Y") -> #DIV/0! | R15: =IF(L15<'TEST MARKS '!$D$160,"N","Y") -> #DIV/0! | S15: =IF(M15<'TEST MARKS '!$D$160,"N","Y") -> #DIV/0! | T15: =IF(N15<'TEST MARKS '!$D$160,"N","Y") -> #DIV/0! | U15: =IF(O15<'TEST MARKS '!$D$160,"N","Y") -> #DIV/0!
A16: ='TEST MARKS '!A17 -> 8 | B16: ='TEST MARKS '!B17 -> AKSHAY S | C16: ='TEST MARKS '!C17 -> 1SG15ME008 | D16: ='TEST MARKS '!J17 -> 0 | E16: ='TEST MARKS '!K17 -> 0 | F16: ='TEST MARKS '!L17 -> 0 | G16: ='TEST MARKS '!M17 -> 0 | H16: ='TEST MARKS '!N17 -> 0 | I16: ='TEST MARKS '!O17 -> 0 | J16: =D16/'TEST MARKS '!$J$155*100 -> #DIV/0! | K16: =E16/'TEST MARKS '!$K$155*100 -> #DIV/0! | L16: =F16/'TEST MARKS '!$L$155*100 -> #DIV/0! | M16: =G16/'TEST MARKS '!$M$155*100 -> #DIV/0! | N16: =H16/'TEST MARKS '!$N$155*100 -> #DIV/0! | O16: =I16/'TEST MARKS '!$O$155*100 -> #DIV/0! | P16: =IF(J16<'TEST MARKS '!$D$160,"N","Y") -> #DIV/0! | Q16: =IF(K16<'TEST MARKS '!$D$160,"N","Y") -> #DIV/0! | R16: =IF(L16<'TEST MARKS '!$D$160,"N","Y") -> #DIV/0! | S16: =IF(M16<'TEST MARKS '!$D$160,"N","Y") -> #DIV/0! | T16: =IF(N16<'TEST MARKS '!$D$160,"N","Y") -> #DIV/0! | U16: =IF(O16<'TEST MARKS '!$D$160,"N","Y") -> #DIV/0!
A17: ='TEST MARKS '!A18 -> 9 | B17: ='TEST MARKS '!B18 -> AMAN NAIN | C17: ='TEST MARKS '!C18 -> 1SG15ME009 | D17: ='TEST MARKS '!J18 -> 0 | E17: ='TEST MARKS '!K18 -> 0 | F17: ='TEST MARKS '!L18 -> 0 | G17: ='TEST MARKS '!M18 -> 0 | H17: ='TEST MARKS '!N18 -> 0 | I17: ='TEST MARKS '!O18 -> 0 | J17: =D17/'TEST MARKS '!$J$155*100 -> #DIV/0! | K17: =E17/'TEST MARKS '!$K$155*100 -> #DIV/0! | L17: =F17/'TEST MARKS '!$L$155*100 -> #DIV/0! | M17: =G17/'TEST MARKS '!$M$155*100 -> #DIV/0! | N17: =H17/'TEST MARKS '!$N$155*100 -> #DIV/0! | O17: =I17/'TEST MARKS '!$O$155*100 -> #DIV/0! | P17: =IF(J17<'TEST MARKS '!$D$160,"N","Y") -> #DIV/0! | Q17: =IF(K17<'TEST MARKS '!$D$160,"N","Y") -> #DIV/0! | R17: =IF(L17<'TEST MARKS '!$D$160,"N","Y") -> #DIV/0! | S17: =IF(M17<'TEST MARKS '!$D$160,"N","Y") -> #DIV/0! | T17: =IF(N17<'TEST MARKS '!$D$160,"N","Y") -> #DIV/0! | U17: =IF(O17<'TEST MARKS '!$D$160,"N","Y") -> #DIV/0!
A18: ='TEST MARKS '!A19 -> 10 | B18: ='TEST MARKS '!B19 -> AMITH.R | C18: ='TEST MARKS '!C19 -> 1SG15ME010 | D18: ='TEST MARKS '!J19 -> 0 | E18: ='TEST MARKS '!K19 -> 0 | F18: ='TEST MARKS '!L19 -> 0 | G18: ='TEST MARKS '!M19 -> 0 | H18: ='TEST MARKS '!N19 -> 0 | I18: ='TEST MARKS '!O19 -> 0 | J18: =D18/'TEST MARKS '!$J$155*100 -> #DIV/0! | K18: =E18/'TEST MARKS '!$K$155*100 -> #DIV/0! | L18: =F18/'TEST MARKS '!$L$155*100 -> #DIV/0! | M18: =G18/'TEST MARKS '!$M$155*100 -> #DIV/0! | N18: =H18/'TEST MARKS '!$N$155*100 -> #DIV/0! | O18: =I18/'TEST MARKS '!$O$155*100 -> #DIV/0! | P18: =IF(J18<'TEST MARKS '!$D$160,"N","Y") -> #DIV/0! | Q18: =IF(K18<'TEST MARKS '!$D$160,"N","Y") -> #DIV/0! | R18: =IF(L18<'TEST MARKS '!$D$160,"N","Y") -> #DIV/0! | S18: =IF(M18<'TEST MARKS '!$D$160,"N","Y") -> #DIV/0! | T18: =IF(N18<'TEST MARKS '!$D$160,"N","Y") -> #DIV/0! | U18: =IF(O18<'TEST MARKS '!$D$160,"N","Y") -> #DIV/0!
A19: ='TEST MARKS '!A20 -> 11 | B19: ='TEST MARKS '!B20 -> ANIL KUMAR C | C19: ='TEST MARKS '!C20 -> 1SG15ME011 | D19: ='TEST MARKS '!J20 -> 0 | E19: ='TEST MARKS '!K20 -> 0 | F19: ='TEST MARKS '!L20 -> 0 | G19: ='TEST MARKS '!M20 -> 0 | H19: ='TEST MARKS '!N20 -> 0 | I19: ='TEST MARKS '!O20 -> 0 | J19: =D19/'TEST MARKS '!$J$155*100 -> #DIV/0! | K19: =E19/'TEST MARKS '!$K$155*100 -> #DIV/0! | L19: =F19/'TEST MARKS '!$L$155*100 -> #DIV/0! | M19: =G19/'TEST MARKS '!$M$155*100 -> #DIV/0! | N19: =H19/'TEST MARKS '!$N$155*100 -> #DIV/0! | O19: =I19/'TEST MARKS '!$O$155*100 -> #DIV/0! | P19: =IF(J19<'TEST MARKS '!$D$160,"N","Y") -> #DIV/0! | Q19: =IF(K19<'TEST MARKS '!$D$160,"N","Y") -> #DIV/0! | R19: =IF(L19<'TEST MARKS '!$D$160,"N","Y") -> #DIV/0! | S19: =IF(M19<'TEST MARKS '!$D$160,"N","Y") -> #DIV/0! | T19: =IF(N19<'TEST MARKS '!$D$160,"N","Y") -> #DIV/0! | U19: =IF(O19<'TEST MARKS '!$D$160,"N","Y") -> #DIV/0!
A20: ='TEST MARKS '!A21 -> 12 | B20: ='TEST MARKS '!B21 -> ANIRUDH R K | C20: ='TEST MARKS '!C21 -> 1SG15ME012 | D20: ='TEST MARKS '!J21 -> 0 | E20: ='TEST MARKS '!K21 -> 0 | F20: ='TEST MARKS '!L21 -> 0 | G20: ='TEST MARKS '!M21 -> 0 | H20: ='TEST MARKS '!N21 -> 0 | I20: ='TEST MARKS '!O21 -> 0 | J20: =D20/'TEST MARKS '!$J$155*100 -> #DIV/0! | K20: =E20/'TEST MARKS '!$K$155*100 -> #DIV/0! | L20: =F20/'TEST MARKS '!$L$155*100 -> #DIV/0! | M20: =G20/'TEST MARKS '!$M$155*100 -> #DIV/0! | N20: =H20/'TEST MARKS '!$N$155*100 -> #DIV/0! | O20: =I20/'TEST MARKS '!$O$155*100 -> #DIV/0! | P20: =IF(J20<'TEST MARKS '!$D$160,"N","Y") -> #DIV/0! | Q20: =IF(K20<'TEST MARKS '!$D$160,"N","Y") -> #DIV/0! | R20: =IF(L20<'TEST MARKS '!$D$160,"N","Y") -> #DIV/0! | S20: =IF(M20<'TEST MARKS '!$D$160,"N","Y") -> #DIV/0! | T20: =IF(N20<'TEST MARKS '!$D$160,"N","Y") -> #DIV/0! | U20: =IF(O20<'TEST MARKS '!$D$160,"N","Y") -> #DIV/0!
... A119: ='TEST MARKS '!A120 -> 111 | B119: ='TEST MARKS '!B120 -> 0 | C119: ='TEST MARKS '!C120 -> 0 | D119: ='TEST MARKS '!J120 -> 0 | E119: ='TEST MARKS '!K120 -> 0 | F119: ='TEST MARKS '!L120 -> 0 | G119: ='TEST MARKS '!M120 -> 0 | H119: ='TEST MARKS '!N120 -> 0 | I119: ='TEST MARKS '!O120 -> 0 | J119: =D119/'TEST MARKS '!$J$155*100 -> #DIV/0! | K119: =E119/'TEST MARKS '!$K$155*100 -> #DIV/0! | L119: =F119/'TEST MARKS '!$L$155*100 -> #DIV/0! | M119: =G119/'TEST MARKS '!$M$155*100 -> #DIV/0! | N119: =H119/'TEST MARKS '!$N$155*100 -> #DIV/0! | O119: =I119/'TEST MARKS '!$O$155*100 -> #DIV/0! | P119: =IF(J119<'TEST MARKS '!$D$160,"N","Y") -> #DIV/0! | Q119: =IF(K119<'TEST MARKS '!$D$160,"N","Y") -> #DIV/0! | R119: =IF(L119<'TEST MARKS '!$D$160,"N","Y") -> #DIV/0! | S119: =IF(M119<'TEST MARKS '!$D$160,"N","Y") -> #DIV/0! | T119: =IF(N119<'TEST MARKS '!$D$160,"N","Y") -> #DIV/0! | U119: =IF(O119<'TEST MARKS '!$D$160,"N","Y") -> #DIV/0!
A120: ='TEST MARKS '!A131 -> 122 | B120: ='TEST MARKS '!B131 -> 0 | C120: ='TEST MARKS '!C131 -> 0 | D120: ='TEST MARKS '!J121 -> 0 | E120: ='TEST MARKS '!K121 -> 0 | F120: ='TEST MARKS '!L121 -> 0 | G120: ='TEST MARKS '!M121 -> 0 | H120: ='TEST MARKS '!N121 -> 0 | I120: ='TEST MARKS '!O121 -> 0 | J120: =D120/'TEST MARKS '!$J$155*100 -> #DIV/0! | K120: =E120/'TEST MARKS '!$K$155*100 -> #DIV/0! | L120: =F120/'TEST MARKS '!$L$155*100 -> #DIV/0! | M120: =G120/'TEST MARKS '!$M$155*100 -> #DIV/0! | N120: =H120/'TEST MARKS '!$N$155*100 -> #DIV/0! | O120: =I120/'TEST MARKS '!$O$155*100 -> #DIV/0! | P120: =IF(J120<'TEST MARKS '!$D$160,"N","Y") -> #DIV/0! | Q120: =IF(K120<'TEST MARKS '!$D$160,"N","Y") -> #DIV/0! | R120: =IF(L120<'TEST MARKS '!$D$160,"N","Y") -> #DIV/0! | S120: =IF(M120<'TEST MARKS '!$D$160,"N","Y") -> #DIV/0! | T120: =IF(N120<'TEST MARKS '!$D$160,"N","Y") -> #DIV/0! | U120: =IF(O120<'TEST MARKS '!$D$160,"N","Y") -> #DIV/0!
A121: ='TEST MARKS '!A132 -> 123 | B121: ='TEST MARKS '!B132 -> 0 | C121: ='TEST MARKS '!C132 -> 0 | D121: ='TEST MARKS '!J122 -> 0 | E121: ='TEST MARKS '!K122 -> 0 | F121: ='TEST MARKS '!L122 -> 0 | G121: ='TEST MARKS '!M122 -> 0 | H121: ='TEST MARKS '!N122 -> 0 | I121: ='TEST MARKS '!O122 -> 0 | J121: =D121/'TEST MARKS '!$J$155*100 -> #DIV/0! | K121: =E121/'TEST MARKS '!$K$155*100 -> #DIV/0! | L121: =F121/'TEST MARKS '!$L$155*100 -> #DIV/0! | M121: =G121/'TEST MARKS '!$M$155*100 -> #DIV/0! | N121: =H121/'TEST MARKS '!$N$155*100 -> #DIV/0! | O121: =I121/'TEST MARKS '!$O$155*100 -> #DIV/0! | P121: =IF(J121<'TEST MARKS '!$D$160,"N","Y") -> #DIV/0! | Q121: =IF(K121<'TEST MARKS '!$D$160,"N","Y") -> #DIV/0! | R121: =IF(L121<'TEST MARKS '!$D$160,"N","Y") -> #DIV/0! | S121: =IF(M121<'TEST MARKS '!$D$160,"N","Y") -> #DIV/0! | T121: =IF(N121<'TEST MARKS '!$D$160,"N","Y") -> #DIV/0! | U121: =IF(O121<'TEST MARKS '!$D$160,"N","Y") -> #DIV/0!
A122: ='TEST MARKS '!A133 -> 124 | B122: ='TEST MARKS '!B133 -> 0 | C122: ='TEST MARKS '!C133 -> 0 | D122: ='TEST MARKS '!J123 -> 0 | E122: ='TEST MARKS '!K123 -> 0 | F122: ='TEST MARKS '!L123 -> 0 | G122: ='TEST MARKS '!M123 -> 0 | H122: ='TEST MARKS '!N123 -> 0 | I122: ='TEST MARKS '!O123 -> 0 | J122: =D122/'TEST MARKS '!$J$155*100 -> #DIV/0! | K122: =E122/'TEST MARKS '!$K$155*100 -> #DIV/0! | L122: =F122/'TEST MARKS '!$L$155*100 -> #DIV/0! | M122: =G122/'TEST MARKS '!$M$155*100 -> #DIV/0! | N122: =H122/'TEST MARKS '!$N$155*100 -> #DIV/0! | O122: =I122/'TEST MARKS '!$O$155*100 -> #DIV/0! | P122: =IF(J122<'TEST MARKS '!$D$160,"N","Y") -> #DIV/0! | Q122: =IF(K122<'TEST MARKS '!$D$160,"N","Y") -> #DIV/0! | R122: =IF(L122<'TEST MARKS '!$D$160,"N","Y") -> #DIV/0! | S122: =IF(M122<'TEST MARKS '!$D$160,"N","Y") -> #DIV/0! | T122: =IF(N122<'TEST MARKS '!$D$160,"N","Y") -> #DIV/0! | U122: =IF(O122<'TEST MARKS '!$D$160,"N","Y") -> #DIV/0!
A123: ='TEST MARKS '!A134 -> 125 | B123: ='TEST MARKS '!B134 -> 0 | C123: ='TEST MARKS '!C134 -> 0 | D123: ='TEST MARKS '!J124 -> 0 | E123: ='TEST MARKS '!K124 -> 0 | F123: ='TEST MARKS '!L124 -> 0 | G123: ='TEST MARKS '!M124 -> 0 | H123: ='TEST MARKS '!N124 -> 0 | I123: ='TEST MARKS '!O124 -> 0 | J123: =D123/'TEST MARKS '!$J$155*100 -> #DIV/0! | K123: =E123/'TEST MARKS '!$K$155*100 -> #DIV/0! | L123: =F123/'TEST MARKS '!$L$155*100 -> #DIV/0! | M123: =G123/'TEST MARKS '!$M$155*100 -> #DIV/0! | N123: =H123/'TEST MARKS '!$N$155*100 -> #DIV/0! | O123: =I123/'TEST MARKS '!$O$155*100 -> #DIV/0! | P123: =IF(J123<'TEST MARKS '!$D$160,"N","Y") -> #DIV/0! | Q123: =IF(K123<'TEST MARKS '!$D$160,"N","Y") -> #DIV/0! | R123: =IF(L123<'TEST MARKS '!$D$160,"N","Y") -> #DIV/0! | S123: =IF(M123<'TEST MARKS '!$D$160,"N","Y") -> #DIV/0! | T123: =IF(N123<'TEST MARKS '!$D$160,"N","Y") -> #DIV/0! | U123: =IF(O123<'TEST MARKS '!$D$160,"N","Y") -> #DIV/0!
