Workbook

Sheet attainment Level
F5: DIRECT ASSESSMENT METHOD
E8: 1 | F8: ENTER THE CO'S FOR THE RESPECTIVE INTERNAL WHICH YOU HAVE ASKED
E9: 2 | F9: ENTER THE MAXIMUM MARKS GIVEN TO EACH CO IN THE MARKS CELL
E10: 3 | F10: ENTER THE MARKS SCORED BY THE STUDENTS BELOW RESPECTIVE CO
E11: 4 | F11: ENTER THE PARAMETERS ASKED ( TOTAL STRENGTH, Assign target percentage…)
E12: 5 | F12: SEE- Exam marks is same for all COs of that subject | G12: tough subject | I12: 0.6
E13: 6 | F13: Target may be same or different for different CO | G13: easy subject | I13: 0.7
E14: 7 | F14: Target may be different for different subjects, theritical/problematic subject, ex
F17: FOR Any clarification contact ME HOD
D27: Attainment Levels of COs
D28: SUBJECT :ENGINEERING PHYSICS SUB CODE:15PHY22
D29: Assessment Methods | E29: Target-Attainment Levels | G29: Attainement
D30: Internal Assessment(CIE) | E30: Level 1 | F30: 60% of students scoring more than 50% marks in internal assessment tools | G30: Level 3
E31: Level 2 | F31: 70% of students scoring more than 50% marks in internal assessment tools
E32: Level 3 | F32: 80% of students scoring more than 50% marks in internal assessment tools
D35: Assessment Methods | E35: Target-Attainment Levels | G35: Attainement
D36: University Assessment (SEE) | E36: Level 1 | F36: 60% of students scoring more than 40% marks in internal assessment tools | G36: Level 1
E37: Level 2 | F37: 70% of students scoring more than 40% marks in internal assessment tools
E38: Level 3 | F38: 80% of students scoring more than 40% marks in internal assessment tools

Sheet TEST MARKS 
A1: Sapthagiri College of Engineering
A2: Department of Physics
A3: SUBJECT :ENGINEERINGPHYSIS SUB CODE:17PHY12
A4: SEM : 1st | C4: SEC :ME I & J | D4: YEAR : 2015-16 | G4: SCHEME :2015
A5: Sl. No. | B5: Name of the student | C5: USN | D5: I INTERNALS | F5: II INTERNALS | H5: III INTERNALS | J5: ASSIGNMENT'S | P5: EXTERNAL EXAM
D7: Q1 or 2 | E7: Q3 or 4 | F7: Q1 or 2 | G7: Q3 or 4 | H7: Q1 or 2 | I7: Q3 or 4
D8: CO1 | E8: CO2 | F8: CO3 | G8: CO4 | H8: CO5 | I8: CO6 | J8: CO1 | K8: CO2 | L8: CO3 | M8: CO4 | N8: CO5 | O8: CO6 | P8: CO1,CO2,CO3,CO4,CO5,CO6
D9: 20 | E9: 20 | F9: 20 | G9: 20 | H9: 20 | I9: 20 | P9: 80
A10: 1 | B10: AAKASH KUMAR | C10: 1SG15ME001 | D10: 3 | E10: 3 | F10: 5 | G10: 5 | H10: 6 | I10: 6 | P10: 24
A11: 2 | B11: ABHISHEK MADAPPAWALE | C11: 1SG15ME002 | D11: 6 | E11: 6 | F11: 12 | G11: 12 | H11: 12 | I11: 12 | P11: 52
A12: 3 | B12: ADITHYA N | C12: 1SG15ME003 | D12: 11 | E12: 11 | F12: 7 | G12: 7 | H12: 12 | I12: 12 | P12: 44
A13: 4 | B13: AFTAB AHMED MADAR WALA | C13: 1SG15ME004 | D13: 14 | E13: 14 | F13: 12 | G13: 12 | H13: 17 | I13: 17 | P13: 60
A14: 5 | B14: AJEYA.V | C14: 1SG15ME006 | D14: 15 | E14: 15 | F14: 20 | G14: 20 | H14: 20 | I14: 20 | P14: 76
A15: 6 | B15: AJAY.K | C15: 1SG15ME005 | D15: 2 | E15: 2 | F15: 7 | G15: 7 | H15: 16 | I15: 16 | P15: 30
A16: 7 | B16: AJITH S P | C16: 1SG15ME007 | D16: 6 | E16: 6 | F16: 14 | G16: 14 | H16: 11 | I16: 11 | P16: 44
A17: 8 | B17: AKSHAY S | C17: 1SG15ME008 | D17: 15 | E17: 15 | F17: 13 | G17: 13 | H17: AB | I17: AB | P17: 30
A18: 9 | B18: AMAN NAIN | C18: 1SG15ME009 | D18: 5 | E18: 5 | F18: 14 | G18: 14 | H18: 20 | I18: 20 | P18: 52
A19: 10 | B19: AMITH.R | C19: 1SG15ME010 | D19: 15 | E19: 15 | F19: Ab | G19: Ab | H19: 16 | I19: 16 | P19: 68
A20: 11 | B20: ANIL KUMAR C | C20: 1SG15ME011 | D20: 13 | E20: 13 | F20: 16 | G20: 16 | H20: 5 | I20: 5 | P20: 52
A21: 12 | B21: ANIRUDH R K | C21: 1SG15ME012 | D21: 0 | E21: 0 | F21: 14 | G21: 14 | H21: 14 | I21: 14 | P21: 36
A22: 13 | B22: ARJUN S | C22: 1SG15ME013 | D22: 12 | E22: 12 | F22: 17 | G22: 17 | H22: 14 | I22: 14 | P22: 60
A23: 14 | B23: ASHISH SHARMA | C23: 1SG15ME014 | D23: 8 | E23: 8 | F23: 12 | G23: 12 | H23: 12 | I23: 12 | P23: 60
A24: 15 | B24: AYAN GUHA RAOY | C24: 1SG15ME015 | D24: 6 | E24: 6 | F24: 14 | G24: 14 | H24: 20 | I24: 20 | P24: 68
A25: 16 | B25: BASAVARAJ DIWATAR | C25: 1SG15ME016 | D25: 13 | E25: 13 | F25: 19 | G25: 19 | H25: 5 | I25: 5 | P25: 52
A26: 17 | B26: BHARATH .V | C26: 1SG15ME017 | D26: 12 | E26: 12 | F26: 20 | G26: 20 | H26: 12 | I26: 12 | P26: 68
A27: 18 | B27: C KARTHIK | C27: 1SG15ME018 | D27: 6 | E27: 6 | F27: 16 | G27: 16 | H27: 10 | I27: 10 | P27: 52
A28: 19 | B28: CHETAN.M.WALI | C28: 1SG15ME019 | D28: 5 | E28: 5 | F28: 18 | G28: 18 | H28: 5 | I28: 5 | P28: 36
A29: 20 | B29: CHETHAN I P | C29: 1SG15ME020 | D29: 18 | E29: 18 | F29: 12 | G29: 12 | H29: 13 | I29: 13 | P29: 60
A30: 21 | B30: DAYANANDA M | C30: 1SG15ME021 | D30: 20 | E30: 20 | F30: 9 | G30: 9 | H30: 15 | I30: 15 | P30: 68
A31: 22 | B31: DEEPU H S | C31: 1SG15ME022 | D31: 20 | E31: 20 | F31: 19 | G31: 19 | H31: 8 | I31: 8 | P31: 76
... A48: 39 | B48: HITHESH T M | C48: 1SG15ME039 | D48: 6 | E48: 6 | F48: 10 | G48: 10 | H48: 13 | I48: 13 | P48: 44
A49: 40 | B49: JAHER HOSSAIN | C49: 1SG15ME040 | D49: 8 | E49: 8 | F49: AB | G49: AB | H49: AB | I49: AB | P49: 0
A50: 41 | B50: JAIDEEP PRAJAPATI | C50: 1SG15ME041 | D50: 13 | E50: 13 | F50: 16 | G50: 16 | H50: 13 | I50: 13 | P50: 52
A51: 42 | B51: JANARDHAN K N | C51: 1SG15ME042 | D51: 10 | E51: 10 | F51: 13 | G51: 13 | H51: 8 | I51: 8 | P51: 44
A52: 43 | B52: JOHN PATRICK .G | C52: 1SG15ME043 | D52: 14 | E52: 14 | F52: 18 | G52: 18 | H52: 17 | I52: 17 | P52: 60
A53: 44 | B53: K.SAISOMASEKHAR | C53: 1SG15ME048 | D53: 7 | E53: 7 | F53: 15 | G53: 15 | H53: 16 | I53: 16 | P53: 52
A54: 45 | B54: KISHAN SHARMA | C54: 1SG15ME044 | D54: 5 | E54: 5 | F54: 12 | G54: 12 | H54: 14 | I54: 14 | P54: 60
A55: 46 | B55: KISHORE S | C55: 1SG15ME045 | D55: 8 | E55: 8 | F55: 16 | G55: 16 | H55: 12 | I55: 12 | P55: 52
A56: 47 | B56: KUMAR P G | C56: 1SG15ME046 | D56: 18 | E56: 18 | F56: 18 | G56: 18 | H56: AB | I56: AB | P56: 60
A57: 48 | B57: KURUBA NITHEESH KUMAR | C57: 1SG15ME061 | D57: 14 | E57: 14 | F57: 14 | G57: 14 | H57: 6 | I57: 6 | P57: 60
A58: 49 | B58: KUSHAL S | C58: 1SG15ME049 | D58: 15 | E58: 15 | F58: 15 | G58: 15 | H58: 14 | I58: 14 | P58: 60
A59: 50 | B59: LIKITH P S | C59: 1SG15ME050 | D59: 5 | E59: 5 | F59: 10 | G59: 10 | H59: 14 | I59: 14 | P59: 44
A60: 51 | B60: M SUNIL BHYRAVA | C60: 1SG15ME051 | D60: 8 | E60: 8 | F60: 10 | G60: 10 | H60: 6 | I60: 6 | P60: 44
A61: 52 | B61: MADAN KUMAR L | C61: 1SG15ME052 | D61: 5 | E61: 5 | F61: 20 | G61: 20 | H61: 19 | I61: 19 | P61: 68
A62: 53 | B62: MANJUNATH M | C62: 1SG15ME053 | D62: 14 | E62: 14 | F62: 15 | G62: 15 | H62: 18 | I62: 18 | P62: 60
A63: 54 | B63: MD REHAN NASIM | C63: 1SG15ME054 | D63: 17 | E63: 17 | F63: 19 | G63: 19 | H63: AB | I63: AB | P63: 60
A64: 55 | B64: MITHUN RAGHUNANDAN | C64: 1SG15ME055 | D64: 12 | E64: 12 | F64: 18 | G64: 18 | H64: 19 | I64: 19 | P64: 52
A65: 56 | B65: MOHAN.K.S | C65: 1SG15ME056 | D65: 15 | E65: 15 | F65: 8 | G65: 8 | H65: 5 | I65: 5 | P65: 24
A66: 57 | B66: NAGARJUN M | C66: 1SG15ME059 | D66: 19 | E66: 19 | F66: 15 | G66: 15 | H66: 20 | I66: 20 | P66: 68
A67: 58 | B67: NAGARJUN S TAKKALAKI | C67: 1SG15ME058 | D67: 11 | E67: 11 | F67: 19 | G67: 19 | H67: 15 | I67: 15 | P67: 60
A68: 59 | B68: NISCHITH A G | C68: 1SG15ME060 | D68: 10 | E68: 10 | F68: 17 | G68: 17 | H68: 18 | I68: 18 | P68: 60
A69: 60 | B69: PAWAN SHARMA K S | C69: 1SG15ME063 | D69: 10 | E69: 10 | F69: 15 | G69: 15 | H69: 13 | I69: 13 | P69: 52
A70: 61 | B70: PAWAN C | C70: 1SG15ME064 | D70: 19 | E70: 19 | F70: 12 | G70: 12 | H70: 18 | I70: 18 | P70: 76
A71: 62 | B71: PRADEEP B N | C71: 1SG15ME066 | D71: 15 | E71: 15 | F71: 11 | G71: 11 | H71: 13 | I71: 13 | P71: 60
A72: 63 | B72: PRATHEEK S | C72: 1SG15ME067 | D72: 17 | E72: 17 | F72: 13 | G72: 13 | H72: 15 | I72: 15 | P72: 44
A73: 64 | B73: PRAVEEN S | C73: 1SG15ME068 | D73: 15 | E73: 15 | F73: 15 | G73: 15 | H73: 15 | I73: 15 | P73: 44
A74: 65 | B74: PRUTHVIRAJA A S | C74: 1SG15ME069 | D74: 12 | E74: 12 | F74: 13 | G74: 13 | H74: 13 | I74: 13 | P74: 24
A75: 66 | B75: PUNITH JADHAV | C75: 1SG15ME070 | D75: 17 | E75: 17 | F75: 20 | G75: 20 | H75: 19 | I75: 19 | P75: 60
... A107: 98 | B107: VINEETH KUMAR | C107: 1SG15ME102 | D107: 17 | E107: 17 | F107: 19 | G107: 19 | H107: 20 | I107: 20 | P107: 76
A108: 99 | B108: VIPUL SHARMA | C108: 1SG15ME103 | D108: 15 | E108: 15 | F108: 12 | G108: 12 | H108: AB | I108: AB | P108: 44
A109: 100 | B109: YOGESH B | C109: 1SG15ME105 | D109: 6 | E109: 6 | F109: 15 | G109: 15 | H109: 19 | I109: 19 | P109: 52
A110: 101 | B110: YOGESH GOWDA H | C110: 1SG15ME104 | D110: 11 | E110: 11 | F110: 15 | G110: 15 | H110: 11 | I110: 11 | P110: 60
A111: 102 | B111: SHAIK SHAHID ALAM | C111: 1SG15ME087 | D111: 6 | E111: 6 | F111: 15 | G111: 15 | H111: 18 | I111: 18 | P111: 52
A112: 103 | B112: AKSHAY RAJ | C112: 1SG14ME008 | D112: 13 | E112: 13 | F112: 12 | G112: 12 | H112: 0 | I112: 0 | P112: 44
A113: 104 | B113: HEMANTH POONIA | C113: 1SG15ME037 | D113: 5 | E113: 5 | F113: 15 | G113: 15 | H113: 11 | I113: 11 | P113: 52
A114: 105 | B114: VINAY B | C114: 1SG14ME121 | D114: 12 | E114: 12 | F114: 19 | G114: 19 | H114: AB | I114: AB | P114: 36
A115: 106 | B115: KARTHIK M BADDOLI | C115: 1SG14ME048 | D115: 12 | E115: 12 | F115: 17 | G115: 17 | H115: 12 | I115: 12 | P115: 60
A116: 107 | B116: KUMAR ROHAN | C116: 1SG15ME047 | D116: AB | E116: AB | F116: 16 | G116: 16 | H116: 20 | I116: 20 | P116: 52
A117: 108
A118: 109
A119: 110
A120: 111
A121: 112
A122: 113
A123: 114
A124: 115
A125: 116
A126: 117
A127: 118
A128: 119
... A149: 140
D153: CO1 | E153: CO2 | F153: CO3 | G153: CO4 | H153: CO5 | I153: CO6 | J153: CO1 | K153: CO2 | L153: CO3 | M153: CO4 | N153: CO5 | O153: CO6 | P153: CO1,CO2,CO3,CO4,CO5,CO6
D154: =COUNTIF(D8:I8,"CO1") -> 1 | E154: 1 | F154: =COUNTIF(D8:I8,"CO3") -> 1 | G154: =COUNTIF(D8:I8,"CO4") -> 1 | H154: 1 | I154: =COUNTIF(D8:I8,"CO6") -> 1 | J154: =COUNTIF(J153:O153,"CO1") -> 1 | K154: =COUNTIF(J153:O153,"CO2") -> 1 | L154: =COUNTIF(J153:O153,"CO3") -> 1 | M154: =COUNTIF(J153:O153,"CO4") -> 1 | N154: =COUNTIF(J153:O153,"CO5") -> 1 | O154: =COUNTIF(J153:O153,"CO6") -> 1 | P154: 1
B155: CO's TOTAL | D155: =SUMIF($D$8:$I$8,D153,$D$9:$I$9) -> 20 | E155: =SUMIF($D$8:$I$8,E153,$D$9:$I$9) -> 20 | F155: =SUMIF($D$8:$I$8,F153,$D$9:$I$9) -> 20 | G155: =SUMIF($D$8:$I$8,G153,$D$9:$I$9) -> 20 | H155: =SUMIF($D$8:$I$8,H153,$D$9:$I$9) -> 20 | I155: =SUMIF($D$8:$I$8,I153,$D$9:$I$9) -> 20 | J155: =SUMIF($J$8:$O$8,J153,$J$9:$O$9) -> 0 | K155: =SUMIF($J$8:$O$8,K153,$J$9:$O$9) -> 0 | L155: =SUMIF($J$8:$O$8,L153,$J$9:$O$9) -> 0 | M155: =SUMIF($J$8:$O$8,M153,$J$9:$O$9) -> 0 | N155: =SUMIF($J$8:$O$8,N153,$J$9:$O$9) -> 0 | O155: =SUMIF($J$8:$O$8,O153,$J$9:$O$9) -> 0 | P155: 80
B158: TOTAL NO OF STUDENTS | D158: 107
B159: IA TEST TARGET PERCENTAGE | D159: 50 | E159: %
B160: ASSIGN TARGET PERCENTAGE | D160: 60 | E160: %
B161: SEE(EXAM) TARGET PERCENTAGE | D161: 60 | E161: %
B162: TARGET PERCENTAGE | D162: 60 | E162: %
B163: MAXIMUM MARKS IN EXAM | D163: 80

Sheet TEST -CO 
A6: Sl. No. | B6: Name of the student | C6: USN | J6: ATTAINMENT (%) | P6: Y OR N
D8: I | E8: I | F8: II | G8: II | H8: III | I8: III | J8: ='TEST MARKS '!D155 -> 20 | K8: ='TEST MARKS '!E155 -> 20 | L8: ='TEST MARKS '!F155 -> 20 | M8: ='TEST MARKS '!G155 -> 20 | N8: ='TEST MARKS '!H155 -> 20 | O8: ='TEST MARKS '!I155 -> 20 | P8: I | Q8: I | R8: II | S8: II | T8: III | U8: III
D9: CO1 | E9: CO2 | F9: CO3 | G9: CO4 | H9: CO5 | I9: CO6 | J9: CO1 | K9: CO2 | L9: =F9 -> CO3 | M9: =G9 -> CO4 | N9: =H9 -> CO5 | O9: =I9 -> CO6 | P9: =J9 -> CO1 | Q9: =K9 -> CO2 | R9: =L9 -> CO3 | S9: =M9 -> CO4 | ... U9: =O9 -> CO6
A10: ='TEST MARKS '!A10 -> 1 | B10: ='TEST MARKS '!B10 -> AAKASH KUMAR | C10: ='TEST MARKS '!C10 -> 1SG15ME001 | D10: =SUMIF('TEST MARKS '!$D$8:$I$8,$D$9,'TEST MARKS '!D10:I10) -> 3 | E10: =SUMIF('TEST MARKS '!$D$8:$I$8,$E$9,'TEST MARKS '!D10:I10) -> 3 | F10: =SUMIF('TEST MARKS '!$D$8:$I$8,$F$9,'TEST MARKS '!D10:I10) -> 5 | G10: =SUMIF('TEST MARKS '!$D$8:$I$8,$G$9,'TEST MARKS '!D10:I10) -> 5 | H10: =SUMIF('TEST MARKS '!$D$8:$I$8,$H$9,'TEST MARKS '!D10:I10) -> 6 | I10: =SUMIF('TEST MARKS '!$D$8:$I$8,$I$9,'TEST MARKS '!D10:I10) -> 6 | J10: =D10*100/$J$8 -> 15 | K10: =E10*100/$K$8 -> 15 | L10: =F10*100/$L$8 -> 25 | M10: =G10*100/$M$8 -> 25 | N10: =H10*100/$N$8 -> 30 | O10: =I10*100/$O$8 -> 30 | P10: =IF(J10<'TEST MARKS '!$D$159,"N","Y") -> N | Q10: =IF(K10<'TEST MARKS '!$D$159,"N","Y") -> N | R10: =IF(L10<'TEST MARKS '!$D$159,"N","Y") -> N | S10: =IF(M10<'TEST MARKS '!$D$159,"N","Y") -> N | T10: =IF(N10<'TEST MARKS '!$D$159,"N","Y") -> N | U10: =IF(O10<'TEST MARKS '!$D$159,"N","Y") -> N
A11: 2 | B11: ='TEST MARKS '!B11 -> ABHISHEK MADAPPAWALE | C11: ='TEST MARKS '!C11 -> 1SG15ME002 | D11: =SUMIF('TEST MARKS '!$D$8:$I$8,$D$9,'TEST MARKS '!D11:I11) -> 6 | E11: =SUMIF('TEST MARKS '!$D$8:$I$8,$E$9,'TEST MARKS '!D11:I11) -> 6 | F11: =SUMIF('TEST MARKS '!$D$8:$I$8,$F$9,'TEST MARKS '!D11:I11) -> 12 | G11: =SUMIF('TEST MARKS '!$D$8:$I$8,$G$9,'TEST MARKS '!D11:I11) -> 12 | H11: =SUMIF('TEST MARKS '!$D$8:$I$8,$H$9,'TEST MARKS '!D11:I11) -> 12 | I11: =SUMIF('TEST MARKS '!$D$8:$I$8,$I$9,'TEST MARKS '!D11:I11) -> 12 | J11: =D11*100/$J$8 -> 30 | K11: =E11*100/$K$8 -> 30 | L11: =F11*100/$L$8 -> 60 | M11: =G11*100/$M$8 -> 60 | N11: =H11*100/$N$8 -> 60 | O11: =I11*100/$O$8 -> 60 | P11: =IF(J11<'TEST MARKS '!$D$159,"N","Y") -> N | Q11: =IF(K11<'TEST MARKS '!$D$159,"N","Y") -> N | R11: =IF(L11<'TEST MARKS '!$D$159,"N","Y") -> Y | S11: =IF(M11<'TEST MARKS '!$D$159,"N","Y") -> Y | T11: =IF(N11<'TEST MARKS '!$D$159,"N","Y") -> Y | U11: =IF(O11<'TEST MARKS '!$D$159,"N","Y") -> Y
A12: 3 | B12: ='TEST MARKS '!B12 -> ADITHYA N | C12: ='TEST MARKS '!C12 -> 1SG15ME003 | D12: =SUMIF('TEST MARKS '!$D$8:$I$8,$D$9,'TEST MARKS '!D12:I12) -> 11 | E12: =SUMIF('TEST MARKS '!$D$8:$I$8,$E$9,'TEST MARKS '!D12:I12) -> 11 | F12: =SUMIF('TEST MARKS '!$D$8:$I$8,$F$9,'TEST MARKS '!D12:I12) -> 7 | G12: =SUMIF('TEST MARKS '!$D$8:$I$8,$G$9,'TEST MARKS '!D12:I12) -> 7 | H12: =SUMIF('TEST MARKS '!$D$8:$I$8,$H$9,'TEST MARKS '!D12:I12) -> 12 | I12: =SUMIF('TEST MARKS '!$D$8:$I$8,$I$9,'TEST MARKS '!D12:I12) -> 12 | J12: =D12*100/$J$8 -> 55 | K12: =E12*100/$K$8 -> 55 | L12: =F12*100/$L$8 -> 35 | M12: =G12*100/$M$8 -> 35 | N12: =H12*100/$N$8 -> 60 | O12: =I12*100/$O$8 -> 60 | P12: =IF(J12<'TEST MARKS '!$D$159,"N","Y") -> Y | Q12: =IF(K12<'TEST MARKS '!$D$159,"N","Y") -> Y | R12: =IF(L12<'TEST MARKS '!$D$159,"N","Y") -> N | S12: =IF(M12<'TEST MARKS '!$D$159,"N","Y") -> N | T12: =IF(N12<'TEST MARKS '!$D$159,"N","Y") -> Y | U12: =IF(O12<'TEST MARKS '!$D$159,"N","Y") -> Y
A13: 4 | B13: ='TEST MARKS '!B13 -> AFTAB AHMED MADAR WALA | C13: ='TEST MARKS '!C13 -> 1SG15ME004 | D13: =SUMIF('TEST MARKS '!$D$8:$I$8,$D$9,'TEST MARKS '!D13:I13) -> 14 | E13: =SUMIF('TEST MARKS '!$D$8:$I$8,$E$9,'TEST MARKS '!D13:I13) -> 14 | F13: =SUMIF('TEST MARKS '!$D$8:$I$8,$F$9,'TEST MARKS '!D13:I13) -> 12 | G13: =SUMIF('TEST MARKS '!$D$8:$I$8,$G$9,'TEST MARKS '!D13:I13) -> 12 | H13: =SUMIF('TEST MARKS '!$D$8:$I$8,$H$9,'TEST MARKS '!D13:I13) -> 17 | I13: =SUMIF('TEST MARKS '!$D$8:$I$8,$I$9,'TEST MARKS '!D13:I13) -> 17 | J13: =D13*100/$J$8 -> 70 | K13: =E13*100/$K$8 -> 70 | L13: =F13*100/$L$8 -> 60 | M13: =G13*100/$M$8 -> 60 | N13: =H13*100/$N$8 -> 85 | O13: =I13*100/$O$8 -> 85 | P13: =IF(J13<'TEST MARKS '!$D$159,"N","Y") -> Y | Q13: =IF(K13<'TEST MARKS '!$D$159,"N","Y") -> Y | R13: =IF(L13<'TEST MARKS '!$D$159,"N","Y") -> Y | S13: =IF(M13<'TEST MARKS '!$D$159,"N","Y") -> Y | T13: =IF(N13<'TEST MARKS '!$D$159,"N","Y") -> Y | U13: =IF(O13<'TEST MARKS '!$D$159,"N","Y") -> Y
A14: 5 | B14: ='TEST MARKS '!B14 -> AJEYA.V | C14: ='TEST MARKS '!C14 -> 1SG15ME006 | D14: =SUMIF('TEST MARKS '!$D$8:$I$8,$D$9,'TEST MARKS '!D14:I14) -> 15 | E14: =SUMIF('TEST MARKS '!$D$8:$I$8,$E$9,'TEST MARKS '!D14:I14) -> 15 | F14: =SUMIF('TEST MARKS '!$D$8:$I$8,$F$9,'TEST MARKS '!D14:I14) -> 20 | G14: =SUMIF('TEST MARKS '!$D$8:$I$8,$G$9,'TEST MARKS '!D14:I14) -> 20 | H14: =SUMIF('TEST MARKS '!$D$8:$I$8,$H$9,'TEST MARKS '!D14:I14) -> 20 | I14: =SUMIF('TEST MARKS '!$D$8:$I$8,$I$9,'TEST MARKS '!D14:I14) -> 20 | J14: =D14*100/$J$8 -> 75 | K14: =E14*100/$K$8 -> 75 | L14: =F14*100/$L$8 -> 100 | M14: =G14*100/$M$8 -> 100 | N14: =H14*100/$N$8 -> 100 | O14: =I14*100/$O$8 -> 100 | P14: =IF(J14<'TEST MARKS '!$D$159,"N","Y") -> Y | Q14: =IF(K14<'TEST MARKS '!$D$159,"N","Y") -> Y | R14: =IF(L14<'TEST MARKS '!$D$159,"N","Y") -> Y | S14: =IF(M14<'TEST MARKS '!$D$159,"N","Y") -> Y | T14: =IF(N14<'TEST MARKS '!$D$159,"N","Y") -> Y | U14: =IF(O14<'TEST MARKS '!$D$159,"N","Y") -> Y
A15: 6 | B15: ='TEST MARKS '!B15 -> AJAY.K | C15: ='TEST MARKS '!C15 -> 1SG15ME005 | D15: =SUMIF('TEST MARKS '!$D$8:$I$8,$D$9,'TEST MARKS '!D15:I15) -> 2 | E15: =SUMIF('TEST MARKS '!$D$8:$I$8,$E$9,'TEST MARKS '!D15:I15) -> 2 | F15: =SUMIF('TEST MARKS '!$D$8:$I$8,$F$9,'TEST MARKS '!D15:I15) -> 7 | G15: =SUMIF('TEST MARKS '!$D$8:$I$8,$G$9,'TEST MARKS '!D15:I15) -> 7 | H15: =SUMIF('TEST MARKS '!$D$8:$I$8,$H$9,'TEST MARKS '!D15:I15) -> 16 | I15: =SUMIF('TEST MARKS '!$D$8:$I$8,$I$9,'TEST MARKS '!D15:I15) -> 16 | J15: =D15*100/$J$8 -> 10 | K15: =E15*100/$K$8 -> 10 | L15: =F15*100/$L$8 -> 35 | M15: =G15*100/$M$8 -> 35 | N15: =H15*100/$N$8 -> 80 | O15: =I15*100/$O$8 -> 80 | P15: =IF(J15<'TEST MARKS '!$D$159,"N","Y") -> N | Q15: =IF(K15<'TEST MARKS '!$D$159,"N","Y") -> N | R15: =IF(L15<'TEST MARKS '!$D$159,"N","Y") -> N | S15: =IF(M15<'TEST MARKS '!$D$159,"N","Y") -> N | T15: =IF(N15<'TEST MARKS '!$D$159,"N","Y") -> Y | U15: =IF(O15<'TEST MARKS '!$D$159,"N","Y") -> Y
A16: 7 | B16: ='TEST MARKS '!B16 -> AJITH S P | C16: =SUMIF('TEST MARKS '!B14:G14,C15,'TEST MARKS '!B16:G16) -> 0 | D16: =SUMIF('TEST MARKS '!$D$8:$I$8,$D$9,'TEST MARKS '!D16:I16) -> 6 | E16: =SUMIF('TEST MARKS '!$D$8:$I$8,$E$9,'TEST MARKS '!D16:I16) -> 6 | F16: =SUMIF('TEST MARKS '!$D$8:$I$8,$F$9,'TEST MARKS '!D16:I16) -> 14 | G16: =SUMIF('TEST MARKS '!$D$8:$I$8,$G$9,'TEST MARKS '!D16:I16) -> 14 | H16: =SUMIF('TEST MARKS '!$D$8:$I$8,$H$9,'TEST MARKS '!D16:I16) -> 11 | I16: =SUMIF('TEST MARKS '!$D$8:$I$8,$I$9,'TEST MARKS '!D16:I16) -> 11 | J16: =D16*100/$J$8 -> 30 | K16: =E16*100/$K$8 -> 30 | L16: =F16*100/$L$8 -> 70 | M16: =G16*100/$M$8 -> 70 | N16: =H16*100/$N$8 -> 55 | O16: =I16*100/$O$8 -> 55 | P16: =IF(J16<'TEST MARKS '!$D$159,"N","Y") -> N | Q16: =IF(K16<'TEST MARKS '!$D$159,"N","Y") -> N | R16: =IF(L16<'TEST MARKS '!$D$159,"N","Y") -> Y | S16: =IF(M16<'TEST MARKS '!$D$159,"N","Y") -> Y | T16: =IF(N16<'TEST MARKS '!$D$159,"N","Y") -> Y | U16: =IF(O16<'TEST MARKS '!$D$159,"N","Y") -> Y
A17: =SUMIF('TEST MARKS '!A15:F15,A16,'TEST MARKS '!A17:F17) -> 13 | B17: =SUMIF('TEST MARKS '!B15:G15,B16,'TEST MARKS '!B17:G17) -> 0 | C17: =SUMIF('TEST MARKS '!C15:H15,C16,'TEST MARKS '!C17:H17) -> 0 | D17: =SUMIF('TEST MARKS '!$D$8:$I$8,$D$9,'TEST MARKS '!D17:I17) -> 15 | E17: =SUMIF('TEST MARKS '!$D$8:$I$8,$E$9,'TEST MARKS '!D17:I17) -> 15 | F17: =SUMIF('TEST MARKS '!$D$8:$I$8,$F$9,'TEST MARKS '!D17:I17) -> 13 | G17: =SUMIF('TEST MARKS '!$D$8:$I$8,$G$9,'TEST MARKS '!D17:I17) -> 13 | H17: =SUMIF('TEST MARKS '!$D$8:$I$8,$H$9,'TEST MARKS '!D17:I17) -> 0 | I17: =SUMIF('TEST MARKS '!$D$8:$I$8,$I$9,'TEST MARKS '!D17:I17) -> 0 | J17: =D17*100/$J$8 -> 75 | K17: =E17*100/$K$8 -> 75 | L17: =F17*100/$L$8 -> 65 | M17: =G17*100/$M$8 -> 65 | N17: =H17*100/$N$8 -> 0 | O17: =I17*100/$O$8 -> 0 | P17: =IF(J17<'TEST MARKS '!$D$159,"N","Y") -> Y | Q17: =IF(K17<'TEST MARKS '!$D$159,"N","Y") -> Y | R17: =IF(L17<'TEST MARKS '!$D$159,"N","Y") -> Y | S17: =IF(M17<'TEST MARKS '!$D$159,"N","Y") -> Y | T17: =IF(N17<'TEST MARKS '!$D$159,"N","Y") -> N | U17: =IF(O17<'TEST MARKS '!$D$159,"N","Y") -> N
A18: 9 | B18: ='TEST MARKS '!B18 -> AMAN NAIN | C18: ='TEST MARKS '!C18 -> 1SG15ME009 | D18: =SUMIF('TEST MARKS '!$D$8:$I$8,$D$9,'TEST MARKS '!D18:I18) -> 5 | E18: =SUMIF('TEST MARKS '!$D$8:$I$8,$E$9,'TEST MARKS '!D18:I18) -> 5 | F18: =SUMIF('TEST MARKS '!$D$8:$I$8,$F$9,'TEST MARKS '!D18:I18) -> 14 | G18: =SUMIF('TEST MARKS '!$D$8:$I$8,$G$9,'TEST MARKS '!D18:I18) -> 14 | H18: =SUMIF('TEST MARKS '!$D$8:$I$8,$H$9,'TEST MARKS '!D18:I18) -> 20 | I18: =SUMIF('TEST MARKS '!$D$8:$I$8,$I$9,'TEST MARKS '!D18:I18) -> 20 | J18: =D18*100/$J$8 -> 25 | K18: =E18*100/$K$8 -> 25 | L18: =F18*100/$L$8 -> 70 | M18: =G18*100/$M$8 -> 70 | N18: =H18*100/$N$8 -> 100 | O18: =I18*100/$O$8 -> 100 | P18: =IF(J18<'TEST MARKS '!$D$159,"N","Y") -> N | Q18: =IF(K18<'TEST MARKS '!$D$159,"N","Y") -> N | R18: =IF(L18<'TEST MARKS '!$D$159,"N","Y") -> Y | S18: =IF(M18<'TEST MARKS '!$D$159,"N","Y") -> Y | T18: =IF(N18<'TEST MARKS '!$D$159,"N","Y") -> Y | U18: =IF(O18<'TEST MARKS '!$D$159,"N","Y") -> Y
A19: 10 | B19: ='TEST MARKS '!B19 -> AMITH.R | C19: ='TEST MARKS '!C19 -> 1SG15ME010 | D19: =SUMIF('TEST MARKS '!$D$8:$I$8,$D$9,'TEST MARKS '!D19:I19) -> 15 | E19: =SUMIF('TEST MARKS '!$D$8:$I$8,$E$9,'TEST MARKS '!D19:I19) -> 15 | F19: =SUMIF('TEST MARKS '!$D$8:$I$8,$F$9,'TEST MARKS '!D19:I19) -> 0 | G19: =SUMIF('TEST MARKS '!$D$8:$I$8,$G$9,'TEST MARKS '!D19:I19) -> 0 | H19: =SUMIF('TEST MARKS '!$D$8:$I$8,$H$9,'TEST MARKS '!D19:I19) -> 16 | I19: =SUMIF('TEST MARKS '!$D$8:$I$8,$I$9,'TEST MARKS '!D19:I19) -> 16 | J19: =D19*100/$J$8 -> 75 | K19: =E19*100/$K$8 -> 75 | L19: =F19*100/$L$8 -> 0 | M19: =G19*100/$M$8 -> 0 | N19: =H19*100/$N$8 -> 80 | O19: =I19*100/$O$8 -> 80 | P19: =IF(J19<'TEST MARKS '!$D$159,"N","Y") -> Y | Q19: =IF(K19<'TEST MARKS '!$D$159,"N","Y") -> Y | R19: =IF(L19<'TEST MARKS '!$D$159,"N","Y") -> N | S19: =IF(M19<'TEST MARKS '!$D$159,"N","Y") -> N | T19: =IF(N19<'TEST MARKS '!$D$159,"N","Y") -> Y | U19: =IF(O19<'TEST MARKS '!$D$159,"N","Y") -> Y
A20: 11 | B20: ='TEST MARKS '!B20 -> ANIL KUMAR C | C20: ='TEST MARKS '!C20 -> 1SG15ME011 | D20: =SUMIF('TEST MARKS '!$D$8:$I$8,$D$9,'TEST MARKS '!D20:I20) -> 13 | E20: =SUMIF('TEST MARKS '!$D$8:$I$8,$E$9,'TEST MARKS '!D20:I20) -> 13 | F20: =SUMIF('TEST MARKS '!$D$8:$I$8,$F$9,'TEST MARKS '!D20:I20) -> 16 | G20: =SUMIF('TEST MARKS '!$D$8:$I$8,$G$9,'TEST MARKS '!D20:I20) -> 16 | H20: =SUMIF('TEST MARKS '!$D$8:$I$8,$H$9,'TEST MARKS '!D20:I20) -> 5 | I20: =SUMIF('TEST MARKS '!$D$8:$I$8,$I$9,'TEST MARKS '!D20:I20) -> 5 | J20: =D20*100/$J$8 -> 65 | K20: =E20*100/$K$8 -> 65 | L20: =F20*100/$L$8 -> 80 | M20: =G20*100/$M$8 -> 80 | N20: =H20*100/$N$8 -> 25 | O20: =I20*100/$O$8 -> 25 | P20: =IF(J20<'TEST MARKS '!$D$159,"N","Y") -> Y | Q20: =IF(K20<'TEST MARKS '!$D$159,"N","Y") -> Y | R20: =IF(L20<'TEST MARKS '!$D$159,"N","Y") -> Y | S20: =IF(M20<'TEST MARKS '!$D$159,"N","Y") -> Y | T20: =IF(N20<'TEST MARKS '!$D$159,"N","Y") -> N | U20: =IF(O20<'TEST MARKS '!$D$159,"N","Y") -> N
A21: 12 | B21: ='TEST MARKS '!B21 -> ANIRUDH R K | C21: ='TEST MARKS '!C21 -> 1SG15ME012 | D21: =SUMIF('TEST MARKS '!$D$8:$I$8,$D$9,'TEST MARKS '!D21:I21) -> 0 | E21: =SUMIF('TEST MARKS '!$D$8:$I$8,$E$9,'TEST MARKS '!D21:I21) -> 0 | F21: =SUMIF('TEST MARKS '!$D$8:$I$8,$F$9,'TEST MARKS '!D21:I21) -> 14 | G21: =SUMIF('TEST MARKS '!$D$8:$I$8,$G$9,'TEST MARKS '!D21:I21) -> 14 | H21: =SUMIF('TEST MARKS '!$D$8:$I$8,$H$9,'TEST MARKS '!D21:I21) -> 14 | I21: =SUMIF('TEST MARKS '!$D$8:$I$8,$I$9,'TEST MARKS '!D21:I21) -> 14 | J21: =D21*100/$J$8 -> 0 | K21: =E21*100/$K$8 -> 0 | L21: =F21*100/$L$8 -> 70 | M21: =G21*100/$M$8 -> 70 | N21: =H21*100/$N$8 -> 70 | O21: =I21*100/$O$8 -> 70 | P21: =IF(J21<'TEST MARKS '!$D$159,"N","Y") -> N | Q21: =IF(K21<'TEST MARKS '!$D$159,"N","Y") -> N | R21: =IF(L21<'TEST MARKS '!$D$159,"N","Y") -> Y | S21: =IF(M21<'TEST MARKS '!$D$159,"N","Y") -> Y | T21: =IF(N21<'TEST MARKS '!$D$159,"N","Y") -> Y | U21: =IF(O21<'TEST MARKS '!$D$159,"N","Y") -> Y
A22: 13 | B22: ='TEST MARKS '!B22 -> ARJUN S | C22: ='TEST MARKS '!C22 -> 1SG15ME013 | D22: =SUMIF('TEST MARKS '!$D$8:$I$8,$D$9,'TEST MARKS '!D22:I22) -> 12 | E22: =SUMIF('TEST MARKS '!$D$8:$I$8,$E$9,'TEST MARKS '!D22:I22) -> 12 | F22: =SUMIF('TEST MARKS '!$D$8:$I$8,$F$9,'TEST MARKS '!D22:I22) -> 17 | G22: =SUMIF('TEST MARKS '!$D$8:$I$8,$G$9,'TEST MARKS '!D22:I22) -> 17 | H22: =SUMIF('TEST MARKS '!$D$8:$I$8,$H$9,'TEST MARKS '!D22:I22) -> 14 | I22: =SUMIF('TEST MARKS '!$D$8:$I$8,$I$9,'TEST MARKS '!D22:I22) -> 14 | J22: =D22*100/$J$8 -> 60 | K22: =E22*100/$K$8 -> 60 | L22: =F22*100/$L$8 -> 85 | M22: =G22*100/$M$8 -> 85 | N22: =H22*100/$N$8 -> 70 | O22: =I22*100/$O$8 -> 70 | P22: =IF(J22<'TEST MARKS '!$D$159,"N","Y") -> Y | Q22: =IF(K22<'TEST MARKS '!$D$159,"N","Y") -> Y | R22: =IF(L22<'TEST MARKS '!$D$159,"N","Y") -> Y | S22: =IF(M22<'TEST MARKS '!$D$159,"N","Y") -> Y | T22: =IF(N22<'TEST MARKS '!$D$159,"N","Y") -> Y | U22: =IF(O22<'TEST MARKS '!$D$159,"N","Y") -> Y
A23: 14 | B23: ='TEST MARKS '!B23 -> ASHISH SHARMA | C23: ='TEST MARKS '!C23 -> 1SG15ME014 | D23: =SUMIF('TEST MARKS '!$D$8:$I$8,$D$9,'TEST MARKS '!D23:I23) -> 8 | E23: =SUMIF('TEST MARKS '!$D$8:$I$8,$E$9,'TEST MARKS '!D23:I23) -> 8 | F23: =SUMIF('TEST MARKS '!$D$8:$I$8,$F$9,'TEST MARKS '!D23:I23) -> 12 | G23: =SUMIF('TEST MARKS '!$D$8:$I$8,$G$9,'TEST MARKS '!D23:I23) -> 12 | H23: =SUMIF('TEST MARKS '!$D$8:$I$8,$H$9,'TEST MARKS '!D23:I23) -> 12 | I23: =SUMIF('TEST MARKS '!$D$8:$I$8,$I$9,'TEST MARKS '!D23:I23) -> 12 | J23: =D23*100/$J$8 -> 40 | K23: =E23*100/$K$8 -> 40 | L23: =F23*100/$L$8 -> 60 | M23: =G23*100/$M$8 -> 60 | N23: =H23*100/$N$8 -> 60 | O23: =I23*100/$O$8 -> 60 | P23: =IF(J23<'TEST MARKS '!$D$159,"N","Y") -> N | Q23: =IF(K23<'TEST MARKS '!$D$159,"N","Y") -> N | R23: =IF(L23<'TEST MARKS '!$D$159,"N","Y") -> Y | S23: =IF(M23<'TEST MARKS '!$D$159,"N","Y") -> Y | T23: =IF(N23<'TEST MARKS '!$D$159,"N","Y") -> Y | U23: =IF(O23<'TEST MARKS '!$D$159,"N","Y") -> Y
A24: 15 | B24: ='TEST MARKS '!B24 -> AYAN GUHA RAOY | C24: ='TEST MARKS '!C24 -> 1SG15ME015 | D24: =SUMIF('TEST MARKS '!$D$8:$I$8,$D$9,'TEST MARKS '!D24:I24) -> 6 | E24: =SUMIF('TEST MARKS '!$D$8:$I$8,$E$9,'TEST MARKS '!D24:I24) -> 6 | F24: =SUMIF('TEST MARKS '!$D$8:$I$8,$F$9,'TEST MARKS '!D24:I24) -> 14 | G24: =SUMIF('TEST MARKS '!$D$8:$I$8,$G$9,'TEST MARKS '!D24:I24) -> 14 | H24: =SUMIF('TEST MARKS '!$D$8:$I$8,$H$9,'TEST MARKS '!D24:I24) -> 20 | I24: =SUMIF('TEST MARKS '!$D$8:$I$8,$I$9,'TEST MARKS '!D24:I24) -> 20 | J24: =D24*100/$J$8 -> 30 | K24: =E24*100/$K$8 -> 30 | L24: =F24*100/$L$8 -> 70 | M24: =G24*100/$M$8 -> 70 | N24: =H24*100/$N$8 -> 100 | O24: =I24*100/$O$8 -> 100 | P24: =IF(J24<'TEST MARKS '!$D$159,"N","Y") -> N | Q24: =IF(K24<'TEST MARKS '!$D$159,"N","Y") -> N | R24: =IF(L24<'TEST MARKS '!$D$159,"N","Y") -> Y | S24: =IF(M24<'TEST MARKS '!$D$159,"N","Y") -> Y | T24: =IF(N24<'TEST MARKS '!$D$159,"N","Y") -> Y | U24: =IF(O24<'TEST MARKS '!$D$159,"N","Y") -> Y
A25: 16 | B25: ='TEST MARKS '!B25 -> BASAVARAJ DIWATAR | C25: ='TEST MARKS '!C25 -> 1SG15ME016 | D25: =SUMIF('TEST MARKS '!$D$8:$I$8,$D$9,'TEST MARKS '!D25:I25) -> 13 | E25: =SUMIF('TEST MARKS '!$D$8:$I$8,$E$9,'TEST MARKS '!D25:I25) -> 13 | F25: =SUMIF('TEST MARKS '!$D$8:$I$8,$F$9,'TEST MARKS '!D25:I25) -> 19 | G25: =SUMIF('TEST MARKS '!$D$8:$I$8,$G$9,'TEST MARKS '!D25:I25) -> 19 | H25: =SUMIF('TEST MARKS '!$D$8:$I$8,$H$9,'TEST MARKS '!D25:I25) -> 5 | I25: =SUMIF('TEST MARKS '!$D$8:$I$8,$I$9,'TEST MARKS '!D25:I25) -> 5 | J25: =D25*100/$J$8 -> 65 | K25: =E25*100/$K$8 -> 65 | L25: =F25*100/$L$8 -> 95 | M25: =G25*100/$M$8 -> 95 | N25: =H25*100/$N$8 -> 25 | O25: =I25*100/$O$8 -> 25 | P25: =IF(J25<'TEST MARKS '!$D$159,"N","Y") -> Y | Q25: =IF(K25<'TEST MARKS '!$D$159,"N","Y") -> Y | R25: =IF(L25<'TEST MARKS '!$D$159,"N","Y") -> Y | S25: =IF(M25<'TEST MARKS '!$D$159,"N","Y") -> Y | T25: =IF(N25<'TEST MARKS '!$D$159,"N","Y") -> N | U25: =IF(O25<'TEST MARKS '!$D$159,"N","Y") -> N
A26: 17 | B26: ='TEST MARKS '!B26 -> BHARATH .V | C26: ='TEST MARKS '!C26 -> 1SG15ME017 | D26: =SUMIF('TEST MARKS '!$D$8:$I$8,$D$9,'TEST MARKS '!D26:I26) -> 12 | E26: =SUMIF('TEST MARKS '!$D$8:$I$8,$E$9,'TEST MARKS '!D26:I26) -> 12 | F26: =SUMIF('TEST MARKS '!$D$8:$I$8,$F$9,'TEST MARKS '!D26:I26) -> 20 | G26: =SUMIF('TEST MARKS '!$D$8:$I$8,$G$9,'TEST MARKS '!D26:I26) -> 20 | H26: =SUMIF('TEST MARKS '!$D$8:$I$8,$H$9,'TEST MARKS '!D26:I26) -> 12 | I26: =SUMIF('TEST MARKS '!$D$8:$I$8,$I$9,'TEST MARKS '!D26:I26) -> 12 | J26: =D26*100/$J$8 -> 60 | K26: =E26*100/$K$8 -> 60 | L26: =F26*100/$L$8 -> 100 | M26: =G26*100/$M$8 -> 100 | N26: =H26*100/$N$8 -> 60 | O26: =I26*100/$O$8 -> 60 | P26: =IF(J26<'TEST MARKS '!$D$159,"N","Y") -> Y | Q26: =IF(K26<'TEST MARKS '!$D$159,"N","Y") -> Y | R26: =IF(L26<'TEST MARKS '!$D$159,"N","Y") -> Y | S26: =IF(M26<'TEST MARKS '!$D$159,"N","Y") -> Y | T26: =IF(N26<'TEST MARKS '!$D$159,"N","Y") -> Y | U26: =IF(O26<'TEST MARKS '!$D$159,"N","Y") -> Y
A27: 18 | B27: ='TEST MARKS '!B27 -> C KARTHIK | C27: ='TEST MARKS '!C27 -> 1SG15ME018 | D27: =SUMIF('TEST MARKS '!$D$8:$I$8,$D$9,'TEST MARKS '!D27:I27) -> 6 | E27: =SUMIF('TEST MARKS '!$D$8:$I$8,$E$9,'TEST MARKS '!D27:I27) -> 6 | F27: =SUMIF('TEST MARKS '!$D$8:$I$8,$F$9,'TEST MARKS '!D27:I27) -> 16 | G27: =SUMIF('TEST MARKS '!$D$8:$I$8,$G$9,'TEST MARKS '!D27:I27) -> 16 | H27: =SUMIF('TEST MARKS '!$D$8:$I$8,$H$9,'TEST MARKS '!D27:I27) -> 10 | I27: =SUMIF('TEST MARKS '!$D$8:$I$8,$I$9,'TEST MARKS '!D27:I27) -> 10 | J27: =D27*100/$J$8 -> 30 | K27: =E27*100/$K$8 -> 30 | L27: =F27*100/$L$8 -> 80 | M27: =G27*100/$M$8 -> 80 | N27: =H27*100/$N$8 -> 50 | O27: =I27*100/$O$8 -> 50 | P27: =IF(J27<'TEST MARKS '!$D$159,"N","Y") -> N | Q27: =IF(K27<'TEST MARKS '!$D$159,"N","Y") -> N | R27: =IF(L27<'TEST MARKS '!$D$159,"N","Y") -> Y | S27: =IF(M27<'TEST MARKS '!$D$159,"N","Y") -> Y | T27: =IF(N27<'TEST MARKS '!$D$159,"N","Y") -> Y | U27: =IF(O27<'TEST MARKS '!$D$159,"N","Y") -> Y
A28: 19 | B28: ='TEST MARKS '!B28 -> CHETAN.M.WALI | C28: ='TEST MARKS '!C28 -> 1SG15ME019 | D28: =SUMIF('TEST MARKS '!$D$8:$I$8,$D$9,'TEST MARKS '!D28:I28) -> 5 | E28: =SUMIF('TEST MARKS '!$D$8:$I$8,$E$9,'TEST MARKS '!D28:I28) -> 5 | F28: =SUMIF('TEST MARKS '!$D$8:$I$8,$F$9,'TEST MARKS '!D28:I28) -> 18 | G28: =SUMIF('TEST MARKS '!$D$8:$I$8,$G$9,'TEST MARKS '!D28:I28) -> 18 | H28: =SUMIF('TEST MARKS '!$D$8:$I$8,$H$9,'TEST MARKS '!D28:I28) -> 5 | I28: =SUMIF('TEST MARKS '!$D$8:$I$8,$I$9,'TEST MARKS '!D28:I28) -> 5 | J28: =D28*100/$J$8 -> 25 | K28: =E28*100/$K$8 -> 25 | L28: =F28*100/$L$8 -> 90 | M28: =G28*100/$M$8 -> 90 | N28: =H28*100/$N$8 -> 25 | O28: =I28*100/$O$8 -> 25 | P28: =IF(J28<'TEST MARKS '!$D$159,"N","Y") -> N | Q28: =IF(K28<'TEST MARKS '!$D$159,"N","Y") -> N | R28: =IF(L28<'TEST MARKS '!$D$159,"N","Y") -> Y | S28: =IF(M28<'TEST MARKS '!$D$159,"N","Y") -> Y | T28: =IF(N28<'TEST MARKS '!$D$159,"N","Y") -> N | U28: =IF(O28<'TEST MARKS '!$D$159,"N","Y") -> N
A29: 20 | B29: ='TEST MARKS '!B29 -> CHETHAN I P | C29: ='TEST MARKS '!C29 -> 1SG15ME020 | D29: =SUMIF('TEST MARKS '!$D$8:$I$8,$D$9,'TEST MARKS '!D29:I29) -> 18 | E29: =SUMIF('TEST MARKS '!$D$8:$I$8,$E$9,'TEST MARKS '!D29:I29) -> 18 | F29: =SUMIF('TEST MARKS '!$D$8:$I$8,$F$9,'TEST MARKS '!D29:I29) -> 12 | G29: =SUMIF('TEST MARKS '!$D$8:$I$8,$G$9,'TEST MARKS '!D29:I29) -> 12 | H29: =SUMIF('TEST MARKS '!$D$8:$I$8,$H$9,'TEST MARKS '!D29:I29) -> 13 | I29: =SUMIF('TEST MARKS '!$D$8:$I$8,$I$9,'TEST MARKS '!D29:I29) -> 13 | J29: =D29*100/$J$8 -> 90 | K29: =E29*100/$K$8 -> 90 | L29: =F29*100/$L$8 -> 60 | M29: =G29*100/$M$8 -> 60 | N29: =H29*100/$N$8 -> 65 | O29: =I29*100/$O$8 -> 65 | P29: =IF(J29<'TEST MARKS '!$D$159,"N","Y") -> Y | Q29: =IF(K29<'TEST MARKS '!$D$159,"N","Y") -> Y | R29: =IF(L29<'TEST MARKS '!$D$159,"N","Y") -> Y | S29: =IF(M29<'TEST MARKS '!$D$159,"N","Y") -> Y | T29: =IF(N29<'TEST MARKS '!$D$159,"N","Y") -> Y | U29: =IF(O29<'TEST MARKS '!$D$159,"N","Y") -> Y
... A66: 57 | B66: ='TEST MARKS '!B66 -> NAGARJUN M | C66: ='TEST MARKS '!C66 -> 1SG15ME059 | D66: =SUMIF('TEST MARKS '!$D$8:$I$8,$D$9,'TEST MARKS '!D66:I66) -> 19 | E66: =SUMIF('TEST MARKS '!$D$8:$I$8,$E$9,'TEST MARKS '!D66:I66) -> 19 | F66: =SUMIF('TEST MARKS '!$D$8:$I$8,$F$9,'TEST MARKS '!D66:I66) -> 15 | G66: =SUMIF('TEST MARKS '!$D$8:$I$8,$G$9,'TEST MARKS '!D66:I66) -> 15 | H66: =SUMIF('TEST MARKS '!$D$8:$I$8,$H$9,'TEST MARKS '!D66:I66) -> 20 | I66: =SUMIF('TEST MARKS '!$D$8:$I$8,$I$9,'TEST MARKS '!D66:I66) -> 20 | J66: =D66*100/$J$8 -> 95 | K66: =E66*100/$K$8 -> 95 | L66: =F66*100/$L$8 -> 75 | M66: =G66*100/$M$8 -> 75 | N66: =H66*100/$N$8 -> 100 | O66: =I66*100/$O$8 -> 100 | P66: =IF(J66<'TEST MARKS '!$D$159,"N","Y") -> Y | Q66: =IF(K66<'TEST MARKS '!$D$159,"N","Y") -> Y | R66: =IF(L66<'TEST MARKS '!$D$159,"N","Y") -> Y | S66: =IF(M66<'TEST MARKS '!$D$159,"N","Y") -> Y | T66: =IF(N66<'TEST MARKS '!$D$159,"N","Y") -> Y | U66: =IF(O66<'TEST MARKS '!$D$159,"N","Y") -> Y
A67: 58 | B67: ='TEST MARKS '!B67 -> NAGARJUN S TAKKALAKI | C67: ='TEST MARKS '!C67 -> 1SG15ME058 | D67: =SUMIF('TEST MARKS '!$D$8:$I$8,$D$9,'TEST MARKS '!D67:H67) -> 11 | E67: =SUMIF('TEST MARKS '!$D$8:$I$8,$E$9,'TEST MARKS '!D67:H67) -> 11 | F67: =SUMIF('TEST MARKS '!$D$8:$I$8,$F$9,'TEST MARKS '!D67:H67) -> 19 | G67: =SUMIF('TEST MARKS '!$D$8:$I$8,$G$9,'TEST MARKS '!D67:H67) -> 19 | H67: =SUMIF('TEST MARKS '!$D$8:$I$8,$H$9,'TEST MARKS '!D67:H67) -> 15 | I67: =SUMIF('TEST MARKS '!$D$8:$I$8,$I$9,'TEST MARKS '!D67:H67) -> 15 | J67: =D67*100/$J$8 -> 55 | K67: =E67*100/$K$8 -> 55 | L67: =F67*100/$L$8 -> 95 | M67: =G67*100/$M$8 -> 95 | N67: =H67*100/$N$8 -> 75 | O67: =I67*100/$O$8 -> 75 | P67: =IF(J67<'TEST MARKS '!$D$159,"N","Y") -> Y | Q67: =IF(K67<'TEST MARKS '!$D$159,"N","Y") -> Y | R67: =IF(L67<'TEST MARKS '!$D$159,"N","Y") -> Y | S67: =IF(M67<'TEST MARKS '!$D$159,"N","Y") -> Y | T67: =IF(N67<'TEST MARKS '!$D$159,"N","Y") -> Y | U67: =IF(O67<'TEST MARKS '!$D$159,"N","Y") -> Y
A68: 59 | B68: ='TEST MARKS '!B68 -> NISCHITH A G | C68: ='TEST MARKS '!C68 -> 1SG15ME060 | D68: =SUMIF('TEST MARKS '!$D$8:$I$8,$D$9,'TEST MARKS '!D68:I68) -> 10 | E68: =SUMIF('TEST MARKS '!$D$8:$I$8,$E$9,'TEST MARKS '!D68:I68) -> 10 | F68: =SUMIF('TEST MARKS '!$D$8:$I$8,$F$9,'TEST MARKS '!D68:I68) -> 17 | G68: =SUMIF('TEST MARKS '!$D$8:$I$8,$G$9,'TEST MARKS '!D68:I68) -> 17 | H68: =SUMIF('TEST MARKS '!$D$8:$I$8,$H$9,'TEST MARKS '!D68:I68) -> 18 | I68: =SUMIF('TEST MARKS '!$D$8:$I$8,$I$9,'TEST MARKS '!D68:I68) -> 18 | J68: =D68*100/$J$8 -> 50 | K68: =E68*100/$K$8 -> 50 | L68: =F68*100/$L$8 -> 85 | M68: =G68*100/$M$8 -> 85 | N68: =H68*100/$N$8 -> 90 | O68: =I68*100/$O$8 -> 90 | P68: =IF(J68<'TEST MARKS '!$D$159,"N","Y") -> Y | Q68: =IF(K68<'TEST MARKS '!$D$159,"N","Y") -> Y | R68: =IF(L68<'TEST MARKS '!$D$159,"N","Y") -> Y | S68: =IF(M68<'TEST MARKS '!$D$159,"N","Y") -> Y | T68: =IF(N68<'TEST MARKS '!$D$159,"N","Y") -> Y | U68: =IF(O68<'TEST MARKS '!$D$159,"N","Y") -> Y
A69: 60 | B69: ='TEST MARKS '!B69 -> PAWAN SHARMA K S | C69: ='TEST MARKS '!C69 -> 1SG15ME063 | D69: =SUMIF('TEST MARKS '!$D$8:$I$8,$D$9,'TEST MARKS '!D69:I69) -> 10 | E69: =SUMIF('TEST MARKS '!$D$8:$I$8,$E$9,'TEST MARKS '!D69:I69) -> 10 | F69: =SUMIF('TEST MARKS '!$D$8:$I$8,$F$9,'TEST MARKS '!D69:I69) -> 15 | G69: =SUMIF('TEST MARKS '!$D$8:$I$8,$G$9,'TEST MARKS '!D69:I69) -> 15 | H69: =SUMIF('TEST MARKS '!$D$8:$I$8,$H$9,'TEST MARKS '!D69:I69) -> 13 | I69: =SUMIF('TEST MARKS '!$D$8:$I$8,$I$9,'TEST MARKS '!D69:I69) -> 13 | J69: =D69*100/$J$8 -> 50 | K69: =E69*100/$K$8 -> 50 | L69: =F69*100/$L$8 -> 75 | M69: =G69*100/$M$8 -> 75 | N69: =H69*100/$N$8 -> 65 | O69: =I69*100/$O$8 -> 65 | P69: =IF(J69<'TEST MARKS '!$D$159,"N","Y") -> Y | Q69: =IF(K69<'TEST MARKS '!$D$159,"N","Y") -> Y | R69: =IF(L69<'TEST MARKS '!$D$159,"N","Y") -> Y | S69: =IF(M69<'TEST MARKS '!$D$159,"N","Y") -> Y | T69: =IF(N69<'TEST MARKS '!$D$159,"N","Y") -> Y | U69: =IF(O69<'TEST MARKS '!$D$159,"N","Y") -> Y
A70: 61 | B70: ='TEST MARKS '!B70 -> PAWAN C | C70: ='TEST MARKS '!C70 -> 1SG15ME064 | D70: =SUMIF('TEST MARKS '!$D$8:$I$8,$D$9,'TEST MARKS '!D70:I70) -> 19 | E70: =SUMIF('TEST MARKS '!$D$8:$I$8,$E$9,'TEST MARKS '!D70:I70) -> 19 | F70: =SUMIF('TEST MARKS '!$D$8:$I$8,$F$9,'TEST MARKS '!D70:I70) -> 12 | G70: =SUMIF('TEST MARKS '!$D$8:$I$8,$G$9,'TEST MARKS '!D70:I70) -> 12 | H70: =SUMIF('TEST MARKS '!$D$8:$I$8,$H$9,'TEST MARKS '!D70:I70) -> 18 | I70: =SUMIF('TEST MARKS '!$D$8:$I$8,$I$9,'TEST MARKS '!D70:I70) -> 18 | J70: =D70*100/$J$8 -> 95 | K70: =E70*100/$K$8 -> 95 | L70: =F70*100/$L$8 -> 60 | M70: =G70*100/$M$8 -> 60 | N70: =H70*100/$N$8 -> 90 | O70: =I70*100/$O$8 -> 90 | P70: =IF(J70<'TEST MARKS '!$D$159,"N","Y") -> Y | Q70: =IF(K70<'TEST MARKS '!$D$159,"N","Y") -> Y | R70: =IF(L70<'TEST MARKS '!$D$159,"N","Y") -> Y | S70: =IF(M70<'TEST MARKS '!$D$159,"N","Y") -> Y | T70: =IF(N70<'TEST MARKS '!$D$159,"N","Y") -> Y | U70: =IF(O70<'TEST MARKS '!$D$159,"N","Y") -> Y
A71: 62 | B71: ='TEST MARKS '!B71 -> PRADEEP B N | C71: ='TEST MARKS '!C71 -> 1SG15ME066 | D71: =SUMIF('TEST MARKS '!$D$8:$I$8,$D$9,'TEST MARKS '!D71:I71) -> 15 | E71: =SUMIF('TEST MARKS '!$D$8:$I$8,$E$9,'TEST MARKS '!D71:I71) -> 15 | F71: =SUMIF('TEST MARKS '!$D$8:$I$8,$F$9,'TEST MARKS '!D71:I71) -> 11 | G71: =SUMIF('TEST MARKS '!$D$8:$I$8,$G$9,'TEST MARKS '!D71:I71) -> 11 | H71: =SUMIF('TEST MARKS '!$D$8:$I$8,$H$9,'TEST MARKS '!D71:I71) -> 13 | I71: =SUMIF('TEST MARKS '!$D$8:$I$8,$I$9,'TEST MARKS '!D71:I71) -> 13 | J71: =D71*100/$J$8 -> 75 | K71: =E71*100/$K$8 -> 75 | L71: =F71*100/$L$8 -> 55 | M71: =G71*100/$M$8 -> 55 | N71: =H71*100/$N$8 -> 65 | O71: =I71*100/$O$8 -> 65 | P71: =IF(J71<'TEST MARKS '!$D$159,"N","Y") -> Y | Q71: =IF(K71<'TEST MARKS '!$D$159,"N","Y") -> Y | R71: =IF(L71<'TEST MARKS '!$D$159,"N","Y") -> Y | S71: =IF(M71<'TEST MARKS '!$D$159,"N","Y") -> Y | T71: =IF(N71<'TEST MARKS '!$D$159,"N","Y") -> Y | U71: =IF(O71<'TEST MARKS '!$D$159,"N","Y") -> Y
A72: 63 | B72: ='TEST MARKS '!B72 -> PRATHEEK S | C72: ='TEST MARKS '!C72 -> 1SG15ME067 | D72: =SUMIF('TEST MARKS '!$D$8:$I$8,$D$9,'TEST MARKS '!D72:I72) -> 17 | E72: =SUMIF('TEST MARKS '!$D$8:$I$8,$E$9,'TEST MARKS '!D72:I72) -> 17 | F72: =SUMIF('TEST MARKS '!$D$8:$I$8,$F$9,'TEST MARKS '!D72:I72) -> 13 | G72: =SUMIF('TEST MARKS '!$D$8:$I$8,$G$9,'TEST MARKS '!D72:I72) -> 13 | H72: =SUMIF('TEST MARKS '!$D$8:$I$8,$H$9,'TEST MARKS '!D72:I72) -> 15 | I72: =SUMIF('TEST MARKS '!$D$8:$I$8,$I$9,'TEST MARKS '!D72:I72) -> 15 | J72: =D72*100/$J$8 -> 85 | K72: =E72*100/$K$8 -> 85 | L72: =F72*100/$L$8 -> 65 | M72: =G72*100/$M$8 -> 65 | N72: =H72*100/$N$8 -> 75 | O72: =I72*100/$O$8 -> 75 | P72: =IF(J72<'TEST MARKS '!$D$159,"N","Y") -> Y | Q72: =IF(K72<'TEST MARKS '!$D$159,"N","Y") -> Y | R72: =IF(L72<'TEST MARKS '!$D$159,"N","Y") -> Y | S72: =IF(M72<'TEST MARKS '!$D$159,"N","Y") -> Y | T72: =IF(N72<'TEST MARKS '!$D$159,"N","Y") -> Y | U72: =IF(O72<'TEST MARKS '!$D$159,"N","Y") -> Y
A73: 64 | B73: ='TEST MARKS '!B73 -> PRAVEEN S | C73: ='TEST MARKS '!C73 -> 1SG15ME068 | D73: =SUMIF('TEST MARKS '!$D$8:$I$8,$D$9,'TEST MARKS '!D73:I73) -> 15 | E73: =SUMIF('TEST MARKS '!$D$8:$I$8,$E$9,'TEST MARKS '!D73:I73) -> 15 | F73: =SUMIF('TEST MARKS '!$D$8:$I$8,$F$9,'TEST MARKS '!D73:I73) -> 15 | G73: =SUMIF('TEST MARKS '!$D$8:$I$8,$G$9,'TEST MARKS '!D73:I73) -> 15 | H73: =SUMIF('TEST MARKS '!$D$8:$I$8,$H$9,'TEST MARKS '!D73:I73) -> 15 | I73: =SUMIF('TEST MARKS '!$D$8:$I$8,$I$9,'TEST MARKS '!D73:I73) -> 15 | J73: =D73*100/$J$8 -> 75 | K73: =E73*100/$K$8 -> 75 | L73: =F73*100/$L$8 -> 75 | M73: =G73*100/$M$8 -> 75 | N73: =H73*100/$N$8 -> 75 | O73: =I73*100/$O$8 -> 75 | P73: =IF(J73<'TEST MARKS '!$D$159,"N","Y") -> Y | Q73: =IF(K73<'TEST MARKS '!$D$159,"N","Y") -> Y | R73: =IF(L73<'TEST MARKS '!$D$159,"N","Y") -> Y | S73: =IF(M73<'TEST MARKS '!$D$159,"N","Y") -> Y | T73: =IF(N73<'TEST MARKS '!$D$159,"N","Y") -> Y | U73: =IF(O73<'TEST MARKS '!$D$159,"N","Y") -> Y
A74: 65 | B74: ='TEST MARKS '!B74 -> PRUTHVIRAJA A S | C74: ='TEST MARKS '!C74 -> 1SG15ME069 | D74: =SUMIF('TEST MARKS '!$D$8:$I$8,$D$9,'TEST MARKS '!D74:I74) -> 12 | E74: =SUMIF('TEST MARKS '!$D$8:$I$8,$E$9,'TEST MARKS '!D74:I74) -> 12 | F74: =SUMIF('TEST MARKS '!$D$8:$I$8,$F$9,'TEST MARKS '!D74:I74) -> 13 | G74: =SUMIF('TEST MARKS '!$D$8:$I$8,$G$9,'TEST MARKS '!D74:I74) -> 13 | H74: =SUMIF('TEST MARKS '!$D$8:$I$8,$H$9,'TEST MARKS '!D74:I74) -> 13 | I74: =SUMIF('TEST MARKS '!$D$8:$I$8,$I$9,'TEST MARKS '!D74:I74) -> 13 | J74: =D74*100/$J$8 -> 60 | K74: =E74*100/$K$8 -> 60 | L74: =F74*100/$L$8 -> 65 | M74: =G74*100/$M$8 -> 65 | N74: =H74*100/$N$8 -> 65 | O74: =I74*100/$O$8 -> 65 | P74: =IF(J74<'TEST MARKS '!$D$159,"N","Y") -> Y | Q74: =IF(K74<'TEST MARKS '!$D$159,"N","Y") -> Y | R74: =IF(L74<'TEST MARKS '!$D$159,"N","Y") -> Y | S74: =IF(M74<'TEST MARKS '!$D$159,"N","Y") -> Y | T74: =IF(N74<'TEST MARKS '!$D$159,"N","Y") -> Y | U74: =IF(O74<'TEST MARKS '!$D$159,"N","Y") -> Y
A75: 66 | B75: ='TEST MARKS '!B75 -> PUNITH JADHAV | C75: ='TEST MARKS '!C75 -> 1SG15ME070 | D75: =SUMIF('TEST MARKS '!$D$8:$I$8,$D$9,'TEST MARKS '!D75:I75) -> 17 | E75: =SUMIF('TEST MARKS '!$D$8:$I$8,$E$9,'TEST MARKS '!D75:I75) -> 17 | F75: =SUMIF('TEST MARKS '!$D$8:$I$8,$F$9,'TEST MARKS '!D75:I75) -> 20 | G75: =SUMIF('TEST MARKS '!$D$8:$I$8,$G$9,'TEST MARKS '!D75:I75) -> 20 | H75: =SUMIF('TEST MARKS '!$D$8:$I$8,$H$9,'TEST MARKS '!D75:I75) -> 19 | I75: =SUMIF('TEST MARKS '!$D$8:$I$8,$I$9,'TEST MARKS '!D75:I75) -> 19 | J75: =D75*100/$J$8 -> 85 | K75: =E75*100/$K$8 -> 85 | L75: =F75*100/$L$8 -> 100 | M75: =G75*100/$M$8 -> 100 | N75: =H75*100/$N$8 -> 95 | O75: =I75*100/$O$8 -> 95 | P75: =IF(J75<'TEST MARKS '!$D$159,"N","Y") -> Y | Q75: =IF(K75<'TEST MARKS '!$D$159,"N","Y") -> Y | R75: =IF(L75<'TEST MARKS '!$D$159,"N","Y") -> Y | S75: =IF(M75<'TEST MARKS '!$D$159,"N","Y") -> Y | T75: =IF(N75<'TEST MARKS '!$D$159,"N","Y") -> Y | U75: =IF(O75<'TEST MARKS '!$D$159,"N","Y") -> Y
A76: 67 | B76: ='TEST MARKS '!B76 -> RAGHAVA SURYA M | C76: ='TEST MARKS '!C76 -> 1SG15ME071 | D76: =SUMIF('TEST MARKS '!$D$8:$I$8,$D$9,'TEST MARKS '!D76:I76) -> 10 | E76: =SUMIF('TEST MARKS '!$D$8:$I$8,$E$9,'TEST MARKS '!D76:I76) -> 10 | F76: =SUMIF('TEST MARKS '!$D$8:$I$8,$F$9,'TEST MARKS '!D76:I76) -> 20 | G76: =SUMIF('TEST MARKS '!$D$8:$I$8,$G$9,'TEST MARKS '!D76:I76) -> 20 | H76: =SUMIF('TEST MARKS '!$D$8:$I$8,$H$9,'TEST MARKS '!D76:I76) -> 16 | I76: =SUMIF('TEST MARKS '!$D$8:$I$8,$I$9,'TEST MARKS '!D76:I76) -> 16 | J76: =D76*100/$J$8 -> 50 | K76: =E76*100/$K$8 -> 50 | L76: =F76*100/$L$8 -> 100 | M76: =G76*100/$M$8 -> 100 | N76: =H76*100/$N$8 -> 80 | O76: =I76*100/$O$8 -> 80 | P76: =IF(J76<'TEST MARKS '!$D$159,"N","Y") -> Y | Q76: =IF(K76<'TEST MARKS '!$D$159,"N","Y") -> Y | R76: =IF(L76<'TEST MARKS '!$D$159,"N","Y") -> Y | S76: =IF(M76<'TEST MARKS '!$D$159,"N","Y") -> Y | T76: =IF(N76<'TEST MARKS '!$D$159,"N","Y") -> Y | U76: =IF(O76<'TEST MARKS '!$D$159,"N","Y") -> Y
A77: 68 | B77: ='TEST MARKS '!B77 -> RAHUL N DIXIT | C77: ='TEST MARKS '!C77 -> 1SG15ME072 | D77: =SUMIF('TEST MARKS '!$D$8:$I$8,$D$9,'TEST MARKS '!D77:I77) -> 18 | E77: =SUMIF('TEST MARKS '!$D$8:$I$8,$E$9,'TEST MARKS '!D77:I77) -> 18 | F77: =SUMIF('TEST MARKS '!$D$8:$I$8,$F$9,'TEST MARKS '!D77:I77) -> 14 | G77: =SUMIF('TEST MARKS '!$D$8:$I$8,$G$9,'TEST MARKS '!D77:I77) -> 14 | H77: =SUMIF('TEST MARKS '!$D$8:$I$8,$H$9,'TEST MARKS '!D77:I77) -> 16 | I77: =SUMIF('TEST MARKS '!$D$8:$I$8,$I$9,'TEST MARKS '!D77:I77) -> 16 | J77: =D77*100/$J$8 -> 90 | K77: =E77*100/$K$8 -> 90 | L77: =F77*100/$L$8 -> 70 | M77: =G77*100/$M$8 -> 70 | N77: =H77*100/$N$8 -> 80 | O77: =I77*100/$O$8 -> 80 | P77: =IF(J77<'TEST MARKS '!$D$159,"N","Y") -> Y | Q77: =IF(K77<'TEST MARKS '!$D$159,"N","Y") -> Y | R77: =IF(L77<'TEST MARKS '!$D$159,"N","Y") -> Y | S77: =IF(M77<'TEST MARKS '!$D$159,"N","Y") -> Y | T77: =IF(N77<'TEST MARKS '!$D$159,"N","Y") -> Y | U77: =IF(O77<'TEST MARKS '!$D$159,"N","Y") -> Y
A78: 69 | B78: ='TEST MARKS '!B78 -> RAHUL V | C78: ='TEST MARKS '!C78 -> 1SG15ME073 | D78: =SUMIF('TEST MARKS '!$D$8:$I$8,$D$9,'TEST MARKS '!D78:I78) -> 8 | E78: =SUMIF('TEST MARKS '!$D$8:$I$8,$E$9,'TEST MARKS '!D78:I78) -> 8 | F78: =SUMIF('TEST MARKS '!$D$8:$I$8,$F$9,'TEST MARKS '!D78:I78) -> 18 | G78: =SUMIF('TEST MARKS '!$D$8:$I$8,$G$9,'TEST MARKS '!D78:I78) -> 18 | H78: =SUMIF('TEST MARKS '!$D$8:$I$8,$H$9,'TEST MARKS '!D78:I78) -> 13 | I78: =SUMIF('TEST MARKS '!$D$8:$I$8,$I$9,'TEST MARKS '!D78:I78) -> 13 | J78: =D78*100/$J$8 -> 40 | K78: =E78*100/$K$8 -> 40 | L78: =F78*100/$L$8 -> 90 | M78: =G78*100/$M$8 -> 90 | N78: =H78*100/$N$8 -> 65 | O78: =I78*100/$O$8 -> 65 | P78: =IF(J78<'TEST MARKS '!$D$159,"N","Y") -> N | Q78: =IF(K78<'TEST MARKS '!$D$159,"N","Y") -> N | R78: =IF(L78<'TEST MARKS '!$D$159,"N","Y") -> Y | S78: =IF(M78<'TEST MARKS '!$D$159,"N","Y") -> Y | T78: =IF(N78<'TEST MARKS '!$D$159,"N","Y") -> Y | U78: =IF(O78<'TEST MARKS '!$D$159,"N","Y") -> Y
A79: 70 | B79: ='TEST MARKS '!B79 -> RAJATH G MOODITHAYA | C79: ='TEST MARKS '!C79 -> 1SG15ME074 | D79: =SUMIF('TEST MARKS '!$D$8:$I$8,$D$9,'TEST MARKS '!D79:I79) -> 16 | E79: =SUMIF('TEST MARKS '!$D$8:$I$8,$E$9,'TEST MARKS '!D79:I79) -> 16 | F79: =SUMIF('TEST MARKS '!$D$8:$I$8,$F$9,'TEST MARKS '!D79:I79) -> 16 | G79: =SUMIF('TEST MARKS '!$D$8:$I$8,$G$9,'TEST MARKS '!D79:I79) -> 16 | H79: =SUMIF('TEST MARKS '!$D$8:$I$8,$H$9,'TEST MARKS '!D79:I79) -> 16 | I79: =SUMIF('TEST MARKS '!$D$8:$I$8,$I$9,'TEST MARKS '!D79:I79) -> 16 | J79: =D79*100/$J$8 -> 80 | K79: =E79*100/$K$8 -> 80 | L79: =F79*100/$L$8 -> 80 | M79: =G79*100/$M$8 -> 80 | N79: =H79*100/$N$8 -> 80 | O79: =I79*100/$O$8 -> 80 | P79: =IF(J79<'TEST MARKS '!$D$159,"N","Y") -> Y | Q79: =IF(K79<'TEST MARKS '!$D$159,"N","Y") -> Y | R79: =IF(L79<'TEST MARKS '!$D$159,"N","Y") -> Y | S79: =IF(M79<'TEST MARKS '!$D$159,"N","Y") -> Y | T79: =IF(N79<'TEST MARKS '!$D$159,"N","Y") -> Y | U79: =IF(O79<'TEST MARKS '!$D$159,"N","Y") -> Y
... A120: 111 | B120: ='TEST MARKS '!B120 -> 0 | C120: ='TEST MARKS '!C120 -> 0 | D120: =SUMIF('TEST MARKS '!$D$8:$I$8,$D$9,'TEST MARKS '!D120:I120) -> 0 | E120: =SUMIF('TEST MARKS '!$D$8:$I$8,$E$9,'TEST MARKS '!D120:I120) -> 0 | F120: =SUMIF('TEST MARKS '!$D$8:$I$8,$F$9,'TEST MARKS '!D120:I120) -> 0 | G120: =SUMIF('TEST MARKS '!$D$8:$I$8,$G$9,'TEST MARKS '!D120:I120) -> 0 | H120: =SUMIF('TEST MARKS '!$D$8:$I$8,$H$9,'TEST MARKS '!D120:I120) -> 0 | I120: =SUMIF('TEST MARKS '!$D$8:$I$8,$I$9,'TEST MARKS '!D120:I120) -> 0 | J120: =D120*100/$J$8 -> 0 | K120: =E120*100/$K$8 -> 0 | L120: =F120*100/$L$8 -> 0 | M120: =G120*100/$M$8 -> 0 | N120: =H120*100/$N$8 -> 0 | O120: =I120*100/$O$8 -> 0 | P120: =IF(J120<'TEST MARKS '!$D$159,"N","Y") -> N | Q120: =IF(K120<'TEST MARKS '!$D$159,"N","Y") -> N | R120: =IF(L120<'TEST MARKS '!$D$159,"N","Y") -> N | S120: =IF(M120<'TEST MARKS '!$D$159,"N","Y") -> N | T120: =IF(N120<'TEST MARKS '!$D$159,"N","Y") -> N | U120: =IF(O120<'TEST MARKS '!$D$159,"N","Y") -> N
A121: 112 | B121: ='TEST MARKS '!B131 -> 0 | C121: ='TEST MARKS '!C131 -> 0 | D121: =SUMIF('TEST MARKS '!$D$8:$I$8,$D$9,'TEST MARKS '!D131:I131) -> 0 | E121: =SUMIF('TEST MARKS '!$D$8:$I$8,$E$9,'TEST MARKS '!D131:I131) -> 0 | F121: =SUMIF('TEST MARKS '!$D$8:$I$8,$F$9,'TEST MARKS '!D131:I131) -> 0 | G121: =SUMIF('TEST MARKS '!$D$8:$I$8,$G$9,'TEST MARKS '!D131:I131) -> 0 | H121: =SUMIF('TEST MARKS '!$D$8:$I$8,$H$9,'TEST MARKS '!D131:I131) -> 0 | I121: =SUMIF('TEST MARKS '!$D$8:$I$8,$I$9,'TEST MARKS '!D131:I131) -> 0 | J121: =D121*100/$J$8 -> 0 | K121: =E121*100/$K$8 -> 0 | L121: =F121*100/$L$8 -> 0 | M121: =G121*100/$M$8 -> 0 | N121: =H121*100/$N$8 -> 0 | O121: =I121*100/$O$8 -> 0 | P121: =IF(J121<'TEST MARKS '!$D$159,"N","Y") -> N | Q121: =IF(K121<'TEST MARKS '!$D$159,"N","Y") -> N | R121: =IF(L121<'TEST MARKS '!$D$159,"N","Y") -> N | S121: =IF(M121<'TEST MARKS '!$D$159,"N","Y") -> N | T121: =IF(N121<'TEST MARKS '!$D$159,"N","Y") -> N | U121: =IF(O121<'TEST MARKS '!$D$159,"N","Y") -> N
A122: 113 | B122: ='TEST MARKS '!B132 -> 0 | C122: ='TEST MARKS '!C132 -> 0 | D122: =SUMIF('TEST MARKS '!$D$8:$I$8,$D$9,'TEST MARKS '!D132:I132) -> 0 | E122: =SUMIF('TEST MARKS '!$D$8:$I$8,$E$9,'TEST MARKS '!D132:I132) -> 0 | F122: =SUMIF('TEST MARKS '!$D$8:$I$8,$F$9,'TEST MARKS '!D132:I132) -> 0 | G122: =SUMIF('TEST MARKS '!$D$8:$I$8,$G$9,'TEST MARKS '!D132:I132) -> 0 | H122: =SUMIF('TEST MARKS '!$D$8:$I$8,$H$9,'TEST MARKS '!D132:I132) -> 0 | I122: =SUMIF('TEST MARKS '!$D$8:$I$8,$I$9,'TEST MARKS '!D132:I132) -> 0 | J122: =D122*100/$J$8 -> 0 | K122: =E122*100/$K$8 -> 0 | L122: =F122*100/$L$8 -> 0 | M122: =G122*100/$M$8 -> 0 | N122: =H122*100/$N$8 -> 0 | O122: =I122*100/$O$8 -> 0 | P122: =IF(J122<'TEST MARKS '!$D$159,"N","Y") -> N | Q122: =IF(K122<'TEST MARKS '!$D$159,"N","Y") -> N | R122: =IF(L122<'TEST MARKS '!$D$159,"N","Y") -> N | S122: =IF(M122<'TEST MARKS '!$D$159,"N","Y") -> N | T122: =IF(N122<'TEST MARKS '!$D$159,"N","Y") -> N | U122: =IF(O122<'TEST MARKS '!$D$159,"N","Y") -> N
A123: 114 | B123: ='TEST MARKS '!B133 -> 0 | C123: ='TEST MARKS '!C133 -> 0 | D123: =SUMIF('TEST MARKS '!$D$8:$I$8,$D$9,'TEST MARKS '!D133:I133) -> 0 | E123: =SUMIF('TEST MARKS '!$D$8:$I$8,$E$9,'TEST MARKS '!D133:I133) -> 0 | F123: =SUMIF('TEST MARKS '!$D$8:$I$8,$F$9,'TEST MARKS '!D133:I133) -> 0 | G123: =SUMIF('TEST MARKS '!$D$8:$I$8,$G$9,'TEST MARKS '!D133:I133) -> 0 | H123: =SUMIF('TEST MARKS '!$D$8:$I$8,$H$9,'TEST MARKS '!D133:I133) -> 0 | I123: =SUMIF('TEST MARKS '!$D$8:$I$8,$I$9,'TEST MARKS '!D133:I133) -> 0 | J123: =D123*100/$J$8 -> 0 | K123: =E123*100/$K$8 -> 0 | L123: =F123*100/$L$8 -> 0 | M123: =G123*100/$M$8 -> 0 | N123: =H123*100/$N$8 -> 0 | O123: =I123*100/$O$8 -> 0 | P123: =IF(J123<'TEST MARKS '!$D$159,"N","Y") -> N | Q123: =IF(K123<'TEST MARKS '!$D$159,"N","Y") -> N | R123: =IF(L123<'TEST MARKS '!$D$159,"N","Y") -> N | S123: =IF(M123<'TEST MARKS '!$D$159,"N","Y") -> N | T123: =IF(N123<'TEST MARKS '!$D$159,"N","Y") -> N | U123: =IF(O123<'TEST MARKS '!$D$159,"N","Y") -> N
A124: 115 | B124: ='TEST MARKS '!B134 -> 0 | C124: ='TEST MARKS '!C134 -> 0 | D124: =SUMIF('TEST MARKS '!$D$8:$I$8,$D$9,'TEST MARKS '!D134:I134) -> 0 | E124: =SUMIF('TEST MARKS '!$D$8:$I$8,$E$9,'TEST MARKS '!D134:I134) -> 0 | F124: =SUMIF('TEST MARKS '!$D$8:$I$8,$F$9,'TEST MARKS '!D134:I134) -> 0 | G124: =SUMIF('TEST MARKS '!$D$8:$I$8,$G$9,'TEST MARKS '!D134:I134) -> 0 | H124: =SUMIF('TEST MARKS '!$D$8:$I$8,$H$9,'TEST MARKS '!D134:I134) -> 0 | I124: =SUMIF('TEST MARKS '!$D$8:$I$8,$I$9,'TEST MARKS '!D134:I134) -> 0 | J124: =D124*100/$J$8 -> 0 | K124: =E124*100/$K$8 -> 0 | L124: =F124*100/$L$8 -> 0 | M124: =G124*100/$M$8 -> 0 | N124: =H124*100/$N$8 -> 0 | O124: =I124*100/$O$8 -> 0 | P124: =IF(J124<'TEST MARKS '!$D$159,"N","Y") -> N | Q124: =IF(K124<'TEST MARKS '!$D$159,"N","Y") -> N | R124: =IF(L124<'TEST MARKS '!$D$159,"N","Y") -> N | S124: =IF(M124<'TEST MARKS '!$D$159,"N","Y") -> N | T124: =IF(N124<'TEST MARKS '!$D$159,"N","Y") -> N | U124: =IF(O124<'TEST MARKS '!$D$159,"N","Y") -> N
A125: 116 | B125: ='TEST MARKS '!B135 -> 0 | C125: ='TEST MARKS '!C135 -> 0 | D125: =SUMIF('TEST MARKS '!$D$8:$I$8,$D$9,'TEST MARKS '!D135:I135) -> 0 | E125: =SUMIF('TEST MARKS '!$D$8:$I$8,$E$9,'TEST MARKS '!D135:I135) -> 0 | F125: =SUMIF('TEST MARKS '!$D$8:$I$8,$F$9,'TEST MARKS '!D135:I135) -> 0 | G125: =SUMIF('TEST MARKS '!$D$8:$I$8,$G$9,'TEST MARKS '!D135:I135) -> 0 | H125: =SUMIF('TEST MARKS '!$D$8:$I$8,$H$9,'TEST MARKS '!D135:I135) -> 0 | I125: =SUMIF('TEST MARKS '!$D$8:$I$8,$I$9,'TEST MARKS '!D135:I135) -> 0 | J125: =D125*100/$J$8 -> 0 | K125: =E125*100/$K$8 -> 0 | L125: =F125*100/$L$8 -> 0 | M125: =G125*100/$M$8 -> 0 | N125: =H125*100/$N$8 -> 0 | O125: =I125*100/$O$8 -> 0 | P125: =IF(J125<'TEST MARKS '!$D$159,"N","Y") -> N | Q125: =IF(K125<'TEST MARKS '!$D$159,"N","Y") -> N | R125: =IF(L125<'TEST MARKS '!$D$159,"N","Y") -> N | S125: =IF(M125<'TEST MARKS '!$D$159,"N","Y") -> N | T125: =IF(N125<'TEST MARKS '!$D$159,"N","Y") -> N | U125: =IF(O125<'TEST MARKS '!$D$159,"N","Y") -> N
A126: 117 | B126: ='TEST MARKS '!B136 -> 0 | C126: ='TEST MARKS '!C136 -> 0 | D126: =SUMIF('TEST MARKS '!$D$8:$I$8,$D$9,'TEST MARKS '!D136:I136) -> 0 | E126: =SUMIF('TEST MARKS '!$D$8:$I$8,$E$9,'TEST MARKS '!D136:I136) -> 0 | F126: =SUMIF('TEST MARKS '!$D$8:$I$8,$F$9,'TEST MARKS '!D136:I136) -> 0 | G126: =SUMIF('TEST MARKS '!$D$8:$I$8,$G$9,'TEST MARKS '!D136:I136) -> 0 | H126: =SUMIF('TEST MARKS '!$D$8:$I$8,$H$9,'TEST MARKS '!D136:I136) -> 0 | I126: =SUMIF('TEST MARKS '!$D$8:$I$8,$I$9,'TEST MARKS '!D136:I136) -> 0 | J126: =D126*100/$J$8 -> 0 | K126: =E126*100/$K$8 -> 0 | L126: =F126*100/$L$8 -> 0 | M126: =G126*100/$M$8 -> 0 | N126: =H126*100/$N$8 -> 0 | O126: =I126*100/$O$8 -> 0 | P126: =IF(J126<'TEST MARKS '!$D$159,"N","Y") -> N | Q126: =IF(K126<'TEST MARKS '!$D$159,"N","Y") -> N | R126: =IF(L126<'TEST MARKS '!$D$159,"N","Y") -> N | S126: =IF(M126<'TEST MARKS '!$D$159,"N","Y") -> N | T126: =IF(N126<'TEST MARKS '!$D$159,"N","Y") -> N | U126: =IF(O126<'TEST MARKS '!$D$159,"N","Y") -> N
A127: 118 | B127: ='TEST MARKS '!B137 -> 0 | C127: ='TEST MARKS '!C137 -> 0 | D127: =SUMIF('TEST MARKS '!$D$8:$I$8,$D$9,'TEST MARKS '!D137:I137) -> 0 | E127: =SUMIF('TEST MARKS '!$D$8:$I$8,$E$9,'TEST MARKS '!D137:I137) -> 0 | F127: =SUMIF('TEST MARKS '!$D$8:$I$8,$F$9,'TEST MARKS '!D137:I137) -> 0 | G127: =SUMIF('TEST MARKS '!$D$8:$I$8,$G$9,'TEST MARKS '!D137:I137) -> 0 | H127: =SUMIF('TEST MARKS '!$D$8:$I$8,$H$9,'TEST MARKS '!D137:I137) -> 0 | I127: =SUMIF('TEST MARKS '!$D$8:$I$8,$I$9,'TEST MARKS '!D137:I137) -> 0 | J127: =D127*100/$J$8 -> 0 | K127: =E127*100/$K$8 -> 0 | L127: =F127*100/$L$8 -> 0 | M127: =G127*100/$M$8 -> 0 | N127: =H127*100/$N$8 -> 0 | O127: =I127*100/$O$8 -> 0 | P127: =IF(J127<'TEST MARKS '!$D$159,"N","Y") -> N | Q127: =IF(K127<'TEST MARKS '!$D$159,"N","Y") -> N | R127: =IF(L127<'TEST MARKS '!$D$159,"N","Y") -> N | S127: =IF(M127<'TEST MARKS '!$D$159,"N","Y") -> N | T127: =IF(N127<'TEST MARKS '!$D$159,"N","Y") -> N | U127: =IF(O127<'TEST MARKS '!$D$159,"N","Y") -> N
A128: 119 | B128: ='TEST MARKS '!B138 -> 0 | C128: ='TEST MARKS '!C138 -> 0 | D128: =SUMIF('TEST MARKS '!$D$8:$I$8,$D$9,'TEST MARKS '!D138:I138) -> 0 | E128: =SUMIF('TEST MARKS '!$D$8:$I$8,$E$9,'TEST MARKS '!D138:I138) -> 0 | F128: =SUMIF('TEST MARKS '!$D$8:$I$8,$F$9,'TEST MARKS '!D138:I138) -> 0 | G128: =SUMIF('TEST MARKS '!$D$8:$I$8,$G$9,'TEST MARKS '!D138:I138) -> 0 | H128: =SUMIF('TEST MARKS '!$D$8:$I$8,$H$9,'TEST MARKS '!D138:I138) -> 0 | I128: =SUMIF('TEST MARKS '!$D$8:$I$8,$I$9,'TEST MARKS '!D138:I138) -> 0 | J128: =D128*100/$J$8 -> 0 | K128: =E128*100/$K$8 -> 0 | L128: =F128*100/$L$8 -> 0 | M128: =G128*100/$M$8 -> 0 | N128: =H128*100/$N$8 -> 0 | O128: =I128*100/$O$8 -> 0 | P128: =IF(J128<'TEST MARKS '!$D$159,"N","Y") -> N | Q128: =IF(K128<'TEST MARKS '!$D$159,"N","Y") -> N | R128: =IF(L128<'TEST MARKS '!$D$159,"N","Y") -> N | S128: =IF(M128<'TEST MARKS '!$D$159,"N","Y") -> N | T128: =IF(N128<'TEST MARKS '!$D$159,"N","Y") -> N | U128: =IF(O128<'TEST MARKS '!$D$159,"N","Y") -> N
A129: 120 | B129: ='TEST MARKS '!B139 -> 0 | C129: ='TEST MARKS '!C139 -> 0 | D129: =SUMIF('TEST MARKS '!$D$8:$I$8,$D$9,'TEST MARKS '!D139:I139) -> 0 | E129: =SUMIF('TEST MARKS '!$D$8:$I$8,$E$9,'TEST MARKS '!D139:I139) -> 0 | F129: =SUMIF('TEST MARKS '!$D$8:$I$8,$F$9,'TEST MARKS '!D139:I139) -> 0 | G129: =SUMIF('TEST MARKS '!$D$8:$I$8,$G$9,'TEST MARKS '!D139:I139) -> 0 | H129: =SUMIF('TEST MARKS '!$D$8:$I$8,$H$9,'TEST MARKS '!D139:I139) -> 0 | I129: =SUMIF('TEST MARKS '!$D$8:$I$8,$I$9,'TEST MARKS '!D139:I139) -> 0 | J129: =D129*100/$J$8 -> 0 | K129: =E129*100/$K$8 -> 0 | L129: =F129*100/$L$8 -> 0 | M129: =G129*100/$M$8 -> 0 | N129: =H129*100/$N$8 -> 0 | O129: =I129*100/$O$8 -> 0 | P129: =IF(J129<'TEST MARKS '!$D$159,"N","Y") -> N | Q129: =IF(K129<'TEST MARKS '!$D$159,"N","Y") -> N | R129: =IF(L129<'TEST MARKS '!$D$159,"N","Y") -> N | S129: =IF(M129<'TEST MARKS '!$D$159,"N","Y") -> N | T129: =IF(N129<'TEST MARKS '!$D$159,"N","Y") -> N | U129: =IF(O129<'TEST MARKS '!$D$159,"N","Y") -> N
A130: 121 | B130: ='TEST MARKS '!B140 -> 0 | C130: ='TEST MARKS '!C140 -> 0 | D130: =SUMIF('TEST MARKS '!$D$8:$I$8,$D$9,'TEST MARKS '!D140:I140) -> 0 | E130: =SUMIF('TEST MARKS '!$D$8:$I$8,$E$9,'TEST MARKS '!D140:I140) -> 0 | F130: =SUMIF('TEST MARKS '!$D$8:$I$8,$F$9,'TEST MARKS '!D140:I140) -> 0 | G130: =SUMIF('TEST MARKS '!$D$8:$I$8,$G$9,'TEST MARKS '!D140:I140) -> 0 | H130: =SUMIF('TEST MARKS '!$D$8:$I$8,$H$9,'TEST MARKS '!D140:I140) -> 0 | I130: =SUMIF('TEST MARKS '!$D$8:$I$8,$I$9,'TEST MARKS '!D140:I140) -> 0 | J130: =D130*100/$J$8 -> 0 | K130: =E130*100/$K$8 -> 0 | L130: =F130*100/$L$8 -> 0 | M130: =G130*100/$M$8 -> 0 | N130: =H130*100/$N$8 -> 0 | O130: =I130*100/$O$8 -> 0 | P130: =IF(J130<'TEST MARKS '!$D$159,"N","Y") -> N | Q130: =IF(K130<'TEST MARKS '!$D$159,"N","Y") -> N | R130: =IF(L130<'TEST MARKS '!$D$159,"N","Y") -> N | S130: =IF(M130<'TEST MARKS '!$D$159,"N","Y") -> N | T130: =IF(N130<'TEST MARKS '!$D$159,"N","Y") -> N | U130: =IF(O130<'TEST MARKS '!$D$159,"N","Y") -> N
A131: 122 | B131: ='TEST MARKS '!B141 -> 0 | C131: ='TEST MARKS '!C141 -> 0 | D131: =SUMIF('TEST MARKS '!$D$8:$I$8,$D$9,'TEST MARKS '!D141:I141) -> 0 | E131: =SUMIF('TEST MARKS '!$D$8:$I$8,$E$9,'TEST MARKS '!D141:I141) -> 0 | F131: =SUMIF('TEST MARKS '!$D$8:$I$8,$F$9,'TEST MARKS '!D141:I141) -> 0 | G131: =SUMIF('TEST MARKS '!$D$8:$I$8,$G$9,'TEST MARKS '!D141:I141) -> 0 | H131: =SUMIF('TEST MARKS '!$D$8:$I$8,$H$9,'TEST MARKS '!D141:I141) -> 0 | I131: =SUMIF('TEST MARKS '!$D$8:$I$8,$I$9,'TEST MARKS '!D141:I141) -> 0 | J131: =D131*100/$J$8 -> 0 | K131: =E131*100/$K$8 -> 0 | L131: =F131*100/$L$8 -> 0 | M131: =G131*100/$M$8 -> 0 | N131: =H131*100/$N$8 -> 0 | O131: =I131*100/$O$8 -> 0 | P131: =IF(J131<'TEST MARKS '!$D$159,"N","Y") -> N | Q131: =IF(K131<'TEST MARKS '!$D$159,"N","Y") -> N | R131: =IF(L131<'TEST MARKS '!$D$159,"N","Y") -> N | S131: =IF(M131<'TEST MARKS '!$D$159,"N","Y") -> N | T131: =IF(N131<'TEST MARKS '!$D$159,"N","Y") -> N | U131: =IF(O131<'TEST MARKS '!$D$159,"N","Y") -> N
A132: 123 | B132: ='TEST MARKS '!B142 -> 0 | C132: ='TEST MARKS '!C142 -> 0 | D132: =SUMIF('TEST MARKS '!$D$8:$I$8,$D$9,'TEST MARKS '!D142:I142) -> 0 | E132: =SUMIF('TEST MARKS '!$D$8:$I$8,$E$9,'TEST MARKS '!D142:I142) -> 0 | F132: =SUMIF('TEST MARKS '!$D$8:$I$8,$F$9,'TEST MARKS '!D142:I142) -> 0 | G132: =SUMIF('TEST MARKS '!$D$8:$I$8,$G$9,'TEST MARKS '!D142:I142) -> 0 | H132: =SUMIF('TEST MARKS '!$D$8:$I$8,$H$9,'TEST MARKS '!D142:I142) -> 0 | I132: =SUMIF('TEST MARKS '!$D$8:$I$8,$I$9,'TEST MARKS '!D142:I142) -> 0 | J132: =D132*100/$J$8 -> 0 | K132: =E132*100/$K$8 -> 0 | L132: =F132*100/$L$8 -> 0 | M132: =G132*100/$M$8 -> 0 | N132: =H132*100/$N$8 -> 0 | O132: =I132*100/$O$8 -> 0 | P132: =IF(J132<'TEST MARKS '!$D$159,"N","Y") -> N | Q132: =IF(K132<'TEST MARKS '!$D$159,"N","Y") -> N | R132: =IF(L132<'TEST MARKS '!$D$159,"N","Y") -> N | S132: =IF(M132<'TEST MARKS '!$D$159,"N","Y") -> N | T132: =IF(N132<'TEST MARKS '!$D$159,"N","Y") -> N | U132: =IF(O132<'TEST MARKS '!$D$159,"N","Y") -> N
... A144: 135 | B144: ='TEST MARKS '!B154 -> 0 | C144: ='TEST MARKS '!C154 -> 0 | D144: =SUMIF('TEST MARKS '!$D$8:$I$8,$D$9,'TEST MARKS '!D154:I154) -> 1 | E144: =SUMIF('TEST MARKS '!$D$8:$I$8,$E$9,'TEST MARKS '!D154:I154) -> 1 | F144: =SUMIF('TEST MARKS '!$D$8:$I$8,$F$9,'TEST MARKS '!D154:I154) -> 1 | G144: =SUMIF('TEST MARKS '!$D$8:$I$8,$G$9,'TEST MARKS '!D154:I154) -> 1 | H144: =SUMIF('TEST MARKS '!$D$8:$I$8,$H$9,'TEST MARKS '!D154:I154) -> 1 | I144: =SUMIF('TEST MARKS '!$D$8:$I$8,$I$9,'TEST MARKS '!D154:I154) -> 1 | J144: =D144*100/$J$8 -> 5 | K144: =E144*100/$K$8 -> 5 | L144: =F144*100/$L$8 -> 5 | M144: =G144*100/$M$8 -> 5 | N144: =H144*100/$N$8 -> 5 | O144: =I144*100/$O$8 -> 5 | P144: =IF(J144<'TEST MARKS '!$D$159,"N","Y") -> N | Q144: =IF(K144<'TEST MARKS '!$D$159,"N","Y") -> N | R144: =IF(L144<'TEST MARKS '!$D$159,"N","Y") -> N | S144: =IF(M144<'TEST MARKS '!$D$159,"N","Y") -> N | T144: =IF(N144<'TEST MARKS '!$D$159,"N","Y") -> N | U144: =IF(O144<'TEST MARKS '!$D$159,"N","Y") -> N
O150: NO OF Y | P150: =COUNTIF(P10:P144,"Y") -> 73 | Q150: =COUNTIF(Q10:Q144,"Y") -> 73 | R150: =COUNTIF(R10:R144,"Y") -> 98 | S150: =COUNTIF(S10:S144,"Y") -> 98 | T150: =COUNTIF(T10:T144,"Y") -> 87 | U150: =COUNTIF(U10:U144,"Y") -> 87
O151: ATTAINMENT | P151: =P150/'TEST MARKS '!$D$158 -> 0.68224299 | Q151: =Q150/'TEST MARKS '!$D$158 -> 0.68224299 | R151: =R150/'TEST MARKS '!$D$158 -> 0.91588785 | S151: =S150/'TEST MARKS '!$D$158 -> 0.91588785 | T151: =T150/'TEST MARKS '!$D$158 -> 0.81308411 | U151: =U150/'TEST MARKS '!$D$158 -> 0.81308411
O155: CO's | P155: CO1 | Q155: CO2 | R155: CO3 | S155: CO4 | T155: CO5 | U155: CO6
O156: IA MARKS ATTAINMENT | P156: =P150*100/'TEST MARKS '!$D$158 -> 68.224299 | Q156: =Q150*100/'TEST MARKS '!$D$158 -> 68.224299 | R156: =R150*100/'TEST MARKS '!$D$158 -> 91.588785 | S156: =S150*100/'TEST MARKS '!$D$158 -> 91.588785 | T156: =T150*100/'TEST MARKS '!$D$158 -> 81.308411 | U156: =U150*100/'TEST MARKS '!$D$158 -> 81.308411

Sheet Assignment CO 
B1: Sapthagiri College of Engineering
B2: Department of Physics
D3: ENGINEERING PHYSICS
B4: I Semester EC A & B Section Test marks for ODD Sem 2017-18 | P4: TARGET: 90% OF STUDENTS TO SCORE 80% and ABOVE
A5: Sl. No. | B5: Name of the student | C5: USN | J5: ASSIGNMENT ATTAINMENT (%) | P5: Y OR N
D7: I | E7: II | F7: III | G7: IV | H7: V | I7: V | J7: I | K7: II | L7: III | M7: IV | N7: V | O7: V | P7: I | Q7: II | R7: III | S7: IV | T7: V | U7: V
D8: CO1 | E8: CO2 | F8: CO3 | G8: CO4 | H8: CO5 | I8: CO6 | J8: CO1 | K8: CO2 | L8: CO3 | M8: CO4 | N8: CO5 | O8: CO6 | P8: CO1 | Q8: CO2 | R8: CO3 | S8: CO4 | T8: CO5 | U8: CO6
A9: ='TEST MARKS '!A10 -> 1 | B9: ='TEST MARKS '!B10 -> AAKASH KUMAR | C9: ='TEST MARKS '!C10 -> 1SG15ME001 | D9: ='TEST MARKS '!J10 -> 0 | E9: ='TEST MARKS '!K10 -> 0 | F9: ='TEST MARKS '!L10 -> 0 | G9: ='TEST MARKS '!M10 -> 0 | H9: ='TEST MARKS '!N10 -> 0 | I9: ='TEST MARKS '!O10 -> 0 | J9: =D9/'TEST MARKS '!$J$155*100 -> #DIV/0! | K9: =E9/'TEST MARKS '!$K$155*100 -> #DIV/0! | L9: =F9/'TEST MARKS '!$L$155*100 -> #DIV/0! | M9: =G9/'TEST MARKS '!$M$155*100 -> #DIV/0! | N9: =H9/'TEST MARKS '!$N$155*100 -> #DIV/0! | O9: =I9/'TEST MARKS '!$O$155*100 -> #DIV/0! | P9: =IF(J9<'TEST MARKS '!$D$160,"N","Y") -> #DIV/0! | Q9: =IF(K9<'TEST MARKS '!$D$160,"N","Y") -> #DIV/0! | R9: =IF(L9<'TEST MARKS '!$D$160,"N","Y") -> #DIV/0! | S9: =IF(M9<'TEST MARKS '!$D$160,"N","Y") -> #DIV/0! | T9: =IF(N9<'TEST MARKS '!$D$160,"N","Y") -> #DIV/0! | U9: =IF(O9<'TEST MARKS '!$D$160,"N","Y") -> #DIV/0!
A10: ='TEST MARKS '!A11 -> 2 | B10: ='TEST MARKS '!B11 -> ABHISHEK MADAPPAWALE | C10: ='TEST MARKS '!C11 -> 1SG15ME002 | D10: ='TEST MARKS '!J11 -> 0 | E10: ='TEST MARKS '!K11 -> 0 | F10: ='TEST MARKS '!L11 -> 0 | G10: ='TEST MARKS '!M11 -> 0 | H10: ='TEST MARKS '!N11 -> 0 | I10: ='TEST MARKS '!O11 -> 0 | J10: =D10/'TEST MARKS '!$J$155*100 -> #DIV/0! | K10: =E10/'TEST MARKS '!$K$155*100 -> #DIV/0! | L10: =F10/'TEST MARKS '!$L$155*100 -> #DIV/0! | M10: =G10/'TEST MARKS '!$M$155*100 -> #DIV/0! | N10: =H10/'TEST MARKS '!$N$155*100 -> #DIV/0! | O10: =I10/'TEST MARKS '!$O$155*100 -> #DIV/0! | P10: =IF(J10<'TEST MARKS '!$D$160,"N","Y") -> #DIV/0! | Q10: =IF(K10<'TEST MARKS '!$D$160,"N","Y") -> #DIV/0! | R10: =IF(L10<'TEST MARKS '!$D$160,"N","Y") -> #DIV/0! | S10: =IF(M10<'TEST MARKS '!$D$160,"N","Y") -> #DIV/0! | T10: =IF(N10<'TEST MARKS '!$D$160,"N","Y") -> #DIV/0! | U10: =IF(O10<'TEST MARKS '!$D$160,"N","Y") -> #DIV/0!
A11: ='TEST MARKS '!A12 -> 3 | B11: ='TEST MARKS '!B12 -> ADITHYA N | C11: ='TEST MARKS '!C12 -> 1SG15ME003 | D11: ='TEST MARKS '!J12 -> 0 | E11: ='TEST MARKS '!K12 -> 0 | F11: ='TEST MARKS '!L12 -> 0 | G11: ='TEST MARKS '!M12 -> 0 | H11: ='TEST MARKS '!N12 -> 0 | I11: ='TEST MARKS '!O12 -> 0 | J11: =D11/'TEST MARKS '!$J$155*100 -> #DIV/0! | K11: =E11/'TEST MARKS '!$K$155*100 -> #DIV/0! | L11: =F11/'TEST MARKS '!$L$155*100 -> #DIV/0! | M11: =G11/'TEST MARKS '!$M$155*100 -> #DIV/0! | N11: =H11/'TEST MARKS '!$N$155*100 -> #DIV/0! | O11: =I11/'TEST MARKS '!$O$155*100 -> #DIV/0! | P11: =IF(J11<'TEST MARKS '!$D$160,"N","Y") -> #DIV/0! | Q11: =IF(K11<'TEST MARKS '!$D$160,"N","Y") -> #DIV/0! | R11: =IF(L11<'TEST MARKS '!$D$160,"N","Y") -> #DIV/0! | S11: =IF(M11<'TEST MARKS '!$D$160,"N","Y") -> #DIV/0! | T11: =IF(N11<'TEST MARKS '!$D$160,"N","Y") -> #DIV/0! | U11: =IF(O11<'TEST MARKS '!$D$160,"N","Y") -> #DIV/0!
A12: ='TEST MARKS '!A13 -> 4 | B12: ='TEST MARKS '!B13 -> AFTAB AHMED MADAR WALA | C12: ='TEST MARKS '!C13 -> 1SG15ME004 | D12: ='TEST MARKS '!J13 -> 0 | E12: ='TEST MARKS '!K13 -> 0 | F12: ='TEST MARKS '!L13 -> 0 | G12: ='TEST MARKS '!M13 -> 0 | H12: ='TEST MARKS '!N13 -> 0 | I12: ='TEST MARKS '!O13 -> 0 | J12: =D12/'TEST MARKS '!$J$155*100 -> #DIV/0! | K12: =E12/'TEST MARKS '!$K$155*100 -> #DIV/0! | L12: =F12/'TEST MARKS '!$L$155*100 -> #DIV/0! | M12: =G12/'TEST MARKS '!$M$155*100 -> #DIV/0! | N12: =H12/'TEST MARKS '!$N$155*100 -> #DIV/0! | O12: =I12/'TEST MARKS '!$O$155*100 -> #DIV/0! | P12: =IF(J12<'TEST MARKS '!$D$160,"N","Y") -> #DIV/0! | Q12: =IF(K12<'TEST MARKS '!$D$160,"N","Y") -> #DIV/0! | R12: =IF(L12<'TEST MARKS '!$D$160,"N","Y") -> #DIV/0! | S12: =IF(M12<'TEST MARKS '!$D$160,"N","Y") -> #DIV/0! | T12: =IF(N12<'TEST MARKS '!$D$160,"N","Y") -> #DIV/0! | U12: =IF(O12<'TEST MARKS '!$D$160,"N","Y") -> #DIV/0!
A13: ='TEST MARKS '!A14 -> 5 | B13: ='TEST MARKS '!B14 -> AJEYA.V | C13: ='TEST MARKS '!C14 -> 1SG15ME006 | D13: ='TEST MARKS '!J14 -> 0 | E13: ='TEST MARKS '!K14 -> 0 | F13: ='TEST MARKS '!L14 -> 0 | G13: ='TEST MARKS '!M14 -> 0 | H13: ='TEST MARKS '!N14 -> 0 | I13: ='TEST MARKS '!O14 -> 0 | J13: =D13/'TEST MARKS '!$J$155*100 -> #DIV/0! | K13: =E13/'TEST MARKS '!$K$155*100 -> #DIV/0! | L13: =F13/'TEST MARKS '!$L$155*100 -> #DIV/0! | M13: =G13/'TEST MARKS '!$M$155*100 -> #DIV/0! | N13: =H13/'TEST MARKS '!$N$155*100 -> #DIV/0! | O13: =I13/'TEST MARKS '!$O$155*100 -> #DIV/0! | P13: =IF(J13<'TEST MARKS '!$D$160,"N","Y") -> #DIV/0! | Q13: =IF(K13<'TEST MARKS '!$D$160,"N","Y") -> #DIV/0! | R13: =IF(L13<'TEST MARKS '!$D$160,"N","Y") -> #DIV/0! | S13: =IF(M13<'TEST MARKS '!$D$160,"N","Y") -> #DIV/0! | T13: =IF(N13<'TEST MARKS '!$D$160,"N","Y") -> #DIV/0! | U13: =IF(O13<'TEST MARKS '!$D$160,"N","Y") -> #DIV/0!
A14: ='TEST MARKS '!A15 -> 6 | B14: ='TEST MARKS '!B15 -> AJAY.K | C14: ='TEST MARKS '!C15 -> 1SG15ME005 | D14: ='TEST MARKS '!J15 -> 0 | E14: ='TEST MARKS '!K15 -> 0 | F14: ='TEST MARKS '!L15 -> 0 | G14: ='TEST MARKS '!M15 -> 0 | H14: ='TEST MARKS '!N15 -> 0 | I14: ='TEST MARKS '!O15 -> 0 | J14: =D14/'TEST MARKS '!$J$155*100 -> #DIV/0! | K14: =E14/'TEST MARKS '!$K$155*100 -> #DIV/0! | L14: =F14/'TEST MARKS '!$L$155*100 -> #DIV/0! | M14: =G14/'TEST MARKS '!$M$155*100 -> #DIV/0! | N14: =H14/'TEST MARKS '!$N$155*100 -> #DIV/0! | O14: =I14/'TEST MARKS '!$O$155*100 -> #DIV/0! | P14: =IF(J14<'TEST MARKS '!$D$160,"N","Y") -> #DIV/0! | Q14: =IF(K14<'TEST MARKS '!$D$160,"N","Y") -> #DIV/0! | R14: =IF(L14<'TEST MARKS '!$D$160,"N","Y") -> #DIV/0! | S14: =IF(M14<'TEST MARKS '!$D$160,"N","Y") -> #DIV/0! | T14: =IF(N14<'TEST MARKS '!$D$160,"N","Y") -> #DIV/0! | U14: =IF(O14<'TEST MARKS '!$D$160,"N","Y") -> #DIV/0!
A15: ='TEST MARKS '!A16 -> 7 | B15: ='TEST MARKS '!B16 -> AJITH S P | C15: ='TEST MARKS '!C16 -> 1SG15ME007 | D15: ='TEST MARKS '!J16 -> 0 | E15: ='TEST MARKS '!K16 -> 0 | F15: ='TEST MARKS '!L16 -> 0 | G15: ='TEST MARKS '!M16 -> 0 | H15: ='TEST MARKS '!N16 -> 0 | I15: ='TEST MARKS '!O16 -> 0 | J15: =D15/'TEST MARKS '!$J$155*100 -> #DIV/0! | K15: =E15/'TEST MARKS '!$K$155*100 -> #DIV/0! | L15: =F15/'TEST MARKS '!$L$155*100 -> #DIV/0! | M15: =G15/'TEST MARKS '!$M$155*100 -> #DIV/0! | N15: =H15/'TEST MARKS '!$N$155*100 -> #DIV/0! | O15: =I15/'TEST MARKS '!$O$155*100 -> #DIV/0! | P15: =IF(J15<'TEST MARKS '!$D$160,"N","Y") -> #DIV/0! | Q15: =IF(K15<'TEST MARKS '!$D$160,"N","Y") -> #DIV/0! | R15: =IF(L15<'TEST MARKS '!$D$160,"N","Y") -> #DIV/0! | S15: =IF(M15<'TEST MARKS '!$D$160,"N","Y") -> #DIV/0! | T15: =IF(N15<'TEST MARKS '!$D$160,"N","Y") -> #DIV/0! | U15: =IF(O15<'TEST MARKS '!$D$160,"N","Y") -> #DIV/0!
A16: ='TEST MARKS '!A17 -> 8 | B16: ='TEST MARKS '!B17 -> AKSHAY S | C16: ='TEST MARKS '!C17 -> 1SG15ME008 | D16: ='TEST MARKS '!J17 -> 0 | E16: ='TEST MARKS '!K17 -> 0 | F16: ='TEST MARKS '!L17 -> 0 | G16: ='TEST MARKS '!M17 -> 0 | H16: ='TEST MARKS '!N17 -> 0 | I16: ='TEST MARKS '!O17 -> 0 | J16: =D16/'TEST MARKS '!$J$155*100 -> #DIV/0! | K16: =E16/'TEST MARKS '!$K$155*100 -> #DIV/0! | L16: =F16/'TEST MARKS '!$L$155*100 -> #DIV/0! | M16: =G16/'TEST MARKS '!$M$155*100 -> #DIV/0! | N16: =H16/'TEST MARKS '!$N$155*100 -> #DIV/0! | O16: =I16/'TEST MARKS '!$O$155*100 -> #DIV/0! | P16: =IF(J16<'TEST MARKS '!$D$160,"N","Y") -> #DIV/0! | Q16: =IF(K16<'TEST MARKS '!$D$160,"N","Y") -> #DIV/0! | R16: =IF(L16<'TEST MARKS '!$D$160,"N","Y") -> #DIV/0! | S16: =IF(M16<'TEST MARKS '!$D$160,"N","Y") -> #DIV/0! | T16: =IF(N16<'TEST MARKS '!$D$160,"N","Y") -> #DIV/0! | U16: =IF(O16<'TEST MARKS '!$D$160,"N","Y") -> #DIV/0!
A17: ='TEST MARKS '!A18 -> 9 | B17: ='TEST MARKS '!B18 -> AMAN NAIN | C17: ='TEST MARKS '!C18 -> 1SG15ME009 | D17: ='TEST MARKS '!J18 -> 0 | E17: ='TEST MARKS '!K18 -> 0 | F17: ='TEST MARKS '!L18 -> 0 | G17: ='TEST MARKS '!M18 -> 0 | H17: ='TEST MARKS '!N18 -> 0 | I17: ='TEST MARKS '!O18 -> 0 | J17: =D17/'TEST MARKS '!$J$155*100 -> #DIV/0! | K17: =E17/'TEST MARKS '!$K$155*100 -> #DIV/0! | L17: =F17/'TEST MARKS '!$L$155*100 -> #DIV/0! | M17: =G17/'TEST MARKS '!$M$155*100 -> #DIV/0! | N17: =H17/'TEST MARKS '!$N$155*100 -> #DIV/0! | O17: =I17/'TEST MARKS '!$O$155*100 -> #DIV/0! | P17: =IF(J17<'TEST MARKS '!$D$160,"N","Y") -> #DIV/0! | Q17: =IF(K17<'TEST MARKS '!$D$160,"N","Y") -> #DIV/0! | R17: =IF(L17<'TEST MARKS '!$D$160,"N","Y") -> #DIV/0! | S17: =IF(M17<'TEST MARKS '!$D$160,"N","Y") -> #DIV/0! | T17: =IF(N17<'TEST MARKS '!$D$160,"N","Y") -> #DIV/0! | U17: =IF(O17<'TEST MARKS '!$D$160,"N","Y") -> #DIV/0!
A18: ='TEST MARKS '!A19 -> 10 | B18: ='TEST MARKS '!B19 -> AMITH.R | C18: ='TEST MARKS '!C19 -> 1SG15ME010 | D18: ='TEST MARKS '!J19 -> 0 | E18: ='TEST MARKS '!K19 -> 0 | F18: ='TEST MARKS '!L19 -> 0 | G18: ='TEST MARKS '!M19 -> 0 | H18: ='TEST MARKS '!N19 -> 0 | I18: ='TEST MARKS '!O19 -> 0 | J18: =D18/'TEST MARKS '!$J$155*100 -> #DIV/0! | K18: =E18/'TEST MARKS '!$K$155*100 -> #DIV/0! | L18: =F18/'TEST MARKS '!$L$155*100 -> #DIV/0! | M18: =G18/'TEST MARKS '!$M$155*100 -> #DIV/0! | N18: =H18/'TEST MARKS '!$N$155*100 -> #DIV/0! | O18: =I18/'TEST MARKS '!$O$155*100 -> #DIV/0! | P18: =IF(J18<'TEST MARKS '!$D$160,"N","Y") -> #DIV/0! | Q18: =IF(K18<'TEST MARKS '!$D$160,"N","Y") -> #DIV/0! | R18: =IF(L18<'TEST MARKS '!$D$160,"N","Y") -> #DIV/0! | S18: =IF(M18<'TEST MARKS '!$D$160,"N","Y") -> #DIV/0! | T18: =IF(N18<'TEST MARKS '!$D$160,"N","Y") -> #DIV/0! | U18: =IF(O18<'TEST MARKS '!$D$160,"N","Y") -> #DIV/0!
A19: ='TEST MARKS '!A20 -> 11 | B19: ='TEST MARKS '!B20 -> ANIL KUMAR C | C19: ='TEST MARKS '!C20 -> 1SG15ME011 | D19: ='TEST MARKS '!J20 -> 0 | E19: ='TEST MARKS '!K20 -> 0 | F19: ='TEST MARKS '!L20 -> 0 | G19: ='TEST MARKS '!M20 -> 0 | H19: ='TEST MARKS '!N20 -> 0 | I19: ='TEST MARKS '!O20 -> 0 | J19: =D19/'TEST MARKS '!$J$155*100 -> #DIV/0! | K19: =E19/'TEST MARKS '!$K$155*100 -> #DIV/0! | L19: =F19/'TEST MARKS '!$L$155*100 -> #DIV/0! | M19: =G19/'TEST MARKS '!$M$155*100 -> #DIV/0! | N19: =H19/'TEST MARKS '!$N$155*100 -> #DIV/0! | O19: =I19/'TEST MARKS '!$O$155*100 -> #DIV/0! | P19: =IF(J19<'TEST MARKS '!$D$160,"N","Y") -> #DIV/0! | Q19: =IF(K19<'TEST MARKS '!$D$160,"N","Y") -> #DIV/0! | R19: =IF(L19<'TEST MARKS '!$D$160,"N","Y") -> #DIV/0! | S19: =IF(M19<'TEST MARKS '!$D$160,"N","Y") -> #DIV/0! | T19: =IF(N19<'TEST MARKS '!$D$160,"N","Y") -> #DIV/0! | U19: =IF(O19<'TEST MARKS '!$D$160,"N","Y") -> #DIV/0!
A20: ='TEST MARKS '!A21 -> 12 | B20: ='TEST MARKS '!B21 -> ANIRUDH R K | C20: ='TEST MARKS '!C21 -> 1SG15ME012 | D20: ='TEST MARKS '!J21 -> 0 | E20: ='TEST MARKS '!K21 -> 0 | F20: ='TEST MARKS '!L21 -> 0 | G20: ='TEST MARKS '!M21 -> 0 | H20: ='TEST MARKS '!N21 -> 0 | I20: ='TEST MARKS '!O21 -> 0 | J20: =D20/'TEST MARKS '!$J$155*100 -> #DIV/0! | K20: =E20/'TEST MARKS '!$K$155*100 -> #DIV/0! | L20: =F20/'TEST MARKS '!$L$155*100 -> #DIV/0! | M20: =G20/'TEST MARKS '!$M$155*100 -> #DIV/0! | N20: =H20/'TEST MARKS '!$N$155*100 -> #DIV/0! | O20: =I20/'TEST MARKS '!$O$155*100 -> #DIV/0! | P20: =IF(J20<'TEST MARKS '!$D$160,"N","Y") -> #DIV/0! | Q20: =IF(K20<'TEST MARKS '!$D$160,"N","Y") -> #DIV/0! | R20: =IF(L20<'TEST MARKS '!$D$160,"N","Y") -> #DIV/0! | S20: =IF(M20<'TEST MARKS '!$D$160,"N","Y") -> #DIV/0! | T20: =IF(N20<'TEST MARKS '!$D$160,"N","Y") -> #DIV/0! | U20: =IF(O20<'TEST MARKS '!$D$160,"N","Y") -> #DIV/0!
... A119: ='TEST MARKS '!A120 -> 111 | B119: ='TEST MARKS '!B120 -> 0 | C119: ='TEST MARKS '!C120 -> 0 | D119: ='TEST MARKS '!J120 -> 0 | E119: ='TEST MARKS '!K120 -> 0 | F119: ='TEST MARKS '!L120 -> 0 | G119: ='TEST MARKS '!M120 -> 0 | H119: ='TEST MARKS '!N120 -> 0 | I119: ='TEST MARKS '!O120 -> 0 | J119: =D119/'TEST MARKS '!$J$155*100 -> #DIV/0! | K119: =E119/'TEST MARKS '!$K$155*100 -> #DIV/0! | L119: =F119/'TEST MARKS '!$L$155*100 -> #DIV/0! | M119: =G119/'TEST MARKS '!$M$155*100 -> #DIV/0! | N119: =H119/'TEST MARKS '!$N$155*100 -> #DIV/0! | O119: =I119/'TEST MARKS '!$O$155*100 -> #DIV/0! | P119: =IF(J119<'TEST MARKS '!$D$160,"N","Y") -> #DIV/0! | Q119: =IF(K119<'TEST MARKS '!$D$160,"N","Y") -> #DIV/0! | R119: =IF(L119<'TEST MARKS '!$D$160,"N","Y") -> #DIV/0! | S119: =IF(M119<'TEST MARKS '!$D$160,"N","Y") -> #DIV/0! | T119: =IF(N119<'TEST MARKS '!$D$160,"N","Y") -> #DIV/0! | U119: =IF(O119<'TEST MARKS '!$D$160,"N","Y") -> #DIV/0!
A120: ='TEST MARKS '!A131 -> 122 | B120: ='TEST MARKS '!B131 -> 0 | C120: ='TEST MARKS '!C131 -> 0 | D120: ='TEST MARKS '!J121 -> 0 | E120: ='TEST MARKS '!K121 -> 0 | F120: ='TEST MARKS '!L121 -> 0 | G120: ='TEST MARKS '!M121 -> 0 | H120: ='TEST MARKS '!N121 -> 0 | I120: ='TEST MARKS '!O121 -> 0 | J120: =D120/'TEST MARKS '!$J$155*100 -> #DIV/0! | K120: =E120/'TEST MARKS '!$K$155*100 -> #DIV/0! | L120: =F120/'TEST MARKS '!$L$155*100 -> #DIV/0! | M120: =G120/'TEST MARKS '!$M$155*100 -> #DIV/0! | N120: =H120/'TEST MARKS '!$N$155*100 -> #DIV/0! | O120: =I120/'TEST MARKS '!$O$155*100 -> #DIV/0! | P120: =IF(J120<'TEST MARKS '!$D$160,"N","Y") -> #DIV/0! | Q120: =IF(K120<'TEST MARKS '!$D$160,"N","Y") -> #DIV/0! | R120: =IF(L120<'TEST MARKS '!$D$160,"N","Y") -> #DIV/0! | S120: =IF(M120<'TEST MARKS '!$D$160,"N","Y") -> #DIV/0! | T120: =IF(N120<'TEST MARKS '!$D$160,"N","Y") -> #DIV/0! | U120: =IF(O120<'TEST MARKS '!$D$160,"N","Y") -> #DIV/0!
A121: ='TEST MARKS '!A132 -> 123 | B121: ='TEST MARKS '!B132 -> 0 | C121: ='TEST MARKS '!C132 -> 0 | D121: ='TEST MARKS '!J122 -> 0 | E121: ='TEST MARKS '!K122 -> 0 | F121: ='TEST MARKS '!L122 -> 0 | G121: ='TEST MARKS '!M122 -> 0 | H121: ='TEST MARKS '!N122 -> 0 | I121: ='TEST MARKS '!O122 -> 0 | J121: =D121/'TEST MARKS '!$J$155*100 -> #DIV/0! | K121: =E121/'TEST MARKS '!$K$155*100 -> #DIV/0! | L121: =F121/'TEST MARKS '!$L$155*100 -> #DIV/0! | M121: =G121/'TEST MARKS '!$M$155*100 -> #DIV/0! | N121: =H121/'TEST MARKS '!$N$155*100 -> #DIV/0! | O121: =I121/'TEST MARKS '!$O$155*100 -> #DIV/0! | P121: =IF(J121<'TEST MARKS '!$D$160,"N","Y") -> #DIV/0! | Q121: =IF(K121<'TEST MARKS '!$D$160,"N","Y") -> #DIV/0! | R121: =IF(L121<'TEST MARKS '!$D$160,"N","Y") -> #DIV/0! | S121: =IF(M121<'TEST MARKS '!$D$160,"N","Y") -> #DIV/0! | T121: =IF(N121<'TEST MARKS '!$D$160,"N","Y") -> #DIV/0! | U121: =IF(O121<'TEST MARKS '!$D$160,"N","Y") -> #DIV/0!
A122: ='TEST MARKS '!A133 -> 124 | B122: ='TEST MARKS '!B133 -> 0 | C122: ='TEST MARKS '!C133 -> 0 | D122: ='TEST MARKS '!J123 -> 0 | E122: ='TEST MARKS '!K123 -> 0 | F122: ='TEST MARKS '!L123 -> 0 | G122: ='TEST MARKS '!M123 -> 0 | H122: ='TEST MARKS '!N123 -> 0 | I122: ='TEST MARKS '!O123 -> 0 | J122: =D122/'TEST MARKS '!$J$155*100 -> #DIV/0! | K122: =E122/'TEST MARKS '!$K$155*100 -> #DIV/0! | L122: =F122/'TEST MARKS '!$L$155*100 -> #DIV/0! | M122: =G122/'TEST MARKS '!$M$155*100 -> #DIV/0! | N122: =H122/'TEST MARKS '!$N$155*100 -> #DIV/0! | O122: =I122/'TEST MARKS '!$O$155*100 -> #DIV/0! | P122: =IF(J122<'TEST MARKS '!$D$160,"N","Y") -> #DIV/0! | Q122: =IF(K122<'TEST MARKS '!$D$160,"N","Y") -> #DIV/0! | R122: =IF(L122<'TEST MARKS '!$D$160,"N","Y") -> #DIV/0! | S122: =IF(M122<'TEST MARKS '!$D$160,"N","Y") -> #DIV/0! | T122: =IF(N122<'TEST MARKS '!$D$160,"N","Y") -> #DIV/0! | U122: =IF(O122<'TEST MARKS '!$D$160,"N","Y") -> #DIV/0!
A123: ='TEST MARKS '!A134 -> 125 | B123: ='TEST MARKS '!B134 -> 0 | C123: ='TEST MARKS '!C134 -> 0 | D123: ='TEST MARKS '!J124 -> 0 | E123: ='TEST MARKS '!K124 -> 0 | F123: ='TEST MARKS '!L124 -> 0 | G123: ='TEST MARKS '!M124 -> 0 | H123: ='TEST MARKS '!N124 -> 0 | I123: ='TEST MARKS '!O124 -> 0 | J123: =D123/'TEST MARKS '!$J$155*100 -> #DIV/0! | K123: =E123/'TEST MARKS '!$K$155*100 -> #DIV/0! | L123: =F123/'TEST MARKS '!$L$155*100 -> #DIV/0! | M123: =G123/'TEST MARKS '!$M$155*100 -> #DIV/0! | N123: =H123/'TEST MARKS '!$N$155*100 -> #DIV/0! | O123: =I123/'TEST MARKS '!$O$155*100 -> #DIV/0! | P123: =IF(J123<'TEST MARKS '!$D$160,"N","Y") -> #DIV/0! | Q123: =IF(K123<'TEST MARKS '!$D$160,"N","Y") -> #DIV/0! | R123: =IF(L123<'TEST MARKS '!$D$160,"N","Y") -> #DIV/0! | S123: =IF(M123<'TEST MARKS '!$D$160,"N","Y") -> #DIV/0! | T123: =IF(N123<'TEST MARKS '!$D$160,"N","Y") -> #DIV/0! | U123: =IF(O123<'TEST MARKS '!$D$160,"N","Y") -> #DIV/0!
A124: ='TEST MARKS '!A135 -> 126 | B124: ='TEST MARKS '!B135 -> 0 | C124: ='TEST MARKS '!C135 -> 0 | D124: ='TEST MARKS '!J125 -> 0 | E124: ='TEST MARKS '!K125 -> 0 | F124: ='TEST MARKS '!L125 -> 0 | G124: ='TEST MARKS '!M125 -> 0 | H124: ='TEST MARKS '!N125 -> 0 | I124: ='TEST MARKS '!O125 -> 0 | J124: =D124/'TEST MARKS '!$J$155*100 -> #DIV/0! | K124: =E124/'TEST MARKS '!$K$155*100 -> #DIV/0! | L124: =F124/'TEST MARKS '!$L$155*100 -> #DIV/0! | M124: =G124/'TEST MARKS '!$M$155*100 -> #DIV/0! | N124: =H124/'TEST MARKS '!$N$155*100 -> #DIV/0! | O124: =I124/'TEST MARKS '!$O$155*100 -> #DIV/0! | P124: =IF(J124<'TEST MARKS '!$D$160,"N","Y") -> #DIV/0! | Q124: =IF(K124<'TEST MARKS '!$D$160,"N","Y") -> #DIV/0! | R124: =IF(L124<'TEST MARKS '!$D$160,"N","Y") -> #DIV/0! | S124: =IF(M124<'TEST MARKS '!$D$160,"N","Y") -> #DIV/0! | T124: =IF(N124<'TEST MARKS '!$D$160,"N","Y") -> #DIV/0! | U124: =IF(O124<'TEST MARKS '!$D$160,"N","Y") -> #DIV/0!
A125: ='TEST MARKS '!A136 -> 127 | B125: ='TEST MARKS '!B136 -> 0 | C125: ='TEST MARKS '!C136 -> 0 | D125: ='TEST MARKS '!J126 -> 0 | E125: ='TEST MARKS '!K126 -> 0 | F125: ='TEST MARKS '!L126 -> 0 | G125: ='TEST MARKS '!M126 -> 0 | H125: ='TEST MARKS '!N126 -> 0 | I125: ='TEST MARKS '!O126 -> 0 | J125: =D125/'TEST MARKS '!$J$155*100 -> #DIV/0! | K125: =E125/'TEST MARKS '!$K$155*100 -> #DIV/0! | L125: =F125/'TEST MARKS '!$L$155*100 -> #DIV/0! | M125: =G125/'TEST MARKS '!$M$155*100 -> #DIV/0! | N125: =H125/'TEST MARKS '!$N$155*100 -> #DIV/0! | O125: =I125/'TEST MARKS '!$O$155*100 -> #DIV/0! | P125: =IF(J125<'TEST MARKS '!$D$160,"N","Y") -> #DIV/0! | Q125: =IF(K125<'TEST MARKS '!$D$160,"N","Y") -> #DIV/0! | R125: =IF(L125<'TEST MARKS '!$D$160,"N","Y") -> #DIV/0! | S125: =IF(M125<'TEST MARKS '!$D$160,"N","Y") -> #DIV/0! | T125: =IF(N125<'TEST MARKS '!$D$160,"N","Y") -> #DIV/0! | U125: =IF(O125<'TEST MARKS '!$D$160,"N","Y") -> #DIV/0!
A126: ='TEST MARKS '!A137 -> 128 | B126: ='TEST MARKS '!B137 -> 0 | C126: ='TEST MARKS '!C137 -> 0 | D126: ='TEST MARKS '!J127 -> 0 | E126: ='TEST MARKS '!K127 -> 0 | F126: ='TEST MARKS '!L127 -> 0 | G126: ='TEST MARKS '!M127 -> 0 | H126: ='TEST MARKS '!N127 -> 0 | I126: ='TEST MARKS '!O127 -> 0 | J126: =D126/'TEST MARKS '!$J$155*100 -> #DIV/0! | K126: =E126/'TEST MARKS '!$K$155*100 -> #DIV/0! | L126: =F126/'TEST MARKS '!$L$155*100 -> #DIV/0! | M126: =G126/'TEST MARKS '!$M$155*100 -> #DIV/0! | N126: =H126/'TEST MARKS '!$N$155*100 -> #DIV/0! | O126: =I126/'TEST MARKS '!$O$155*100 -> #DIV/0! | P126: =IF(J126<'TEST MARKS '!$D$160,"N","Y") -> #DIV/0! | Q126: =IF(K126<'TEST MARKS '!$D$160,"N","Y") -> #DIV/0! | R126: =IF(L126<'TEST MARKS '!$D$160,"N","Y") -> #DIV/0! | S126: =IF(M126<'TEST MARKS '!$D$160,"N","Y") -> #DIV/0! | T126: =IF(N126<'TEST MARKS '!$D$160,"N","Y") -> #DIV/0! | U126: =IF(O126<'TEST MARKS '!$D$160,"N","Y") -> #DIV/0!
A127: ='TEST MARKS '!A138 -> 129 | B127: ='TEST MARKS '!B138 -> 0 | C127: ='TEST MARKS '!C138 -> 0 | D127: ='TEST MARKS '!J128 -> 0 | E127: ='TEST MARKS '!K128 -> 0 | F127: ='TEST MARKS '!L128 -> 0 | G127: ='TEST MARKS '!M128 -> 0 | H127: ='TEST MARKS '!N128 -> 0 | I127: ='TEST MARKS '!O128 -> 0 | J127: =D127/'TEST MARKS '!$J$155*100 -> #DIV/0! | K127: =E127/'TEST MARKS '!$K$155*100 -> #DIV/0! | L127: =F127/'TEST MARKS '!$L$155*100 -> #DIV/0! | M127: =G127/'TEST MARKS '!$M$155*100 -> #DIV/0! | N127: =H127/'TEST MARKS '!$N$155*100 -> #DIV/0! | O127: =I127/'TEST MARKS '!$O$155*100 -> #DIV/0! | P127: =IF(J127<'TEST MARKS '!$D$160,"N","Y") -> #DIV/0! | Q127: =IF(K127<'TEST MARKS '!$D$160,"N","Y") -> #DIV/0! | R127: =IF(L127<'TEST MARKS '!$D$160,"N","Y") -> #DIV/0! | S127: =IF(M127<'TEST MARKS '!$D$160,"N","Y") -> #DIV/0! | T127: =IF(N127<'TEST MARKS '!$D$160,"N","Y") -> #DIV/0! | U127: =IF(O127<'TEST MARKS '!$D$160,"N","Y") -> #DIV/0!
A128: ='TEST MARKS '!A139 -> 130 | B128: ='TEST MARKS '!B139 -> 0 | C128: ='TEST MARKS '!C139 -> 0 | D128: ='TEST MARKS '!J129 -> 0 | E128: ='TEST MARKS '!K129 -> 0 | F128: ='TEST MARKS '!L129 -> 0 | G128: ='TEST MARKS '!M129 -> 0 | H128: ='TEST MARKS '!N129 -> 0 | I128: ='TEST MARKS '!O129 -> 0 | J128: =D128/'TEST MARKS '!$J$155*100 -> #DIV/0! | K128: =E128/'TEST MARKS '!$K$155*100 -> #DIV/0! | L128: =F128/'TEST MARKS '!$L$155*100 -> #DIV/0! | M128: =G128/'TEST MARKS '!$M$155*100 -> #DIV/0! | N128: =H128/'TEST MARKS '!$N$155*100 -> #DIV/0! | O128: =I128/'TEST MARKS '!$O$155*100 -> #DIV/0! | P128: =IF(J128<'TEST MARKS '!$D$160,"N","Y") -> #DIV/0! | Q128: =IF(K128<'TEST MARKS '!$D$160,"N","Y") -> #DIV/0! | R128: =IF(L128<'TEST MARKS '!$D$160,"N","Y") -> #DIV/0! | S128: =IF(M128<'TEST MARKS '!$D$160,"N","Y") -> #DIV/0! | T128: =IF(N128<'TEST MARKS '!$D$160,"N","Y") -> #DIV/0! | U128: =IF(O128<'TEST MARKS '!$D$160,"N","Y") -> #DIV/0!
A129: ='TEST MARKS '!A140 -> 131 | B129: ='TEST MARKS '!B140 -> 0 | C129: ='TEST MARKS '!C140 -> 0 | D129: ='TEST MARKS '!J130 -> 0 | E129: ='TEST MARKS '!K130 -> 0 | F129: ='TEST MARKS '!L130 -> 0 | G129: ='TEST MARKS '!M130 -> 0 | H129: ='TEST MARKS '!N130 -> 0 | I129: ='TEST MARKS '!O130 -> 0 | J129: =D129/'TEST MARKS '!$J$155*100 -> #DIV/0! | K129: =E129/'TEST MARKS '!$K$155*100 -> #DIV/0! | L129: =F129/'TEST MARKS '!$L$155*100 -> #DIV/0! | M129: =G129/'TEST MARKS '!$M$155*100 -> #DIV/0! | N129: =H129/'TEST MARKS '!$N$155*100 -> #DIV/0! | O129: =I129/'TEST MARKS '!$O$155*100 -> #DIV/0! | P129: =IF(J129<'TEST MARKS '!$D$160,"N","Y") -> #DIV/0! | Q129: =IF(K129<'TEST MARKS '!$D$160,"N","Y") -> #DIV/0! | R129: =IF(L129<'TEST MARKS '!$D$160,"N","Y") -> #DIV/0! | S129: =IF(M129<'TEST MARKS '!$D$160,"N","Y") -> #DIV/0! | T129: =IF(N129<'TEST MARKS '!$D$160,"N","Y") -> #DIV/0! | U129: =IF(O129<'TEST MARKS '!$D$160,"N","Y") -> #DIV/0!
A130: ='TEST MARKS '!A141 -> 132 | B130: ='TEST MARKS '!B141 -> 0 | C130: ='TEST MARKS '!C141 -> 0 | D130: ='TEST MARKS '!J131 -> 0 | E130: ='TEST MARKS '!K131 -> 0 | F130: ='TEST MARKS '!L131 -> 0 | G130: ='TEST MARKS '!M131 -> 0 | H130: ='TEST MARKS '!N131 -> 0 | I130: ='TEST MARKS '!O131 -> 0 | J130: =D130/'TEST MARKS '!$J$155*100 -> #DIV/0! | K130: =E130/'TEST MARKS '!$K$155*100 -> #DIV/0! | L130: =F130/'TEST MARKS '!$L$155*100 -> #DIV/0! | M130: =G130/'TEST MARKS '!$M$155*100 -> #DIV/0! | N130: =H130/'TEST MARKS '!$N$155*100 -> #DIV/0! | O130: =I130/'TEST MARKS '!$O$155*100 -> #DIV/0! | P130: =IF(J130<'TEST MARKS '!$D$160,"N","Y") -> #DIV/0! | Q130: =IF(K130<'TEST MARKS '!$D$160,"N","Y") -> #DIV/0! | R130: =IF(L130<'TEST MARKS '!$D$160,"N","Y") -> #DIV/0! | S130: =IF(M130<'TEST MARKS '!$D$160,"N","Y") -> #DIV/0! | T130: =IF(N130<'TEST MARKS '!$D$160,"N","Y") -> #DIV/0! | U130: =IF(O130<'TEST MARKS '!$D$160,"N","Y") -> #DIV/0!
A131: ='TEST MARKS '!A142 -> 133 | B131: ='TEST MARKS '!B142 -> 0 | C131: ='TEST MARKS '!C142 -> 0 | D131: ='TEST MARKS '!J132 -> 0 | E131: ='TEST MARKS '!K132 -> 0 | F131: ='TEST MARKS '!L132 -> 0 | G131: ='TEST MARKS '!M132 -> 0 | H131: ='TEST MARKS '!N132 -> 0 | I131: ='TEST MARKS '!O132 -> 0 | J131: =D131/'TEST MARKS '!$J$155*100 -> #DIV/0! | K131: =E131/'TEST MARKS '!$K$155*100 -> #DIV/0! | L131: =F131/'TEST MARKS '!$L$155*100 -> #DIV/0! | M131: =G131/'TEST MARKS '!$M$155*100 -> #DIV/0! | N131: =H131/'TEST MARKS '!$N$155*100 -> #DIV/0! | O131: =I131/'TEST MARKS '!$O$155*100 -> #DIV/0! | P131: =IF(J131<'TEST MARKS '!$D$160,"N","Y") -> #DIV/0! | Q131: =IF(K131<'TEST MARKS '!$D$160,"N","Y") -> #DIV/0! | R131: =IF(L131<'TEST MARKS '!$D$160,"N","Y") -> #DIV/0! | S131: =IF(M131<'TEST MARKS '!$D$160,"N","Y") -> #DIV/0! | T131: =IF(N131<'TEST MARKS '!$D$160,"N","Y") -> #DIV/0! | U131: =IF(O131<'TEST MARKS '!$D$160,"N","Y") -> #DIV/0!
... A133: ='TEST MARKS '!A144 -> 135 | B133: ='TEST MARKS '!B144 -> 0 | C133: ='TEST MARKS '!C144 -> 0 | D133: ='TEST MARKS '!J134 -> 0 | E133: ='TEST MARKS '!K134 -> 0 | F133: ='TEST MARKS '!L134 -> 0 | G133: ='TEST MARKS '!M134 -> 0 | H133: ='TEST MARKS '!N134 -> 0 | I133: ='TEST MARKS '!O134 -> 0 | J133: =D133/'TEST MARKS '!$J$155*100 -> #DIV/0! | K133: =E133/'TEST MARKS '!$K$155*100 -> #DIV/0! | L133: =F133/'TEST MARKS '!$L$155*100 -> #DIV/0! | M133: =G133/'TEST MARKS '!$M$155*100 -> #DIV/0! | N133: =H133/'TEST MARKS '!$N$155*100 -> #DIV/0! | O133: =I133/'TEST MARKS '!$O$155*100 -> #DIV/0! | P133: =IF(J133<'TEST MARKS '!$D$160,"N","Y") -> #DIV/0! | Q133: =IF(K133<'TEST MARKS '!$D$160,"N","Y") -> #DIV/0! | R133: =IF(L133<'TEST MARKS '!$D$160,"N","Y") -> #DIV/0! | S133: =IF(M133<'TEST MARKS '!$D$160,"N","Y") -> #DIV/0! | T133: =IF(N133<'TEST MARKS '!$D$160,"N","Y") -> #DIV/0! | U133: =IF(O133<'TEST MARKS '!$D$160,"N","Y") -> #DIV/0!
O136: NO OF Y | P136: =COUNTIF(P9:P133,"Y") -> 0 | Q136: =COUNTIF(Q9:Q133,"Y") -> 0 | R136: =COUNTIF(R9:R133,"Y") -> 0 | S136: =COUNTIF(S9:S133,"Y") -> 0 | T136: =COUNTIF(T9:T133,"Y") -> 0 | U136: =COUNTIF(U9:U133,"Y") -> 0
O137: ATTAINMENT | P137: =P136/'TEST MARKS '!$D$158*100 -> 0 | Q137: =Q136/'TEST MARKS '!$D$158*100 -> 0 | R137: =R136/'TEST MARKS '!$D$158*100 -> 0 | S137: =S136/'TEST MARKS '!$D$158*100 -> 0 | T137: =T136/'TEST MARKS '!$D$158*100 -> 0 | U137: =U136/'TEST MARKS '!$D$158*100 -> 0
O141: CO's | P141: CO1 | Q141: CO2 | R141: CO3 | S141: CO4 | T141: CO5 | U141: CO6
O142: ASSIGNMEENT MARKS ATTAINMENT | P142: =P137 -> 0 | Q142: =Q137 -> 0 | R142: =R137 -> 0 | S142: =S137 -> 0 | T142: =T137 -> 0 | U142: =U137 -> 0

Sheet SEE-final exam CO
P1: TARGET: 70% OF STUDENTS TO SCORE 40% and ABOVE
A2: Sl. No. | B2: Name of the student | C2: USN | D2: EXAM MARKS OBTAINED(same for all COs) | J2: EXAMINATION ATTAINMENT (%) | P2: Y OR N
D5: CO1 | E5: CO2 | F5: CO3 | G5: CO4 | H5: CO5 | I5: CO6 | J5: CO1 | K5: CO2 | L5: CO3 | M5: CO4 | N5: CO5 | O5: CO6 | P5: CO1 | Q5: CO2 | R5: CO3 | S5: CO4 | T5: CO5 | U5: CO6
A6: ='TEST MARKS '!A10 -> 1 | B6: ='TEST MARKS '!B10 -> AAKASH KUMAR | C6: ='TEST MARKS '!C10 -> 1SG15ME001 | D6: ='TEST MARKS '!P10 -> 24 | E6: =D6 -> 24 | F6: =E6 -> 24 | G6: =F6 -> 24 | H6: =G6 -> 24 | I6: =H6 -> 24 | J6: =D6/'TEST MARKS '!$D$163*100 -> 30 | K6: =E6/'TEST MARKS '!$D$163*100 -> 30 | L6: =F6/'TEST MARKS '!$D$163*100 -> 30 | M6: =G6/'TEST MARKS '!$D$163*100 -> 30 | N6: =H6/'TEST MARKS '!$D$163*100 -> 30 | O6: =I6/'TEST MARKS '!$D$163*100 -> 30 | P6: =IF(J6<'TEST MARKS '!$D$161,"N","Y") -> N | Q6: =IF(K6<'TEST MARKS '!$D$161,"N","Y") -> N | R6: =IF(L6<'TEST MARKS '!$D$161,"N","Y") -> N | S6: =IF(M6<'TEST MARKS '!$D$161,"N","Y") -> N | T6: =IF(N6<'TEST MARKS '!$D$161,"N","Y") -> N | U6: =IF(O6<'TEST MARKS '!$D$161,"N","Y") -> N
A7: ='TEST MARKS '!A11 -> 2 | B7: ='TEST MARKS '!B11 -> ABHISHEK MADAPPAWALE | C7: ='TEST MARKS '!C11 -> 1SG15ME002 | D7: ='TEST MARKS '!P11 -> 52 | E7: =D7 -> 52 | F7: =E7 -> 52 | G7: =F7 -> 52 | H7: =G7 -> 52 | I7: =H7 -> 52 | J7: =D7/'TEST MARKS '!$D$163*100 -> 65 | K7: =E7/'TEST MARKS '!$D$163*100 -> 65 | L7: =F7/'TEST MARKS '!$D$163*100 -> 65 | M7: =G7/'TEST MARKS '!$D$163*100 -> 65 | N7: =H7/'TEST MARKS '!$D$163*100 -> 65 | O7: =I7/'TEST MARKS '!$D$163*100 -> 65 | P7: =IF(J7<'TEST MARKS '!$D$161,"N","Y") -> Y | Q7: =IF(K7<'TEST MARKS '!$D$161,"N","Y") -> Y | R7: =IF(L7<'TEST MARKS '!$D$161,"N","Y") -> Y | S7: =IF(M7<'TEST MARKS '!$D$161,"N","Y") -> Y | T7: =IF(N7<'TEST MARKS '!$D$161,"N","Y") -> Y | U7: =IF(O7<'TEST MARKS '!$D$161,"N","Y") -> Y
A8: ='TEST MARKS '!A12 -> 3 | B8: ='TEST MARKS '!B12 -> ADITHYA N | C8: ='TEST MARKS '!C12 -> 1SG15ME003 | D8: ='TEST MARKS '!P12 -> 44 | E8: =D8 -> 44 | F8: =E8 -> 44 | G8: =F8 -> 44 | H8: =G8 -> 44 | I8: =H8 -> 44 | J8: =D8/'TEST MARKS '!$D$163*100 -> 55 | K8: =E8/'TEST MARKS '!$D$163*100 -> 55 | L8: =F8/'TEST MARKS '!$D$163*100 -> 55 | M8: =G8/'TEST MARKS '!$D$163*100 -> 55 | N8: =H8/'TEST MARKS '!$D$163*100 -> 55 | O8: =I8/'TEST MARKS '!$D$163*100 -> 55 | P8: =IF(J8<'TEST MARKS '!$D$161,"N","Y") -> N | Q8: =IF(K8<'TEST MARKS '!$D$161,"N","Y") -> N | R8: =IF(L8<'TEST MARKS '!$D$161,"N","Y") -> N | S8: =IF(M8<'TEST MARKS '!$D$161,"N","Y") -> N | T8: =IF(N8<'TEST MARKS '!$D$161,"N","Y") -> N | U8: =IF(O8<'TEST MARKS '!$D$161,"N","Y") -> N
A9: ='TEST MARKS '!A13 -> 4 | B9: ='TEST MARKS '!B13 -> AFTAB AHMED MADAR WALA | C9: ='TEST MARKS '!C13 -> 1SG15ME004 | D9: ='TEST MARKS '!P13 -> 60 | E9: =D9 -> 60 | F9: =E9 -> 60 | G9: =F9 -> 60 | H9: =G9 -> 60 | I9: =H9 -> 60 | J9: =D9/'TEST MARKS '!$D$163*100 -> 75 | K9: =E9/'TEST MARKS '!$D$163*100 -> 75 | L9: =F9/'TEST MARKS '!$D$163*100 -> 75 | M9: =G9/'TEST MARKS '!$D$163*100 -> 75 | N9: =H9/'TEST MARKS '!$D$163*100 -> 75 | O9: =I9/'TEST MARKS '!$D$163*100 -> 75 | P9: =IF(J9<'TEST MARKS '!$D$161,"N","Y") -> Y | Q9: =IF(K9<'TEST MARKS '!$D$161,"N","Y") -> Y | R9: =IF(L9<'TEST MARKS '!$D$161,"N","Y") -> Y | S9: =IF(M9<'TEST MARKS '!$D$161,"N","Y") -> Y | T9: =IF(N9<'TEST MARKS '!$D$161,"N","Y") -> Y | U9: =IF(O9<'TEST MARKS '!$D$161,"N","Y") -> Y
A10: ='TEST MARKS '!A14 -> 5 | B10: ='TEST MARKS '!B14 -> AJEYA.V | C10: ='TEST MARKS '!C14 -> 1SG15ME006 | D10: ='TEST MARKS '!P14 -> 76 | E10: =D10 -> 76 | F10: =E10 -> 76 | G10: =F10 -> 76 | H10: =G10 -> 76 | I10: =H10 -> 76 | J10: =D10/'TEST MARKS '!$D$163*100 -> 95 | K10: =E10/'TEST MARKS '!$D$163*100 -> 95 | L10: =F10/'TEST MARKS '!$D$163*100 -> 95 | M10: =G10/'TEST MARKS '!$D$163*100 -> 95 | N10: =H10/'TEST MARKS '!$D$163*100 -> 95 | O10: =I10/'TEST MARKS '!$D$163*100 -> 95 | P10: =IF(J10<'TEST MARKS '!$D$161,"N","Y") -> Y | Q10: =IF(K10<'TEST MARKS '!$D$161,"N","Y") -> Y | R10: =IF(L10<'TEST MARKS '!$D$161,"N","Y") -> Y | S10: =IF(M10<'TEST MARKS '!$D$161,"N","Y") -> Y | T10: =IF(N10<'TEST MARKS '!$D$161,"N","Y") -> Y | U10: =IF(O10<'TEST MARKS '!$D$161,"N","Y") -> Y
A11: ='TEST MARKS '!A15 -> 6 | B11: ='TEST MARKS '!B15 -> AJAY.K | C11: ='TEST MARKS '!C15 -> 1SG15ME005 | D11: ='TEST MARKS '!P15 -> 30 | E11: =D11 -> 30 | F11: =E11 -> 30 | G11: =F11 -> 30 | H11: =G11 -> 30 | I11: =H11 -> 30 | J11: =D11/'TEST MARKS '!$D$163*100 -> 37.5 | K11: =E11/'TEST MARKS '!$D$163*100 -> 37.5 | L11: =F11/'TEST MARKS '!$D$163*100 -> 37.5 | M11: =G11/'TEST MARKS '!$D$163*100 -> 37.5 | N11: =H11/'TEST MARKS '!$D$163*100 -> 37.5 | O11: =I11/'TEST MARKS '!$D$163*100 -> 37.5 | P11: =IF(J11<'TEST MARKS '!$D$161,"N","Y") -> N | Q11: =IF(K11<'TEST MARKS '!$D$161,"N","Y") -> N | R11: =IF(L11<'TEST MARKS '!$D$161,"N","Y") -> N | S11: =IF(M11<'TEST MARKS '!$D$161,"N","Y") -> N | T11: =IF(N11<'TEST MARKS '!$D$161,"N","Y") -> N | U11: =IF(O11<'TEST MARKS '!$D$161,"N","Y") -> N
A12: ='TEST MARKS '!A16 -> 7 | B12: ='TEST MARKS '!B16 -> AJITH S P | C12: ='TEST MARKS '!C16 -> 1SG15ME007 | D12: ='TEST MARKS '!P16 -> 44 | E12: =D12 -> 44 | F12: =E12 -> 44 | G12: =F12 -> 44 | H12: =G12 -> 44 | I12: =H12 -> 44 | J12: =D12/'TEST MARKS '!$D$163*100 -> 55 | K12: =E12/'TEST MARKS '!$D$163*100 -> 55 | L12: =F12/'TEST MARKS '!$D$163*100 -> 55 | M12: =G12/'TEST MARKS '!$D$163*100 -> 55 | N12: =H12/'TEST MARKS '!$D$163*100 -> 55 | O12: =I12/'TEST MARKS '!$D$163*100 -> 55 | P12: =IF(J12<'TEST MARKS '!$D$161,"N","Y") -> N | Q12: =IF(K12<'TEST MARKS '!$D$161,"N","Y") -> N | R12: =IF(L12<'TEST MARKS '!$D$161,"N","Y") -> N | S12: =IF(M12<'TEST MARKS '!$D$161,"N","Y") -> N | T12: =IF(N12<'TEST MARKS '!$D$161,"N","Y") -> N | U12: =IF(O12<'TEST MARKS '!$D$161,"N","Y") -> N
A13: ='TEST MARKS '!A17 -> 8 | B13: ='TEST MARKS '!B17 -> AKSHAY S | C13: ='TEST MARKS '!C17 -> 1SG15ME008 | D13: ='TEST MARKS '!P17 -> 30 | E13: =D13 -> 30 | F13: =E13 -> 30 | G13: =F13 -> 30 | H13: =G13 -> 30 | I13: =H13 -> 30 | J13: =D13/'TEST MARKS '!$D$163*100 -> 37.5 | K13: =E13/'TEST MARKS '!$D$163*100 -> 37.5 | L13: =F13/'TEST MARKS '!$D$163*100 -> 37.5 | M13: =G13/'TEST MARKS '!$D$163*100 -> 37.5 | N13: =H13/'TEST MARKS '!$D$163*100 -> 37.5 | O13: =I13/'TEST MARKS '!$D$163*100 -> 37.5 | P13: =IF(J13<'TEST MARKS '!$D$161,"N","Y") -> N | Q13: =IF(K13<'TEST MARKS '!$D$161,"N","Y") -> N | R13: =IF(L13<'TEST MARKS '!$D$161,"N","Y") -> N | S13: =IF(M13<'TEST MARKS '!$D$161,"N","Y") -> N | T13: =IF(N13<'TEST MARKS '!$D$161,"N","Y") -> N | U13: =IF(O13<'TEST MARKS '!$D$161,"N","Y") -> N
A14: ='TEST MARKS '!A18 -> 9 | B14: ='TEST MARKS '!B18 -> AMAN NAIN | C14: ='TEST MARKS '!C18 -> 1SG15ME009 | D14: ='TEST MARKS '!P18 -> 52 | E14: =D14 -> 52 | F14: =E14 -> 52 | G14: =F14 -> 52 | H14: =G14 -> 52 | I14: =H14 -> 52 | J14: =D14/'TEST MARKS '!$D$163*100 -> 65 | K14: =E14/'TEST MARKS '!$D$163*100 -> 65 | L14: =F14/'TEST MARKS '!$D$163*100 -> 65 | M14: =G14/'TEST MARKS '!$D$163*100 -> 65 | N14: =H14/'TEST MARKS '!$D$163*100 -> 65 | O14: =I14/'TEST MARKS '!$D$163*100 -> 65 | P14: =IF(J14<'TEST MARKS '!$D$161,"N","Y") -> Y | Q14: =IF(K14<'TEST MARKS '!$D$161,"N","Y") -> Y | R14: =IF(L14<'TEST MARKS '!$D$161,"N","Y") -> Y | S14: =IF(M14<'TEST MARKS '!$D$161,"N","Y") -> Y | T14: =IF(N14<'TEST MARKS '!$D$161,"N","Y") -> Y | U14: =IF(O14<'TEST MARKS '!$D$161,"N","Y") -> Y
A15: ='TEST MARKS '!A19 -> 10 | B15: ='TEST MARKS '!B19 -> AMITH.R | C15: ='TEST MARKS '!C19 -> 1SG15ME010 | D15: ='TEST MARKS '!P19 -> 68 | E15: =D15 -> 68 | F15: =E15 -> 68 | G15: =F15 -> 68 | H15: =G15 -> 68 | I15: =H15 -> 68 | J15: =D15/'TEST MARKS '!$D$163*100 -> 85 | K15: =E15/'TEST MARKS '!$D$163*100 -> 85 | L15: =F15/'TEST MARKS '!$D$163*100 -> 85 | M15: =G15/'TEST MARKS '!$D$163*100 -> 85 | N15: =H15/'TEST MARKS '!$D$163*100 -> 85 | O15: =I15/'TEST MARKS '!$D$163*100 -> 85 | P15: =IF(J15<'TEST MARKS '!$D$161,"N","Y") -> Y | Q15: =IF(K15<'TEST MARKS '!$D$161,"N","Y") -> Y | R15: =IF(L15<'TEST MARKS '!$D$161,"N","Y") -> Y | S15: =IF(M15<'TEST MARKS '!$D$161,"N","Y") -> Y | T15: =IF(N15<'TEST MARKS '!$D$161,"N","Y") -> Y | U15: =IF(O15<'TEST MARKS '!$D$161,"N","Y") -> Y
A16: ='TEST MARKS '!A20 -> 11 | B16: ='TEST MARKS '!B20 -> ANIL KUMAR C | C16: ='TEST MARKS '!C20 -> 1SG15ME011 | D16: ='TEST MARKS '!P20 -> 52 | E16: =D16 -> 52 | F16: =E16 -> 52 | G16: =F16 -> 52 | H16: =G16 -> 52 | I16: =H16 -> 52 | J16: =D16/'TEST MARKS '!$D$163*100 -> 65 | K16: =E16/'TEST MARKS '!$D$163*100 -> 65 | L16: =F16/'TEST MARKS '!$D$163*100 -> 65 | M16: =G16/'TEST MARKS '!$D$163*100 -> 65 | N16: =H16/'TEST MARKS '!$D$163*100 -> 65 | O16: =I16/'TEST MARKS '!$D$163*100 -> 65 | P16: =IF(J16<'TEST MARKS '!$D$161,"N","Y") -> Y | Q16: =IF(K16<'TEST MARKS '!$D$161,"N","Y") -> Y | R16: =IF(L16<'TEST MARKS '!$D$161,"N","Y") -> Y | S16: =IF(M16<'TEST MARKS '!$D$161,"N","Y") -> Y | T16: =IF(N16<'TEST MARKS '!$D$161,"N","Y") -> Y | U16: =IF(O16<'TEST MARKS '!$D$161,"N","Y") -> Y
A17: ='TEST MARKS '!A21 -> 12 | B17: ='TEST MARKS '!B21 -> ANIRUDH R K | C17: ='TEST MARKS '!C21 -> 1SG15ME012 | D17: ='TEST MARKS '!P21 -> 36 | E17: =D17 -> 36 | F17: =E17 -> 36 | G17: =F17 -> 36 | H17: =G17 -> 36 | I17: =H17 -> 36 | J17: =D17/'TEST MARKS '!$D$163*100 -> 45 | K17: =E17/'TEST MARKS '!$D$163*100 -> 45 | L17: =F17/'TEST MARKS '!$D$163*100 -> 45 | M17: =G17/'TEST MARKS '!$D$163*100 -> 45 | N17: =H17/'TEST MARKS '!$D$163*100 -> 45 | O17: =I17/'TEST MARKS '!$D$163*100 -> 45 | P17: =IF(J17<'TEST MARKS '!$D$161,"N","Y") -> N | Q17: =IF(K17<'TEST MARKS '!$D$161,"N","Y") -> N | R17: =IF(L17<'TEST MARKS '!$D$161,"N","Y") -> N | S17: =IF(M17<'TEST MARKS '!$D$161,"N","Y") -> N | T17: =IF(N17<'TEST MARKS '!$D$161,"N","Y") -> N | U17: =IF(O17<'TEST MARKS '!$D$161,"N","Y") -> N
... A116: ='TEST MARKS '!A120 -> 111 | B116: ='TEST MARKS '!B120 -> 0 | C116: ='TEST MARKS '!C120 -> 0 | D116: ='TEST MARKS '!P120 -> 0 | E116: =D116 -> 0 | F116: =E116 -> 0 | G116: =F116 -> 0 | H116: =G116 -> 0 | I116: =H116 -> 0 | J116: =D116/'TEST MARKS '!$D$163*100 -> 0 | K116: =E116/'TEST MARKS '!$D$163*100 -> 0 | L116: =F116/'TEST MARKS '!$D$163*100 -> 0 | M116: =G116/'TEST MARKS '!$D$163*100 -> 0 | N116: =H116/'TEST MARKS '!$D$163*100 -> 0 | O116: =I116/'TEST MARKS '!$D$163*100 -> 0 | P116: =IF(J116<'TEST MARKS '!$D$161,"N","Y") -> N | Q116: =IF(K116<'TEST MARKS '!$D$161,"N","Y") -> N | R116: =IF(L116<'TEST MARKS '!$D$161,"N","Y") -> N | S116: =IF(M116<'TEST MARKS '!$D$161,"N","Y") -> N | T116: =IF(N116<'TEST MARKS '!$D$161,"N","Y") -> N | U116: =IF(O116<'TEST MARKS '!$D$161,"N","Y") -> N
A117: ='TEST MARKS '!A131 -> 122 | B117: ='TEST MARKS '!B121 -> 0 | C117: ='TEST MARKS '!C121 -> 0 | D117: ='TEST MARKS '!P121 -> 0 | E117: =D117 -> 0 | F117: =E117 -> 0 | G117: =F117 -> 0 | H117: =G117 -> 0 | I117: =H117 -> 0 | J117: =D117/'TEST MARKS '!$D$163*100 -> 0 | K117: =E117/'TEST MARKS '!$D$163*100 -> 0 | L117: =F117/'TEST MARKS '!$D$163*100 -> 0 | M117: =G117/'TEST MARKS '!$D$163*100 -> 0 | N117: =H117/'TEST MARKS '!$D$163*100 -> 0 | O117: =I117/'TEST MARKS '!$D$163*100 -> 0 | P117: =IF(J117<'TEST MARKS '!$D$161,"N","Y") -> N | Q117: =IF(K117<'TEST MARKS '!$D$161,"N","Y") -> N | R117: =IF(L117<'TEST MARKS '!$D$161,"N","Y") -> N | S117: =IF(M117<'TEST MARKS '!$D$161,"N","Y") -> N | T117: =IF(N117<'TEST MARKS '!$D$161,"N","Y") -> N | U117: =IF(O117<'TEST MARKS '!$D$161,"N","Y") -> N
A118: ='TEST MARKS '!A132 -> 123 | B118: ='TEST MARKS '!B122 -> 0 | C118: ='TEST MARKS '!C122 -> 0 | D118: ='TEST MARKS '!P122 -> 0 | E118: =D118 -> 0 | F118: =E118 -> 0 | G118: =F118 -> 0 | H118: =G118 -> 0 | I118: =H118 -> 0 | J118: =D118/'TEST MARKS '!$D$163*100 -> 0 | K118: =E118/'TEST MARKS '!$D$163*100 -> 0 | L118: =F118/'TEST MARKS '!$D$163*100 -> 0 | M118: =G118/'TEST MARKS '!$D$163*100 -> 0 | N118: =H118/'TEST MARKS '!$D$163*100 -> 0 | O118: =I118/'TEST MARKS '!$D$163*100 -> 0 | P118: =IF(J118<'TEST MARKS '!$D$161,"N","Y") -> N | Q118: =IF(K118<'TEST MARKS '!$D$161,"N","Y") -> N | R118: =IF(L118<'TEST MARKS '!$D$161,"N","Y") -> N | S118: =IF(M118<'TEST MARKS '!$D$161,"N","Y") -> N | T118: =IF(N118<'TEST MARKS '!$D$161,"N","Y") -> N | U118: =IF(O118<'TEST MARKS '!$D$161,"N","Y") -> N
A119: ='TEST MARKS '!A133 -> 124 | B119: ='TEST MARKS '!B123 -> 0 | C119: ='TEST MARKS '!C123 -> 0 | D119: ='TEST MARKS '!P123 -> 0 | E119: =D119 -> 0 | F119: =E119 -> 0 | G119: =F119 -> 0 | H119: =G119 -> 0 | I119: =H119 -> 0 | J119: =D119/'TEST MARKS '!$D$163*100 -> 0 | K119: =E119/'TEST MARKS '!$D$163*100 -> 0 | L119: =F119/'TEST MARKS '!$D$163*100 -> 0 | M119: =G119/'TEST MARKS '!$D$163*100 -> 0 | N119: =H119/'TEST MARKS '!$D$163*100 -> 0 | O119: =I119/'TEST MARKS '!$D$163*100 -> 0 | P119: =IF(J119<'TEST MARKS '!$D$161,"N","Y") -> N | Q119: =IF(K119<'TEST MARKS '!$D$161,"N","Y") -> N | R119: =IF(L119<'TEST MARKS '!$D$161,"N","Y") -> N | S119: =IF(M119<'TEST MARKS '!$D$161,"N","Y") -> N | T119: =IF(N119<'TEST MARKS '!$D$161,"N","Y") -> N | U119: =IF(O119<'TEST MARKS '!$D$161,"N","Y") -> N
A120: ='TEST MARKS '!A134 -> 125 | B120: ='TEST MARKS '!B124 -> 0 | C120: ='TEST MARKS '!C124 -> 0 | D120: ='TEST MARKS '!P124 -> 0 | E120: =D120 -> 0 | F120: =E120 -> 0 | G120: =F120 -> 0 | H120: =G120 -> 0 | I120: =H120 -> 0 | J120: =D120/'TEST MARKS '!$D$163*100 -> 0 | K120: =E120/'TEST MARKS '!$D$163*100 -> 0 | L120: =F120/'TEST MARKS '!$D$163*100 -> 0 | M120: =G120/'TEST MARKS '!$D$163*100 -> 0 | N120: =H120/'TEST MARKS '!$D$163*100 -> 0 | O120: =I120/'TEST MARKS '!$D$163*100 -> 0 | P120: =IF(J120<'TEST MARKS '!$D$161,"N","Y") -> N | Q120: =IF(K120<'TEST MARKS '!$D$161,"N","Y") -> N | R120: =IF(L120<'TEST MARKS '!$D$161,"N","Y") -> N | S120: =IF(M120<'TEST MARKS '!$D$161,"N","Y") -> N | T120: =IF(N120<'TEST MARKS '!$D$161,"N","Y") -> N | U120: =IF(O120<'TEST MARKS '!$D$161,"N","Y") -> N
A121: ='TEST MARKS '!A135 -> 126 | B121: ='TEST MARKS '!B125 -> 0 | C121: ='TEST MARKS '!C125 -> 0 | D121: ='TEST MARKS '!P125 -> 0 | E121: =D121 -> 0 | F121: =E121 -> 0 | G121: =F121 -> 0 | H121: =G121 -> 0 | I121: =H121 -> 0 | J121: =D121/'TEST MARKS '!$D$163*100 -> 0 | K121: =E121/'TEST MARKS '!$D$163*100 -> 0 | L121: =F121/'TEST MARKS '!$D$163*100 -> 0 | M121: =G121/'TEST MARKS '!$D$163*100 -> 0 | N121: =H121/'TEST MARKS '!$D$163*100 -> 0 | O121: =I121/'TEST MARKS '!$D$163*100 -> 0 | P121: =IF(J121<'TEST MARKS '!$D$161,"N","Y") -> N | Q121: =IF(K121<'TEST MARKS '!$D$161,"N","Y") -> N | R121: =IF(L121<'TEST MARKS '!$D$161,"N","Y") -> N | S121: =IF(M121<'TEST MARKS '!$D$161,"N","Y") -> N | T121: =IF(N121<'TEST MARKS '!$D$161,"N","Y") -> N | U121: =IF(O121<'TEST MARKS '!$D$161,"N","Y") -> N
A122: ='TEST MARKS '!A136 -> 127 | B122: ='TEST MARKS '!B126 -> 0 | C122: ='TEST MARKS '!C126 -> 0 | D122: ='TEST MARKS '!P126 -> 0 | E122: =D122 -> 0 | F122: =E122 -> 0 | G122: =F122 -> 0 | H122: =G122 -> 0 | I122: =H122 -> 0 | J122: =D122/'TEST MARKS '!$D$163*100 -> 0 | K122: =E122/'TEST MARKS '!$D$163*100 -> 0 | L122: =F122/'TEST MARKS '!$D$163*100 -> 0 | M122: =G122/'TEST MARKS '!$D$163*100 -> 0 | N122: =H122/'TEST MARKS '!$D$163*100 -> 0 | O122: =I122/'TEST MARKS '!$D$163*100 -> 0 | P122: =IF(J122<'TEST MARKS '!$D$161,"N","Y") -> N | Q122: =IF(K122<'TEST MARKS '!$D$161,"N","Y") -> N | R122: =IF(L122<'TEST MARKS '!$D$161,"N","Y") -> N | S122: =IF(M122<'TEST MARKS '!$D$161,"N","Y") -> N | T122: =IF(N122<'TEST MARKS '!$D$161,"N","Y") -> N | U122: =IF(O122<'TEST MARKS '!$D$161,"N","Y") -> N
A123: ='TEST MARKS '!A137 -> 128 | B123: ='TEST MARKS '!B127 -> 0 | C123: ='TEST MARKS '!C127 -> 0 | D123: ='TEST MARKS '!P127 -> 0 | E123: =D123 -> 0 | F123: =E123 -> 0 | G123: =F123 -> 0 | H123: =G123 -> 0 | I123: =H123 -> 0 | J123: =D123/'TEST MARKS '!$D$163*100 -> 0 | K123: =E123/'TEST MARKS '!$D$163*100 -> 0 | L123: =F123/'TEST MARKS '!$D$163*100 -> 0 | M123: =G123/'TEST MARKS '!$D$163*100 -> 0 | N123: =H123/'TEST MARKS '!$D$163*100 -> 0 | O123: =I123/'TEST MARKS '!$D$163*100 -> 0 | P123: =IF(J123<'TEST MARKS '!$D$161,"N","Y") -> N | Q123: =IF(K123<'TEST MARKS '!$D$161,"N","Y") -> N | R123: =IF(L123<'TEST MARKS '!$D$161,"N","Y") -> N | S123: =IF(M123<'TEST MARKS '!$D$161,"N","Y") -> N | T123: =IF(N123<'TEST MARKS '!$D$161,"N","Y") -> N | U123: =IF(O123<'TEST MARKS '!$D$161,"N","Y") -> N
A124: ='TEST MARKS '!A138 -> 129 | B124: ='TEST MARKS '!B128 -> 0 | C124: ='TEST MARKS '!C128 -> 0 | D124: ='TEST MARKS '!P128 -> 0 | E124: =D124 -> 0 | F124: =E124 -> 0 | G124: =F124 -> 0 | H124: =G124 -> 0 | I124: =H124 -> 0 | J124: =D124/'TEST MARKS '!$D$163*100 -> 0 | K124: =E124/'TEST MARKS '!$D$163*100 -> 0 | L124: =F124/'TEST MARKS '!$D$163*100 -> 0 | M124: =G124/'TEST MARKS '!$D$163*100 -> 0 | N124: =H124/'TEST MARKS '!$D$163*100 -> 0 | O124: =I124/'TEST MARKS '!$D$163*100 -> 0 | P124: =IF(J124<'TEST MARKS '!$D$161,"N","Y") -> N | Q124: =IF(K124<'TEST MARKS '!$D$161,"N","Y") -> N | R124: =IF(L124<'TEST MARKS '!$D$161,"N","Y") -> N | S124: =IF(M124<'TEST MARKS '!$D$161,"N","Y") -> N | T124: =IF(N124<'TEST MARKS '!$D$161,"N","Y") -> N | U124: =IF(O124<'TEST MARKS '!$D$161,"N","Y") -> N
A125: ='TEST MARKS '!A139 -> 130 | B125: ='TEST MARKS '!B129 -> 0 | C125: ='TEST MARKS '!C129 -> 0 | D125: ='TEST MARKS '!P129 -> 0 | E125: =D125 -> 0 | F125: =E125 -> 0 | G125: =F125 -> 0 | H125: =G125 -> 0 | I125: =H125 -> 0 | J125: =D125/'TEST MARKS '!$D$163*100 -> 0 | K125: =E125/'TEST MARKS '!$D$163*100 -> 0 | L125: =F125/'TEST MARKS '!$D$163*100 -> 0 | M125: =G125/'TEST MARKS '!$D$163*100 -> 0 | N125: =H125/'TEST MARKS '!$D$163*100 -> 0 | O125: =I125/'TEST MARKS '!$D$163*100 -> 0 | P125: =IF(J125<'TEST MARKS '!$D$161,"N","Y") -> N | Q125: =IF(K125<'TEST MARKS '!$D$161,"N","Y") -> N | R125: =IF(L125<'TEST MARKS '!$D$161,"N","Y") -> N | S125: =IF(M125<'TEST MARKS '!$D$161,"N","Y") -> N | T125: =IF(N125<'TEST MARKS '!$D$161,"N","Y") -> N | U125: =IF(O125<'TEST MARKS '!$D$161,"N","Y") -> N
A126: ='TEST MARKS '!A140 -> 131 | B126: ='TEST MARKS '!B130 -> 0 | C126: ='TEST MARKS '!C130 -> 0 | D126: ='TEST MARKS '!P130 -> 0 | E126: =D126 -> 0 | F126: =E126 -> 0 | G126: =F126 -> 0 | H126: =G126 -> 0 | I126: =H126 -> 0 | J126: =D126/'TEST MARKS '!$D$163*100 -> 0 | K126: =E126/'TEST MARKS '!$D$163*100 -> 0 | L126: =F126/'TEST MARKS '!$D$163*100 -> 0 | M126: =G126/'TEST MARKS '!$D$163*100 -> 0 | N126: =H126/'TEST MARKS '!$D$163*100 -> 0 | O126: =I126/'TEST MARKS '!$D$163*100 -> 0 | P126: =IF(J126<'TEST MARKS '!$D$161,"N","Y") -> N | Q126: =IF(K126<'TEST MARKS '!$D$161,"N","Y") -> N | R126: =IF(L126<'TEST MARKS '!$D$161,"N","Y") -> N | S126: =IF(M126<'TEST MARKS '!$D$161,"N","Y") -> N | T126: =IF(N126<'TEST MARKS '!$D$161,"N","Y") -> N | U126: =IF(O126<'TEST MARKS '!$D$161,"N","Y") -> N
A127: ='TEST MARKS '!A141 -> 132 | B127: ='TEST MARKS '!B131 -> 0 | C127: ='TEST MARKS '!C131 -> 0 | D127: ='TEST MARKS '!P131 -> 0 | E127: =D127 -> 0 | F127: =E127 -> 0 | G127: =F127 -> 0 | H127: =G127 -> 0 | I127: =H127 -> 0 | J127: =D127/'TEST MARKS '!$D$163*100 -> 0 | K127: =E127/'TEST MARKS '!$D$163*100 -> 0 | L127: =F127/'TEST MARKS '!$D$163*100 -> 0 | M127: =G127/'TEST MARKS '!$D$163*100 -> 0 | N127: =H127/'TEST MARKS '!$D$163*100 -> 0 | O127: =I127/'TEST MARKS '!$D$163*100 -> 0 | P127: =IF(J127<'TEST MARKS '!$D$161,"N","Y") -> N | Q127: =IF(K127<'TEST MARKS '!$D$161,"N","Y") -> N | R127: =IF(L127<'TEST MARKS '!$D$161,"N","Y") -> N | S127: =IF(M127<'TEST MARKS '!$D$161,"N","Y") -> N | T127: =IF(N127<'TEST MARKS '!$D$161,"N","Y") -> N | U127: =IF(O127<'TEST MARKS '!$D$161,"N","Y") -> N
A128: ='TEST MARKS '!A142 -> 133 | B128: ='TEST MARKS '!B132 -> 0 | C128: ='TEST MARKS '!C132 -> 0 | D128: ='TEST MARKS '!P132 -> 0 | E128: =D128 -> 0 | F128: =E128 -> 0 | G128: =F128 -> 0 | H128: =G128 -> 0 | I128: =H128 -> 0 | J128: =D128/'TEST MARKS '!$D$163*100 -> 0 | K128: =E128/'TEST MARKS '!$D$163*100 -> 0 | L128: =F128/'TEST MARKS '!$D$163*100 -> 0 | M128: =G128/'TEST MARKS '!$D$163*100 -> 0 | N128: =H128/'TEST MARKS '!$D$163*100 -> 0 | O128: =I128/'TEST MARKS '!$D$163*100 -> 0 | P128: =IF(J128<'TEST MARKS '!$D$161,"N","Y") -> N | Q128: =IF(K128<'TEST MARKS '!$D$161,"N","Y") -> N | R128: =IF(L128<'TEST MARKS '!$D$161,"N","Y") -> N | S128: =IF(M128<'TEST MARKS '!$D$161,"N","Y") -> N | T128: =IF(N128<'TEST MARKS '!$D$161,"N","Y") -> N | U128: =IF(O128<'TEST MARKS '!$D$161,"N","Y") -> N
... A130: ='TEST MARKS '!A144 -> 135 | B130: ='TEST MARKS '!B134 -> 0 | C130: ='TEST MARKS '!C134 -> 0 | D130: ='TEST MARKS '!P134 -> 0 | E130: =D130 -> 0 | F130: =E130 -> 0 | G130: =F130 -> 0 | H130: =G130 -> 0 | I130: =H130 -> 0 | J130: =D130/'TEST MARKS '!$D$163*100 -> 0 | K130: =E130/'TEST MARKS '!$D$163*100 -> 0 | L130: =F130/'TEST MARKS '!$D$163*100 -> 0 | M130: =G130/'TEST MARKS '!$D$163*100 -> 0 | N130: =H130/'TEST MARKS '!$D$163*100 -> 0 | O130: =I130/'TEST MARKS '!$D$163*100 -> 0 | P130: =IF(J130<'TEST MARKS '!$D$161,"N","Y") -> N | Q130: =IF(K130<'TEST MARKS '!$D$161,"N","Y") -> N | R130: =IF(L130<'TEST MARKS '!$D$161,"N","Y") -> N | S130: =IF(M130<'TEST MARKS '!$D$161,"N","Y") -> N | T130: =IF(N130<'TEST MARKS '!$D$161,"N","Y") -> N | U130: =IF(O130<'TEST MARKS '!$D$161,"N","Y") -> N
O134: NO OF Y | P134: =COUNTIF(P6:P130,"Y") -> 70 | Q134: =COUNTIF(Q6:Q130,"Y") -> 70 | R134: =COUNTIF(R6:R130,"Y") -> 70 | S134: =COUNTIF(S6:S130,"Y") -> 70 | T134: =COUNTIF(T6:T130,"Y") -> 70 | U134: =COUNTIF(U6:U130,"Y") -> 70
O135: ATTAINMENT | P135: =P134*100/'TEST MARKS '!$D$158 -> 65.420561 | Q135: =Q134*100/'TEST MARKS '!$D$158 -> 65.420561 | R135: =R134*100/'TEST MARKS '!$D$158 -> 65.420561 | S135: =S134*100/'TEST MARKS '!$D$158 -> 65.420561 | T135: =T134*100/'TEST MARKS '!$D$158 -> 65.420561 | U135: =U134*100/'TEST MARKS '!$D$158 -> 65.420561
O139: CO's | P139: CO1 | Q139: CO2 | R139: CO3 | S139: CO4 | T139: CO5 | U139: CO6
O140: EXAMINATION MARKS ATTAINMENT | P140: =P135 -> 65.420561 | Q140: =Q135 -> 65.420561 | R140: =R135 -> 65.420561 | S140: =S135 -> 65.420561 | T140: =T135 -> 65.420561 | U140: =U135 -> 65.420561

Sheet TOTAL CO 
B2: Equal weigtage to TEST, ASSIGNMENT & EXAM MARKS | L2: OR | O2: 50% Weightage each for CIE and SEE | W2: OR | Y2: 40% Weightage for CIE and 60% for SEE
E3: TARGET: 50% ATTAINMENT | N3: TARGET: 70% ATTAINMENT | Y3: TARGET: 70% ATTAINMENT
E6: CO1 | F6: CO2 | G6: CO3 | H6: CO4 | I6: CO5 | J6: CO6 | N6: CO'S | O6: CO1 | P6: CO2 | Q6: CO3 | R6: CO4 | S6: CO5 | T6: CO6
D7: IA MARKS ATTAINMENT | E7: ='TEST -CO '!P156 -> 68.224299 | F7: ='TEST -CO '!Q156 -> 68.224299 | G7: ='TEST -CO '!R156 -> 91.588785 | H7: ='TEST -CO '!S156 -> 91.588785 | I7: ='TEST -CO '!T156 -> 81.308411 | J7: ='TEST -CO '!U156 -> 81.308411 | N7: IA MARKS ATTAINMENT | O7: =E7 -> 68.224299 | P7: =F7 -> 68.224299 | Q7: =G7 -> 91.588785 | R7: =H7 -> 91.588785 | S7: =I7 -> 81.308411 | T7: =J7 -> 81.308411
Y8: CIE: AVG OF TEST & ASSIGNMENT | Z8: =O9 -> 68.224299 | AA8: =P9 -> 68.224299 | AB8: =Q9 -> 91.588785 | AC8: =R9 -> 91.588785 | AD8: =S9 -> 81.308411 | AE8: =T9 -> 81.308411
D9: EXAM ATTAINMENT | E9: ='SEE-final exam CO'!P140 -> 65.420561 | F9: ='SEE-final exam CO'!Q140 -> 65.420561 | G9: ='SEE-final exam CO'!R140 -> 65.420561 | H9: ='SEE-final exam CO'!S140 -> 65.420561 | I9: ='SEE-final exam CO'!T140 -> 65.420561 | J9: ='SEE-final exam CO'!U140 -> 65.420561 | N9: CIE: AVG OF TEST & ASSIGNMENT | O9: =(O7+O8)/1 -> 68.224299 | P9: =(P7+P8)/1 -> 68.224299 | Q9: =(Q7+Q8)/1 -> 91.588785 | R9: =(R7+R8)/1 -> 91.588785 | S9: =(S7+S8)/1 -> 81.308411 | T9: =(T7+T8)/1 -> 81.308411 | Y9: X BY0.2 | Z9: =Z8*0.2 -> 13.64486 | AA9: =AA8*0.2 -> 13.64486 | AB9: =AB8*0.2 -> 18.317757 | AC9: =AC8*0.2 -> 18.317757 | AD9: =AD8*0.2 -> 16.261682 | AE9: =AE8*0.2 -> 16.261682
D10: AVARAGE | E10: =(E7+E9)/2 -> 66.82243 | F10: =(F7+F9)/2 -> 66.82243 | G10: =(G7+G9)/2 -> 78.504673 | H10: =(H7+H9)/2 -> 78.504673 | I10: =(I7+I9)/2 -> 73.364486 | J10: =(J7+J9)/2 -> 73.364486
Y11: SEE | Z11: =O13 -> 65.420561 | AA11: =P13 -> 65.420561 | AB11: =Q13 -> 65.420561 | AC11: =R13 -> 65.420561 | AD11: =S13 -> 65.420561 | AE11: =T13 -> 65.420561
N12: CIE | O12: =O9 -> 68.224299 | P12: =P9 -> 68.224299 | Q12: =Q9 -> 91.588785 | R12: =R9 -> 91.588785 | S12: =S9 -> 81.308411 | T12: 81 | Y12: X BY 0.80 | Z12: =Z11*0.8 -> 52.336449 | AA12: =AA11*0.8 -> 52.336449 | AB12: =AB11*0.8 -> 52.336449 | AC12: =AC11*0.8 -> 52.336449 | AD12: =AD11*0.8 -> 52.336449 | AE12: =AE11*0.8 -> 52.336449
N13: SEE | O13: =E9 -> 65.420561 | P13: =F9 -> 65.420561 | Q13: =G9 -> 65.420561 | R13: =H9 -> 65.420561 | S13: =I9 -> 65.420561 | T13: =J9 -> 65.420561
E14: CO1 | F14: CO2 | G14: CO3 | H14: CO4 | I14: CO5 | J14: CO6 | N14: AVARAGE | O14: =(O12+O13)/2 -> 66.82243 | P14: =(P12+P13)/2 -> 66.82243 | Q14: =(Q12+Q13)/2 -> 78.504673 | R14: =(R12+R13)/2 -> 78.504673 | S14: =(S12+S13)/2 -> 73.364486 | T14: =(T12+T13)/2 -> 73.21028
D15: ATTAINMENT of COs | E15: =E10 -> 66.82243 | F15: =F10 -> 66.82243 | G15: =G10 -> 78.504673 | H15: =H10 -> 78.504673 | I15: =I10 -> 73.364486 | J15: =J10 -> 73.364486 | Y15: ATTAINMENT | Z15: =Z9+Z12 -> 65.981308 | AA15: =AA9+AA12 -> 65.981308 | AB15: =AB9+AB12 -> 70.654206 | AC15: =AC9+AC12 -> 70.654206 | AD15: =AD9+AD12 -> 68.598131 | AE15: =AE9+AE12 -> 68.598131
AB23: graph
C32: SAMPLE
D35: NEXT ACADEMIC YEAR TARGET CAN BE: 70%

Sheet graphs

Sheet FB
A1: Timestamp | B1: NAME | C1: USN | D1: CO1 : Are you able to describe the Basic Principles of control system and controllers | E1: CO2 :Are you able to formulate the governing equation and represent the mathematical models for physical system of equations | F1: CO3 : Are you able to determine the transfer function of a control system using block diagram reduction technique and Signal flow graphs ? | G1: CO4 : Are you able to the find the stability of the control system using Polar, Bode and root locus methods ? | H1: CO5 : Are you able to apply the State Equations to find controllability and observability using Kalman and Gilbert’s test.
A2: 43262.417 | B2: Dr.Tulsidas D. | C2: 1SGME100 | D2: 4 | E2: 5 | F2: 5 | G2: 5 | H2: 5
A3: 43262.59 | B3: Varsha D | C3: 1sg14me116 | D3: 4 | E3: 4 | F3: 5 | G3: 4 | H3: 5
A4: 43262.598 | B4: Prasad Hegde | C4: 1SG14ME078 | D4: 5 | E4: 4 | F4: 5 | G4: 5 | H4: 3
A5: 43262.615 | B5: Nandakumara H G | C5: 1sg15me415 | D5: 5 | E5: 5 | F5: 5 | G5: 5 | H5: 5
A6: 43262.62 | B6: Matlub Rahman | C6: 1sg14me066 | D6: 4 | E6: 4 | F6: 4 | G6: 4 | H6: 4
A7: 43262.645 | B7: Prateek Gupta | C7: 1SG14ME080 | D7: 5 | E7: 4 | F7: 5 | G7: 5 | H7: 5
A8: 43262.659 | B8: Vishweshwar | C8: 1sg14me124 | D8: 4 | E8: 4 | F8: 4 | G8: 4 | H8: 4
A9: 43262.67 | B9: Vasavi suresh | C9: 1SG14ME118 | D9: 4 | E9: 4 | F9: 5 | G9: 5 | H9: 3
A10: 43262.697 | B10: Md shoeb anwar | C10: 1ag14me068 | D10: 4 | E10: 2 | F10: 4 | G10: 3 | H10: 2
A11: 43262.709 | B11: RAVI KANT | C11: 1sg14me089 | D11: 5 | E11: 4 | F11: 5 | G11: 5 | H11: 3
A12: 43262.736 | B12: Sailen Hembrom | C12: 1SG14ME097 | D12: 5 | E12: 4 | F12: 5 | G12: 5 | H12: 5
A13: 43262.838 | B13: Ravisha M R | C13: 1sg14me090 | D13: 4 | E13: 4 | F13: 4 | G13: 5 | H13: 4
... A44: 43264.961 | B44: Karthik R | C44: 1SG14ME047 | D44: 4 | E44: 3 | F44: 5 | G44: 5 | H44: 4
A45: 1S | D45: =COUNTIF(D2:D44,1) -> 0 | E45: =COUNTIF(E2:E44,1) -> 1 | F45: =COUNTIF(F2:F44,1) -> 0 | G45: =COUNTIF(G2:G44,1) -> 0 | H45: =COUNTIF(H2:H44,1) -> 0
A46: 2S | D46: =COUNTIF(D2:D44,2) -> 0 | E46: =COUNTIF(E2:E44,2) -> 3 | F46: =COUNTIF(F2:F44,2) -> 0 | G46: =COUNTIF(G2:G44,2) -> 0 | H46: =COUNTIF(H2:H44,2) -> 2
A47: 3S | D47: =COUNTIF(D2:D44,3) -> 0 | E47: =COUNTIF(E2:E44,3) -> 4 | F47: =COUNTIF(F2:F44,3) -> 1 | G47: =COUNTIF(G2:G44,3) -> 2 | H47: =COUNTIF(H2:H44,3) -> 5
A48: 4S | D48: =COUNTIF(D2:D44,4) -> 16 | E48: =COUNTIF(E2:E44,4) -> 22 | F48: =COUNTIF(F2:F44,4) -> 11 | G48: =COUNTIF(G2:G44,4) -> 12 | H48: =COUNTIF(H2:H44,4) -> 18
A49: 5S | D49: =COUNTIF(D2:D44,5) -> 27 | E49: =COUNTIF(E2:E44,5) -> 13 | F49: =COUNTIF(F2:F44,5) -> 31 | G49: =COUNTIF(G2:G44,5) -> 29 | H49: =COUNTIF(H2:H44,5) -> 18
A50: TOTAL | D50: =SUM(D45:D49) -> 43 | E50: =SUM(E45:E49) -> 43 | F50: =SUM(F45:F49) -> 43 | G50: =SUM(G45:G49) -> 43 | H50: =SUM(H45:H49) -> 43
B54: 1S | C54: 2S | D54: 3S | E54: 4S | F54: 5S | G54: TOTAL
B57: 0 | C57: 0 | D57: 0 | E57: 16 | F57: 27 | G57: 43
B58: 1 | C58: 3 | D58: 4 | E58: 22 | F58: 13 | G58: 43
B59: 0 | C59: 0 | D59: 1 | E59: 11 | F59: 31 | G59: 43
B60: 0 | C60: 0 | D60: 2 | E60: 12 | F60: 29 | G60: 43
B61: 0 | C61: 2 | D61: 5 | E61: 18 | F61: 18 | G61: 43
C76: 0 | D76: 0 | E76: 0 | F76: 16 | G76: 27
C77: 1 | D77: 3 | E77: 4 | F77: 22 | G77: 13
C78: 0 | D78: 0 | E78: 1 | F78: 11 | G78: 31
C79: 0 | D79: 0 | E79: 2 | F79: 12 | G79: 29
C80: 0 | D80: 2 | E80: 5 | F80: 18 | G80: 18

Sheet COURSE EXIT INDIRECT 
B2: INDIRECT ASSESSMENT METHOD for CO- COURSE END SURVEY
B3: Sub Code: 17PHY12 | C3: Sub: ENGINEERING PHYSICS | D3: Class: 1 A & B (EC)
D5: Ratings 0-5 by Number of students | K5: out of 5
A6: CO No | B6: CO Description | C6: Course Exit survey questions | D6: 1 | E6: 2 | F6: 3 | G6: 4 | H6: 5 | I6: Total | J6: weightage avarage | K6: % attainment | L6: CO's Count
A7: CO1 | B7: Gain the knowledge about fundamentals of Modern Physics and Quantum Mechanics, applying to wave mechanics. | C7: Are you able to gain the knowledge about fundamentals of Modern Physics and Quantum Mechanics, applying to wave mechanics?
A8: CO2 | B8: Discriminate the conductivity of conductors, semiconductors and super conductors based on Quantum theory. | C8: Are you able to discriminate the conductivity of conductors, semiconductors and super conductors based on quantum theory?
A9: CO3 | B9: Impart the knowledge about the basic principles and classification of Laser and Optical fibers, their uses in various fields. | C9: Are you able to impart the knowledge about the basic principles and classification of Laser and Optical fibers, their uses in various fields?
A10: CO4 | B10: Differentiate the crystal systems, properties and crystal structure using XRD | C10: Are you able to differentiate the crystal systems, properties and crystal structure using XRD?
A11: CO5 | B11: Discuss the formation of Shock waves and change in flow properties across it and its uses. | C11: Are you able to discuss the formation of shock waves and change in flow properties across it and its uses?
A12: CO6 | B12: Know the processing and characterization of nanomaterials, their properties and applications. | C12: Are you able to know the processing and characterization of Nanomaterials, their properties and applications?
C15: CO's | D15: CO1 | E15: CO2 | F15: CO3 | G15: CO4 | H15: CO5 | I15: CO6
C16: weightage avarage | D16: =SUMIF($A$7:$A$13,D15,$J$7:$J$13) -> 0 | E16: =SUMIF($A$7:$A$13,E15,$J$7:$J$13) -> 0 | F16: =SUMIF($A$7:$A$13,F15,$J$7:$J$13) -> 0 | G16: =SUMIF($A$7:$A$13,G15,$J$7:$J$13) -> 0 | H16: =SUMIF($A$7:$A$13,H15,$J$7:$J$13) -> 0 | I16: =SUMIF($A$7:$A$13,I15,$J$7:$J$13) -> 0
C17: Total | D17: =SUMIF($A$7:$A$13,D15,$L$7:$L$13) -> 0 | E17: =SUMIF($A$7:$A$13,E15,$L$7:$L$13) -> 0 | F17: =SUMIF($A$7:$A$13,F15,$L$7:$L$13) -> 0 | G17: =SUMIF($A$7:$A$13,G15,$L$7:$L$13) -> 0 | H17: =SUMIF($A$7:$A$13,H15,$L$7:$L$13) -> 0 | I17: =SUMIF($A$7:$A$13,I15,$L$7:$L$13) -> 0
C18: % attainment | D18: =D16/D17*100 -> #DIV/0! | E18: =E16/E17*100 -> #DIV/0! | F18: =F16/F17*100 -> #DIV/0! | G18: =G16/G17*100 -> #DIV/0! | H18: =H16/H17*100 -> #DIV/0! | I18: =I16/I17*100 -> #DIV/0!
C20: CO Assessment method | D20: CO1 | E20: CO2 | F20: CO3 | G20: CO4 | H20: CO5 | I20: CO6
B21: IA,Assignment, quiz,exam, etc | C21: Direct method | D21: 77.777778 | E21: 75.438596 | F21: 83.040936 | G21: 78.947368 | H21: 80.409357 | I21: 73.245614
C22: Weightage 80% | D22: =D21*0.6 -> 46.666667 | E22: =E21*0.6 -> 45.263158 | F22: =F21*0.6 -> 49.824561 | G22: =G21*0.6 -> 47.368421 | H22: =H21*0.6 -> 48.245614 | I22: =I21*0.6 -> 43.947368
B23: COURSE END SURVEY | C23: Indirect method | D23: =D18 -> #DIV/0! | E23: =E18 -> #DIV/0! | F23: =F18 -> #DIV/0! | G23: =G18 -> #DIV/0! | H23: =H18 -> #DIV/0! | I23: =I18 -> #DIV/0!
C24: Weightage 20% | D24: =D23*0.4 -> #DIV/0! | E24: =E23*0.4 -> #DIV/0! | F24: =F23*0.4 -> #DIV/0! | G24: =G23*0.4 -> #DIV/0! | H24: =H23*0.4 -> #DIV/0! | I24: =I23*0.4 -> #DIV/0!
C25: Final CO Attainment | D25: =D22+D24 -> #DIV/0! | E25: =E22+E24 -> #DIV/0! | F25: =F22+F24 -> #DIV/0! | G25: =G22+G24 -> #DIV/0! | H25: =H22+H24 -> #DIV/0! | I25: =I22+I24 -> #DIV/0!
D28: CO1 | E28: CO2 | F28: CO3 | G28: CO4 | H28: CO5 | I28: CO6
C29: Attainment % | D29: 85.493857 | E29: 84.2457 | F29: 93.120393 | G29: 87.731368 | H29: 87.862408 | I29: 83.242424
C32: target: 70%
C33: ALL CO ATTAINED
C35: Target for next academic year:80%

Sheet CO ATTAINMENT
A1: SAPTHAGIRI COLLEGE OF ENGINEERING, BENGALURU - 57.
A2: DEPARTMENT OF PHYSICS
A3: CO-PO ATTAINMENT (ODD SEM. 2015-16)
A4: SEM & SEC: 1 ME I & J SEC | K4: Subject Code: 15PHY12
A5: NAME OF THE FACULTY :Mr GNANENDRA D S & Ms LATHA
B6: I CO Attainment
B7: Direct assessment (100%)-Tests, Assignment, Examination
B9: Sample
B10: COs | C10: Mapping POs | D10: Direct | E10: Target (%) | F10: Attainment
D11: Assessment
B13: CO1 | C13: 1,2,9 | D13: ='TOTAL CO '!E15 -> 66.82243 | E13: 60 | F13: YES
B14: CO2 | C14: 1,2,9 | D14: ='TOTAL CO '!F15 -> 66.82243 | E14: 60 | F14: YES
B15: CO3 | C15: 1,2,9 | D15: ='TOTAL CO '!G15 -> 78.504673 | E15: 60 | F15: YES
B16: CO4 | C16: 1,2 | D16: ='TOTAL CO '!H15 -> 78.504673 | E16: 60 | F16: YES
B17: CO5 | C17: 1 | D17: ='TOTAL CO '!I15 -> 73.364486 | E17: 60 | F17: YES
B18: CO6 | C18: 1 | D18: ='TOTAL CO '!J15 -> 73.364486 | E18: 60 | F18: YES

Sheet CO-PO-DIRECT
B1: Mapping of Course outcomes (COs) and Program Outcomes (POs)
B2: Note: 1 = Moderate 2 = Good 3 = Excellent
B4: Course outcomes | C4: Program Outcomes | O4: PSO'S
C5: PO1 | D5: PO2 | E5: PO3 | F5: PO4 | G5: PO5 | H5: PO6 | I5: PO7 | J5: PO8 | K5: PO9 | L5: PO10 | M5: PO11 | N5: PO12 | O5: PSO1 | P5: PSO2
B6: CO-1 | C6: 3 | D6: 2 | K6: 2
B7: CO-2 | C7: 3 | D7: 3 | K7: 2
B8: CO-3 | C8: 3 | D8: 3 | K8: 2
B9: CO-4 | C9: 3 | D9: 3
B10: CO-5 | C10: 3
B11: CO-6 | C11: 3
B12: Total | C12: =SUM(C6:C11) -> 18 | D12: =SUM(D6:D11) -> 11 | K12: =SUM(K6:K11) -> 6
B18: Mapping of Course outcomes (COs) and Program Outcomes (POs)
B19: Note: 1 = Slight 2 = Moderate 3 = Good 4 = Excellent
A21: Course outcomes | B21: CO % DIRECT | C21: Program Outcomes
C22: PO1 | D22: PO2 | E22: PO3 | F22: PO4 | G22: PO5 | H22: PO6 | I22: PO7 | J22: PO8 | K22: PO9 | L22: PO10 | M22: PO11 | N22: PO12 | O22: PSO1 | P22: PSO2
A23: CO-1 | B23: ='CO ATTAINMENT'!D13 -> 66.82243 | C23: =($B$23/3)*C6 -> 66.82243 | D23: =($B$23/3)*D6 -> 44.548287 | K23: =($B$23/3)*K6 -> 44.548287
A24: CO-2 | B24: ='CO ATTAINMENT'!D14 -> 66.82243 | C24: =($B$23/3)*C7 -> 66.82243 | D24: =($B$23/3)*D7 -> 66.82243 | K24: =($B$23/3)*K7 -> 44.548287
A25: CO-3 | B25: ='CO ATTAINMENT'!D15 -> 78.504673 | C25: =($B$23/3)*C8 -> 66.82243 | D25: =($B$23/3)*D8 -> 66.82243 | K25: =($B$23/3)*K8 -> 44.548287
A26: CO-4 | B26: ='CO ATTAINMENT'!D16 -> 78.504673 | C26: =($B$23/3)*C9 -> 66.82243 | D26: =($B$23/3)*D9 -> 66.82243 | K26: =($B$23/3)*K9 -> 0
A27: CO-5 | B27: ='CO ATTAINMENT'!D17 -> 73.364486 | C27: =($B$23/3)*C10 -> 66.82243 | D27: =($B$23/3)*D10 -> 0 | K27: =($B$23/3)*K10 -> 0
A28: CO-6 | B28: ='CO ATTAINMENT'!D18 -> 73.364486 | C28: =($B$23/3)*C11 -> 66.82243 | D28: =($B$23/3)*D11 -> 0 | K28: =($B$23/3)*K11 -> 0
A29: AVG | C29: =AVERAGE(C23:C28) -> 66.82243 | D29: =AVERAGE(D23:D28) -> 40.835929 | K29: =AVERAGE(K23:K28) -> 22.274143

Sheet CO-PO-INDIRECT
B1: Mapping of Course outcomes (COs) and Program Outcomes (POs)
B2: Note: 1 = Slight 2 = Moderate 3 = Good 4 = Excellent
B4: Course outcomes | C4: Program Outcomes | O4: PSO'S
C5: PO1 | D5: PO2 | E5: PO3 | F5: PO4 | G5: PO5 | H5: PO6 | I5: PO7 | J5: PO8 | K5: PO9 | L5: PO10 | M5: PO11 | N5: PO12 | O5: PSO1 | P5: PSO2
B6: CO-1
B7: CO-2
B8: CO-3
B9: CO-4
B10: CO-5
B11: CO-6
B12: Total
B16: Mapping of Course outcomes (COs) and Program Outcomes (POs)
B17: Note: 1 = Slight 2 = Moderate 3 = Good 4 = Excellent
A19: Course outcomes | B19: CO % INDIRECT | C19: Program Outcomes
C20: PO1 | D20: PO2 | E20: PO3 | F20: PO4 | G20: PO5 | H20: PO6 | I20: PO7 | J20: PO8 | K20: PO9 | L20: PO10 | M20: PO11 | N20: PO12 | O20: PSO1 | P20: PSO2
A21: CO-1
A22: CO-2
A23: CO-3
A24: CO-4
A25: CO-5
A26: CO-6
A27: AVG

Sheet C-Sec
B1: Acharya Institute of Technology
B2: Department of Computer Science and Engineering
B3: VI Semester C Section Test marks for Even Sem 2013-14
A4: Sl. No. | B4: Name of the student | C4: USN | D4: I INTERNALS | I4: II INTERNALS | Q4: III INTERNALS
I5: PART A | M5: PART B | Q5: PART A | U5: PART B
D6: 1 | E6: 2 | F6: 3 | G6: 4 | H6: 5 | I6: 1 | J6: 2 | K6: 3 | L6: 4 | M6: 5 | N6: 6 | O6: 7 | P6: 8 | Q6: 1 | R6: 2 | S6: 3 | T6: 4 | U6: 5 | V6: 6 | W6: 7 | X6: 8
D7: CO 1 | E7: CO 2 | F7: CO 3 | G7: CO 3 | H7: CO 3 | I7: CO 3 | J7: CO 3 | K7: CO 3 | L7: CO 3 | M7: CO 1 | N7: CO 4 | O7: CO 4 | P7: CO 4 | Q7: CO 4 | R7: CO 4 | S7: CO 4 | T7: CO 4 | U7: CO 4 | V7: CO 4 | W7: CO 5 | X7: CO 5
A8: 1 | B8: SRINIDHI P C | C8: 1AY11CS113 | D8: 10 | E8: 10 | F8: 7 | G8: 10 | H8: 10 | I8: 10 | J8: 10 | K8: 10 | N8: 10 | O8: 9 | Q8: 10 | T8: 9 | U8: 10 | V8: 9 | X8: 10
A9: 2 | B9: SHRUTHIKA C RAMPURE | C9: 1AY11CS114 | D9: 10 | E9: 7 | F9: 9 | G9: 9 | H9: 4 | I9: 9 | J9: 9 | K9: 9 | L9: 9 | N9: 9 | O9: 9 | P9: 10
A10: 3 | B10: SNEHA KUMARI | C10: 1AY11CS115 | D10: 10 | E10: 8 | F10: 9 | G10: 10 | H10: 9 | I10: 10 | K10: 9 | L10: 10 | N10: 9 | O10: 10 | P10: 9 | Q10: 10 | R10: 10 | S10: 10 | T10: 10 | U10: 4 | X10: 10
A11: 4 | B11: SOMEN GORAIN | C11: 1AY11CS116 | E11: 10 | F11: 9 | G11: 9 | H11: 7 | I11: 10 | K11: 10 | M11: 10 | O11: 10 | P11: 10 | Q11: 8 | S11: 10 | T11: 10 | V11: 10 | X11: 10
A12: 5 | B12: SOUVIK KUNDU | C12: 1AY11CS117 | D12: 10 | E12: 10 | F12: 9 | G12: 5 | H12: 7 | K12: 10 | L12: 7 | M12: 10 | N12: 10 | O12: 10 | R12: 10 | S12: 10 | T12: 10 | U12: 6 | V12: 10 | W12: 6
A13: 6 | B13: SOWMYA NAGARAJU | C13: 1AY11CS118 | D13: 3 | E13: 8 | F13: 10 | G13: 8 | H13: 5 | K13: 8 | L13: 10 | M13: 4 | P13: 8 | Q13: 5 | S13: 10 | T13: 10 | U13: 6 | V13: 10 | X13: 10
A14: 7 | B14: SRISTI KUMARI | C14: 1AY11CS120 | D14: 10 | E14: 3 | F14: 7 | G14: 5 | K14: 7 | L14: 7 | M14: 10 | O14: 9 | P14: 9
A15: 8 | B15: SUBAS THAPA | C15: 1AY11CS121 | D15: 7 | E15: 3 | F15: 10 | G15: 4 | H15: 6 | I15: 9 | K15: 9 | N15: 10 | O15: 10 | P15: 8 | Q15: 10 | S15: 10 | T15: 10 | V15: 10 | X15: 9
A16: 9 | B16: SUKANYA BOSE | C16: 1AY11CS122 | D16: 7 | E16: 5 | F16: 8 | I16: 3 | J16: 9 | K16: 9 | L16: 5 | M16: 6 | N16: 4 | O16: 0 | P16: 4 | Q16: 6 | S16: 9 | T16: 4 | V16: 6
A17: 10 | B17: SUMIT KUMAR | C17: 1AY11CS123 | D17: 10 | E17: 3 | F17: 8 | G17: 5 | M17: 8 | N17: 4 | O17: 10 | P17: 5 | Q17: 10 | T17: 10 | U17: 4 | W17: 10 | X17: 10
A18: 11 | B18: SUPRIYA | C18: 1AY11CS124 | D18: 7 | E18: 8 | F18: 9 | G18: 9 | H18: 7 | J18: 8 | K18: 9 | N18: 10 | O18: 6 | P18: 10 | Q18: 8 | S18: 10 | T18: 10 | U18: 8 | V18: 8 | X18: 10
A19: 12 | B19: SURENDRA D | C19: 1AY11CS125 | D19: 10 | F19: 9 | G19: 9 | H19: 7 | I19: 10 | K19: 10 | L19: 8 | M19: 10 | O19: 10 | P19: 6 | Q19: 10 | R19: 6 | S19: 10 | T19: 6 | U19: 4 | X19: 10
A20: 13 | B20: SWATI .M .S | C20: 1AY11CS127 | D20: 10 | E20: 3 | F20: 10 | G20: 4 | H20: 9 | I20: 7 | K20: 9 | L20: 5 | N20: 8 | O20: 9 | P20: 9 | Q20: 8 | R20: 8 | S20: 10 | T20: 10 | U20: 8 | V20: 8 | X20: 10
A21: 14 | B21: TAJ UNNISA | C21: 1AY11CS128 | D21: 10 | E21: 8 | F21: 9 | G21: 10 | H21: 10 | I21: 8 | J21: 9 | L21: 9 | M21: 10 | N21: 9 | O21: 10
A22: 15 | B22: TANUSHREE .Y | C22: 1AY11CS129 | D22: 10 | E22: 4 | F22: 9 | G22: 10 | H22: 6 | I22: 10 | K22: 10 | L22: 4 | N22: 8 | O22: 10 | P22: 10 | R22: 10 | S22: 10 | U22: 10 | V22: 10 | X22: 10
A23: 16 | B23: UMESH KUMAR | C23: 1AY11CS131 | I23: 7 | J23: 9 | L23: 9 | M23: 7 | N23: 4 | O23: 6 | Q23: 6 | S23: 10 | U23: 8 | V23: 10 | X23: 10
A24: 17 | B24: V PRADEEP | C24: 1AY11CS133 | D24: 2 | E24: 10 | F24: 9 | G24: 9 | H24: 10 | I24: 9 | K24: 7 | N24: 10 | O24: 4 | P24: 10
A25: 18 | B25: VISHAL KUMAR | C25: 1AY11CS135 | D25: 10 | E25: 10 | F25: 10 | G25: 10 | H25: 10 | J25: 8 | K25: 5 | M25: 10 | N25: 2 | O25: 10 | P25: 8
A26: 19 | B26: VISHNU .N | C26: 1AY11CS136 | D26: 10 | E26: 9 | F26: 9 | G26: 10 | H26: 7 | I26: 10 | J26: 10 | M26: 10 | N26: 10 | O26: 10
A27: 20 | B27: YOGESH.N | C27: 1AY11CS137 | D27: 10 | E27: 10 | F27: 9 | G27: 10 | H27: 9 | I27: 10 | J27: 10 | K27: 9 | M27: 10 | N27: 10 | O27: 10
A28: 21 | B28: SNEHA KULHALLI | C28: 1AY11CS140 | D28: 10 | E28: 3 | F28: 7 | G28: 7 | H28: 5 | I28: 5 | J28: 7 | K28: 5 | L28: 5 | N28: 6 | O28: 9 | Q28: 10 | S28: 10 | U28: 8 | V28: 6 | X28: 10
A29: 22 | B29: AKSHITHA C | C29: 1AY12CS400 | D29: 7 | F29: 9 | G29: 7 | H29: 5 | I29: 8 | K29: 8 | N29: 4 | O29: 4 | P29: 4 | Q29: 8 | S29: 8 | T29: 8 | V29: 8
A30: 23 | B30: B B VIKAS | C30: 1AY12CS401 | J30: 8 | K30: 7 | M30: 10 | N30: 4 | O30: 10 | Q30: 5 | R30: 2 | S30: 10 | T30: 5 | U30: 2 | V30: 8 | X30: 10
A31: 24 | B31: BALAJI P | C31: 1AY12CS402 | J31: 7 | N31: 6 | O31: 10 | P31: 5 | Q31: 8 | R31: 4 | S31: 10 | V31: 8 | W31: 10
A32: 25 | B32: BASANAGOUDA | C32: 1AY12CS403 | I32: 9 | J32: 7 | N32: 4 | O32: 9 | P32: 4 | R32: 8 | S32: 10 | T32: 8 | U32: 10 | V32: 8 | X32: 10
A33: 26 | B33: BASAVARAJ S | C33: 1AY12CS404 | D33: 9 | E33: 9 | I33: 8 | K33: 9 | N33: 4 | P33: 4 | Q33: 5 | S33: 10 | T33: 10 | U33: 4 | V33: 9 | X33: 10
A34: 27 | B34: DIVYA KALA M | C34: 1AY12CS405 | D34: 10 | E34: 8 | F34: 9 | G34: 9 | H34: 9 | I34: 9 | J34: 8 | M34: 10 | N34: 4 | O34: 9 | P34: 4 | Q34: 8 | R34: 8 | S34: 10 | U34: 8 | V34: 8
A35: 28 | B35: DIVYA L | C35: 1AY12CS406 | D35: 10 | E35: 2 | F35: 7 | I35: 7 | J35: 5 | N35: 4 | O35: 4 | P35: 5 | Q35: 10 | S35: 4 | T35: 10 | U35: 3 | V35: 6 | W35: 4
A36: 29 | B36: GOPAL RAJ J T | C36: 1AY12CS407 | D36: 9 | F36: 9 | G36: 9 | H36: 7 | J36: 5 | L36: 5 | N36: 4 | O36: 6 | P36: 4 | Q36: 4 | S36: 6 | U36: 8 | V36: 8 | W36: 8
A37: 30 | B37: GURURAJ M S | C37: 1AY12CS408 | D37: 9 | E37: 8 | F37: 9 | G37: 7 | H37: 7 | K37: 5 | L37: 8 | N37: 10 | O37: 7 | Q37: 8 | R37: 8 | S37: 10 | T37: 5 | U37: 5 | X37: 10
A38: 31 | B38: JHANHAVI V | C38: 1AY12CS410 | D38: 8 | E38: 5 | F38: 9 | G38: 5 | H38: 6 | I38: 9 | L38: 8 | M38: 10 | N38: 9 | O38: 9 | P38: 8 | Q38: 8 | S38: 8 | T38: 10 | U38: 8 | X38: 8
A39: 32 | B39: LOHITH R R | C39: 1AY12CS411 | F39: 6 | G39: 7 | H39: 6 | J39: 9 | K39: 10 | N39: 10 | O39: 10 | P39: 10 | Q39: 10 | R39: 8 | S39: 10 | V39: 8 | X39: 6
A40: 33 | B40: MALLIKARJUN | C40: 1AY12CS412 | I40: 4 | J40: 6 | M40: 2 | N40: 4 | O40: 5 | P40: 4 | Q40: 8 | R40: 8 | S40: 10 | T40: 3 | V40: 8
A41: 34 | B41: MANJU S | C41: 1AY12CS414 | F41: 10 | G41: 10 | H41: 3 | K41: 7 | L41: 9 | N41: 9 | O41: 9 | P41: 9 | Q41: 8 | R41: 8 | S41: 10 | T41: 10 | V41: 8
A42: 35 | B42: MEGHANA K K | C42: 1AY12CS415 | D42: 9 | F42: 7 | Q42: 5 | R42: 5 | S42: 10 | T42: 8 | V42: 8 | W42: 5 | X42: 8
A43: 36 | B43: MONICA SM | C43: 1AY12CS416 | D43: 10 | E43: 9 | F43: 5 | G43: 5 | H43: 5 | I43: 4 | L43: 4 | M43: 10 | N43: 4 | P43: 4 | Q43: 8 | R43: 10 | S43: 10 | V43: 8 | X43: 10
A44: 37 | B44: NAVEEN KUMAR K S | C44: 1AY12CS417 | K44: 5 | L44: 5 | N44: 4 | P44: 4 | Q44: 10 | S44: 10 | U44: 6 | V44: 10 | X44: 10
A45: 38 | B45: NAYANA R R | C45: 1AY12CS418 | D45: 10 | E45: 9 | G45: 6 | H45: 5 | Q45: 6 | R45: 6 | U45: 3 | V45: 4 | X45: 10
A46: 39 | B46: PAVITHRA HJ | C46: 1AY12CS419 | I46: 8 | J46: 8 | M46: 10 | N46: 4 | O46: 4 | P46: 4 | Q46: 5 | S46: 8 | T46: 8 | U46: 4 | W46: 4 | X46: 10
A47: 40 | B47: PRASHANTH V | C47: 1AY12CS420 | D47: 8 | E47: 2 | F47: 9 | G47: 9 | H47: 1 | I47: 8 | K47: 10 | N47: 9 | O47: 10 | P47: 9
A48: 41 | B48: PRAVEEN KUMAR B | C48: 1AY12CS421 | D48: 9 | E48: 6 | F48: 6 | G48: 9 | H48: 8 | I48: 8 | J48: 9 | K48: 9 | N48: 4 | P48: 4 | Q48: 5 | S48: 8 | T48: 8 | U48: 8 | X48: 8
A49: 42 | B49: PUTTARAJU B K | C49: 1AY12CS422 | D49: 8 | F49: 5 | G49: 3 | J49: 4 | K49: 4 | M49: 9 | O49: 10 | P49: 3 | S49: 10 | T49: 10 | V49: 4 | X49: 10
A50: 43 | B50: RADHAKRISHNA G | C50: 1AY12CS423 | D50: 6 | F50: 5 | G50: 5 | H50: 5 | I50: 8 | K50: 8 | N50: 4 | O50: 4 | P50: 10 | Q50: 6 | S50: 6 | T50: 6 | U50: 10 | V50: 10 | X50: 10
A51: 44 | B51: SANTHOSH KUMAR G P | C51: 1AY12CS425 | D51: 9 | E51: 7 | F51: 9 | G51: 9 | H51: 7 | I51: 7 | J51: 7 | K51: 7 | M51: 10 | N51: 4 | O51: 10 | P51: 4
A52: 45 | B52: SHREYAS P | C52: 1AY12CS426 | D52: 10 | E52: 5 | F52: 6 | G52: 5 | H52: 5 | I52: 4 | K52: 4 | M52: 9 | N52: 2 | O52: 8
A53: 46 | B53: SHRIDHAR REDDY | C53: 1AY12CS427 | K53: 3 | N53: 4 | P53: 7 | Q53: 6 | S53: 9 | T53: 10 | U53: 10 | V53: 9 | X53: 8
A54: 47 | B54: VIDYA G | C54: 1AY12CS430 | D54: 10 | E54: 9 | F54: 9 | G54: 8 | I54: 9 | J54: 7 | M54: 10 | N54: 4 | O54: 8 | S54: 10 | T54: 10 | V54: 8 | X54: 6
B56: No of students between 9-10 | D56: =COUNTIF(D6:D54,"=9")+COUNTIF(D6:D54,"=10") -> 26 | E56: =COUNTIF(E6:E54,"=9")+COUNTIF(E6:E54,"=10") -> 11 | F56: =COUNTIF(F6:F54,"=9")+COUNTIF(F6:F54,"=10") -> 24 | G56: =COUNTIF(G6:G54,"=9")+COUNTIF(G6:G54,"=10") -> 18 | H56: =COUNTIF(H6:H54,"=9")+COUNTIF(H6:H54,"=10") -> 8 | I56: =COUNTIF(I6:I54,"=9")+COUNTIF(I6:I54,"=10") -> 14 | J56: =COUNTIF(J6:J54,"=9")+COUNTIF(J6:J54,"=10") -> 9 | K56: =COUNTIF(K6:K54,"=9")+COUNTIF(K6:K54,"=10") -> 16 | ... X56: =COUNTIF(X6:X54,"=9")+COUNTIF(X6:X54,"=10") -> 22
B57: No of students between 7-8 | D57: =COUNTIF(D6:D54,"=7")+COUNTIF(D6:D54,"=8") -> 7 | E57: =COUNTIF(E6:E54,"=7")+COUNTIF(E6:E54,"=8") -> 8 | F57: =COUNTIF(F6:F54,"=7")+COUNTIF(F6:F54,"=8") -> 7 | G57: =COUNTIF(G6:G54,"=7")+COUNTIF(G6:G54,"=8") -> 6 | H57: =COUNTIF(H6:H54,"=7")+COUNTIF(H6:H54,"=8") -> 9 | I57: =COUNTIF(I6:I54,"=7")+COUNTIF(I6:I54,"=8") -> 11 | J57: =COUNTIF(J6:J54,"=7")+COUNTIF(J6:J54,"=8") -> 10 | K57: =COUNTIF(K6:K54,"=7")+COUNTIF(K6:K54,"=8") -> 8 | ... X57: =COUNTIF(X6:X54,"=7")+COUNTIF(X6:X54,"=8") -> 5
B58: No of students between 5-6 | D58: =COUNTIF(D6:D54,"=5")+COUNTIF(D6:D54,"=6") -> 1 | E58: =COUNTIF(E6:E54,"=5")+COUNTIF(E6:E54,"=6") -> 4 | F58: =COUNTIF(F6:F54,"=5")+COUNTIF(F6:F54,"=6") -> 6 | G58: =COUNTIF(G6:G54,"=5")+COUNTIF(G6:G54,"=6") -> 8 | H58: =COUNTIF(H6:H54,"=5")+COUNTIF(H6:H54,"=6") -> 12 | I58: =COUNTIF(I6:I54,"=5")+COUNTIF(I6:I54,"=6") -> 1 | J58: =COUNTIF(J6:J54,"=5")+COUNTIF(J6:J54,"=6") -> 3 | K58: =COUNTIF(K6:K54,"=5")+COUNTIF(K6:K54,"=6") -> 4 | ... X58: =COUNTIF(X6:X54,"=5")+COUNTIF(X6:X54,"=6") -> 2
B59: No of students between 3-4 | D59: =COUNTIF(D6:D54,"=3")+COUNTIF(D6:D54,"=4") -> 1 | E59: =COUNTIF(E6:E54,"=3")+COUNTIF(E6:E54,"=4") -> 6 | F59: =COUNTIF(F6:F54,"=3")+COUNTIF(F6:F54,"=4") -> 1 | G59: =COUNTIF(G6:G54,"=3")+COUNTIF(G6:G54,"=4") -> 4 | H59: =COUNTIF(H6:H54,"=3")+COUNTIF(H6:H54,"=4") -> 2 | I59: =COUNTIF(I6:I54,"=3")+COUNTIF(I6:I54,"=4") -> 4 | J59: =COUNTIF(J6:J54,"=3")+COUNTIF(J6:J54,"=4") -> 1 | K59: =COUNTIF(K6:K54,"=3")+COUNTIF(K6:K54,"=4") -> 4 | ... X59: =COUNTIF(X6:X54,"=3")+COUNTIF(X6:X54,"=4") -> 0
B60: No of students between 1-2 | D60: =COUNTIF(D6:D54,"=1")+COUNTIF(D6:D54,"=2") -> 2 | E60: =COUNTIF(E6:E54,"=1")+COUNTIF(E6:E54,"=2") -> 3 | F60: =COUNTIF(F6:F54,"=1")+COUNTIF(F6:F54,"=2") -> 0 | G60: =COUNTIF(G6:G54,"=1")+COUNTIF(G6:G54,"=2") -> 0 | H60: =COUNTIF(H6:H54,"=1")+COUNTIF(H6:H54,"=2") -> 1 | I60: =COUNTIF(I6:I54,"=1")+COUNTIF(I6:I54,"=2") -> 1 | J60: =COUNTIF(J6:J54,"=1")+COUNTIF(J6:J54,"=2") -> 1 | K60: =COUNTIF(K6:K54,"=1")+COUNTIF(K6:K54,"=2") -> 0 | ... X60: =COUNTIF(X6:X54,"=1")+COUNTIF(X6:X54,"=2") -> 0
B61: No of students scored 0 | D61: =COUNTIF(D6:D54,"=0") -> 0 | E61: =COUNTIF(E6:E54,"=0") -> 0 | F61: =COUNTIF(F6:F54,"=0") -> 0 | G61: =COUNTIF(G6:G54,"=0") -> 0 | H61: =COUNTIF(H6:H54,"=0") -> 0 | I61: =COUNTIF(I6:I54,"=0") -> 0 | J61: =COUNTIF(J6:J54,"=0") -> 0 | K61: =COUNTIF(K6:K54,"=0") -> 0 | ... X61: =COUNTIF(X6:X54,"=0") -> 0
B62: Absentees | D62: =COUNTBLANK(D6:D54) -> 11 | E62: =COUNTBLANK(E6:E54) -> 16 | F62: =COUNTBLANK(F6:F54) -> 10 | G62: =COUNTBLANK(G6:G54) -> 12 | H62: =COUNTBLANK(H6:H54) -> 16 | I62: =COUNTBLANK(I6:I54) -> 17 | J62: =COUNTBLANK(J6:J54) -> 24 | K62: =COUNTBLANK(K6:K54) -> 16 | ... X62: =COUNTBLANK(X6:X54) -> 19
B64: Attainment | D64: =((0.35*D56)+(0.3*D57)+(0.2*D58)+(0.1*D59)+(0.05*D60)+(0*D61))/(0.35*(D56+D57+D58+D59+D60+D61))*100 -> 89.57529 | E64: =((0.35*E56)+(0.3*E57)+(0.2*E58)+(0.1*E59)+(0.05*E60)+(0*E61))/(0.35*(E56+E57+E58+E59+E60+E61))*100 -> 69.642857 | F64: =((0.35*F56)+(0.3*F57)+(0.2*F58)+(0.1*F59)+(0.05*F60)+(0*F61))/(0.35*(F56+F57+F58+F59+F60+F61))*100 -> 88.721805 | G64: =((0.35*G56)+(0.3*G57)+(0.2*G58)+(0.1*G59)+(0.05*G60)+(0*G61))/(0.35*(G56+G57+G58+G59+G60+G61))*100 -> 80.15873 | H64: =((0.35*H56)+(0.3*H57)+(0.2*H58)+(0.1*H59)+(0.05*H60)+(0*H61))/(0.35*(H56+H57+H58+H59+H60+H61))*100 -> 72.767857 | I64: =((0.35*I56)+(0.3*I57)+(0.2*I58)+(0.1*I59)+(0.05*I60)+(0*I61))/(0.35*(I56+I57+I58+I59+I60+I61))*100 -> 81.56682 | J64: =((0.35*J56)+(0.3*J57)+(0.2*J58)+(0.1*J59)+(0.05*J60)+(0*J61))/(0.35*(J56+J57+J58+J59+J60+J61))*100 -> 82.142857 | K64: =((0.35*K56)+(0.3*K57)+(0.2*K58)+(0.1*K59)+(0.05*K60)+(0*K61))/(0.35*(K56+K57+K58+K59+K60+K61))*100 -> 82.142857 | ... X64: =((0.35*X56)+(0.3*X57)+(0.2*X58)+(0.1*X59)+(0.05*X60)+(0*X61))/(0.35*(X56+X57+X58+X59+X60+X61))*100 -> 94.581281

Sheet Sheet1
A1: Course outcomes-Program outcomes mapping & Attainment table:
A2: COs | B2: COs attained in % | C2: Program outcomes | V2: Total | W2: Attainment level of Program Outcomes in % (Average) | X2: Achievement
C3: a | E3: b | G3: c | I3: d | K3: e | M3: f | O3: g | Q3: h | R3: i | S3: j | T3: k | U3: l
C4: leve | D4: Attainment | E4: leve | F4: Attainment | G4: leve | H4: Attainment | I4: leve | J4: Attainment | K4: leve | L4: Attainment | M4: leve | N4: Attainment | O4: leve | P4: Attainment | X4: (Threshold Goal:70%)
A5: CO1 | B5: 85 | C5: 1 | D5: =(C5/C9)*B5 -> 10.625 | G5: 10.625
A6: CO2 | B6: 90 | C6: 2 | D6: =(C6/C9)*B6 -> 22.5 | G6: 22.5
A7: CO3 | B7: 83 | C7: 3 | D7: =(C7/C9)*B7 -> 31.125 | G7: 31.125
A8: CO4 | B8: 75 | C8: 2 | D8: =(C8/C9)*B8 -> 18.75 | G8: 18.75
A9: Total | C9: 8
A10: Note: Mapping in terms of Slight (1), Moderate(2), Good(3) and Excellent(4) levels and COs need not map all POS

Sheet Sheet2
A5: COs | B5: Avg. COs attained in % | C5: Program outcomes | O5: Attainment level of Program Outcomes in % (Average) | P5: Achievement
C6: a | D6: b | E6: c | F6: d | G6: e | H6: f | I6: g | J6: h | K6: i | L6: j | M6: k | N6: l | P6: (Threshold Goal:70%)
A7: CO1 | B7: 85 | C7: 4
A8: CO2 | B8: 90
A9: CO3 | B9: 83
A10: CO4 | B10: 75
A11: Total
A17: Subject Code : | B17: 10ME64 | C17: Title: Finite Element Methods | J17: Faculty Name: | N17: Manjunatha B.
A18: List of Course outcomes | C18: Program Outcomes | Q18: Total
C19: a | D19: b | E19: c | F19: d | G19: e | H19: f | I19: g | K19: h | L19: I | M19: J | O19: k | P19: l
A20: CO-1 | C20: 4 | D20: 2 | E20: 1 | F20: - | G20: - | H20: - | I20: - | K20: - | L20: 1 | M20: - | O20: 2 | P20: - | Q20: 9
A21: CO-2 | C21: 2 | D21: 4 | E21: 2 | F21: 2 | G21: 2 | H21: - | I21: - | K21: - | L21: - | M21: - | O21: - | P21: 3 | Q21: 15
A22: CO-3 | C22: 1 | D22: 4 | E22: 3 | F22: 2 | G22: 4 | H22: - | I22: - | K22: - | L22: - | M22: - | O22: - | P22: 3 | Q22: 17
A23: CO-4 | C23: 2 | D23: 4 | E23: 2 | F23: - | G23: - | H23: - | I23: - | K23: - | L23: - | M23: - | O23: - | P23: - | Q23: 8
A24: CO-5 | C24: - | D24: - | E24: - | F24: 2 | G24: 1 | H24: - | I24: - | K24: - | L24: 2 | M24: - | O24: 2 | P24: - | Q24: 7
A25: Total | C25: 9 | D25: 14 | E25: 7 | F25: 6 | G25: 7 | H25: - | I25: - | K25: - | L25: 3 | M25: - | O25: 4 | P25: 6 | Q25: 50
B68: a | C68: b | D68: c | E68: d | F68: e | G68: f | H68: g | I68: h | J68: i | K68: j | L68: k | M68: l
A69: co1 | B69: 4 | C69: 2 | D69: 1 | E69: - | F69: - | G69: - | H69: - | I69: - | J69: 1 | K69: - | L69: 2 | M69: - | N69: 10
A70: co2 | B70: 2 | C70: 4 | D70: 2 | E70: 2 | F70: 2 | G70: - | H70: - | I70: - | J70: - | K70: - | L70: - | M70: 3 | N70: 15
A71: co3 | B71: 1 | C71: 4 | D71: 3 | E71: 2 | F71: 4 | G71: - | H71: - | I71: - | J71: - | K71: - | L71: - | M71: 3 | N71: 17
A72: co4 | B72: 2 | C72: 4 | D72: 2 | E72: - | F72: - | G72: - | H72: - | I72: - | J72: - | K72: - | L72: - | M72: - | N72: 8
A73: co5 | B73: - | C73: - | D73: - | E73: 2 | F73: 1 | G73: - | H73: - | I73: - | J73: 2 | K73: - | L73: 2 | M73: - | N73: 7
B74: 9 | C74: 14 | D74: 8 | E74: 6 | F74: 7 | G74: - | H74: - | I74: - | J74: 3 | K74: - | L74: 4 | M74: 6 | N74: 57
B76: 85 | C76: 73 | D76: 1 | E76: - | F76: - | G76: - | H76: - | I76: - | J76: 1 | K76: - | L76: 2 | M76: - | N76: 10
B77: 85 | C77: 70 | D77: 2 | E77: 2 | F77: 2 | G77: - | H77: - | I77: - | J77: - | K77: - | L77: - | M77: 3 | N77: 15
B78: 85 | C78: 84 | D78: 3 | E78: 2 | F78: 4 | G78: - | H78: - | I78: - | J78: - | K78: - | L78: - | M78: 3 | N78: 17
B79: 85 | C79: 84 | D79: 2 | E79: - | F79: - | G79: - | H79: - | I79: - | J79: - | K79: - | L79: - | M79: - | N79: 8
B80: - | C80: - | D80: - | E80: 2 | F80: 1 | G80: - | H80: - | I80: - | J80: 2 | K80: - | L80: 2 | M80: - | N80: 7
B81: 9 | C81: 14 | D81: 8 | E81: 6 | F81: 7 | G81: - | H81: - | I81: - | J81: 3 | K81: - | L81: 4 | M81: 6 | N81: 57
B84: =IF(B69="-",0,B69)/B$74 -> 0.44444444 | C84: =IF(C69="-",0,C69)/C$74 -> 0.14285714 | D84: =IF(D69="-",0,D69)/D$74 -> 0.125 | E84: =IF(E69="-",0,E69)/E$74 -> 0 | F84: =IF(F69="-",0,F69)/F$74 -> 0 | G84: =IF(G69="-",0,G69)/G$74 -> #VALUE! | H84: =IF(H69="-",0,H69)/H$74 -> #VALUE! | I84: =IF(I69="-",0,I69)/I$74 -> #VALUE! | ... M84: =IF(M69="-",0,M69)/M$74 -> 0 | N84: 10
B85: =IF(B70="-",0,B70)/B$74 -> 0.22222222 | C85: =IF(C70="-",0,C70)/C$74 -> 0.28571429 | D85: =IF(D70="-",0,D70)/D$74 -> 0.25 | E85: =IF(E70="-",0,E70)/E$74 -> 0.33333333 | F85: =IF(F70="-",0,F70)/F$74 -> 0.28571429 | G85: =IF(G70="-",0,G70)/G$74 -> #VALUE! | H85: =IF(H70="-",0,H70)/H$74 -> #VALUE! | I85: =IF(I70="-",0,I70)/I$74 -> #VALUE! | ... M85: =IF(M70="-",0,M70)/M$74 -> 0.5 | N85: 15
B86: =IF(B71="-",0,B71)/B$74 -> 0.11111111 | C86: =IF(C71="-",0,C71)/C$74 -> 0.28571429 | D86: =IF(D71="-",0,D71)/D$74 -> 0.375 | E86: =IF(E71="-",0,E71)/E$74 -> 0.33333333 | F86: =IF(F71="-",0,F71)/F$74 -> 0.57142857 | G86: =IF(G71="-",0,G71)/G$74 -> #VALUE! | H86: =IF(H71="-",0,H71)/H$74 -> #VALUE! | I86: =IF(I71="-",0,I71)/I$74 -> #VALUE! | ... M86: =IF(M71="-",0,M71)/M$74 -> 0.5 | N86: 17
B87: =IF(B72="-",0,B72)/B$74 -> 0.22222222 | C87: =IF(C72="-",0,C72)/C$74 -> 0.28571429 | D87: =IF(D72="-",0,D72)/D$74 -> 0.25 | E87: =IF(E72="-",0,E72)/E$74 -> 0 | F87: =IF(F72="-",0,F72)/F$74 -> 0 | G87: =IF(G72="-",0,G72)/G$74 -> #VALUE! | H87: =IF(H72="-",0,H72)/H$74 -> #VALUE! | I87: =IF(I72="-",0,I72)/I$74 -> #VALUE! | ... M87: =IF(M72="-",0,M72)/M$74 -> 0 | N87: 8
B88: =IF(B73="-",0,B73)/B$74 -> 0 | C88: =IF(C73="-",0,C73)/C$74 -> 0 | D88: =IF(D73="-",0,D73)/D$74 -> 0 | E88: =IF(E73="-",0,E73)/E$74 -> 0.33333333 | F88: =IF(F73="-",0,F73)/F$74 -> 0.14285714 | G88: =IF(G73="-",0,G73)/G$74 -> #VALUE! | H88: =IF(H73="-",0,H73)/H$74 -> #VALUE! | I88: =IF(I73="-",0,I73)/I$74 -> #VALUE! | ... M88: =IF(M73="-",0,M73)/M$74 -> 0 | N88: 7
B89: =B74/B$74 -> 1 | C89: =C74/C$74 -> 1 | D89: =D74/D$74 -> 1 | E89: =E74/E$74 -> 1 | F89: =F74/F$74 -> 1 | G89: =G74/G$74 -> #VALUE! | H89: =H74/H$74 -> #VALUE! | I89: =I74/I$74 -> #VALUE! | ... M89: =M74/M$74 -> 1 | N89: 57
B92: =B84*B76 -> 37.777778 | C92: =C84*C76 -> 10.428571 | D92: =D84*D76 -> 0.125 | E92: =E84*E76 -> #VALUE! | F92: =F84*F76 -> #VALUE! | G92: =G84*G76 -> #VALUE! | H92: =H84*H76 -> #VALUE! | I92: =I84*I76 -> #VALUE! | ... M92: =M84*M76 -> #VALUE! | N92: 10
B93: =B85*B77 -> 18.888889 | C93: =C85*C77 -> 20 | D93: =D85*D77 -> 0.5 | E93: =E85*E77 -> 0.66666667 | F93: =F85*F77 -> 0.57142857 | G93: =G85*G77 -> #VALUE! | H93: =H85*H77 -> #VALUE! | I93: =I85*I77 -> #VALUE! | ... M93: =M85*M77 -> 1.5 | N93: 15
B94: =B86*B78 -> 9.4444444 | C94: =C86*C78 -> 24 | D94: =D86*D78 -> 1.125 | E94: =E86*E78 -> 0.66666667 | F94: =F86*F78 -> 2.2857143 | G94: =G86*G78 -> #VALUE! | H94: =H86*H78 -> #VALUE! | I94: =I86*I78 -> #VALUE! | ... M94: =M86*M78 -> 1.5 | N94: 17
B95: =B87*B79 -> 18.888889 | C95: =C87*C79 -> 24 | D95: =D87*D79 -> 0.5 | E95: =E87*E79 -> #VALUE! | F95: =F87*F79 -> #VALUE! | G95: =G87*G79 -> #VALUE! | H95: =H87*H79 -> #VALUE! | I95: =I87*I79 -> #VALUE! | ... M95: =M87*M79 -> #VALUE! | N95: 8
B96: =B88*IF(B80="-",0,B88) -> 0 | C96: =C88*IF(C80="-",0,C88) -> 0 | D96: =D88*IF(D80="-",0,D88) -> 0 | E96: =E88*IF(E80="-",0,E88) -> 0.11111111 | F96: =F88*IF(F80="-",0,F88) -> 0.020408163 | G96: =G88*IF(G80="-",0,G88) -> #VALUE! | H96: =H88*IF(H80="-",0,H88) -> #VALUE! | I96: =I88*IF(I80="-",0,I88) -> #VALUE! | ... M96: =M88*IF(M80="-",0,M88) -> 0 | N96: 7
B97: =SUM(B92:B96) -> 85 | C97: =SUM(C92:C96) -> 78.428571 | D97: =SUM(D92:D96) -> 2.25 | E97: =SUM(E92:E96) -> #VALUE! | F97: =SUM(F92:F96) -> #VALUE! | G97: =SUM(G92:G96) -> #VALUE! | H97: =SUM(H92:H96) -> #VALUE! | I97: =SUM(I92:I96) -> #VALUE! | ... M97: =SUM(M92:M96) -> #VALUE! | N97: 57
