Workbook

Sheet ATTAINMENT LEVEL
C5: Attainment Levels of COs
C6: Course Name: COMPUTER AIDED ENGINEERING DRAWING Course Code:15CED14
C7: Assessment Methods | D7: Target-Attainment Levels | F7: Attainement
C8: Internal Assessment(CIE) | D8: Level 1 | E8: 60% of students scoring more than 50% marks in internal assessment tools | F8: Level 3
D9: Level 2 | E9: 70% of students scoring more than 50% marks in internal assessment tools
D10: Level 3 | E10: 80% of students scoring more than 50% marks in internal assessment tools
C13: Assessment Methods | D13: Target-Attainment Levels | F13: Attainement
C14: University Assessment (SEE) | D14: Level 1 | E14: 60% of students scoring more than 40% marks in internal assessment tools | F14: Level 3
D15: Level 2 | E15: 70% of students scoring more than 40% marks in internal assessment tools
D16: Level 3 | E16: 80% of students scoring more than 40% marks in internal assessment tools

Sheet COATTAINMENT
D6: Attainment Levels of COs
D7: Course Name: CAED Course Code:15CED14
D8: Assessment Methods | E8: Target-Attainment Levels | G8: Attainement
D9: Internal Assessment(CIE) | E9: Level 1 | F9: 60% of students scoring more than 50% marks in internal assessment tools | G9: Level 1
E10: Level 2 | F10: 70% of students scoring more than 50% marks in internal assessment tools
E11: Level 3 | F11: 80% of students scoring more than 50% marks in internal assessment tools
D14: Assessment Methods | E14: Target-Attainment Levels | G14: Attainement
D15: University Assessment (SEE) | E15: Level 1 | F15: 60% of students scoring more than 40% marks in internal assessment tools | G15: Level 1
E16: Level 2 | F16: 70% of students scoring more than 40% marks in internal assessment tools
E17: Level 3 | F17: 80% of students scoring more than 40% marks in internal assessment tools
F20: SAPTHAGIRI COLLEGE OF ENGINEERING, BENGALURU - 57.
F21: DEPARTMENT OF MECHANICAL ENGINEERING
F22: CO-PO ATTAINMENT (EVEN SEM. 2015-16)
F23: SEM & SEC: II I & J SEC | P23: Subject Code: 15CED14
F24: NAME OF THE FACULTY :PRATHIMA C N
G25: I CO Attainment
G26: A: Direct assessment (100%)-Tests, Assignment, Examination
G29: COs | H29: Mapping POs | I29: Direct | J29: Target (%) | K29: Attainment
I30: Assessment
I31: (a)
G32: CO1 | H32: 1,2,9,11 | I32: 92 | J32: 70 | K32: YES
G33: CO2 | H33: 1,2,3,11,12 | I33: 92 | J33: 70 | K33: YES
G34: CO3 | H34: 1,2,4,12 | I34: 92 | J34: 70 | K34: YES
F37: SAPTHAGIRI COLLEGE OF ENGINEERING, BENGALURU - 57.
F38: DEPARTMENT OFMECHANICAL ENGINEERING ENGINEERING
F39: CO-PO ATTAINMENT (ODD SEM. 2015-16)
F40: SEM & SEC:II I & J SEC | K40: Subject: COMPUTER AIDED ENGINEERING DRAWING(15CED24) | U40: Subject Code: 15CED14
F41: NAME OF THE FACULTY :PRATHIMA C N
H46: Mapping of Course outcomes (COs) and Program Outcomes (POs)
H47: Note: 1 = Slight 2 = Moderate 3 = Good 4 = Excellent
H49: Course outcomes | J49: Program Outcomes | V49: Total
J50: a | K50: b | L50: c | M50: d | N50: e | O50: f | P50: g | Q50: h | R50: I | S50: J | T50: k | U50: l
J51: PO1 | K51: PO2 | L51: PO3 | M51: PO4 | N51: PO5 | O51: PO6 | P51: PO7 | Q51: PO8 | R51: PO9 | S51: PO10 | T51: PO11 | U51: PO12
H52: CO-1 | I52: 92 | J52: 4 | K52: 1 | L52: 2 | N52: 3 | R52: 1 | S52: 4 | U52: 3 | V52: 18
H53: CO-2 | I53: 92 | J53: 4 | K53: 1 | L53: 2 | N53: 3 | R53: 1 | S53: 3 | V53: 14
H54: CO-3 | I54: 92 | J54: 4 | K54: 1 | L54: 2 | N54: 3 | R54: 1 | S54: 3 | V54: 14
H55: Total | K55: 3 | L55: 6 | N55: 9 | R55: 3 | S55: 10 | U55: 3 | V55: 46
H61: Mapping of Course outcomes (COs) and Program Ooutcomes (POs)
H62: Note: 1 = Slight 2 = Moderate 3 = Good 4 = Excellent
H64: Course outcomes | J64: Program Outcomes | V64: PSO
J65: PO1 | K65: PO2 | L65: PO3 | M65: PO4 | N65: PO5 | O65: PO6 | P65: PO7 | Q65: PO8 | R65: PO9 | S65: PO10 | T65: PO11 | U65: PO12 | V65: POS1 | W65: POS2 | X65: POS3 | Y65: POS4
H66: CO-1 | I66: 92 | J66: =(J52/4)*I52 -> 92 | K66: =(K52/4)*I66 -> 23 | L66: =(L52/4)*92 -> 46 | N66: =(N52/4)*92 -> 69 | O66: - | Q66: - | R66: =(R52/4)*I66 -> 23 | S66: =(S52/4)*J66 -> 92 | U66: =(U52/4)*I66 -> 69
H67: CO-2 | I67: 92 | J67: =(J53/4)*I53 -> 92 | K67: =(K53/4)*I67 -> 23 | L67: =(L53/4)*J67 -> 46 | N67: =(N53/4)*92 -> 69 | O67: - | Q67: - | R67: =(R53/4)*I67 -> 23 | S67: =(S53/4)*J67 -> 69
H68: CO-3 | I68: 92 | J68: =(J54/4)*I54 -> 92 | K68: =(K54/4)*I68 -> 23 | L68: =(L54/4)*J68 -> 46 | N68: =(N54/4)*92 -> 69 | O68: - | Q68: - | R68: =(R54/4)*I68 -> 23 | S68: =(S54/4)*J68 -> 69
H69: Average | J69: =AVERAGE(J66:J68) -> 92 | K69: =AVERAGE(K66:K68) -> 23 | L69: =AVERAGE(L66:L68) -> 46 | N69: =AVERAGE(N66:N68) -> 69 | O69: - | Q69: - | R69: =AVERAGE(R66:R68) -> 23 | S69: =AVERAGE(S66:S68) -> 76.666667 | U69: =AVERAGE(U66:U68) -> 69

Sheet TEST MARKS 
B1: Sapthagiri College of Engineering
B2: Department of Mechanical Engineering
B3: COMPUTER AIDED ENGINEERING DRAWING
A4: II Semester I & J Section ( MECHANICAL Engineering)Test marks for EVEN Sem 2015-2016
A5: Sl. No. | B5: Name of the student | C5: USN | D5: I INTERNALS | E5: II INTERNALS | F5: III INTERNALS
D7: Q1 Or Q2 | E7: Q3 OR Q4 | F7: Q1 OR Q2
D8: CO 1 | E8: CO2 | F8: CO3
D9: 10 | E9: 10 | F9: 10
A11: 1 | B11: AFTAB AHMED WALA | C11: 1SG15ME004 | D11: 9 | E11: =D11 -> 9 | F11: =E11 -> 9
A12: 2 | B12: AJEYA.V | C12: 1SG15ME006 | D12: 9 | E12: =D12 -> 9 | F12: =E12 -> 9
A13: 3 | B13: AJITH S P | C13: 1SG15ME007 | D13: 9 | E13: =D13 -> 9 | F13: =E13 -> 9
A14: 4 | B14: AKSHAY S | C14: 1SG15ME008 | D14: 9 | E14: =D14 -> 9 | F14: =E14 -> 9
A15: 5 | B15: AMAN NAIN | C15: 1SG15ME009 | D15: 8 | E15: =D15 -> 8 | F15: =E15 -> 8
A16: 6 | B16: AMITH.R | C16: 1SG15ME010 | D16: 8 | E16: =D16 -> 8 | F16: =E16 -> 8
A17: 7 | B17: ANIL KUMAR C | C17: 1SG15ME011 | D17: 9 | E17: =D17 -> 9 | F17: =E17 -> 9
A18: 8 | B18: ANIRUDH R K | C18: 1SG15ME012 | D18: 6 | E18: =D18 -> 6 | F18: =E18 -> 6
A19: 9 | B19: ARJUN S | C19: 1SG15ME013 | D19: 9 | E19: =D19 -> 9 | F19: =E19 -> 9
A20: 10 | B20: ASHISH SHARMA | C20: 1SG15ME014 | D20: 6 | E20: =D20 -> 6 | F20: =E20 -> 6
A21: 11 | B21: AYAN GUHA RAOY | C21: 1SG15ME015 | D21: 9 | E21: =D21 -> 9 | F21: =E21 -> 9
A22: 12 | B22: BHARATH .V | C22: 1SG15ME017 | D22: 9 | E22: =D22 -> 9 | F22: =E22 -> 9
... A83: 73 | B83: YOGESH B | C83: 1SG15ME105 | D83: 8 | E83: =D83 -> 8 | F83: =E83 -> 8

Sheet TEST -CO 
B1: Sapthagiri College of Engineering
B2: Department of Mechanical Engineering
B3: COMPUTER AIDED ENGINEERING DRAWING
A4: II Semester I & J Section ( Mechanical Engineering)Test marks for EVEN Sem 2015-2016 | J4: TARGET: 70% OF STUDENTS TO SCORE 60% and ABOVE
A5: Sl. No. | B5: Name of the student | C5: USN | G5: ATTAINMENT (%) | J5: Y OR N
D7: I | E7: I | F7: II | G7: I | H7: I | I7: II | J7: I | K7: I | L7: II
D8: CO 1 | E8: CO 2 | F8: CO 3 | G8: CO 1 | H8: CO 2 | I8: CO 3 | J8: CO 1 | K8: CO 2 | L8: CO3
D9: 10 | E9: 10 | F9: 10
A11: 1 | B11: AFTAB AHMED WALA | C11: 1SG15ME004 | D11: =VALUE('TEST MARKS '!D11) -> 9 | E11: =D11 -> 9 | F11: =E11 -> 9 | G11: =(D11/D9)*100 -> 90 | H11: =G11 -> 90 | I11: =H11 -> 90 | J11: =IF(G11<60,"N","Y") -> Y | K11: =IF(H11<60,"N","Y") -> Y | L11: =IF(I11<60,"N","Y") -> Y
A12: 2 | B12: AJEYA.V | C12: 1SG15ME006 | D12: =VALUE('TEST MARKS '!D12) -> 9 | E12: =D12 -> 9 | F12: =E12 -> 9 | G12: =(D12/10)*100 -> 90 | H12: =G12 -> 90 | I12: =H12 -> 90 | J12: =IF(G12<60,"N","Y") -> Y | K12: =IF(H12<60,"N","Y") -> Y | L12: =IF(I12<60,"N","Y") -> Y
A13: 3 | B13: AJITH S P | C13: 1SG15ME007 | D13: =VALUE('TEST MARKS '!D13) -> 9 | E13: =D13 -> 9 | F13: =E13 -> 9 | G13: =(D13/10)*100 -> 90 | H13: =G13 -> 90 | I13: =H13 -> 90 | J13: =IF(G13<60,"N","Y") -> Y | K13: =IF(H13<60,"N","Y") -> Y | L13: =IF(I13<60,"N","Y") -> Y
A14: 4 | B14: AKSHAY S | C14: 1SG15ME008 | D14: =VALUE('TEST MARKS '!D14) -> 9 | E14: =D14 -> 9 | F14: =E14 -> 9 | G14: =(D14/10)*100 -> 90 | H14: =G14 -> 90 | I14: =H14 -> 90 | J14: =IF(G14<60,"N","Y") -> Y | K14: =IF(H14<60,"N","Y") -> Y | L14: =IF(I14<60,"N","Y") -> Y
A15: 5 | B15: AMAN NAIN | C15: 1SG15ME009 | D15: =VALUE('TEST MARKS '!D15) -> 8 | E15: =D15 -> 8 | F15: =E15 -> 8 | G15: =(D15/10)*100 -> 80 | H15: =G15 -> 80 | I15: =H15 -> 80 | J15: =IF(G15<60,"N","Y") -> Y | K15: =IF(H15<60,"N","Y") -> Y | L15: =IF(I15<60,"N","Y") -> Y
A16: 6 | B16: AMITH.R | C16: 1SG15ME010 | D16: =VALUE('TEST MARKS '!D16) -> 8 | E16: =D16 -> 8 | F16: =E16 -> 8 | G16: =(D16/10)*100 -> 80 | H16: =G16 -> 80 | I16: =H16 -> 80 | J16: =IF(G16<60,"N","Y") -> Y | K16: =IF(H16<60,"N","Y") -> Y | L16: =IF(I16<60,"N","Y") -> Y
A17: 7 | B17: ANIL KUMAR C | C17: 1SG15ME011 | D17: =VALUE('TEST MARKS '!D17) -> 9 | E17: =D17 -> 9 | F17: =E17 -> 9 | G17: =(D17/10)*100 -> 90 | H17: =G17 -> 90 | I17: =H17 -> 90 | J17: =IF(G17<60,"N","Y") -> Y | K17: =IF(H17<60,"N","Y") -> Y | L17: =IF(I17<60,"N","Y") -> Y
A18: 8 | B18: ANIRUDH R K | C18: 1SG15ME012 | D18: =VALUE('TEST MARKS '!D18) -> 6 | E18: =D18 -> 6 | F18: =E18 -> 6 | G18: =(D18/10)*100 -> 60 | H18: =G18 -> 60 | I18: =H18 -> 60 | J18: =IF(G18<60,"N","Y") -> Y | K18: =IF(H18<60,"N","Y") -> Y | L18: =IF(I18<60,"N","Y") -> Y
A19: 9 | B19: ARJUN S | C19: 1SG15ME013 | D19: =VALUE('TEST MARKS '!D19) -> 9 | E19: =D19 -> 9 | F19: =E19 -> 9 | G19: =(D19/10)*100 -> 90 | H19: =G19 -> 90 | I19: =H19 -> 90 | J19: =IF(G19<60,"N","Y") -> Y | K19: =IF(H19<60,"N","Y") -> Y | L19: =IF(I19<60,"N","Y") -> Y
A20: 10 | B20: ASHISH SHARMA | C20: 1SG15ME014 | D20: =VALUE('TEST MARKS '!D20) -> 6 | E20: =D20 -> 6 | F20: =E20 -> 6 | G20: =(D20/10)*100 -> 60 | H20: =G20 -> 60 | I20: =H20 -> 60 | J20: =IF(G20<60,"N","Y") -> Y | K20: =IF(H20<60,"N","Y") -> Y | L20: =IF(I20<60,"N","Y") -> Y
A21: 11 | B21: AYAN GUHA RAOY | C21: 1SG15ME015 | D21: =VALUE('TEST MARKS '!D21) -> 9 | E21: =D21 -> 9 | F21: =E21 -> 9 | G21: =(D21/10)*100 -> 90 | H21: =G21 -> 90 | I21: =H21 -> 90 | J21: =IF(G21<60,"N","Y") -> Y | K21: =IF(H21<60,"N","Y") -> Y | L21: =IF(I21<60,"N","Y") -> Y
A22: 12 | B22: BHARATH .V | C22: 1SG15ME017 | D22: =VALUE('TEST MARKS '!D22) -> 9 | E22: =D22 -> 9 | F22: =E22 -> 9 | G22: =(D22/10)*100 -> 90 | H22: =G22 -> 90 | I22: =H22 -> 90 | J22: =IF(G22<60,"N","Y") -> Y | K22: =IF(H22<60,"N","Y") -> Y | L22: =IF(I22<60,"N","Y") -> Y
A23: 13 | B23: C KARTHIK | C23: 1SG15ME018 | D23: =VALUE('TEST MARKS '!D23) -> 7 | E23: =D23 -> 7 | F23: =E23 -> 7 | G23: =(D23/10)*100 -> 70 | H23: =G23 -> 70 | I23: =H23 -> 70 | J23: =IF(G23<60,"N","Y") -> Y | K23: =IF(H23<60,"N","Y") -> Y | L23: =IF(I23<60,"N","Y") -> Y
... A50: 40 | B50: DHANUSH N | C50: 1SG15ME057 | D50: =VALUE('TEST MARKS '!D50) -> 9 | E50: =D50 -> 9 | F50: =E50 -> 9 | G50: =(D50/10)*100 -> 90 | H50: =G50 -> 90 | I50: =H50 -> 90 | J50: =IF(G50<60,"N","Y") -> Y | K50: =IF(H50<60,"N","Y") -> Y | L50: =IF(I50<60,"N","Y") -> Y
A51: 41 | B51: NAGARJUN S TAKKALAKI | C51: 1SG15ME058 | D51: 10 | E51: =D51 -> 10 | F51: =E51 -> 10 | G51: =(D51/10)*100 -> 100 | H51: =G51 -> 100 | I51: =H51 -> 100 | J51: =IF(G51<60,"N","Y") -> Y | K51: =IF(H51<60,"N","Y") -> Y | L51: =IF(I51<60,"N","Y") -> Y
A52: 42 | B52: NAGARJUN M | C52: 1SG15ME059 | D52: 10 | E52: =D52 -> 10 | F52: =E52 -> 10 | G52: =(D52/10)*100 -> 100 | H52: =G52 -> 100 | I52: =H52 -> 100 | J52: =IF(G52<60,"N","Y") -> Y | K52: =IF(H52<60,"N","Y") -> Y | L52: =IF(I52<60,"N","Y") -> Y
A53: 43 | B53: NISCHITH A G | C53: 1SG15ME060 | D53: 9 | E53: =D53 -> 9 | F53: =E53 -> 9 | G53: =(D53/10)*100 -> 90 | H53: =G53 -> 90 | I53: =H53 -> 90 | J53: =IF(G53<60,"N","Y") -> Y | K53: =IF(H53<60,"N","Y") -> Y | L53: =IF(I53<60,"N","Y") -> Y
A54: 44 | B54: KURUBA NITHEESH KUMAR | C54: 1SG15ME061 | D54: 7 | E54: =D54 -> 7 | F54: =E54 -> 7 | G54: =(D54/10)*100 -> 70 | H54: =G54 -> 70 | I54: =H54 -> 70 | J54: =IF(G54<60,"N","Y") -> Y | K54: =IF(H54<60,"N","Y") -> Y | L54: =IF(I54<60,"N","Y") -> Y
A55: 45 | B55: PAWAN C | C55: 1SG15ME064 | D55: 9 | E55: =D55 -> 9 | F55: =E55 -> 9 | G55: =(D55/10)*100 -> 90 | H55: =G55 -> 90 | I55: =H55 -> 90 | J55: =IF(G55<60,"N","Y") -> Y | K55: =IF(H55<60,"N","Y") -> Y | L55: =IF(I55<60,"N","Y") -> Y
A56: 46 | B56: PRADEEP.B.N | C56: 1SG15ME066 | D56: 10 | E56: =D56 -> 10 | F56: =E56 -> 10 | G56: =(D56/10)*100 -> 100 | H56: =G56 -> 100 | I56: =H56 -> 100 | J56: =IF(G56<60,"N","Y") -> Y | K56: =IF(H56<60,"N","Y") -> Y | L56: =IF(I56<60,"N","Y") -> Y
A57: 47 | B57: PRATHEEK S | C57: 1SG15ME067 | D57: 7 | E57: =D57 -> 7 | F57: =E57 -> 7 | G57: =(D57/10)*100 -> 70 | H57: =G57 -> 70 | I57: =H57 -> 70 | J57: =IF(G57<60,"N","Y") -> Y | K57: =IF(H57<60,"N","Y") -> Y | L57: =IF(I57<60,"N","Y") -> Y
A58: 48 | B58: PRAVEEN.S | C58: 1SG15ME068 | D58: 6 | E58: =D58 -> 6 | F58: =E58 -> 6 | G58: =(D58/10)*100 -> 60 | H58: =G58 -> 60 | I58: =H58 -> 60 | J58: =IF(G58<60,"N","Y") -> Y | K58: =IF(H58<60,"N","Y") -> Y | L58: =IF(I58<60,"N","Y") -> Y
A59: 49 | B59: RAGHAVA SURYA.M | C59: 1SG15ME071 | D59: 7 | E59: =D59 -> 7 | F59: =E59 -> 7 | G59: =(D59/10)*100 -> 70 | H59: =G59 -> 70 | I59: =H59 -> 70 | J59: =IF(G59<60,"N","Y") -> Y | K59: =IF(H59<60,"N","Y") -> Y | L59: =IF(I59<60,"N","Y") -> Y
A60: 50 | B60: RAHUL N DIXIT | C60: 1SG15ME072 | D60: 7 | E60: =D60 -> 7 | F60: =E60 -> 7 | G60: =(D60/10)*100 -> 70 | H60: =G60 -> 70 | I60: =H60 -> 70 | J60: =IF(G60<60,"N","Y") -> Y | K60: =IF(H60<60,"N","Y") -> Y | L60: =IF(I60<60,"N","Y") -> Y
A61: 51 | B61: RAHUL V | C61: 1SG15ME073 | D61: 8 | E61: =D61 -> 8 | F61: =E61 -> 8 | G61: =(D61/10)*100 -> 80 | H61: =G61 -> 80 | I61: =H61 -> 80 | J61: =IF(G61<60,"N","Y") -> Y | K61: =IF(H61<60,"N","Y") -> Y | L61: =IF(I61<60,"N","Y") -> Y
A62: 52 | B62: RAJATH G MOODITHAYA | C62: 1SG15ME074 | D62: 6 | E62: =D62 -> 6 | F62: =E62 -> 6 | G62: =(D62/10)*100 -> 60 | H62: =G62 -> 60 | I62: =H62 -> 60 | J62: =IF(G62<60,"N","Y") -> Y | K62: =IF(H62<60,"N","Y") -> Y | L62: =IF(I62<60,"N","Y") -> Y
... A67: 57 | B67: S HANUMANTHA REDDY | C67: 1SG15ME080 | D67: 10 | E67: =D67 -> 10 | F67: =E67 -> 10 | G67: =(D67/10)*100 -> 100 | H67: =G67 -> 100 | I67: =H67 -> 100 | J67: =IF(G67<60,"N","Y") -> Y | K67: =IF(H67<60,"N","Y") -> Y | L67: =IF(I67<60,"N","Y") -> Y
B68: SADANANDA LAXMINARAYAN HEGDE | C68: 1SG15ME081 | D68: 9 | E68: =D68 -> 9 | F68: =E68 -> 9 | G68: =(D68/10)*100 -> 90 | H68: =G68 -> 90 | I68: =H68 -> 90 | J68: =IF(G68<60,"N","Y") -> Y | K68: =IF(H68<60,"N","Y") -> Y | L68: =IF(I68<60,"N","Y") -> Y
B69: SAKSHAM KANTHAK | C69: 1SG15ME082 | D69: 6 | E69: =D69 -> 6 | F69: =E69 -> 6 | G69: =(D69/10)*100 -> 60 | H69: =G69 -> 60 | I69: =H69 -> 60 | J69: =IF(G69<60,"N","Y") -> Y | K69: =IF(H69<60,"N","Y") -> Y | L69: =IF(I69<60,"N","Y") -> Y
B70: SANTHOSHA | C70: 1SG15ME083 | D70: 7 | E70: =D70 -> 7 | F70: =E70 -> 7 | G70: =(D70/10)*100 -> 70 | H70: =G70 -> 70 | I70: =H70 -> 70 | J70: =IF(G70<60,"N","Y") -> Y | K70: =IF(H70<60,"N","Y") -> Y | L70: =IF(I70<60,"N","Y") -> Y
B71: SAURABH RAJESH PARAVE | C71: 1SG15ME084 | D71: 8 | E71: =D71 -> 8 | F71: =E71 -> 8 | G71: =(D71/10)*100 -> 80 | H71: =G71 -> 80 | I71: =H71 -> 80 | J71: =IF(G71<60,"N","Y") -> Y | K71: =IF(H71<60,"N","Y") -> Y | L71: =IF(I71<60,"N","Y") -> Y
B72: SHARATH.A.R | C72: 1SG15ME089 | D72: 10 | E72: =D72 -> 10 | F72: =E72 -> 10 | G72: =(D72/10)*100 -> 100 | H72: =G72 -> 100 | I72: =H72 -> 100 | J72: =IF(G72<60,"N","Y") -> Y | K72: =IF(H72<60,"N","Y") -> Y | L72: =IF(I72<60,"N","Y") -> Y
B73: SHASHANK H PRASAD | C73: 1SG15ME091 | D73: 10 | E73: =D73 -> 10 | F73: =E73 -> 10 | G73: =(D73/10)*100 -> 100 | H73: =G73 -> 100 | I73: =H73 -> 100 | J73: =IF(G73<60,"N","Y") -> Y | K73: =IF(H73<60,"N","Y") -> Y | L73: =IF(I73<60,"N","Y") -> Y
B74: SHUBHAM MAJHI | C74: 1SG15ME092 | D74: 10 | E74: =D74 -> 10 | F74: =E74 -> 10 | G74: =(D74/10)*100 -> 100 | H74: =G74 -> 100 | I74: =H74 -> 100 | J74: =IF(G74<60,"N","Y") -> Y | K74: =IF(H74<60,"N","Y") -> Y | L74: =IF(I74<60,"N","Y") -> Y
B75: SRIDHAR N S | C75: 1SG15ME094 | D75: 9 | E75: =D75 -> 9 | F75: =E75 -> 9 | G75: =(D75/10)*100 -> 90 | H75: =G75 -> 90 | I75: =H75 -> 90 | J75: =IF(G75<60,"N","Y") -> Y | K75: =IF(H75<60,"N","Y") -> Y | L75: =IF(I75<60,"N","Y") -> Y
B76: SUKRUTH C | C76: 1SG15ME095 | D76: 10 | E76: =D76 -> 10 | F76: =E76 -> 10 | G76: =(D76/10)*100 -> 100 | H76: =G76 -> 100 | I76: =H76 -> 100 | J76: =IF(G76<60,"N","Y") -> Y | K76: =IF(H76<60,"N","Y") -> Y | L76: =IF(I76<60,"N","Y") -> Y
B77: SUKRUTH K | C77: 1SG15ME096 | D77: 10 | E77: =D77 -> 10 | F77: =E77 -> 10 | G77: =(D77/10)*100 -> 100 | H77: =G77 -> 100 | I77: =H77 -> 100 | J77: =IF(G77<60,"N","Y") -> Y | K77: =IF(H77<60,"N","Y") -> Y | L77: =IF(I77<60,"N","Y") -> Y
B78: SUMUKH G K | C78: 1SG15ME098 | D78: 6 | E78: =D78 -> 6 | F78: =E78 -> 6 | G78: =(D78/10)*100 -> 60 | H78: =G78 -> 60 | I78: =H78 -> 60 | J78: =IF(G78<60,"N","Y") -> Y | K78: =IF(H78<60,"N","Y") -> Y | L78: =IF(I78<60,"N","Y") -> Y
B79: SYED ABEED | C79: 1SG15ME099 | D79: 9 | E79: =D79 -> 9 | F79: =E79 -> 9 | G79: =(D79/10)*100 -> 90 | H79: =G79 -> 90 | I79: =H79 -> 90 | J79: =IF(G79<60,"N","Y") -> Y | K79: =IF(H79<60,"N","Y") -> Y | L79: =IF(I79<60,"N","Y") -> Y
... B83: YOGESH B | C83: 1SG15ME105 | D83: 8 | E83: =D83 -> 8 | F83: =E83 -> 8 | G83: =(D83/10)*100 -> 80 | H83: =G83 -> 80 | I83: =H83 -> 80 | J83: =IF(G83<60,"N","Y") -> Y | K83: =IF(H83<60,"N","Y") -> Y | L83: =IF(I83<60,"N","Y") -> Y
J110: =COUNTIF(J11:J102,"Y") -> 73 | K110: =COUNTIF(K11:K102,"Y") -> 73 | L110: 49
J111: 1 | K111: 1 | L111: 1
J115: CO1 | K115: CO2 | L115: CO 3
J116: 100 | K116: 100 | L116: 100

Sheet ATTAINMENTLEVEL

Sheet Assignment CO 
B1: Sapthagiri College of Engineering
B2: Department of Mechanical Engineering
B3: COMPUTER AIDED ENGINEERING DRAWING
A4: II Semester I & J Section ( Mechanical Engineering)Test marks for EVEN Sem 2015-2016 | J4: TARGET: 70% OF STUDENTS TO SCORE 80% and ABOVE
A5: Sl. No. | B5: Name of the student | C5: USN | G5: ASSIGNMENT ATTAINMENT (%) | J5: Y OR N
D7: I | E7: I | F7: II | G7: I | H7: I | I7: II | J7: I | K7: I | L7: II
D8: CO 1 | E8: CO 2 | F8: CO3 | G8: CO 1 | H8: CO 2 | I8: CO 3 | J8: CO 1 | K8: CO 2 | L8: CO 3
D9: 10 | E9: 10 | F9: 10
A11: 1 | B11: AFTAB AHMED WALA | C11: 1SG15ME004 | D11: 9 | E11: =D11 -> 9 | F11: =E11 -> 9 | G11: =(D11/10)*100 -> 90 | H11: =G11 -> 90 | I11: =H11 -> 90 | J11: =IF(G11<70,"N","Y") -> Y | K11: =J11 -> Y | L11: =K11 -> Y
A12: 2 | B12: AJEYA.V | C12: 1SG15ME006 | D12: 9 | E12: =D12 -> 9 | F12: =E12 -> 9 | G12: =(D12/10)*100 -> 90 | H12: =G12 -> 90 | I12: =H12 -> 90 | J12: =IF(G12<70,"N","Y") -> Y | K12: =J12 -> Y | L12: =K12 -> Y
A13: 3 | B13: AJITH S P | C13: 1SG15ME007 | D13: 9 | E13: =D13 -> 9 | F13: =E13 -> 9 | G13: =(D13/10)*100 -> 90 | H13: =G13 -> 90 | I13: =H13 -> 90 | J13: =IF(G13<70,"N","Y") -> Y | K13: =J13 -> Y | L13: =K13 -> Y
A14: 4 | B14: AKSHAY S | C14: 1SG15ME008 | D14: 9 | E14: =D14 -> 9 | F14: =E14 -> 9 | G14: =(D14/10)*100 -> 90 | H14: =G14 -> 90 | I14: =H14 -> 90 | J14: =IF(G14<70,"N","Y") -> Y | K14: =J14 -> Y | L14: =K14 -> Y
A15: 5 | B15: AMAN NAIN | C15: 1SG15ME009 | D15: 8 | E15: =D15 -> 8 | F15: =E15 -> 8 | G15: =(D15/10)*100 -> 80 | H15: =G15 -> 80 | I15: =H15 -> 80 | J15: =IF(G15<70,"N","Y") -> Y | K15: =J15 -> Y | L15: =K15 -> Y
A16: 6 | B16: AMITH.R | C16: 1SG15ME010 | D16: 9 | E16: =D16 -> 9 | F16: =E16 -> 9 | G16: =(D16/10)*100 -> 90 | H16: =G16 -> 90 | I16: =H16 -> 90 | J16: =IF(G16<70,"N","Y") -> Y | K16: =J16 -> Y | L16: =K16 -> Y
A17: 7 | B17: ANIL KUMAR C | C17: 1SG15ME011 | D17: 9 | E17: =D17 -> 9 | F17: =E17 -> 9 | G17: =(D17/10)*100 -> 90 | H17: =G17 -> 90 | I17: =H17 -> 90 | J17: =IF(G17<70,"N","Y") -> Y | K17: =J17 -> Y | L17: =K17 -> Y
A18: 8 | B18: ANIRUDH R K | C18: 1SG15ME012 | D18: 9 | E18: =D18 -> 9 | F18: =E18 -> 9 | G18: =(D18/10)*100 -> 90 | H18: =G18 -> 90 | I18: =H18 -> 90 | J18: =IF(G18<70,"N","Y") -> Y | K18: =J18 -> Y | L18: =K18 -> Y
A19: 9 | B19: ARJUN S | C19: 1SG15ME013 | D19: 10 | E19: =D19 -> 10 | F19: =E19 -> 10 | G19: =(D19/10)*100 -> 100 | H19: =G19 -> 100 | I19: =H19 -> 100 | J19: =IF(G19<70,"N","Y") -> Y | K19: =J19 -> Y | L19: =K19 -> Y
A20: 10 | B20: ASHISH SHARMA | C20: 1SG15ME014 | D20: 8 | E20: =D20 -> 8 | F20: =E20 -> 8 | G20: =(D20/10)*100 -> 80 | H20: =G20 -> 80 | I20: =H20 -> 80 | J20: =IF(G20<70,"N","Y") -> Y | K20: =J20 -> Y | L20: =K20 -> Y
A21: 11 | B21: AYAN GUHA RAOY | C21: 1SG15ME015 | D21: 8 | E21: =D21 -> 8 | F21: =E21 -> 8 | G21: =(D21/10)*100 -> 80 | H21: =G21 -> 80 | I21: =H21 -> 80 | J21: =IF(G21<70,"N","Y") -> Y | K21: =J21 -> Y | L21: =K21 -> Y
A22: 12 | B22: BHARATH .V | C22: 1SG15ME017 | D22: 9 | E22: =D22 -> 9 | F22: =E22 -> 9 | G22: =(D22/10)*100 -> 90 | H22: =G22 -> 90 | I22: =H22 -> 90 | J22: =IF(G22<70,"N","Y") -> Y | K22: =J22 -> Y | L22: =K22 -> Y
... A83: 73 | B83: YOGESH B | C83: 1SG15ME105 | D83: 10 | E83: =D83 -> 10 | F83: =E83 -> 10 | G83: =(D83/10)*100 -> 100 | H83: =G83 -> 100 | I83: =H83 -> 100 | J83: =IF(G83<70,"N","Y") -> Y | K83: =J83 -> Y | L83: =K83 -> Y
J104: =COUNTIF(J11:J102,"Y") -> 67 | K104: =J104 -> 67 | L104: =K104 -> 67
J105: =(J104/73)*100 -> 91.780822 | K105: =(K104/73)*100 -> 91.780822 | L105: =(L104/73)*100 -> 91.780822
J109: CO1 | K109: CO 2 | L109: CO3
J110: =J105 -> 91.780822 | K110: =K105 -> 91.780822 | L110: =L105 -> 91.780822

Sheet SEE-final exam CO
B1: Sapthagiri College of Engineering
B2: Department of Mechanical Engineering
B3: COMPUTER AIDED ENGINEERING DRAWING
A4: II Semester I & J Section ( Mechanical Engineering)Test marks for Even Sem 2015-16 | J4: TARGET: 60% OF STUDENTS TO SCORE 40% and ABOVE
A5: Sl. No. | B5: Name of the student | C5: USN | D5: EXAM MARKS OBTAINED(same for all COs) | J5: Y OR N
J7: I | K7: I | L7: II
D8: CO 1 | E8: CO 2 | F8: CO 3 | G8: CO 1 | H8: CO 2 | I8: CO 3 | J8: CO 1 | K8: CO 2 | L8: CO 3
C9: MAX. MARKS | D9: 10 | E9: 10 | F9: 10
A11: 1 | B11: AFTAB AHMED WALA | C11: 1SG15ME004 | D11: 6 | E11: =D11 -> 6 | F11: =E11 -> 6 | G11: =(D11/10)*100 -> 60 | H11: =G11 -> 60 | I11: =H11 -> 60 | J11: =IF(G11<60,"N","Y") -> Y | K11: =J11 -> Y | L11: =K11 -> Y
A12: 2 | B12: AJEYA.V | C12: 1SG15ME006 | D12: 10 | E12: =D12 -> 10 | F12: =E12 -> 10 | G12: =(D12/10)*100 -> 100 | H12: =G12 -> 100 | I12: =H12 -> 100 | J12: =IF(G12<60,"N","Y") -> Y | K12: =J12 -> Y | L12: =K12 -> Y
A13: 3 | B13: AJITH S P | C13: 1SG15ME007 | D13: 10 | E13: =D13 -> 10 | F13: =E13 -> 10 | G13: =(D13/10)*100 -> 100 | H13: =G13 -> 100 | I13: =H13 -> 100 | J13: =IF(G13<60,"N","Y") -> Y | K13: =J13 -> Y | L13: =K13 -> Y
A14: 4 | B14: AKSHAY S | C14: 1SG15ME008 | D14: 7 | E14: =D14 -> 7 | F14: =E14 -> 7 | G14: =(D14/10)*100 -> 70 | H14: =G14 -> 70 | I14: =H14 -> 70 | J14: =IF(G14<60,"N","Y") -> Y | K14: =J14 -> Y | L14: =K14 -> Y
A15: 5 | B15: AMAN NAIN | C15: 1SG15ME009 | D15: 7 | E15: =D15 -> 7 | F15: =E15 -> 7 | G15: =(D15/10)*100 -> 70 | H15: =G15 -> 70 | I15: =H15 -> 70 | J15: =IF(G15<60,"N","Y") -> Y | K15: =J15 -> Y | L15: =K15 -> Y
A16: 6 | B16: AMITH.R | C16: 1SG15ME010 | D16: 6 | E16: =D16 -> 6 | F16: =E16 -> 6 | G16: =(D16/10)*100 -> 60 | H16: =G16 -> 60 | I16: =H16 -> 60 | J16: =IF(G16<60,"N","Y") -> Y | K16: =J16 -> Y | L16: =K16 -> Y
A17: 7 | B17: ANIL KUMAR C | C17: 1SG15ME011 | D17: 0 | E17: =D17 -> 0 | F17: =E17 -> 0 | G17: =(D17/10)*100 -> 0 | H17: =G17 -> 0 | I17: =H17 -> 0 | J17: =IF(G17<60,"N","Y") -> N | K17: =J17 -> N | L17: =K17 -> N
A18: 8 | B18: ANIRUDH R K | C18: 1SG15ME012 | D18: 0 | E18: =D18 -> 0 | F18: =E18 -> 0 | G18: =(D18/10)*100 -> 0 | H18: =G18 -> 0 | I18: =H18 -> 0 | J18: =IF(G18<60,"N","Y") -> N | K18: =J18 -> N | L18: =K18 -> N
A19: 9 | B19: ARJUN S | C19: 1SG15ME013 | D19: 9 | E19: =D19 -> 9 | F19: =E19 -> 9 | G19: =(D19/10)*100 -> 90 | H19: =G19 -> 90 | I19: =H19 -> 90 | J19: =IF(G19<60,"N","Y") -> Y | K19: =J19 -> Y | L19: =K19 -> Y
A20: 10 | B20: ASHISH SHARMA | C20: 1SG15ME014 | D20: 0 | E20: =D20 -> 0 | F20: =E20 -> 0 | G20: =(D20/10)*100 -> 0 | H20: =G20 -> 0 | I20: =H20 -> 0 | J20: =IF(G20<60,"N","Y") -> N | K20: =J20 -> N | L20: =K20 -> N
A21: 11 | B21: AYAN GUHA RAOY | C21: 1SG15ME015 | D21: 6 | E21: =D21 -> 6 | F21: =E21 -> 6 | G21: =(D21/10)*100 -> 60 | H21: =G21 -> 60 | I21: =H21 -> 60 | J21: =IF(G21<60,"N","Y") -> Y | K21: =J21 -> Y | L21: =K21 -> Y
A22: 12 | B22: BHARATH .V | C22: 1SG15ME017 | D22: 7 | E22: =D22 -> 7 | F22: =E22 -> 7 | G22: =(D22/10)*100 -> 70 | H22: =G22 -> 70 | I22: =H22 -> 70 | J22: =IF(G22<60,"N","Y") -> Y | K22: =J22 -> Y | L22: =K22 -> Y
... A83: 73 | B83: YOGESH B | C83: 1SG15ME105 | D83: 0 | E83: =D83 -> 0 | F83: =E83 -> 0 | G83: =(D83/10)*100 -> 0 | H83: =G83 -> 0 | I83: =H83 -> 0 | J83: =IF(G83<60,"N","Y") -> N | K83: =J83 -> N | L83: =K83 -> N
J104: =COUNTIF(J11:J83,"y") -> 62 | K104: =COUNTIF(K11:K83,"y") -> 62 | L104: =COUNTIF(L11:L83,"y") -> 62
J105: =(J104/73)*100 -> 84.931507 | K105: =(K104/73)*100 -> 84.931507 | L105: =(L104/73)*100 -> 84.931507
J109: CO1 | K109: CO2 | L109: CO3
J110: =J105 -> 84.931507 | K110: =K105 -> 84.931507 | L110: =L105 -> 84.931507

Sheet TOTAL CO 
B2: Equal weigtage to TEST, ASSIGNMENT & EXAM MARKS
E3: TARGET: 70% ATTAINMENT
E6: CO1 | F6: CO2 | G6: CO3
D7: IA MARKS ATTAINMENT | E7: 100 | F7: 100 | G7: 100
D8: Assignment ATTAINMENT | E8: 92 | F8: 92 | G8: 92
D9: EXAM ATTAINMENT | E9: 85 | F9: 85 | G9: 85
D10: AVARAGE | E10: =(E7+E8+E9)/3 -> 92.333333 | F10: =(F7+F8+F9)/3 -> 92.333333 | G10: =(G7+G8+G9)/3 -> 92.333333
E14: CO1 | F14: CO2 | G14: CO3
D15: ATTAINMENT of COs | E15: 92 | F15: 92 | G15: 92
C32: SAMPLE
D35: NEXT ACADEMIC YEAR TARGET CAN BE: 100%

Sheet C-Sec
B1: Acharya Institute of Technology
B2: Department of Computer Science and Engineering
B3: VI Semester C Section Test marks for Even Sem 2013-14
A4: Sl. No. | B4: Name of the student | C4: USN | D4: I INTERNALS | I4: II INTERNALS | Q4: III INTERNALS
I5: PART A | M5: PART B | Q5: PART A | U5: PART B
D6: 1 | E6: 2 | F6: 3 | G6: 4 | H6: 5 | I6: 1 | J6: 2 | K6: 3 | L6: 4 | M6: 5 | N6: 6 | O6: 7 | P6: 8 | Q6: 1 | R6: 2 | S6: 3 | T6: 4 | U6: 5 | V6: 6 | W6: 7 | X6: 8
D7: CO 1 | E7: CO 2 | F7: CO 3 | G7: CO 3 | H7: CO 3 | I7: CO 3 | J7: CO 3 | K7: CO 3 | L7: CO 3 | M7: CO 1 | N7: CO 4 | O7: CO 4 | P7: CO 4 | Q7: CO 4 | R7: CO 4 | S7: CO 4 | T7: CO 4 | U7: CO 4 | V7: CO 4 | W7: CO 5 | X7: CO 5
A8: 1 | B8: SRINIDHI P C | C8: 1AY11CS113 | D8: 10 | E8: 10 | F8: 7 | G8: 10 | H8: 10 | I8: 10 | J8: 10 | K8: 10 | N8: 10 | O8: 9 | Q8: 10 | T8: 9 | U8: 10 | V8: 9 | X8: 10
A9: 2 | B9: SHRUTHIKA C RAMPURE | C9: 1AY11CS114 | D9: 10 | E9: 7 | F9: 9 | G9: 9 | H9: 4 | I9: 9 | J9: 9 | K9: 9 | L9: 9 | N9: 9 | O9: 9 | P9: 10
A10: 3 | B10: SNEHA KUMARI | C10: 1AY11CS115 | D10: 10 | E10: 8 | F10: 9 | G10: 10 | H10: 9 | I10: 10 | K10: 9 | L10: 10 | N10: 9 | O10: 10 | P10: 9 | Q10: 10 | R10: 10 | S10: 10 | T10: 10 | U10: 4 | X10: 10
A11: 4 | B11: SOMEN GORAIN | C11: 1AY11CS116 | E11: 10 | F11: 9 | G11: 9 | H11: 7 | I11: 10 | K11: 10 | M11: 10 | O11: 10 | P11: 10 | Q11: 8 | S11: 10 | T11: 10 | V11: 10 | X11: 10
A12: 5 | B12: SOUVIK KUNDU | C12: 1AY11CS117 | D12: 10 | E12: 10 | F12: 9 | G12: 5 | H12: 7 | K12: 10 | L12: 7 | M12: 10 | N12: 10 | O12: 10 | R12: 10 | S12: 10 | T12: 10 | U12: 6 | V12: 10 | W12: 6
A13: 6 | B13: SOWMYA NAGARAJU | C13: 1AY11CS118 | D13: 3 | E13: 8 | F13: 10 | G13: 8 | H13: 5 | K13: 8 | L13: 10 | M13: 4 | P13: 8 | Q13: 5 | S13: 10 | T13: 10 | U13: 6 | V13: 10 | X13: 10
A14: 7 | B14: SRISTI KUMARI | C14: 1AY11CS120 | D14: 10 | E14: 3 | F14: 7 | G14: 5 | K14: 7 | L14: 7 | M14: 10 | O14: 9 | P14: 9
A15: 8 | B15: SUBAS THAPA | C15: 1AY11CS121 | D15: 7 | E15: 3 | F15: 10 | G15: 4 | H15: 6 | I15: 9 | K15: 9 | N15: 10 | O15: 10 | P15: 8 | Q15: 10 | S15: 10 | T15: 10 | V15: 10 | X15: 9
A16: 9 | B16: SUKANYA BOSE | C16: 1AY11CS122 | D16: 7 | E16: 5 | F16: 8 | I16: 3 | J16: 9 | K16: 9 | L16: 5 | M16: 6 | N16: 4 | O16: 0 | P16: 4 | Q16: 6 | S16: 9 | T16: 4 | V16: 6
A17: 10 | B17: SUMIT KUMAR | C17: 1AY11CS123 | D17: 10 | E17: 3 | F17: 8 | G17: 5 | M17: 8 | N17: 4 | O17: 10 | P17: 5 | Q17: 10 | T17: 10 | U17: 4 | W17: 10 | X17: 10
A18: 11 | B18: SUPRIYA | C18: 1AY11CS124 | D18: 7 | E18: 8 | F18: 9 | G18: 9 | H18: 7 | J18: 8 | K18: 9 | N18: 10 | O18: 6 | P18: 10 | Q18: 8 | S18: 10 | T18: 10 | U18: 8 | V18: 8 | X18: 10
A19: 12 | B19: SURENDRA D | C19: 1AY11CS125 | D19: 10 | F19: 9 | G19: 9 | H19: 7 | I19: 10 | K19: 10 | L19: 8 | M19: 10 | O19: 10 | P19: 6 | Q19: 10 | R19: 6 | S19: 10 | T19: 6 | U19: 4 | X19: 10
A20: 13 | B20: SWATI .M .S | C20: 1AY11CS127 | D20: 10 | E20: 3 | F20: 10 | G20: 4 | H20: 9 | I20: 7 | K20: 9 | L20: 5 | N20: 8 | O20: 9 | P20: 9 | Q20: 8 | R20: 8 | S20: 10 | T20: 10 | U20: 8 | V20: 8 | X20: 10
A21: 14 | B21: TAJ UNNISA | C21: 1AY11CS128 | D21: 10 | E21: 8 | F21: 9 | G21: 10 | H21: 10 | I21: 8 | J21: 9 | L21: 9 | M21: 10 | N21: 9 | O21: 10
A22: 15 | B22: TANUSHREE .Y | C22: 1AY11CS129 | D22: 10 | E22: 4 | F22: 9 | G22: 10 | H22: 6 | I22: 10 | K22: 10 | L22: 4 | N22: 8 | O22: 10 | P22: 10 | R22: 10 | S22: 10 | U22: 10 | V22: 10 | X22: 10
A23: 16 | B23: UMESH KUMAR | C23: 1AY11CS131 | I23: 7 | J23: 9 | L23: 9 | M23: 7 | N23: 4 | O23: 6 | Q23: 6 | S23: 10 | U23: 8 | V23: 10 | X23: 10
A24: 17 | B24: V PRADEEP | C24: 1AY11CS133 | D24: 2 | E24: 10 | F24: 9 | G24: 9 | H24: 10 | I24: 9 | K24: 7 | N24: 10 | O24: 4 | P24: 10
A25: 18 | B25: VISHAL KUMAR | C25: 1AY11CS135 | D25: 10 | E25: 10 | F25: 10 | G25: 10 | H25: 10 | J25: 8 | K25: 5 | M25: 10 | N25: 2 | O25: 10 | P25: 8
A26: 19 | B26: VISHNU .N | C26: 1AY11CS136 | D26: 10 | E26: 9 | F26: 9 | G26: 10 | H26: 7 | I26: 10 | J26: 10 | M26: 10 | N26: 10 | O26: 10
A27: 20 | B27: YOGESH.N | C27: 1AY11CS137 | D27: 10 | E27: 10 | F27: 9 | G27: 10 | H27: 9 | I27: 10 | J27: 10 | K27: 9 | M27: 10 | N27: 10 | O27: 10
A28: 21 | B28: SNEHA KULHALLI | C28: 1AY11CS140 | D28: 10 | E28: 3 | F28: 7 | G28: 7 | H28: 5 | I28: 5 | J28: 7 | K28: 5 | L28: 5 | N28: 6 | O28: 9 | Q28: 10 | S28: 10 | U28: 8 | V28: 6 | X28: 10
A29: 22 | B29: AKSHITHA C | C29: 1AY12CS400 | D29: 7 | F29: 9 | G29: 7 | H29: 5 | I29: 8 | K29: 8 | N29: 4 | O29: 4 | P29: 4 | Q29: 8 | S29: 8 | T29: 8 | V29: 8
A30: 23 | B30: B B VIKAS | C30: 1AY12CS401 | J30: 8 | K30: 7 | M30: 10 | N30: 4 | O30: 10 | Q30: 5 | R30: 2 | S30: 10 | T30: 5 | U30: 2 | V30: 8 | X30: 10
A31: 24 | B31: BALAJI P | C31: 1AY12CS402 | J31: 7 | N31: 6 | O31: 10 | P31: 5 | Q31: 8 | R31: 4 | S31: 10 | V31: 8 | W31: 10
A32: 25 | B32: BASANAGOUDA | C32: 1AY12CS403 | I32: 9 | J32: 7 | N32: 4 | O32: 9 | P32: 4 | R32: 8 | S32: 10 | T32: 8 | U32: 10 | V32: 8 | X32: 10
A33: 26 | B33: BASAVARAJ S | C33: 1AY12CS404 | D33: 9 | E33: 9 | I33: 8 | K33: 9 | N33: 4 | P33: 4 | Q33: 5 | S33: 10 | T33: 10 | U33: 4 | V33: 9 | X33: 10
A34: 27 | B34: DIVYA KALA M | C34: 1AY12CS405 | D34: 10 | E34: 8 | F34: 9 | G34: 9 | H34: 9 | I34: 9 | J34: 8 | M34: 10 | N34: 4 | O34: 9 | P34: 4 | Q34: 8 | R34: 8 | S34: 10 | U34: 8 | V34: 8
A35: 28 | B35: DIVYA L | C35: 1AY12CS406 | D35: 10 | E35: 2 | F35: 7 | I35: 7 | J35: 5 | N35: 4 | O35: 4 | P35: 5 | Q35: 10 | S35: 4 | T35: 10 | U35: 3 | V35: 6 | W35: 4
A36: 29 | B36: GOPAL RAJ J T | C36: 1AY12CS407 | D36: 9 | F36: 9 | G36: 9 | H36: 7 | J36: 5 | L36: 5 | N36: 4 | O36: 6 | P36: 4 | Q36: 4 | S36: 6 | U36: 8 | V36: 8 | W36: 8
A37: 30 | B37: GURURAJ M S | C37: 1AY12CS408 | D37: 9 | E37: 8 | F37: 9 | G37: 7 | H37: 7 | K37: 5 | L37: 8 | N37: 10 | O37: 7 | Q37: 8 | R37: 8 | S37: 10 | T37: 5 | U37: 5 | X37: 10
A38: 31 | B38: JHANHAVI V | C38: 1AY12CS410 | D38: 8 | E38: 5 | F38: 9 | G38: 5 | H38: 6 | I38: 9 | L38: 8 | M38: 10 | N38: 9 | O38: 9 | P38: 8 | Q38: 8 | S38: 8 | T38: 10 | U38: 8 | X38: 8
A39: 32 | B39: LOHITH R R | C39: 1AY12CS411 | F39: 6 | G39: 7 | H39: 6 | J39: 9 | K39: 10 | N39: 10 | O39: 10 | P39: 10 | Q39: 10 | R39: 8 | S39: 10 | V39: 8 | X39: 6
A40: 33 | B40: MALLIKARJUN | C40: 1AY12CS412 | I40: 4 | J40: 6 | M40: 2 | N40: 4 | O40: 5 | P40: 4 | Q40: 8 | R40: 8 | S40: 10 | T40: 3 | V40: 8
A41: 34 | B41: MANJU S | C41: 1AY12CS414 | F41: 10 | G41: 10 | H41: 3 | K41: 7 | L41: 9 | N41: 9 | O41: 9 | P41: 9 | Q41: 8 | R41: 8 | S41: 10 | T41: 10 | V41: 8
A42: 35 | B42: MEGHANA K K | C42: 1AY12CS415 | D42: 9 | F42: 7 | Q42: 5 | R42: 5 | S42: 10 | T42: 8 | V42: 8 | W42: 5 | X42: 8
A43: 36 | B43: MONICA SM | C43: 1AY12CS416 | D43: 10 | E43: 9 | F43: 5 | G43: 5 | H43: 5 | I43: 4 | L43: 4 | M43: 10 | N43: 4 | P43: 4 | Q43: 8 | R43: 10 | S43: 10 | V43: 8 | X43: 10
A44: 37 | B44: NAVEEN KUMAR K S | C44: 1AY12CS417 | K44: 5 | L44: 5 | N44: 4 | P44: 4 | Q44: 10 | S44: 10 | U44: 6 | V44: 10 | X44: 10
A45: 38 | B45: NAYANA R R | C45: 1AY12CS418 | D45: 10 | E45: 9 | G45: 6 | H45: 5 | Q45: 6 | R45: 6 | U45: 3 | V45: 4 | X45: 10
A46: 39 | B46: PAVITHRA HJ | C46: 1AY12CS419 | I46: 8 | J46: 8 | M46: 10 | N46: 4 | O46: 4 | P46: 4 | Q46: 5 | S46: 8 | T46: 8 | U46: 4 | W46: 4 | X46: 10
A47: 40 | B47: PRASHANTH V | C47: 1AY12CS420 | D47: 8 | E47: 2 | F47: 9 | G47: 9 | H47: 1 | I47: 8 | K47: 10 | N47: 9 | O47: 10 | P47: 9
A48: 41 | B48: PRAVEEN KUMAR B | C48: 1AY12CS421 | D48: 9 | E48: 6 | F48: 6 | G48: 9 | H48: 8 | I48: 8 | J48: 9 | K48: 9 | N48: 4 | P48: 4 | Q48: 5 | S48: 8 | T48: 8 | U48: 8 | X48: 8
A49: 42 | B49: PUTTARAJU B K | C49: 1AY12CS422 | D49: 8 | F49: 5 | G49: 3 | J49: 4 | K49: 4 | M49: 9 | O49: 10 | P49: 3 | S49: 10 | T49: 10 | V49: 4 | X49: 10
A50: 43 | B50: RADHAKRISHNA G | C50: 1AY12CS423 | D50: 6 | F50: 5 | G50: 5 | H50: 5 | I50: 8 | K50: 8 | N50: 4 | O50: 4 | P50: 10 | Q50: 6 | S50: 6 | T50: 6 | U50: 10 | V50: 10 | X50: 10
A51: 44 | B51: SANTHOSH KUMAR G P | C51: 1AY12CS425 | D51: 9 | E51: 7 | F51: 9 | G51: 9 | H51: 7 | I51: 7 | J51: 7 | K51: 7 | M51: 10 | N51: 4 | O51: 10 | P51: 4
A52: 45 | B52: SHREYAS P | C52: 1AY12CS426 | D52: 10 | E52: 5 | F52: 6 | G52: 5 | H52: 5 | I52: 4 | K52: 4 | M52: 9 | N52: 2 | O52: 8
A53: 46 | B53: SHRIDHAR REDDY | C53: 1AY12CS427 | K53: 3 | N53: 4 | P53: 7 | Q53: 6 | S53: 9 | T53: 10 | U53: 10 | V53: 9 | X53: 8
A54: 47 | B54: VIDYA G | C54: 1AY12CS430 | D54: 10 | E54: 9 | F54: 9 | G54: 8 | I54: 9 | J54: 7 | M54: 10 | N54: 4 | O54: 8 | S54: 10 | T54: 10 | V54: 8 | X54: 6
B56: No of students between 9-10 | D56: =COUNTIF(D6:D54,"=9")+COUNTIF(D6:D54,"=10") -> 26 | E56: =COUNTIF(E6:E54,"=9")+COUNTIF(E6:E54,"=10") -> 11 | F56: =COUNTIF(F6:F54,"=9")+COUNTIF(F6:F54,"=10") -> 24 | G56: =COUNTIF(G6:G54,"=9")+COUNTIF(G6:G54,"=10") -> 18 | H56: =COUNTIF(H6:H54,"=9")+COUNTIF(H6:H54,"=10") -> 8 | I56: =COUNTIF(I6:I54,"=9")+COUNTIF(I6:I54,"=10") -> 14 | J56: =COUNTIF(J6:J54,"=9")+COUNTIF(J6:J54,"=10") -> 9 | K56: =COUNTIF(K6:K54,"=9")+COUNTIF(K6:K54,"=10") -> 16 | ... X56: =COUNTIF(X6:X54,"=9")+COUNTIF(X6:X54,"=10") -> 22
B57: No of students between 7-8 | D57: =COUNTIF(D6:D54,"=7")+COUNTIF(D6:D54,"=8") -> 7 | E57: =COUNTIF(E6:E54,"=7")+COUNTIF(E6:E54,"=8") -> 8 | F57: =COUNTIF(F6:F54,"=7")+COUNTIF(F6:F54,"=8") -> 7 | G57: =COUNTIF(G6:G54,"=7")+COUNTIF(G6:G54,"=8") -> 6 | H57: =COUNTIF(H6:H54,"=7")+COUNTIF(H6:H54,"=8") -> 9 | I57: =COUNTIF(I6:I54,"=7")+COUNTIF(I6:I54,"=8") -> 11 | J57: =COUNTIF(J6:J54,"=7")+COUNTIF(J6:J54,"=8") -> 10 | K57: =COUNTIF(K6:K54,"=7")+COUNTIF(K6:K54,"=8") -> 8 | ... X57: =COUNTIF(X6:X54,"=7")+COUNTIF(X6:X54,"=8") -> 5
B58: No of students between 5-6 | D58: =COUNTIF(D6:D54,"=5")+COUNTIF(D6:D54,"=6") -> 1 | E58: =COUNTIF(E6:E54,"=5")+COUNTIF(E6:E54,"=6") -> 4 | F58: =COUNTIF(F6:F54,"=5")+COUNTIF(F6:F54,"=6") -> 6 | G58: =COUNTIF(G6:G54,"=5")+COUNTIF(G6:G54,"=6") -> 8 | H58: =COUNTIF(H6:H54,"=5")+COUNTIF(H6:H54,"=6") -> 12 | I58: =COUNTIF(I6:I54,"=5")+COUNTIF(I6:I54,"=6") -> 1 | J58: =COUNTIF(J6:J54,"=5")+COUNTIF(J6:J54,"=6") -> 3 | K58: =COUNTIF(K6:K54,"=5")+COUNTIF(K6:K54,"=6") -> 4 | ... X58: =COUNTIF(X6:X54,"=5")+COUNTIF(X6:X54,"=6") -> 2
B59: No of students between 3-4 | D59: =COUNTIF(D6:D54,"=3")+COUNTIF(D6:D54,"=4") -> 1 | E59: =COUNTIF(E6:E54,"=3")+COUNTIF(E6:E54,"=4") -> 6 | F59: =COUNTIF(F6:F54,"=3")+COUNTIF(F6:F54,"=4") -> 1 | G59: =COUNTIF(G6:G54,"=3")+COUNTIF(G6:G54,"=4") -> 4 | H59: =COUNTIF(H6:H54,"=3")+COUNTIF(H6:H54,"=4") -> 2 | I59: =COUNTIF(I6:I54,"=3")+COUNTIF(I6:I54,"=4") -> 4 | J59: =COUNTIF(J6:J54,"=3")+COUNTIF(J6:J54,"=4") -> 1 | K59: =COUNTIF(K6:K54,"=3")+COUNTIF(K6:K54,"=4") -> 4 | ... X59: =COUNTIF(X6:X54,"=3")+COUNTIF(X6:X54,"=4") -> 0
B60: No of students between 1-2 | D60: =COUNTIF(D6:D54,"=1")+COUNTIF(D6:D54,"=2") -> 2 | E60: =COUNTIF(E6:E54,"=1")+COUNTIF(E6:E54,"=2") -> 3 | F60: =COUNTIF(F6:F54,"=1")+COUNTIF(F6:F54,"=2") -> 0 | G60: =COUNTIF(G6:G54,"=1")+COUNTIF(G6:G54,"=2") -> 0 | H60: =COUNTIF(H6:H54,"=1")+COUNTIF(H6:H54,"=2") -> 1 | I60: =COUNTIF(I6:I54,"=1")+COUNTIF(I6:I54,"=2") -> 1 | J60: =COUNTIF(J6:J54,"=1")+COUNTIF(J6:J54,"=2") -> 1 | K60: =COUNTIF(K6:K54,"=1")+COUNTIF(K6:K54,"=2") -> 0 | ... X60: =COUNTIF(X6:X54,"=1")+COUNTIF(X6:X54,"=2") -> 0
B61: No of students scored 0 | D61: =COUNTIF(D6:D54,"=0") -> 0 | E61: =COUNTIF(E6:E54,"=0") -> 0 | F61: =COUNTIF(F6:F54,"=0") -> 0 | G61: =COUNTIF(G6:G54,"=0") -> 0 | H61: =COUNTIF(H6:H54,"=0") -> 0 | I61: =COUNTIF(I6:I54,"=0") -> 0 | J61: =COUNTIF(J6:J54,"=0") -> 0 | K61: =COUNTIF(K6:K54,"=0") -> 0 | ... X61: =COUNTIF(X6:X54,"=0") -> 0
B62: Absentees | D62: =COUNTBLANK(D6:D54) -> 11 | E62: =COUNTBLANK(E6:E54) -> 16 | F62: =COUNTBLANK(F6:F54) -> 10 | G62: =COUNTBLANK(G6:G54) -> 12 | H62: =COUNTBLANK(H6:H54) -> 16 | I62: =COUNTBLANK(I6:I54) -> 17 | J62: =COUNTBLANK(J6:J54) -> 24 | K62: =COUNTBLANK(K6:K54) -> 16 | ... X62: =COUNTBLANK(X6:X54) -> 19
B64: Attainment | D64: =((0.35*D56)+(0.3*D57)+(0.2*D58)+(0.1*D59)+(0.05*D60)+(0*D61))/(0.35*(D56+D57+D58+D59+D60+D61))*100 -> 89.57529 | E64: =((0.35*E56)+(0.3*E57)+(0.2*E58)+(0.1*E59)+(0.05*E60)+(0*E61))/(0.35*(E56+E57+E58+E59+E60+E61))*100 -> 69.642857 | F64: =((0.35*F56)+(0.3*F57)+(0.2*F58)+(0.1*F59)+(0.05*F60)+(0*F61))/(0.35*(F56+F57+F58+F59+F60+F61))*100 -> 88.721805 | G64: =((0.35*G56)+(0.3*G57)+(0.2*G58)+(0.1*G59)+(0.05*G60)+(0*G61))/(0.35*(G56+G57+G58+G59+G60+G61))*100 -> 80.15873 | H64: =((0.35*H56)+(0.3*H57)+(0.2*H58)+(0.1*H59)+(0.05*H60)+(0*H61))/(0.35*(H56+H57+H58+H59+H60+H61))*100 -> 72.767857 | I64: =((0.35*I56)+(0.3*I57)+(0.2*I58)+(0.1*I59)+(0.05*I60)+(0*I61))/(0.35*(I56+I57+I58+I59+I60+I61))*100 -> 81.56682 | J64: =((0.35*J56)+(0.3*J57)+(0.2*J58)+(0.1*J59)+(0.05*J60)+(0*J61))/(0.35*(J56+J57+J58+J59+J60+J61))*100 -> 82.142857 | K64: =((0.35*K56)+(0.3*K57)+(0.2*K58)+(0.1*K59)+(0.05*K60)+(0*K61))/(0.35*(K56+K57+K58+K59+K60+K61))*100 -> 82.142857 | ... X64: =((0.35*X56)+(0.3*X57)+(0.2*X58)+(0.1*X59)+(0.05*X60)+(0*X61))/(0.35*(X56+X57+X58+X59+X60+X61))*100 -> 94.581281

Sheet Sheet1
A1: Course outcomes-Program outcomes mapping & Attainment table:
A2: COs | B2: COs attained in % | C2: Program outcomes | V2: Total | W2: Attainment level of Program Outcomes in % (Average) | X2: Achievement
C3: a | E3: b | G3: c | I3: d | K3: e | M3: f | O3: g | Q3: h | R3: i | S3: j | T3: k | U3: l
C4: leve | D4: Attainment | E4: leve | F4: Attainment | G4: leve | H4: Attainment | I4: leve | J4: Attainment | K4: leve | L4: Attainment | M4: leve | N4: Attainment | O4: leve | P4: Attainment | X4: (Threshold Goal:70%)
A5: CO1 | B5: 85 | C5: 1 | D5: =(C5/C9)*B5 -> 10.625 | G5: 10.625
A6: CO2 | B6: 90 | C6: 2 | D6: =(C6/C9)*B6 -> 22.5 | G6: 22.5
A7: CO3 | B7: 83 | C7: 3 | D7: =(C7/C9)*B7 -> 31.125 | G7: 31.125
A8: CO4 | B8: 75 | C8: 2 | D8: =(C8/C9)*B8 -> 18.75 | G8: 18.75
A9: Total | C9: 8
A10: Note: Mapping in terms of Slight (1), Moderate(2), Good(3) and Excellent(4) levels and COs need not map all POS

Sheet Sheet2
A5: COs | B5: Avg. COs attained in % | C5: Program outcomes | O5: Attainment level of Program Outcomes in % (Average) | P5: Achievement
C6: a | D6: b | E6: c | F6: d | G6: e | H6: f | I6: g | J6: h | K6: i | L6: j | M6: k | N6: l | P6: (Threshold Goal:70%)
A7: CO1 | B7: 85 | C7: 4
A8: CO2 | B8: 90
A9: CO3 | B9: 83
A10: CO4 | B10: 75
A11: Total
A17: Subject Code : | B17: 10ME64 | C17: Title: Finite Element Methods | J17: Faculty Name: | N17: Manjunatha B.
A18: List of Course outcomes | C18: Program Outcomes | Q18: Total
C19: a | D19: b | E19: c | F19: d | G19: e | H19: f | I19: g | K19: h | L19: I | M19: J | O19: k | P19: l
A20: CO-1 | C20: 4 | D20: 2 | E20: 1 | F20: - | G20: - | H20: - | I20: - | K20: - | L20: 1 | M20: - | O20: 2 | P20: - | Q20: 9
A21: CO-2 | C21: 2 | D21: 4 | E21: 2 | F21: 2 | G21: 2 | H21: - | I21: - | K21: - | L21: - | M21: - | O21: - | P21: 3 | Q21: 15
A22: CO-3 | C22: 1 | D22: 4 | E22: 3 | F22: 2 | G22: 4 | H22: - | I22: - | K22: - | L22: - | M22: - | O22: - | P22: 3 | Q22: 17
A23: CO-4 | C23: 2 | D23: 4 | E23: 2 | F23: - | G23: - | H23: - | I23: - | K23: - | L23: - | M23: - | O23: - | P23: - | Q23: 8
A24: CO-5 | C24: - | D24: - | E24: - | F24: 2 | G24: 1 | H24: - | I24: - | K24: - | L24: 2 | M24: - | O24: 2 | P24: - | Q24: 7
A25: Total | C25: 9 | D25: 14 | E25: 7 | F25: 6 | G25: 7 | H25: - | I25: - | K25: - | L25: 3 | M25: - | O25: 4 | P25: 6 | Q25: 50
B68: a | C68: b | D68: c | E68: d | F68: e | G68: f | H68: g | I68: h | J68: i | K68: j | L68: k | M68: l
A69: co1 | B69: 4 | C69: 2 | D69: 1 | E69: - | F69: - | G69: - | H69: - | I69: - | J69: 1 | K69: - | L69: 2 | M69: - | N69: 10
A70: co2 | B70: 2 | C70: 4 | D70: 2 | E70: 2 | F70: 2 | G70: - | H70: - | I70: - | J70: - | K70: - | L70: - | M70: 3 | N70: 15
A71: co3 | B71: 1 | C71: 4 | D71: 3 | E71: 2 | F71: 4 | G71: - | H71: - | I71: - | J71: - | K71: - | L71: - | M71: 3 | N71: 17
A72: co4 | B72: 2 | C72: 4 | D72: 2 | E72: - | F72: - | G72: - | H72: - | I72: - | J72: - | K72: - | L72: - | M72: - | N72: 8
A73: co5 | B73: - | C73: - | D73: - | E73: 2 | F73: 1 | G73: - | H73: - | I73: - | J73: 2 | K73: - | L73: 2 | M73: - | N73: 7
B74: 9 | C74: 14 | D74: 8 | E74: 6 | F74: 7 | G74: - | H74: - | I74: - | J74: 3 | K74: - | L74: 4 | M74: 6 | N74: 57
B76: 85 | C76: 73 | D76: 1 | E76: - | F76: - | G76: - | H76: - | I76: - | J76: 1 | K76: - | L76: 2 | M76: - | N76: 10
B77: 85 | C77: 70 | D77: 2 | E77: 2 | F77: 2 | G77: - | H77: - | I77: - | J77: - | K77: - | L77: - | M77: 3 | N77: 15
B78: 85 | C78: 84 | D78: 3 | E78: 2 | F78: 4 | G78: - | H78: - | I78: - | J78: - | K78: - | L78: - | M78: 3 | N78: 17
B79: 85 | C79: 84 | D79: 2 | E79: - | F79: - | G79: - | H79: - | I79: - | J79: - | K79: - | L79: - | M79: - | N79: 8
B80: - | C80: - | D80: - | E80: 2 | F80: 1 | G80: - | H80: - | I80: - | J80: 2 | K80: - | L80: 2 | M80: - | N80: 7
B81: 9 | C81: 14 | D81: 8 | E81: 6 | F81: 7 | G81: - | H81: - | I81: - | J81: 3 | K81: - | L81: 4 | M81: 6 | N81: 57
B84: =IF(B69="-",0,B69)/B$74 -> 0.44444444 | C84: =IF(C69="-",0,C69)/C$74 -> 0.14285714 | D84: =IF(D69="-",0,D69)/D$74 -> 0.125 | E84: =IF(E69="-",0,E69)/E$74 -> 0 | F84: =IF(F69="-",0,F69)/F$74 -> 0 | G84: =IF(G69="-",0,G69)/G$74 -> #VALUE! | H84: =IF(H69="-",0,H69)/H$74 -> #VALUE! | I84: =IF(I69="-",0,I69)/I$74 -> #VALUE! | ... M84: =IF(M69="-",0,M69)/M$74 -> 0 | N84: 10
B85: =IF(B70="-",0,B70)/B$74 -> 0.22222222 | C85: =IF(C70="-",0,C70)/C$74 -> 0.28571429 | D85: =IF(D70="-",0,D70)/D$74 -> 0.25 | E85: =IF(E70="-",0,E70)/E$74 -> 0.33333333 | F85: =IF(F70="-",0,F70)/F$74 -> 0.28571429 | G85: =IF(G70="-",0,G70)/G$74 -> #VALUE! | H85: =IF(H70="-",0,H70)/H$74 -> #VALUE! | I85: =IF(I70="-",0,I70)/I$74 -> #VALUE! | ... M85: =IF(M70="-",0,M70)/M$74 -> 0.5 | N85: 15
B86: =IF(B71="-",0,B71)/B$74 -> 0.11111111 | C86: =IF(C71="-",0,C71)/C$74 -> 0.28571429 | D86: =IF(D71="-",0,D71)/D$74 -> 0.375 | E86: =IF(E71="-",0,E71)/E$74 -> 0.33333333 | F86: =IF(F71="-",0,F71)/F$74 -> 0.57142857 | G86: =IF(G71="-",0,G71)/G$74 -> #VALUE! | H86: =IF(H71="-",0,H71)/H$74 -> #VALUE! | I86: =IF(I71="-",0,I71)/I$74 -> #VALUE! | ... M86: =IF(M71="-",0,M71)/M$74 -> 0.5 | N86: 17
B87: =IF(B72="-",0,B72)/B$74 -> 0.22222222 | C87: =IF(C72="-",0,C72)/C$74 -> 0.28571429 | D87: =IF(D72="-",0,D72)/D$74 -> 0.25 | E87: =IF(E72="-",0,E72)/E$74 -> 0 | F87: =IF(F72="-",0,F72)/F$74 -> 0 | G87: =IF(G72="-",0,G72)/G$74 -> #VALUE! | H87: =IF(H72="-",0,H72)/H$74 -> #VALUE! | I87: =IF(I72="-",0,I72)/I$74 -> #VALUE! | ... M87: =IF(M72="-",0,M72)/M$74 -> 0 | N87: 8
B88: =IF(B73="-",0,B73)/B$74 -> 0 | C88: =IF(C73="-",0,C73)/C$74 -> 0 | D88: =IF(D73="-",0,D73)/D$74 -> 0 | E88: =IF(E73="-",0,E73)/E$74 -> 0.33333333 | F88: =IF(F73="-",0,F73)/F$74 -> 0.14285714 | G88: =IF(G73="-",0,G73)/G$74 -> #VALUE! | H88: =IF(H73="-",0,H73)/H$74 -> #VALUE! | I88: =IF(I73="-",0,I73)/I$74 -> #VALUE! | ... M88: =IF(M73="-",0,M73)/M$74 -> 0 | N88: 7
B89: =B74/B$74 -> 1 | C89: =C74/C$74 -> 1 | D89: =D74/D$74 -> 1 | E89: =E74/E$74 -> 1 | F89: =F74/F$74 -> 1 | G89: =G74/G$74 -> #VALUE! | H89: =H74/H$74 -> #VALUE! | I89: =I74/I$74 -> #VALUE! | ... M89: =M74/M$74 -> 1 | N89: 57
B92: =B84*B76 -> 37.777778 | C92: =C84*C76 -> 10.428571 | D92: =D84*D76 -> 0.125 | E92: =E84*E76 -> #VALUE! | F92: =F84*F76 -> #VALUE! | G92: =G84*G76 -> #VALUE! | H92: =H84*H76 -> #VALUE! | I92: =I84*I76 -> #VALUE! | ... M92: =M84*M76 -> #VALUE! | N92: 10
B93: =B85*B77 -> 18.888889 | C93: =C85*C77 -> 20 | D93: =D85*D77 -> 0.5 | E93: =E85*E77 -> 0.66666667 | F93: =F85*F77 -> 0.57142857 | G93: =G85*G77 -> #VALUE! | H93: =H85*H77 -> #VALUE! | I93: =I85*I77 -> #VALUE! | ... M93: =M85*M77 -> 1.5 | N93: 15
B94: =B86*B78 -> 9.4444444 | C94: =C86*C78 -> 24 | D94: =D86*D78 -> 1.125 | E94: =E86*E78 -> 0.66666667 | F94: =F86*F78 -> 2.2857143 | G94: =G86*G78 -> #VALUE! | H94: =H86*H78 -> #VALUE! | I94: =I86*I78 -> #VALUE! | ... M94: =M86*M78 -> 1.5 | N94: 17
B95: =B87*B79 -> 18.888889 | C95: =C87*C79 -> 24 | D95: =D87*D79 -> 0.5 | E95: =E87*E79 -> #VALUE! | F95: =F87*F79 -> #VALUE! | G95: =G87*G79 -> #VALUE! | H95: =H87*H79 -> #VALUE! | I95: =I87*I79 -> #VALUE! | ... M95: =M87*M79 -> #VALUE! | N95: 8
B96: =B88*IF(B80="-",0,B88) -> 0 | C96: =C88*IF(C80="-",0,C88) -> 0 | D96: =D88*IF(D80="-",0,D88) -> 0 | E96: =E88*IF(E80="-",0,E88) -> 0.11111111 | F96: =F88*IF(F80="-",0,F88) -> 0.020408163 | G96: =G88*IF(G80="-",0,G88) -> #VALUE! | H96: =H88*IF(H80="-",0,H88) -> #VALUE! | I96: =I88*IF(I80="-",0,I88) -> #VALUE! | ... M96: =M88*IF(M80="-",0,M88) -> 0 | N96: 7
B97: =SUM(B92:B96) -> 85 | C97: =SUM(C92:C96) -> 78.428571 | D97: =SUM(D92:D96) -> 2.25 | E97: =SUM(E92:E96) -> #VALUE! | F97: =SUM(F92:F96) -> #VALUE! | G97: =SUM(G92:G96) -> #VALUE! | H97: =SUM(H92:H96) -> #VALUE! | I97: =SUM(I92:I96) -> #VALUE! | ... M97: =SUM(M92:M96) -> #VALUE! | N97: 57

Sheet CO-ATTAINMENT
A1: SAPTHAGIRI COLLEGE OF ENGINEERING, BENGALURU - 57.
A2: DEPARTMENT OF MECHANICAL ENGINEERING
A3: CO-PO ATTAINMENT (EVEN SEM. 2015-16)
A4: SEM & SEC: II I & J SEC | K4: Subject Code: 15CED24
A5: NAME OF THE FACULTY :PRATHIMA C N
B6: I CO Attainment
B7: A: Direct assessment (100%)-Tests, Assignment, Examination
B10: COs | C10: Mapping POs | D10: Direct | E10: Target (%) | F10: Attainment
D11: Assessment
D12: (a)
B13: CO1 | C13: 1,2,9,11 | D13: 92 | E13: 70 | F13: YES
B14: CO2 | C14: 1,2,3,11,12 | D14: 92 | E14: 70 | F14: YES
B15: CO3 | C15: 1,2,4,12 | D15: 92 | E15: 70 | F15: YES

Sheet CO-PO ASSEMENT
A1: SAPTHAGIRI COLLEGE OF ENGINEERING, BENGALURU - 57.
A2: DEPARTMENT OFMECHANICAL ENGINEERING ENGINEERING
A3: CO-PO ATTAINMENT (ODD SEM. 2015-16)
A4: SEM & SEC:II I & J SEC | F4: Subject: COMPUTER AIDED ENGINEERING DRAWING(15CED24) | P4: Subject Code: 15CED24
A5: NAME OF THE FACULTY :PRATHIMA C N
C10: Mapping of Course outcomes (COs) and Program Outcomes (POs)
C11: Note: 1 = Slight 2 = Moderate 3 = Good 4 = Excellent
C13: Course outcomes | E13: Program Outcomes | Q13: Total
E14: a | F14: b | G14: c | H14: d | I14: e | J14: f | K14: g | L14: h | M14: I | N14: J | O14: k | P14: l
E15: PO1 | F15: PO2 | G15: PO3 | H15: PO4 | I15: PO5 | J15: PO6 | K15: PO7 | L15: PO8 | M15: PO9 | N15: PO10 | O15: PO11 | P15: PO12
C16: CO-1 | D16: 92 | E16: 4 | F16: 1 | G16: 2 | I16: 3 | M16: 1 | N16: 4 | P16: 3 | Q16: 18
C17: CO-2 | D17: 92 | E17: 4 | F17: 1 | G17: 2 | I17: 3 | M17: 1 | N17: 3 | Q17: 14
C18: CO-3 | D18: 92 | E18: 4 | F18: 1 | G18: 2 | I18: 3 | M18: 1 | N18: 3 | Q18: 14
C19: Total | F19: 3 | G19: 6 | I19: 9 | M19: 3 | N19: 10 | P19: 3 | Q19: 46
C25: Mapping of Course outcomes (COs) and Program Ooutcomes (POs)
C26: Note: 1 = Slight 2 = Moderate 3 = Good 4 = Excellent
C28: Course outcomes | E28: Program Outcomes | Q28: PSO
E29: PO1 | F29: PO2 | G29: PO3 | H29: PO4 | I29: PO5 | J29: PO6 | K29: PO7 | L29: PO8 | M29: PO9 | N29: PO10 | O29: PO11 | P29: PO12 | Q29: POS1 | R29: POS2 | S29: POS3 | T29: POS4
C30: CO-1 | D30: 92 | E30: =(E16/4)*D16 -> 92 | F30: =(F16/4)*D30 -> 23 | G30: =(G16/4)*92 -> 46 | I30: =(I16/4)*92 -> 69 | J30: - | L30: - | M30: =(M16/4)*D30 -> 23 | N30: =(N16/4)*E30 -> 92 | P30: =(P16/4)*D30 -> 69
C31: CO-2 | D31: 92 | E31: =(E17/4)*D17 -> 92 | F31: =(F17/4)*D31 -> 23 | G31: =(G17/4)*E31 -> 46 | I31: =(I17/4)*92 -> 69 | J31: - | L31: - | M31: =(M17/4)*D31 -> 23 | N31: =(N17/4)*E31 -> 69
C32: CO-3 | D32: 92 | E32: =(E18/4)*D18 -> 92 | F32: =(F18/4)*D32 -> 23 | G32: =(G18/4)*E32 -> 46 | I32: =(I18/4)*92 -> 69 | J32: - | L32: - | M32: =(M18/4)*D32 -> 23 | N32: =(N18/4)*E32 -> 69
C33: Average | E33: =AVERAGE(E30:E32) -> 92 | F33: =AVERAGE(F30:F32) -> 23 | G33: =AVERAGE(G30:G32) -> 46 | I33: =AVERAGE(I30:I32) -> 69 | J33: - | L33: - | M33: =AVERAGE(M30:M32) -> 23 | N33: =AVERAGE(N30:N32) -> 76.666667 | P33: =AVERAGE(P30:P32) -> 69

Sheet Sheet3
