Workbook

Sheet Attainment Level
B4: Attainment Levels of COs
B5: Course Name: Internship Seminar (15EE84)
B6: Assessment Methods | C6: Target-Attainment Levels | E6: Attainement
B7: Internal Assessment(CIE) | C7: Level 1 | D7: 50% of students scoring more than 75% marks in internal assessment tools | E7: Level 3
C8: Level 2 | D8: 60% of students scoring more than 75% marks in internal assessment tools
C9: Level 3 | D9: 80% of students scoring more than 75% marks in internal assessment tools
B12: Assessment Methods | C12: Target-Attainment Levels | E12: Attainement
B13: University Assessment (SEE) | C13: Level 1 | D13: 50% of students scoring more than75% marks in SEE assessment tools | E13: Level 3
C14: Level 2 | D14: 60% of students scoring more than 75% marks in SEE assessment tools
C15: Level 3 | D15: 80% of students scoring more than 75% marks in SEE assessment tools

Sheet 15EE84-INTERNSHIP-IA MARKS CO
A1: SAPTHAGIRI COLLEGE OF ENGINEERING, BENGALURU - 57.
A2: DEPARTMENT OF ELECTRICAL AND ELECTRONICS ENGINEERING
A3: CO ATTAINMENT - IA TEST MARKS (EVEN SEM. 2018-19)
A4: Sem.: VIII | D4: Subject: INTERNSHIP / PROFESSIONAL PRACTICE | V4: Subject Code: 15EE84
A5: Names of the faculty member: Mr. A Dhamodaran (Section-A) and Mr. Nagaraj H P (Section-B)
A6: Sl. No. | B6: Name of the student | C6: USN | D6: Section | E6: INTERNAL ASSESSMENT MARKS | K6: ATTAINMENT OF COURSE OUTCOMES
E7: CO1 | F7: CO2 | G7: CO3 | H7: CO4 | I7: CO5 | J7: CO6 | K7: CO1 | M7: CO2 | O7: CO3 | Q7: CO4 | S7: CO5 | U7: CO6
A8: Max. Marks | E8: 50 | F8: 50 | G8: 50 | H8: 50 | I8: 50 | J8: 50 | K8: %age | L8: Y/N | M8: %age | N8: Y/N | O8: %age | P8: Y/N | Q8: %age | R8: Y/N | S8: %age | T8: Y/N | U8: %age | V8: Y/N
A9: 1 | B9: ANNAPURNA SINGH | C9: 1SG15EE005 | D9: A | E9: 49 | F9: =E9 -> 49 | G9: =E9 -> 49 | H9: =E9 -> 49 | I9: =E9 -> 49 | J9: =E9 -> 49 | K9: =E9*2 -> 98 | L9: =IF(K9<75,"N","Y") -> Y | M9: =F9*2 -> 98 | N9: =IF(M9<75,"N","Y") -> Y | O9: =G9*2 -> 98 | P9: =IF(O9<75,"N","Y") -> Y | Q9: =H9*2 -> 98 | R9: =IF(Q9<75,"N","Y") -> Y | S9: =I9*2 -> 98 | T9: =IF(S9<75,"N","Y") -> Y | U9: =J9*2 -> 98 | V9: =IF(U9<75,"N","Y") -> Y
A10: 2 | B10: ANTONY ROSHAN JOY D'SOUZA | C10: 1SG15EE006 | D10: A | E10: 38 | F10: =E10 -> 38 | G10: =E10 -> 38 | H10: =E10 -> 38 | I10: =E10 -> 38 | J10: =E10 -> 38 | K10: =E10*2 -> 76 | L10: =IF(K10<75,"N","Y") -> Y | M10: =F10*2 -> 76 | N10: =IF(M10<75,"N","Y") -> Y | O10: =G10*2 -> 76 | P10: =IF(O10<75,"N","Y") -> Y | Q10: =H10*2 -> 76 | R10: =IF(Q10<75,"N","Y") -> Y | S10: =I10*2 -> 76 | T10: =IF(S10<75,"N","Y") -> Y | U10: =J10*2 -> 76 | V10: =IF(U10<75,"N","Y") -> Y
A11: 3 | B11: ANUP H V | C11: 1SG15EE007 | D11: A | E11: 46 | F11: =E11 -> 46 | G11: =E11 -> 46 | H11: =E11 -> 46 | I11: =E11 -> 46 | J11: =E11 -> 46 | K11: =E11*2 -> 92 | L11: =IF(K11<75,"N","Y") -> Y | M11: =F11*2 -> 92 | N11: =IF(M11<75,"N","Y") -> Y | O11: =G11*2 -> 92 | P11: =IF(O11<75,"N","Y") -> Y | Q11: =H11*2 -> 92 | R11: =IF(Q11<75,"N","Y") -> Y | S11: =I11*2 -> 92 | T11: =IF(S11<75,"N","Y") -> Y | U11: =J11*2 -> 92 | V11: =IF(U11<75,"N","Y") -> Y
A12: 4 | B12: ANUSHA B | C12: 1SG15EE008 | D12: A | E12: 49 | F12: =E12 -> 49 | G12: =E12 -> 49 | H12: =E12 -> 49 | I12: =E12 -> 49 | J12: =E12 -> 49 | K12: =E12*2 -> 98 | L12: =IF(K12<75,"N","Y") -> Y | M12: =F12*2 -> 98 | N12: =IF(M12<75,"N","Y") -> Y | O12: =G12*2 -> 98 | P12: =IF(O12<75,"N","Y") -> Y | Q12: =H12*2 -> 98 | R12: =IF(Q12<75,"N","Y") -> Y | S12: =I12*2 -> 98 | T12: =IF(S12<75,"N","Y") -> Y | U12: =J12*2 -> 98 | V12: =IF(U12<75,"N","Y") -> Y
A13: 5 | B13: ANUSHA K | C13: 1SG15EE009 | D13: A | E13: 49 | F13: =E13 -> 49 | G13: =E13 -> 49 | H13: =E13 -> 49 | I13: =E13 -> 49 | J13: =E13 -> 49 | K13: =E13*2 -> 98 | L13: =IF(K13<75,"N","Y") -> Y | M13: =F13*2 -> 98 | N13: =IF(M13<75,"N","Y") -> Y | O13: =G13*2 -> 98 | P13: =IF(O13<75,"N","Y") -> Y | Q13: =H13*2 -> 98 | R13: =IF(Q13<75,"N","Y") -> Y | S13: =I13*2 -> 98 | T13: =IF(S13<75,"N","Y") -> Y | U13: =J13*2 -> 98 | V13: =IF(U13<75,"N","Y") -> Y
A14: 6 | B14: APOORVA K G | C14: 1SG15EE010 | D14: A | E14: 49 | F14: =E14 -> 49 | G14: =E14 -> 49 | H14: =E14 -> 49 | I14: =E14 -> 49 | J14: =E14 -> 49 | K14: =E14*2 -> 98 | L14: =IF(K14<75,"N","Y") -> Y | M14: =F14*2 -> 98 | N14: =IF(M14<75,"N","Y") -> Y | O14: =G14*2 -> 98 | P14: =IF(O14<75,"N","Y") -> Y | Q14: =H14*2 -> 98 | R14: =IF(Q14<75,"N","Y") -> Y | S14: =I14*2 -> 98 | T14: =IF(S14<75,"N","Y") -> Y | U14: =J14*2 -> 98 | V14: =IF(U14<75,"N","Y") -> Y
A15: 7 | B15: ARPITA SHARMA | C15: 1SG15EE011 | D15: A | E15: 48 | F15: =E15 -> 48 | G15: =E15 -> 48 | H15: =E15 -> 48 | I15: =E15 -> 48 | J15: =E15 -> 48 | K15: =E15*2 -> 96 | L15: =IF(K15<75,"N","Y") -> Y | M15: =F15*2 -> 96 | N15: =IF(M15<75,"N","Y") -> Y | O15: =G15*2 -> 96 | P15: =IF(O15<75,"N","Y") -> Y | Q15: =H15*2 -> 96 | R15: =IF(Q15<75,"N","Y") -> Y | S15: =I15*2 -> 96 | T15: =IF(S15<75,"N","Y") -> Y | U15: =J15*2 -> 96 | V15: =IF(U15<75,"N","Y") -> Y
A16: 8 | B16: ARPITHA SRINIVASA MURTHY | C16: 1SG15EE012 | D16: A | E16: 49 | F16: =E16 -> 49 | G16: =E16 -> 49 | H16: =E16 -> 49 | I16: =E16 -> 49 | J16: =E16 -> 49 | K16: =E16*2 -> 98 | L16: =IF(K16<75,"N","Y") -> Y | M16: =F16*2 -> 98 | N16: =IF(M16<75,"N","Y") -> Y | O16: =G16*2 -> 98 | P16: =IF(O16<75,"N","Y") -> Y | Q16: =H16*2 -> 98 | R16: =IF(Q16<75,"N","Y") -> Y | S16: =I16*2 -> 98 | T16: =IF(S16<75,"N","Y") -> Y | U16: =J16*2 -> 98 | V16: =IF(U16<75,"N","Y") -> Y
A17: 9 | B17: ARUNA B P | C17: 1SG15EE013 | D17: A | E17: 49 | F17: =E17 -> 49 | G17: =E17 -> 49 | H17: =E17 -> 49 | I17: =E17 -> 49 | J17: =E17 -> 49 | K17: =E17*2 -> 98 | L17: =IF(K17<75,"N","Y") -> Y | M17: =F17*2 -> 98 | N17: =IF(M17<75,"N","Y") -> Y | O17: =G17*2 -> 98 | P17: =IF(O17<75,"N","Y") -> Y | Q17: =H17*2 -> 98 | R17: =IF(Q17<75,"N","Y") -> Y | S17: =I17*2 -> 98 | T17: =IF(S17<75,"N","Y") -> Y | U17: =J17*2 -> 98 | V17: =IF(U17<75,"N","Y") -> Y
A18: 10 | B18: ATHIYA MOHAMMADI | C18: 1SG15EE014 | D18: A | E18: 49 | F18: =E18 -> 49 | G18: =E18 -> 49 | H18: =E18 -> 49 | I18: =E18 -> 49 | J18: =E18 -> 49 | K18: =E18*2 -> 98 | L18: =IF(K18<75,"N","Y") -> Y | M18: =F18*2 -> 98 | N18: =IF(M18<75,"N","Y") -> Y | O18: =G18*2 -> 98 | P18: =IF(O18<75,"N","Y") -> Y | Q18: =H18*2 -> 98 | R18: =IF(Q18<75,"N","Y") -> Y | S18: =I18*2 -> 98 | T18: =IF(S18<75,"N","Y") -> Y | U18: =J18*2 -> 98 | V18: =IF(U18<75,"N","Y") -> Y
A19: 11 | B19: BALAJI VENKATESH KALKONDA | C19: 1SG15EE015 | D19: A | E19: 45 | F19: =E19 -> 45 | G19: =E19 -> 45 | H19: =E19 -> 45 | I19: =E19 -> 45 | J19: =E19 -> 45 | K19: =E19*2 -> 90 | L19: =IF(K19<75,"N","Y") -> Y | M19: =F19*2 -> 90 | N19: =IF(M19<75,"N","Y") -> Y | O19: =G19*2 -> 90 | P19: =IF(O19<75,"N","Y") -> Y | Q19: =H19*2 -> 90 | R19: =IF(Q19<75,"N","Y") -> Y | S19: =I19*2 -> 90 | T19: =IF(S19<75,"N","Y") -> Y | U19: =J19*2 -> 90 | V19: =IF(U19<75,"N","Y") -> Y
A20: 12 | B20: C S MOHANA | C20: 1SG15EE017 | D20: A | E20: 48 | F20: =E20 -> 48 | G20: =E20 -> 48 | H20: =E20 -> 48 | I20: =E20 -> 48 | J20: =E20 -> 48 | K20: =E20*2 -> 96 | L20: =IF(K20<75,"N","Y") -> Y | M20: =F20*2 -> 96 | N20: =IF(M20<75,"N","Y") -> Y | O20: =G20*2 -> 96 | P20: =IF(O20<75,"N","Y") -> Y | Q20: =H20*2 -> 96 | R20: =IF(Q20<75,"N","Y") -> Y | S20: =I20*2 -> 96 | T20: =IF(S20<75,"N","Y") -> Y | U20: =J20*2 -> 96 | V20: =IF(U20<75,"N","Y") -> Y
... A106: 98 | B106: VARUN K M | C106: 1SG16EE450 | D106: B | E106: 42 | F106: =E106 -> 42 | G106: =E106 -> 42 | H106: =E106 -> 42 | I106: =E106 -> 42 | J106: =E106 -> 42 | K106: =E106*2 -> 84 | L106: =IF(K106<75,"N","Y") -> Y | M106: =F106*2 -> 84 | N106: =IF(M106<75,"N","Y") -> Y | O106: =G106*2 -> 84 | P106: =IF(O106<75,"N","Y") -> Y | Q106: =H106*2 -> 84 | R106: =IF(Q106<75,"N","Y") -> Y | S106: =I106*2 -> 84 | T106: =IF(S106<75,"N","Y") -> Y | U106: =J106*2 -> 84 | V106: =IF(U106<75,"N","Y") -> Y
K107: =COUNTIF(L9:L106,"Y") -> 97 | M107: =COUNTIF(N9:N106,"Y") -> 97 | O107: =COUNTIF(P9:P106,"Y") -> 97 | Q107: =COUNTIF(R9:R106,"Y") -> 97 | S107: =COUNTIF(T9:T106,"Y") -> 97 | U107: =COUNTIF(V9:V106,"Y") -> 97
K108: =(K107/A106)*100 -> 98.979592 | M108: =(M107/A106)*100 -> 98.979592 | O108: =(O107/A106)*100 -> 98.979592 | Q108: =(Q107/A106)*100 -> 98.979592 | S108: =(S107/A106)*100 -> 98.979592 | U108: =(U107/A106)*100 -> 98.979592
B110: FOR INTERNSHIP (15EE84) | C110: TARGET: 85% OF STUDENTS WILL SCORE 75% OF MARKS | E110: CO1 | F110: CO2 | G110: CO3 | H110: CO4 | I110: CO5 | J110: CO6
E111: =K108 -> 98.979592 | F111: =M108 -> 98.979592 | G111: =O108 -> 98.979592 | H111: =Q108 -> 98.979592 | I111: =S108 -> 98.979592 | J111: =U108 -> 98.979592

Sheet 15EE84-INTERNSHIP-FINAL EXAM CO
A1: SAPTHAGIRI COLLEGE OF ENGINEERING, BENGALURU - 57.
A2: DEPARTMENT OF ELECTRICAL AND ELECTRONICS ENGINEERING
A3: CO ATTAINMENT - FINAL EXAM MARKS (EVEN SEM. 2018-19)
A4: Sem.: VIII | D4: Subject: INTERNSHIP / PROFESSIONAL PRACTICE | V4: Subject Code: 15EE84
A5: Names of the faculty member: Dr. Nagaraj H P (Section-A) and Mr. A Dhamodaran (Section-B)
A6: Sl. No. | B6: Name of the student | C6: USN | D6: Section | E6: FINAL EXAM MARKS OBTAINED | K6: ATTAINMENT OF COURSE OUTCOMES
E7: CO1 | F7: CO2 | G7: CO3 | H7: CO4 | I7: CO5 | J7: CO6 | K7: CO1 | M7: CO2 | O7: CO3 | Q7: CO4 | S7: CO5 | U7: CO6
A8: Max. Marks | E8: 50 | F8: 50 | G8: 50 | H8: 50 | I8: 50 | J8: 50 | K8: %age | L8: Y/N | M8: %age | N8: Y/N | O8: %age | P8: Y/N | Q8: %age | R8: Y/N | S8: %age | T8: Y/N | U8: %age | V8: Y/N
A9: 1 | B9: ANNAPURNA SINGH | C9: 1SG15EE005 | D9: A | E9: 46 | F9: =E9 -> 46 | G9: =E9 -> 46 | H9: =E9 -> 46 | I9: =E9 -> 46 | J9: =E9 -> 46 | K9: =E9*2 -> 92 | L9: =IF(K9<74,"N","Y") -> Y | M9: =F9*2 -> 92 | N9: =IF(M9<74,"N","Y") -> Y | O9: =G9*2 -> 92 | P9: =IF(O9<74,"N","Y") -> Y | Q9: =H9*2 -> 92 | R9: =IF(Q9<74,"N","Y") -> Y | S9: =I9*2 -> 92 | T9: =IF(S9<74,"N","Y") -> Y | U9: =J9*2 -> 92 | V9: =IF(U9<74,"N","Y") -> Y
A10: 2 | B10: ANTONY ROSHAN JOY D'SOUZA | C10: 1SG15EE006 | D10: A | E10: 32 | F10: =E10 -> 32 | G10: =E10 -> 32 | H10: =E10 -> 32 | I10: =E10 -> 32 | J10: =E10 -> 32 | K10: =E10*2 -> 64 | L10: =IF(K10<74,"N","Y") -> N | M10: =F10*2 -> 64 | N10: =IF(M10<74,"N","Y") -> N | O10: =G10*2 -> 64 | P10: =IF(O10<74,"N","Y") -> N | Q10: =H10*2 -> 64 | R10: =IF(Q10<74,"N","Y") -> N | S10: =I10*2 -> 64 | T10: =IF(S10<74,"N","Y") -> N | U10: =J10*2 -> 64 | V10: =IF(U10<74,"N","Y") -> N
A11: 3 | B11: ANUP H V | C11: 1SG15EE007 | D11: A | E11: 48 | F11: =E11 -> 48 | G11: =E11 -> 48 | H11: =E11 -> 48 | I11: =E11 -> 48 | J11: =E11 -> 48 | K11: =E11*2 -> 96 | L11: =IF(K11<74,"N","Y") -> Y | M11: =F11*2 -> 96 | N11: =IF(M11<74,"N","Y") -> Y | O11: =G11*2 -> 96 | P11: =IF(O11<74,"N","Y") -> Y | Q11: =H11*2 -> 96 | R11: =IF(Q11<74,"N","Y") -> Y | S11: =I11*2 -> 96 | T11: =IF(S11<74,"N","Y") -> Y | U11: =J11*2 -> 96 | V11: =IF(U11<74,"N","Y") -> Y
A12: 4 | B12: ANUSHA B | C12: 1SG15EE008 | D12: A | E12: 49 | F12: =E12 -> 49 | G12: =E12 -> 49 | H12: =E12 -> 49 | I12: =E12 -> 49 | J12: =E12 -> 49 | K12: =E12*2 -> 98 | L12: =IF(K12<74,"N","Y") -> Y | M12: =F12*2 -> 98 | N12: =IF(M12<74,"N","Y") -> Y | O12: =G12*2 -> 98 | P12: =IF(O12<74,"N","Y") -> Y | Q12: =H12*2 -> 98 | R12: =IF(Q12<74,"N","Y") -> Y | S12: =I12*2 -> 98 | T12: =IF(S12<74,"N","Y") -> Y | U12: =J12*2 -> 98 | V12: =IF(U12<74,"N","Y") -> Y
A13: 5 | B13: ANUSHA K | C13: 1SG15EE009 | D13: A | E13: 42 | F13: =E13 -> 42 | G13: =E13 -> 42 | H13: =E13 -> 42 | I13: =E13 -> 42 | J13: =E13 -> 42 | K13: =E13*2 -> 84 | L13: =IF(K13<74,"N","Y") -> Y | M13: =F13*2 -> 84 | N13: =IF(M13<74,"N","Y") -> Y | O13: =G13*2 -> 84 | P13: =IF(O13<74,"N","Y") -> Y | Q13: =H13*2 -> 84 | R13: =IF(Q13<74,"N","Y") -> Y | S13: =I13*2 -> 84 | T13: =IF(S13<74,"N","Y") -> Y | U13: =J13*2 -> 84 | V13: =IF(U13<74,"N","Y") -> Y
A14: 6 | B14: APOORVA K G | C14: 1SG15EE010 | D14: A | E14: 47 | F14: =E14 -> 47 | G14: =E14 -> 47 | H14: =E14 -> 47 | I14: =E14 -> 47 | J14: =E14 -> 47 | K14: =E14*2 -> 94 | L14: =IF(K14<74,"N","Y") -> Y | M14: =F14*2 -> 94 | N14: =IF(M14<74,"N","Y") -> Y | O14: =G14*2 -> 94 | P14: =IF(O14<74,"N","Y") -> Y | Q14: =H14*2 -> 94 | R14: =IF(Q14<74,"N","Y") -> Y | S14: =I14*2 -> 94 | T14: =IF(S14<74,"N","Y") -> Y | U14: =J14*2 -> 94 | V14: =IF(U14<74,"N","Y") -> Y
A15: 7 | B15: ARPITA SHARMA | C15: 1SG15EE011 | D15: A | E15: 41 | F15: =E15 -> 41 | G15: =E15 -> 41 | H15: =E15 -> 41 | I15: =E15 -> 41 | J15: =E15 -> 41 | K15: =E15*2 -> 82 | L15: =IF(K15<74,"N","Y") -> Y | M15: =F15*2 -> 82 | N15: =IF(M15<74,"N","Y") -> Y | O15: =G15*2 -> 82 | P15: =IF(O15<74,"N","Y") -> Y | Q15: =H15*2 -> 82 | R15: =IF(Q15<74,"N","Y") -> Y | S15: =I15*2 -> 82 | T15: =IF(S15<74,"N","Y") -> Y | U15: =J15*2 -> 82 | V15: =IF(U15<74,"N","Y") -> Y
A16: 8 | B16: ARPITHA SRINIVASA MURTHY | C16: 1SG15EE012 | D16: A | E16: 47 | F16: =E16 -> 47 | G16: =E16 -> 47 | H16: =E16 -> 47 | I16: =E16 -> 47 | J16: =E16 -> 47 | K16: =E16*2 -> 94 | L16: =IF(K16<74,"N","Y") -> Y | M16: =F16*2 -> 94 | N16: =IF(M16<74,"N","Y") -> Y | O16: =G16*2 -> 94 | P16: =IF(O16<74,"N","Y") -> Y | Q16: =H16*2 -> 94 | R16: =IF(Q16<74,"N","Y") -> Y | S16: =I16*2 -> 94 | T16: =IF(S16<74,"N","Y") -> Y | U16: =J16*2 -> 94 | V16: =IF(U16<74,"N","Y") -> Y
A17: 9 | B17: ARUNA B P | C17: 1SG15EE013 | D17: A | E17: 34 | F17: =E17 -> 34 | G17: =E17 -> 34 | H17: =E17 -> 34 | I17: =E17 -> 34 | J17: =E17 -> 34 | K17: =E17*2 -> 68 | L17: =IF(K17<74,"N","Y") -> N | M17: =F17*2 -> 68 | N17: =IF(M17<74,"N","Y") -> N | O17: =G17*2 -> 68 | P17: =IF(O17<74,"N","Y") -> N | Q17: =H17*2 -> 68 | R17: =IF(Q17<74,"N","Y") -> N | S17: =I17*2 -> 68 | T17: =IF(S17<74,"N","Y") -> N | U17: =J17*2 -> 68 | V17: =IF(U17<74,"N","Y") -> N
A18: 10 | B18: ATHIYA MOHAMMADI | C18: 1SG15EE014 | D18: A | E18: 40 | F18: =E18 -> 40 | G18: =E18 -> 40 | H18: =E18 -> 40 | I18: =E18 -> 40 | J18: =E18 -> 40 | K18: =E18*2 -> 80 | L18: =IF(K18<74,"N","Y") -> Y | M18: =F18*2 -> 80 | N18: =IF(M18<74,"N","Y") -> Y | O18: =G18*2 -> 80 | P18: =IF(O18<74,"N","Y") -> Y | Q18: =H18*2 -> 80 | R18: =IF(Q18<74,"N","Y") -> Y | S18: =I18*2 -> 80 | T18: =IF(S18<74,"N","Y") -> Y | U18: =J18*2 -> 80 | V18: =IF(U18<74,"N","Y") -> Y
A19: 11 | B19: BALAJI VENKATESH KALKONDA | C19: 1SG15EE015 | D19: A | E19: 48 | F19: =E19 -> 48 | G19: =E19 -> 48 | H19: =E19 -> 48 | I19: =E19 -> 48 | J19: =E19 -> 48 | K19: =E19*2 -> 96 | L19: =IF(K19<74,"N","Y") -> Y | M19: =F19*2 -> 96 | N19: =IF(M19<74,"N","Y") -> Y | O19: =G19*2 -> 96 | P19: =IF(O19<74,"N","Y") -> Y | Q19: =H19*2 -> 96 | R19: =IF(Q19<74,"N","Y") -> Y | S19: =I19*2 -> 96 | T19: =IF(S19<74,"N","Y") -> Y | U19: =J19*2 -> 96 | V19: =IF(U19<74,"N","Y") -> Y
A20: 12 | B20: C S MOHANA | C20: 1SG15EE017 | D20: A | E20: 48 | F20: =E20 -> 48 | G20: =E20 -> 48 | H20: =E20 -> 48 | I20: =E20 -> 48 | J20: =E20 -> 48 | K20: =E20*2 -> 96 | L20: =IF(K20<74,"N","Y") -> Y | M20: =F20*2 -> 96 | N20: =IF(M20<74,"N","Y") -> Y | O20: =G20*2 -> 96 | P20: =IF(O20<74,"N","Y") -> Y | Q20: =H20*2 -> 96 | R20: =IF(Q20<74,"N","Y") -> Y | S20: =I20*2 -> 96 | T20: =IF(S20<74,"N","Y") -> Y | U20: =J20*2 -> 96 | V20: =IF(U20<74,"N","Y") -> Y
... A106: 98 | B106: VARUN K M | C106: 1SG16EE450 | D106: B | E106: 41 | F106: =E106 -> 41 | G106: =E106 -> 41 | H106: =E106 -> 41 | I106: =E106 -> 41 | J106: =E106 -> 41 | K106: =E106*2 -> 82 | L106: =IF(K106<74,"N","Y") -> Y | M106: =F106*2 -> 82 | N106: =IF(M106<74,"N","Y") -> Y | O106: =G106*2 -> 82 | P106: =IF(O106<74,"N","Y") -> Y | Q106: =H106*2 -> 82 | R106: =IF(Q106<74,"N","Y") -> Y | S106: =I106*2 -> 82 | T106: =IF(S106<74,"N","Y") -> Y | U106: =J106*2 -> 82 | V106: =IF(U106<74,"N","Y") -> Y
K107: =COUNTIF(L9:L106,"Y") -> 82 | M107: =COUNTIF(N9:N106,"Y") -> 82 | O107: =COUNTIF(P9:P106,"Y") -> 82 | Q107: =COUNTIF(R9:R106,"Y") -> 82 | S107: =COUNTIF(T9:T106,"Y") -> 82 | U107: =COUNTIF(V9:V106,"Y") -> 82
K108: =(K107/A106)*100 -> 83.673469 | M108: =(M107/A106)*100 -> 83.673469 | O108: =(O107/A106)*100 -> 83.673469 | Q108: =(Q107/A106)*100 -> 83.673469 | S108: =(S107/A106)*100 -> 83.673469 | U108: =(U107/A106)*100 -> 83.673469
B110: FOR PSS LAB (15EEL76) | C110: TARGET: 75% OF STUDENTS WILL SCORE 74% OF MARKS | E110: CO1 | F110: CO2 | G110: CO3 | H110: CO4 | I110: CO5 | J110: CO6
E111: =K108 -> 83.673469 | F111: =M108 -> 83.673469 | G111: =O108 -> 83.673469 | H111: =Q108 -> 83.673469 | I111: =S108 -> 83.673469 | J111: =U108 -> 83.673469

Sheet 15EE84-INTERNSHIP-CONSOLIDATED
A1: SAPTHAGIRI COLLEGE OF ENGINEERING, BENGALURU - 57.
A2: DEPARTMENT OF ELECTRICAL AND ELECTRONICS ENGINEERING
A3: DIRECT ASSESSMENT METHOD - CO ATTAINMENT (EVEN SEM. 2018-19)
A4: Sem.: VII | C4: Subject: INTERNSHIP / PROFESSIONAL PRACTICE | H4: Subject Code: 15EE84
A5: Names of the faculty member: Dr. Nagaraj H P (Section-A) and Mr. A Dhamodaran (Section-B)
B7: TARGET: 85% ATTAINMENT
B8: COs | C8: CO1 | D8: CO2 | E8: CO3 | F8: CO4 | G8: CO5 | H8: CO6
B9: IA TEST MARKS ATTAINMENT | C9: ='15EE84-INTERNSHIP-IA MARKS CO'!E111 -> 98.979592 | D9: ='15EE84-INTERNSHIP-IA MARKS CO'!F111 -> 98.979592 | E9: ='15EE84-INTERNSHIP-IA MARKS CO'!G111 -> 98.979592 | F9: ='15EE84-INTERNSHIP-IA MARKS CO'!H111 -> 98.979592 | G9: ='15EE84-INTERNSHIP-IA MARKS CO'!I111 -> 98.979592 | H9: ='15EE84-INTERNSHIP-IA MARKS CO'!J111 -> 98.979592
B10: FINAL EXAM ATTAINMENT | C10: ='15EE84-INTERNSHIP-FINAL EXAM CO'!E111 -> 83.673469 | D10: ='15EE84-INTERNSHIP-FINAL EXAM CO'!F111 -> 83.673469 | E10: ='15EE84-INTERNSHIP-FINAL EXAM CO'!G111 -> 83.673469 | F10: ='15EE84-INTERNSHIP-FINAL EXAM CO'!H111 -> 83.673469 | G10: ='15EE84-INTERNSHIP-FINAL EXAM CO'!I111 -> 83.673469 | H10: ='15EE84-INTERNSHIP-FINAL EXAM CO'!J111 -> 83.673469
B11: AVERAGE | C11: =AVERAGE(C9:C10) -> 91.326531 | D11: =AVERAGE(D9:D10) -> 91.326531 | E11: =AVERAGE(E9:E10) -> 91.326531 | F11: =AVERAGE(F9:F10) -> 91.326531 | G11: =AVERAGE(G9:G10) -> 91.326531 | H11: =AVERAGE(H9:H10) -> 91.326531
B32: NEXT ACADEMIC YEAR TARGET CAN BE: 88%

Sheet COURSE EXIT SURVEY RESPONSES
A1: SAPTHAGIRI COLLEGE OF ENGINEERING, BENGALURU - 57.
A2: DEPARTMENT OF ELECTRICAL AND ELECTRONICS ENGINEERING
A3: COURSE EXIT SURVEY RESPONSES (EVEN SEM. 2018-19)
A4: Sem.: VIII | F4: Subject: INTERNSHIP / PROFESSSIONAL PRACTICE | J4: Subject Code: 15EE84
A5: Names of the faculty member: Dr. Nagaraj H P (Section-A) and Mr. A Dhamodaran (Section-B) | J5: NOTE: This survey is obtained through google Forms
A6: Sl. No. | B6: Timestamp | C6: NAME OF THE STUDENT | D6: USN | E6: Are you able to gain practical experience within industry in which the internship is done? | F6: Are you able to apply knowledge and skills learned to classroom work? | G6: Are you able to experience the activities and functions of professionals? | H6: Are you able to develop and refine the oral and written communication skills? | I6: Are you able to identify areas for future knowledge and skill development? | J6: Are you able to acquire the knowledge of administration, marketing, finance and economics?
A7: COURSE OUTCOMES -------------------> | E7: CO1 | F7: CO2 | G7: CO3 | H7: CO4 | I7: CO5 | J7: CO6
A8: 1 | B8: 12/30/2019 12:39:12 | C8: Anusha B | D8: 1SG15EE008 | E8: 4 (Very Good) | F8: 4 (Very Good) | G8: 4 (Very Good) | H8: 4 (Very Good) | I8: 4 (Very Good) | J8: 4 (Very Good)
A9: 2 | B9: 12/30/2019 12:29:41 | C9: ARPITHA SRINIVASA MURTHY | D9: 1SG15EE012 | E9: 4 (Very Good) | F9: 3 (Good) | G9: 4 (Very Good) | H9: 4 (Very Good) | I9: 4 (Very Good) | J9: 4 (Very Good)
A10: 3 | B10: 12/30/2019 22:35:51 | C10: Aruna b p | D10: 1sg15ee013 | E10: 4 (Very Good) | F10: 4 (Very Good) | G10: 3 (Good) | H10: 3 (Good) | I10: 3 (Good) | J10: 3 (Good)
A11: 4 | B11: 12/31/2019 10:39:01 | C11: Athiya mohammadi | D11: 1sg15ee014 | E11: 5 (Excellent) | F11: 5 (Excellent) | G11: 5 (Excellent) | H11: 5 (Excellent) | I11: 5 (Excellent) | J11: 5 (Excellent)
A12: 5 | B12: 12/30/2019 12:31:27 | C12: C S Mohana | D12: 1SG15EE017 | E12: 5 (Excellent) | F12: 5 (Excellent) | G12: 5 (Excellent) | H12: 5 (Excellent) | I12: 5 (Excellent) | J12: 5 (Excellent)
A13: 6 | B13: 12/30/2019 12:49:01 | C13: Chaitra. S | D13: 1SG15EE019 | E13: 5 (Excellent) | F13: 5 (Excellent) | G13: 5 (Excellent) | H13: 5 (Excellent) | I13: 5 (Excellent) | J13: 4 (Very Good)
A14: 7 | B14: 12/30/2019 12:31:27 | C14: Chandan G | D14: 1sg15ee020 | E14: 4 (Very Good) | F14: 4 (Very Good) | G14: 4 (Very Good) | H14: 4 (Very Good) | I14: 4 (Very Good) | J14: 4 (Very Good)
A15: 8 | B15: 12/30/2019 21:01:07 | C15: CHARITHA M C | D15: 1SG15EE024 | E15: 5 (Excellent) | F15: 4 (Very Good) | G15: 4 (Very Good) | H15: 4 (Very Good) | I15: 4 (Very Good) | J15: 4 (Very Good)
A16: 9 | B16: 12/30/2019 14:01:29 | C16: Chaya K | D16: 1SG15EE025 | E16: 3 (Good) | F16: 3 (Good) | G16: 4 (Very Good) | H16: 3 (Good) | I16: 3 (Good) | J16: 4 (Very Good)
A17: 10 | B17: 12/30/2019 21:23:51 | C17: D. Manish Naicker | D17: 1sg15ee026 | E17: 5 (Excellent) | F17: 5 (Excellent) | G17: 5 (Excellent) | H17: 5 (Excellent) | I17: 5 (Excellent) | J17: 5 (Excellent)
A18: 11 | B18: 12/30/2019 12:37:36 | C18: GURURAJA D | D18: 1sg15ee034 | E18: 4 (Very Good) | F18: 5 (Excellent) | G18: 4 (Very Good) | H18: 5 (Excellent) | I18: 4 (Very Good) | J18: 5 (Excellent)
A19: 12 | B19: 12/30/2019 17:21:44 | C19: Harshith gowda s | D19: 1sg15ee035 | E19: 5 (Excellent) | F19: 5 (Excellent) | G19: 5 (Excellent) | H19: 5 (Excellent) | I19: 5 (Excellent) | J19: 5 (Excellent)
... A48: 41 | B48: 12/31/2019 11:30:57 | C48: Nithin G | D48: 1sg16ee434 | E48: 5 (Excellent) | F48: 5 (Excellent) | G48: 5 (Excellent) | H48: 5 (Excellent) | I48: 5 (Excellent) | J48: 5 (Excellent)
A49: No. of graded "0" | E49: =COUNTIF(E8:E48,"0 (Not at all)") -> 0 | F49: =COUNTIF(F8:F48,"0 (Not at all)") -> 0 | G49: =COUNTIF(G8:G48,"0 (Not at all)") -> 0 | H49: =COUNTIF(H8:H48,"0 (Not at all)") -> 0 | I49: =COUNTIF(I8:I48,"0 (Not at all)") -> 0 | J49: =COUNTIF(J8:J48,"0 (Not at all)") -> 0
A50: No. of graded "1" | E50: =COUNTIF(E8:E48,"1 (Fair)") -> 0 | F50: =COUNTIF(F8:F48,"1 (Fair)") -> 0 | G50: =COUNTIF(G8:G48,"1 (Fair)") -> 0 | H50: =COUNTIF(H8:H48,"1 (Fair)") -> 0 | I50: =COUNTIF(I8:I48,"1 (Fair)") -> 0 | J50: =COUNTIF(J8:J48,"1 (Fair)") -> 0
A51: No. of graded "2" | E51: =COUNTIF(E8:E48,"2 (Very Fair)") -> 0 | F51: =COUNTIF(F8:F48,"2 (Very Fair)") -> 0 | G51: =COUNTIF(G8:G48,"2 (Very Fair)") -> 0 | H51: =COUNTIF(H8:H48,"2 (Very Fair)") -> 0 | I51: =COUNTIF(I8:I48,"2 (Very Fair)") -> 0 | J51: =COUNTIF(J8:J48,"2 (Very Fair)") -> 0
A52: No. of graded "3" | E52: =COUNTIF(E8:E48,"3 (Good)") -> 6 | F52: =COUNTIF(F8:F48,"3 (Good)") -> 9 | G52: =COUNTIF(G8:G48,"3 (Good)") -> 4 | H52: =COUNTIF(H8:H48,"3 (Good)") -> 5 | I52: =COUNTIF(I8:I48,"3 (Good)") -> 5 | J52: =COUNTIF(J8:J48,"3 (Good)") -> 11
A53: No. of graded "4" | E53: =COUNTIF(E8:E48,"4 (Very Good)") -> 12 | F53: =COUNTIF(F8:F48,"4 (Very Good)") -> 14 | G53: =COUNTIF(G8:G48,"4 (Very Good)") -> 16 | H53: =COUNTIF(H8:H48,"4 (Very Good)") -> 14 | I53: =COUNTIF(I8:I48,"4 (Very Good)") -> 13 | J53: =COUNTIF(J8:J48,"4 (Very Good)") -> 11
A54: No. of graded "5" | E54: =COUNTIF(E8:E48,"5 (Excellent)") -> 23 | F54: =COUNTIF(F8:F48,"5 (Excellent)") -> 18 | G54: =COUNTIF(G8:G48,"5 (Excellent)") -> 21 | H54: =COUNTIF(H8:H48,"5 (Excellent)") -> 22 | I54: =COUNTIF(I8:I48,"5 (Excellent)") -> 23 | J54: =COUNTIF(J8:J48,"5 (Excellent)") -> 19

Sheet INDIRECT & FINAL CO ATTAINMENT
A1: SAPTHAGIRI COLLEGE OF ENGINEERING, BENGALURU - 57.
A2: DEPARTMENT OF ELECTRICAL AND ELECTRONICS ENGINEERING
A3: COURSE EXIT SURVEY RESPONSES (EVEN SEM. 2018-19)
A4: Sem.: VIII | E4: Subject: INTERNSHIP / PROFESSIONAL PRACTICE | M4: Subject Code: 15EEL76
A5: Names of the faculty member: Dr. Nagaraj H P (Section-A) and Mr. A Dhamodaran (Section-B) | M5: NOTE: This survey is obtained through google Forms
A6: CO No. | B6: CO description | C6: Course Exit Survey Questions | D6: No. of students given the ratings | J6: Total Responses | K6: Weighted Average | L6: CO Max. Count | M6: %age CO attainment
D7: 0 | E7: 1 | F7: 2 | G7: 3 | H7: 4 | I7: 5
A8: CO1 | B8: Gain practical experience within industry in which the internship is done. | C8: Are you able to gain practical experience within industry in which the internship is done? | D8: ='COURSE EXIT SURVEY RESPONSES'!E49 -> 0 | E8: ='COURSE EXIT SURVEY RESPONSES'!E50 -> 0 | F8: ='COURSE EXIT SURVEY RESPONSES'!E51 -> 0 | G8: ='COURSE EXIT SURVEY RESPONSES'!E52 -> 6 | H8: ='COURSE EXIT SURVEY RESPONSES'!E53 -> 12 | I8: ='COURSE EXIT SURVEY RESPONSES'!E54 -> 23 | J8: =SUM(D8:I8) -> 41 | K8: =(E8*1+F8*2+G8*3+H8*4+I8*5)/J8 -> 4.4146341 | L8: 5 | M8: =(K8/L8)*100 -> 88.292683
A9: CO2 | B9: Apply knowledge and skills learned to classroom work. | C9: Are you able to apply knowledge and skills learned to classroom work? | D9: ='COURSE EXIT SURVEY RESPONSES'!F49 -> 0 | E9: ='COURSE EXIT SURVEY RESPONSES'!F50 -> 0 | F9: ='COURSE EXIT SURVEY RESPONSES'!F51 -> 0 | G9: ='COURSE EXIT SURVEY RESPONSES'!F52 -> 9 | H9: ='COURSE EXIT SURVEY RESPONSES'!F53 -> 14 | I9: ='COURSE EXIT SURVEY RESPONSES'!F54 -> 18 | J9: =SUM(D9:I9) -> 41 | K9: =(E9*1+F9*2+G9*3+H9*4+I9*5)/J9 -> 4.2195122 | L9: 5 | M9: =(K9/L9)*100 -> 84.390244
A10: CO3 | B10: Experience the activities and functions of professionals. | C10: Are you able to experience the activities and functions of professionals? | D10: ='COURSE EXIT SURVEY RESPONSES'!G49 -> 0 | E10: ='COURSE EXIT SURVEY RESPONSES'!G50 -> 0 | F10: ='COURSE EXIT SURVEY RESPONSES'!G51 -> 0 | G10: ='COURSE EXIT SURVEY RESPONSES'!G52 -> 4 | H10: ='COURSE EXIT SURVEY RESPONSES'!G53 -> 16 | I10: ='COURSE EXIT SURVEY RESPONSES'!G54 -> 21 | J10: =SUM(D10:I10) -> 41 | K10: =(E10*1+F10*2+G10*3+H10*4+I10*5)/J10 -> 4.4146341 | L10: 5 | M10: =(K10/L10)*100 -> 88.292683
A11: CO4 | B11: Develop and refine the oral and written communication skills. | C11: Are you able to develop and refine the oral and written communication skills? | D11: ='COURSE EXIT SURVEY RESPONSES'!H49 -> 0 | E11: ='COURSE EXIT SURVEY RESPONSES'!H50 -> 0 | F11: ='COURSE EXIT SURVEY RESPONSES'!H51 -> 0 | G11: ='COURSE EXIT SURVEY RESPONSES'!H52 -> 5 | H11: ='COURSE EXIT SURVEY RESPONSES'!H53 -> 14 | I11: ='COURSE EXIT SURVEY RESPONSES'!H54 -> 22 | J11: =SUM(D11:I11) -> 41 | K11: =(E11*1+F11*2+G11*3+H11*4+I11*5)/J11 -> 4.4146341 | L11: 5 | M11: =(K11/L11)*100 -> 88.292683
A12: CO5 | B12: Identify areas for future knowledge and skill development. | C12: Are you able to identify areas for future knowledge and skill development? | D12: ='COURSE EXIT SURVEY RESPONSES'!I49 -> 0 | E12: ='COURSE EXIT SURVEY RESPONSES'!I50 -> 0 | F12: ='COURSE EXIT SURVEY RESPONSES'!I51 -> 0 | G12: ='COURSE EXIT SURVEY RESPONSES'!I52 -> 5 | H12: ='COURSE EXIT SURVEY RESPONSES'!I53 -> 13 | I12: ='COURSE EXIT SURVEY RESPONSES'!I54 -> 23 | J12: =SUM(D12:I12) -> 41 | K12: =(E12*1+F12*2+G12*3+H12*4+I12*5)/J12 -> 4.4390244 | L12: 5 | M12: =(K12/L12)*100 -> 88.780488
A13: CO6 | B13: Acquire the knowledge of administration, marketing, finance and economics. | C13: Are you able to acquire the knowledge of administration, marketing, finance and economics? | D13: ='COURSE EXIT SURVEY RESPONSES'!J49 -> 0 | E13: ='COURSE EXIT SURVEY RESPONSES'!J50 -> 0 | F13: ='COURSE EXIT SURVEY RESPONSES'!J51 -> 0 | G13: ='COURSE EXIT SURVEY RESPONSES'!J52 -> 11 | H13: ='COURSE EXIT SURVEY RESPONSES'!J53 -> 11 | I13: ='COURSE EXIT SURVEY RESPONSES'!J54 -> 19 | J13: =SUM(D13:I13) -> 41 | K13: =(E13*1+F13*2+G13*3+H13*4+I13*5)/J13 -> 4.195122 | L13: 5 | M13: =(K13/L13)*100 -> 83.902439
C15: CO Assessment method | D15: CO1 | E15: CO2 | F15: CO3 | G15: CO4 | H15: CO5 | I15: CO6
C16: Direct method (IA Test, Assignment/quiz and exam) | D16: ='15EE84-INTERNSHIP-CONSOLIDATED'!C11 -> 91.326531 | E16: ='15EE84-INTERNSHIP-CONSOLIDATED'!D11 -> 91.326531 | F16: ='15EE84-INTERNSHIP-CONSOLIDATED'!E11 -> 91.326531 | G16: ='15EE84-INTERNSHIP-CONSOLIDATED'!F11 -> 91.326531 | H16: ='15EE84-INTERNSHIP-CONSOLIDATED'!G11 -> 91.326531 | I16: ='15EE84-INTERNSHIP-CONSOLIDATED'!H11 -> 91.326531
C17: Weightage (80%) | D17: =D16*0.8 -> 73.061224 | E17: =E16*0.8 -> 73.061224 | F17: =F16*0.8 -> 73.061224 | G17: =G16*0.8 -> 73.061224 | H17: =H16*0.8 -> 73.061224 | I17: =I16*0.8 -> 73.061224
C18: Indirect method (Course Exit Survey) | D18: =M8 -> 88.292683 | E18: =M9 -> 84.390244 | F18: =M10 -> 88.292683 | G18: =M11 -> 88.292683 | H18: =M12 -> 88.780488 | I18: =M13 -> 83.902439
C19: Weightage (20%) | D19: =D18*0.2 -> 17.658537 | E19: =E18*0.2 -> 16.878049 | F19: =F18*0.2 -> 17.658537 | G19: =G18*0.2 -> 17.658537 | H19: =H18*0.2 -> 17.756098 | I19: =I18*0.2 -> 16.780488
C20: Final CO Attainment | D20: =D17+D19 -> 90.719761 | E20: =E17+E19 -> 89.939273 | F20: =F17+F19 -> 90.719761 | G20: =G17+G19 -> 90.719761 | H20: =H17+H19 -> 90.817322 | I20: =I17+I19 -> 89.841712

Sheet CO-PO-PSO MAPPING
A1: SAPTHAGIRI COLLEGE OF ENGINEERING, BENGALURU - 57.
A2: DEPARTMENT OF ELECTRICAL AND ELECTRONICS ENGINEERING
A3: CO-PO-PSO MAPPING (EVEN SEM. 2018-19)
A4: Sem.: VIII | D4: Subject: INTERNSHIP / PROFESSIONAL PRACTICE | J4: Subject Code: 15EE84
A5: Names of the faculty member: Dr. Nagaraj H P (Section-A) and Mr. A Dhamodaran (Section-B)
A7: (I) CO Attainment
A8: A: Direct assessment (80%)-Tests, Assignment, Examination
A9: B: Indirect assessment (20%)-Course end survey
B11: COs | C11: Mapping of POs | D11: Mapping of PSOs | E11: Direct Assessment | F11: Indirect Assessment | G11: Overall Attainment | H11: Target (%) | I11: Attainment
E12: (a) | F12: (b) | G12: 0.8 (a) + 0.2(b)
B13: CO1 | C13: PO1, PO2, PO3, PO4, PO5, PO8, PO9, PO10, PO11 & PO12 | D13: PSO1, PSO2 & PSO3 | E13: ='15EE84-INTERNSHIP-CONSOLIDATED'!C11 -> 91.326531 | F13: ='INDIRECT & FINAL CO ATTAINMENT'!M8 -> 88.292683 | G13: =(E13)*0.8+F13*0.2 -> 90.719761 | H13: 85 | I13: YES
B14: CO2 | C14: PO1, PO2, PO3, PO4, PO5, PO8, PO9, PO10, PO11 & PO12 | D14: PSO1, PSO2 & PSO3 | E14: ='15EE84-INTERNSHIP-CONSOLIDATED'!D11 -> 91.326531 | F14: ='INDIRECT & FINAL CO ATTAINMENT'!M9 -> 84.390244 | G14: =(E14)*0.8+F14*0.2 -> 89.939273
B15: CO3 | C15: PO1, PO2, PO3, PO4, PO5, PO8, PO9, PO10, PO11 & PO12 | D15: PSO1, PSO2 & PSO3 | E15: ='15EE84-INTERNSHIP-CONSOLIDATED'!E11 -> 91.326531 | F15: ='INDIRECT & FINAL CO ATTAINMENT'!M10 -> 88.292683 | G15: =(E15)*0.8+F15*0.2 -> 90.719761
B16: CO4 | C16: PO1, PO2, PO3, PO4, PO5, PO8, PO9, PO10, PO11 & PO12 | D16: PSO1, PSO2 & PSO3 | E16: ='15EE84-INTERNSHIP-CONSOLIDATED'!F11 -> 91.326531 | F16: ='INDIRECT & FINAL CO ATTAINMENT'!M11 -> 88.292683 | G16: =(E16)*0.8+F16*0.2 -> 90.719761
B17: CO5 | C17: PO1, PO2, PO3, PO4, PO5, PO8, PO9, PO10, PO11 & PO12 | D17: PSO1, PSO2 & PSO3 | E17: ='15EE84-INTERNSHIP-CONSOLIDATED'!G11 -> 91.326531 | F17: ='INDIRECT & FINAL CO ATTAINMENT'!M12 -> 88.780488 | G17: =(E17)*0.8+F17*0.2 -> 90.817322
B18: CO6 | C18: PO1, PO2, PO3, PO4, PO5, PO8, PO9, PO10, PO11 & PO12 | D18: PSO1, PSO2 & PSO3 | E18: ='15EE84-INTERNSHIP-CONSOLIDATED'!H11 -> 91.326531 | F18: ='INDIRECT & FINAL CO ATTAINMENT'!M13 -> 83.902439 | G18: =(E18)*0.8+F18*0.2 -> 89.841712

Sheet PO-PSO ATTAINMENT - DIRECT
A1: SAPTHAGIRI COLLEGE OF ENGINEERING, BENGALURU - 57.
A2: DEPARTMENT OF ELECTRICAL AND ELECTRONICS ENGINEERING
A3: CO-PO-PSO MAPPING (EVEN SEM. 2018-19)
A4: Sem.: VIII | E4: Subject: INTERNSHIP / PROFESSIONAL PRACTICE | P4: Subject Code: 15EE84
A5: Names of the faculty member: Dr. Nagaraj H P (Section-A) and Mr. A Dhamodaran (Section-B)
A7: (II) PO-PO-PSO Attainment
A8: A. DIRECT ASSESSMENT METHOD
A9: Mapping of Course Outcomes (COs) and Program Outcomes (POs)
A10: Note: 1 = Low 2 = Moderate 3 = Strongly related
A11: Course Outcomes | B11: Program Outcomes | N11: PSO
B12: PO1 | C12: PO2 | D12: PO3 | E12: PO4 | F12: PO5 | G12: PO6 | H12: PO7 | I12: PO8 | J12: PO9 | K12: PO10 | L12: PO11 | M12: PO12 | N12: PSO1 | O12: PSO2 | P12: PSO3
A13: CO1 | B13: 3 | C13: 3 | D13: 3 | E13: 3 | F13: 3 | G13: --- | H13: --- | I13: 3 | J13: 2 | K13: 3 | L13: 3 | M13: 3 | N13: 3 | O13: 3 | P13: 3
A14: CO2 | B14: 3 | C14: 3 | D14: 3 | E14: 3 | F14: 2 | G14: --- | H14: --- | I14: 2 | J14: 2 | K14: 3 | L14: 3 | M14: 3 | N14: 3 | O14: 2 | P14: 3
A15: CO3 | B15: 3 | C15: 3 | D15: 3 | E15: 3 | F15: 3 | G15: --- | H15: --- | I15: 3 | J15: 3 | K15: 3 | L15: 3 | M15: 3 | N15: 3 | O15: 2 | P15: 3
A16: CO4 | B16: 3 | C16: 3 | D16: 3 | E16: 3 | F16: 2 | G16: --- | H16: --- | I16: 2 | J16: 3 | K16: 3 | L16: 3 | M16: 3 | N16: 3 | O16: 2 | P16: 3
A17: CO5 | B17: 3 | C17: 3 | D17: 3 | E17: 3 | F17: 2 | G17: --- | H17: --- | I17: 2 | J17: 2 | K17: 3 | L17: 3 | M17: 3 | N17: 3 | O17: 3 | P17: 3
A18: CO6 | B18: 3 | C18: 3 | D18: 3 | E18: 3 | F18: 2 | G18: --- | H18: --- | I18: 3 | J18: 3 | K18: 3 | L18: 3 | M18: 3 | N18: 3 | O18: 3 | P18: 3
A19: AVG | B19: =AVERAGE(B13:B18) -> 3 | C19: =AVERAGE(C13:C18) -> 3 | D19: =AVERAGE(D13:D18) -> 3 | E19: =AVERAGE(E13:E18) -> 3 | F19: =AVERAGE(F13:F18) -> 2.3333333 | G19: --- | H19: --- | I19: =AVERAGE(I13:I18) -> 2.5 | J19: =AVERAGE(J13:J18) -> 2.5 | K19: =AVERAGE(K13:K18) -> 3 | L19: =AVERAGE(L13:L18) -> 3 | M19: =AVERAGE(M13:M18) -> 3 | N19: =AVERAGE(N13:N18) -> 3 | O19: =AVERAGE(O13:O18) -> 2.5 | P19: =AVERAGE(P13:P18) -> 3
A21: Mapping of Course Outcomes (COs) and Program Outcomes (POs)
A22: Note: 1 = Low 2 = Moderate 3 = Strongly related
A23: Course Outcomes | C23: Program Outcomes | O23: PSO
C24: PO1 | D24: PO2 | E24: PO3 | F24: PO4 | G24: PO5 | H24: PO6 | I24: PO7 | J24: PO8 | K24: PO9 | L24: PO10 | M24: PO11 | N24: PO12 | O24: PSO1 | P24: PSO2 | Q24: PSO3
A25: CO1 | B25: ='15EE84-INTERNSHIP-CONSOLIDATED'!C11 -> 91.326531 | C25: =(B13/3)*B25 -> 91.326531 | D25: =(C13/3)*B25 -> 91.326531 | E25: =(D13/3)*B25 -> 91.326531 | F25: =(E13/3)*B25 -> 91.326531 | G25: =(F13/3)*B25 -> 91.326531 | H25: - | I25: - | J25: =(I13/3)*B25 -> 91.326531 | K25: =(J13/3)*B25 -> 60.884354 | L25: =(K13/3)*B25 -> 91.326531 | M25: =(L13/3)*B25 -> 91.326531 | N25: =(M13/3)*B25 -> 91.326531 | O25: =(N13/3)*B25 -> 91.326531 | P25: =(O13/3)*B25 -> 91.326531 | Q25: =(P13/3)*D25 -> 91.326531
A26: CO2 | B26: ='15EE84-INTERNSHIP-CONSOLIDATED'!D11 -> 91.326531 | C26: =(B14/3)*B26 -> 91.326531 | D26: =(C14/3)*B26 -> 91.326531 | E26: =(D14/3)*B26 -> 91.326531 | F26: =(E14/3)*B26 -> 91.326531 | G26: =(F14/3)*B26 -> 60.884354 | H26: - | I26: - | J26: =(I14/3)*B26 -> 60.884354 | K26: =(J14/3)*B26 -> 60.884354 | L26: =(K14/3)*B26 -> 91.326531 | M26: =(L14/3)*B26 -> 91.326531 | N26: =(M14/3)*B26 -> 91.326531 | O26: =(N14/3)*B26 -> 91.326531 | P26: =(O14/3)*B26 -> 60.884354 | Q26: =(P14/3)*D26 -> 91.326531
A27: CO3 | B27: ='15EE84-INTERNSHIP-CONSOLIDATED'!E11 -> 91.326531 | C27: =(B15/3)*B27 -> 91.326531 | D27: =(C15/3)*B27 -> 91.326531 | E27: =(D15/3)*B27 -> 91.326531 | F27: =(E15/3)*B27 -> 91.326531 | G27: =(F15/3)*B27 -> 91.326531 | H27: - | I27: - | J27: =(I15/3)*B27 -> 91.326531 | K27: =(J15/3)*B27 -> 91.326531 | L27: =(K15/3)*B27 -> 91.326531 | M27: =(L15/3)*B27 -> 91.326531 | N27: =(M15/3)*B27 -> 91.326531 | O27: =(N15/3)*B27 -> 91.326531 | P27: =(O15/3)*B27 -> 60.884354 | Q27: =(P15/3)*D27 -> 91.326531
A28: CO4 | B28: ='15EE84-INTERNSHIP-CONSOLIDATED'!F11 -> 91.326531 | C28: =(B16/3)*B28 -> 91.326531 | D28: =(C16/3)*B28 -> 91.326531 | E28: =(D16/3)*B28 -> 91.326531 | F28: =(E16/3)*B28 -> 91.326531 | G28: =(F16/3)*B28 -> 60.884354 | H28: - | I28: - | J28: =(I16/3)*B28 -> 60.884354 | K28: =(J16/3)*B28 -> 91.326531 | L28: =(K16/3)*B28 -> 91.326531 | M28: =(L16/3)*B28 -> 91.326531 | N28: =(M16/3)*B28 -> 91.326531 | O28: =(N16/3)*B28 -> 91.326531 | P28: =(O16/3)*B28 -> 60.884354 | Q28: =(P16/3)*D28 -> 91.326531
A29: CO5 | B29: ='15EE84-INTERNSHIP-CONSOLIDATED'!G11 -> 91.326531 | C29: =(B17/3)*B29 -> 91.326531 | D29: =(C17/3)*B29 -> 91.326531 | E29: =(D17/3)*B29 -> 91.326531 | F29: =(E17/3)*B29 -> 91.326531 | G29: =(F17/3)*B29 -> 60.884354 | H29: - | I29: - | J29: =(I17/3)*B29 -> 60.884354 | K29: =(J17/3)*B29 -> 60.884354 | L29: =(K17/3)*B29 -> 91.326531 | M29: =(L17/3)*B29 -> 91.326531 | N29: =(M17/3)*B29 -> 91.326531 | O29: =(N17/3)*B29 -> 91.326531 | P29: =(O17/3)*B29 -> 91.326531 | Q29: =(P17/3)*D29 -> 91.326531
A30: CO6 | B30: ='15EE84-INTERNSHIP-CONSOLIDATED'!H11 -> 91.326531 | C30: =(B18/3)*B30 -> 91.326531 | D30: =(C18/3)*B30 -> 91.326531 | E30: =(D18/3)*B30 -> 91.326531 | F30: =(E18/3)*B30 -> 91.326531 | G30: =(F18/3)*B30 -> 60.884354 | H30: - | I30: - | J30: =(I18/3)*B30 -> 91.326531 | K30: =(J18/3)*B30 -> 91.326531 | L30: =(K18/3)*B30 -> 91.326531 | M30: =(L18/3)*B30 -> 91.326531 | N30: =(M18/3)*B30 -> 91.326531 | O30: =(N18/3)*B30 -> 91.326531 | P30: =(O18/3)*B30 -> 91.326531 | Q30: =(P18/3)*D30 -> 91.326531
A31: Average | B31: =AVERAGE(B25:B30) -> 91.326531 | C31: =AVERAGE(C25:C30) -> 91.326531 | D31: =AVERAGE(D25:D30) -> 91.326531 | E31: =AVERAGE(E25:E30) -> 91.326531 | F31: =AVERAGE(F25:F30) -> 91.326531 | G31: =AVERAGE(G25:G30) -> 71.031746 | H31: - | I31: - | J31: =AVERAGE(J25:J30) -> 76.105442 | K31: =AVERAGE(K25:K30) -> 76.105442 | L31: =AVERAGE(L25:L30) -> 91.326531 | M31: =AVERAGE(M25:M30) -> 91.326531 | N31: =AVERAGE(N25:N30) -> 91.326531 | O31: =AVERAGE(O25:O30) -> 91.326531 | P31: =AVERAGE(P25:P30) -> 76.105442 | Q31: =AVERAGE(Q25:Q30) -> 91.326531
A33: PROGRAM OUTCOMES (POs):
A34: PO1 | B34: Engineering knowledge: Apply the knowledge of mathematics, science, engineering fundamentals, and an engineering specialization for the solution of complex engineering problems.
A35: PO2 | B35: Problem analysis: Identify, formulate, research literature, and analyze complex engineering problems reaching substantiated conclusions using first principles of mathematics, natural sciences, and engineering sciences.
A36: PO3 | B36: Design / development of solutions: Design solutions for complex engineering problems and design system components or processes that meet the specified needs with appropriate consideration for public health and safety, and cultural, societal, and environmental considerations.
A37: PO4 | B37: Conduct investigations of complex problems: Use research-based knowledge and research methods including design of experiments, analysis and interpretation of data, and synthesis of the information to provide valid conclusions.
A38: PO5 | B38: Modern tool usage: Create, select, and apply appropriate techniques, resources, and modern engineering and IT tools, including prediction and modelling to complex engineering activities, with an understanding of the limitations.
A39: PO6 | B39: The engineer and society: Apply reasoning informed by the contextual knowledge to assess societal, health, safety, legal, and cultural issues and the consequent responsibilities relevant to the professional engineering practice.
A40: PO7 | B40: Environment and sustainability: Understand the impact of the professional engineering solutions in societal and environmental contexts, and demonstrate the knowledge of, and need for sustainable development.
A41: PO8 | B41: Ethics: Apply ethical principles and commit to professional ethics and responsibilities and norms of the engineering practice.
A42: PO9 | B42: Individual and team work: Function effectively as an individual, and as a member or leader in diverse teams, and in multidisciplinary settings.
A43: PO10 | B43: Communication: Communicate effectively on complex engineering activities with the engineering community and with the society at large, such as, being able to comprehend and write effective reports and design documentation, make effective presentations, and give and receive clear instructions.
...

Sheet PO-PSO ATTAINMENT - INDIRECT
A1: SAPTHAGIRI COLLEGE OF ENGINEERING, BENGALURU - 57.
A2: DEPARTMENT OF ELECTRICAL AND ELECTRONICS ENGINEERING
A3: CO-PO-PSO MAPPING (EVEN SEM. 2018-19)
A4: Sem.: VIII | E4: Subject: INTERNSHIP / PROFESSIONAL PRACTICE | P4: Subject Code: 15EE84
A5: Names of the faculty member: Dr. Nagaraj H P (Section-A) and Mr. A Dhamodaran (Section-B)
A7: (II) CO - PO - PSO Attainment
A8: A. INDIRECT ASSESSMENT METHOD
A9: Mapping of Course Outcomes (COs) and Program Outcomes (POs)
A10: Note: 1 = Low 2 = Moderate 3 = Strongly related
A11: Course Outcomes | B11: Program Outcomes | N11: PSO
B12: PO1 | C12: PO2 | D12: PO3 | E12: PO4 | F12: PO5 | G12: PO6 | H12: PO7 | I12: PO8 | J12: PO9 | K12: PO10 | L12: PO11 | M12: PO12 | N12: PSO1 | O12: PSO2 | P12: PSO3
A13: CO1 | B13: 3 | C13: 3 | D13: 3 | E13: 2 | F13: 3 | G13: --- | H13: --- | I13: 3 | J13: 2 | K13: 3 | L13: 3 | M13: 3 | N13: 3 | O13: 3 | P13: 3
A14: CO2 | B14: 3 | C14: 3 | D14: 3 | E14: 2 | F14: 2 | G14: --- | H14: --- | I14: 2 | J14: 2 | K14: 3 | L14: 3 | M14: 3 | N14: 3 | O14: 2 | P14: 3
A15: CO3 | B15: 3 | C15: 3 | D15: 3 | E15: 3 | F15: 3 | G15: --- | H15: --- | I15: 3 | J15: 3 | K15: 3 | L15: 3 | M15: 3 | N15: 3 | O15: 2 | P15: 3
A16: CO4 | B16: 3 | C16: 3 | D16: 3 | E16: 2 | F16: 2 | G16: --- | H16: --- | I16: 2 | J16: 3 | K16: 3 | L16: 3 | M16: 3 | N16: 3 | O16: 2 | P16: 3
A17: CO5 | B17: 3 | C17: 3 | D17: 3 | E17: 3 | F17: 2 | G17: --- | H17: --- | I17: 2 | J17: 2 | K17: 3 | L17: 3 | M17: 3 | N17: 3 | O17: 3 | P17: 3
A18: CO6 | B18: 3 | C18: 3 | D18: 3 | E18: 2 | F18: 2 | G18: --- | H18: --- | I18: 3 | J18: 3 | K18: 3 | L18: 3 | M18: 3 | N18: 3 | O18: 3 | P18: 3
A19: AVG | B19: =AVERAGE(B13:B18) -> 3 | C19: =AVERAGE(C13:C18) -> 3 | D19: =AVERAGE(D13:D18) -> 3 | E19: =AVERAGE(E13:E18) -> 2.3333333 | F19: =AVERAGE(F13:F18) -> 2.3333333 | G19: - | H19: - | I19: =AVERAGE(I13:I18) -> 2.5 | J19: =AVERAGE(J13:J18) -> 2.5 | K19: =AVERAGE(K13:K18) -> 3 | L19: =AVERAGE(L13:L18) -> 3 | M19: =AVERAGE(M13:M18) -> 3 | N19: =AVERAGE(N13:N18) -> 3 | O19: =AVERAGE(O13:O18) -> 2.5 | P19: =AVERAGE(P13:P18) -> 3
A21: Mapping of Course Outcomes (COs) and Program Outcomes (POs)
A22: Note: 1 = Low 2 = Moderate 3 = Strongly related
A23: Course Outcomes | C23: Program Outcomes | O23: PSO
C24: PO1 | D24: PO2 | E24: PO3 | F24: PO4 | G24: PO5 | H24: PO6 | I24: PO7 | J24: PO8 | K24: PO9 | L24: PO10 | M24: PO11 | N24: PO12 | O24: PSO1 | P24: PSO2 | Q24: PSO3
A25: CO1 | B25: ='INDIRECT & FINAL CO ATTAINMENT'!M8 -> 88.292683 | C25: =(B13/3)*B25 -> 88.292683 | D25: =(C13/3)*B25 -> 88.292683 | E25: =(D13/3)*B25 -> 88.292683 | F25: =(E13/3)*B25 -> 58.861789 | G25: =(F13/3)*B25 -> 88.292683 | H25: - | I25: - | J25: =(I13/3)*B25 -> 88.292683 | K25: =(J13/3)*B25 -> 58.861789 | L25: =(K13/3)*B25 -> 88.292683 | M25: =(L13/3)*B25 -> 88.292683 | N25: =(M13/3)*B25 -> 88.292683 | O25: =(N13/3)*B25 -> 88.292683 | P25: =(O13/3)*B25 -> 88.292683 | Q25: =(P13/3)*B25 -> 88.292683
A26: CO2 | B26: ='INDIRECT & FINAL CO ATTAINMENT'!M9 -> 84.390244 | C26: =(B14/3)*B26 -> 84.390244 | D26: =(C14/3)*B26 -> 84.390244 | E26: =(D14/3)*B26 -> 84.390244 | F26: =(E14/3)*B26 -> 56.260163 | G26: =(F14/3)*B26 -> 56.260163 | H26: - | I26: - | J26: =(I14/3)*B26 -> 56.260163 | K26: =(J14/3)*B26 -> 56.260163 | L26: =(K14/3)*B26 -> 84.390244 | M26: =(L14/3)*B26 -> 84.390244 | N26: =(M14/3)*B26 -> 84.390244 | O26: =(N14/3)*B26 -> 84.390244 | P26: =(O14/3)*B26 -> 56.260163 | Q26: =(P14/3)*B26 -> 84.390244
A27: CO3 | B27: ='INDIRECT & FINAL CO ATTAINMENT'!M10 -> 88.292683 | C27: =(B15/3)*B27 -> 88.292683 | D27: =(C15/3)*B27 -> 88.292683 | E27: =(D15/3)*B27 -> 88.292683 | F27: =(E15/3)*B27 -> 88.292683 | G27: =(F15/3)*B27 -> 88.292683 | H27: - | I27: - | J27: =(I15/3)*B27 -> 88.292683 | K27: =(J15/3)*B27 -> 88.292683 | L27: =(K15/3)*B27 -> 88.292683 | M27: =(L15/3)*B27 -> 88.292683 | N27: =(M15/3)*B27 -> 88.292683 | O27: =(N15/3)*B27 -> 88.292683 | P27: =(O15/3)*B27 -> 58.861789 | Q27: =(P15/3)*B27 -> 88.292683
A28: CO4 | B28: ='INDIRECT & FINAL CO ATTAINMENT'!M11 -> 88.292683 | C28: =(B16/3)*B28 -> 88.292683 | D28: =(C16/3)*B28 -> 88.292683 | E28: =(D16/3)*B28 -> 88.292683 | F28: =(E16/3)*B28 -> 58.861789 | G28: =(F16/3)*B28 -> 58.861789 | H28: - | I28: - | J28: =(I16/3)*B28 -> 58.861789 | K28: =(J16/3)*B28 -> 88.292683 | L28: =(K16/3)*B28 -> 88.292683 | M28: =(L16/3)*B28 -> 88.292683 | N28: =(M16/3)*B28 -> 88.292683 | O28: =(N16/3)*B28 -> 88.292683 | P28: =(O16/3)*B28 -> 58.861789 | Q28: =(P16/3)*B28 -> 88.292683
A29: CO5 | B29: ='INDIRECT & FINAL CO ATTAINMENT'!M12 -> 88.780488 | C29: =(B17/3)*B29 -> 88.780488 | D29: =(C17/3)*B29 -> 88.780488 | E29: =(D17/3)*B29 -> 88.780488 | F29: =(E17/3)*B29 -> 88.780488 | G29: =(F17/3)*B29 -> 59.186992 | H29: - | I29: - | J29: =(I17/3)*B29 -> 59.186992 | K29: =(J17/3)*B29 -> 59.186992 | L29: =(K17/3)*B29 -> 88.780488 | M29: =(L17/3)*B29 -> 88.780488 | N29: =(M17/3)*B29 -> 88.780488 | O29: =(N17/3)*B29 -> 88.780488 | P29: =(O17/3)*B29 -> 88.780488 | Q29: =(P17/3)*B29 -> 88.780488
A30: CO6 | B30: ='INDIRECT & FINAL CO ATTAINMENT'!M13 -> 83.902439 | C30: =(B18/3)*B30 -> 83.902439 | D30: =(C18/3)*B30 -> 83.902439 | E30: =(D18/3)*B30 -> 83.902439 | F30: =(E18/3)*B30 -> 55.934959 | G30: =(F18/3)*B30 -> 55.934959 | H30: - | I30: - | J30: =(I18/3)*B30 -> 83.902439 | K30: =(J18/3)*B30 -> 83.902439 | L30: =(K18/3)*B30 -> 83.902439 | M30: =(L18/3)*B30 -> 83.902439 | N30: =(M18/3)*B30 -> 83.902439 | O30: =(N18/3)*B30 -> 83.902439 | P30: =(O18/3)*B30 -> 83.902439 | Q30: =(P18/3)*B30 -> 83.902439
A31: Average | B31: =AVERAGE(B25:B30) -> 86.99187 | C31: =AVERAGE(C25:C30) -> 86.99187 | D31: =AVERAGE(D25:D30) -> 86.99187 | E31: =AVERAGE(E25:E30) -> 86.99187 | F31: =AVERAGE(F25:F30) -> 67.831978 | G31: =AVERAGE(G25:G30) -> 67.804878 | H31: - | I31: - | J31: =AVERAGE(J25:J30) -> 72.466125 | K31: =AVERAGE(K25:K30) -> 72.466125 | L31: =AVERAGE(L25:L30) -> 86.99187 | M31: =AVERAGE(M25:M30) -> 86.99187 | N31: =AVERAGE(N25:N30) -> 86.99187 | O31: =AVERAGE(O25:O30) -> 86.99187 | P31: =AVERAGE(P25:P30) -> 72.493225 | Q31: =AVERAGE(Q25:Q30) -> 86.99187
A33: PROGRAM OUTCOMES (POs):
A34: PO1 | B34: Engineering knowledge: Apply the knowledge of mathematics, science, engineering fundamentals, and an engineering specialization for the solution of complex engineering problems.
A35: PO2 | B35: Problem analysis: Identify, formulate, research literature, and analyze complex engineering problems reaching substantiated conclusions using first principles of mathematics, natural sciences, and engineering sciences.
A36: PO3 | B36: Design / development of solutions: Design solutions for complex engineering problems and design system components or processes that meet the specified needs with appropriate consideration for public health and safety, and cultural, societal, and environmental considerations.
A37: PO4 | B37: Conduct investigations of complex problems: Use research-based knowledge and research methods including design of experiments, analysis and interpretation of data, and synthesis of the information to provide valid conclusions.
A38: PO5 | B38: Modern tool usage: Create, select, and apply appropriate techniques, resources, and modern engineering and IT tools, including prediction and modelling to complex engineering activities, with an understanding of the limitations.
A39: PO6 | B39: The engineer and society: Apply reasoning informed by the contextual knowledge to assess societal, health, safety, legal, and cultural issues and the consequent responsibilities relevant to the professional engineering practice.
A40: PO7 | B40: Environment and sustainability: Understand the impact of the professional engineering solutions in societal and environmental contexts, and demonstrate the knowledge of, and need for sustainable development.
A41: PO8 | B41: Ethics: Apply ethical principles and commit to professional ethics and responsibilities and norms of the engineering practice.
A42: PO9 | B42: Individual and team work: Function effectively as an individual, and as a member or leader in diverse teams, and in multidisciplinary settings.
A43: PO10 | B43: Communication: Communicate effectively on complex engineering activities with the engineering community and with the society at large, such as, being able to comprehend and write effective reports and design documentation, make effective presentations, and give and receive clear instructions.
...
