Workbook

Sheet Attainment Level
B4: Attainment Levels of COs
B5: Course Name: High Voltage engineering ( 15EE73)
B6: Assessment Methods | C6: Target-Attainment Levels | E6: Attainement
B7: Internal Assessment(CIE) | C7: Level 1 | D7: 35% of students scoring more than 60% marks in internal assessment tools | E7: Level 1
C8: Level 2 | D8: 50% of students scoring more than 60% marks in internal assessment tools
C9: Level 3 | D9: 70% of students scoring more than 60% marks in internal assessment tools
B12: Assessment Methods | C12: Target-Attainment Levels | E12: Attainement
B13: University Assessment (SEE) | C13: Level 1 | D13: 35% of students scoring more than 45% marks in SEE assessment tools | E13: Level 3
C14: Level 2 | D14: 50% of students scoring more than 45% marks in SEE assessment tools
C15: Level 3 | D15: 70% of students scoring more than 45% marks in SEE assessment tools

Sheet 15EE73-HVE-TEST CO
A1: SAPTHAGIRI COLLEGE OF ENGINEERING, BENGALURU - 57.
A2: DEPARTMENT OF ELECTRICAL AND ELECTRONICS ENGINEERING
A3: CO ATTAINMENT - IA TEST MARKS (ODD SEM. 2018-19)
A4: Sem.: VII | E4: Subject: High voltage engg | P4: Subject Code: 15EE73
A5: Names of the faculty member: Dr.K.N.Ravi and Mr.Nagaraj
A6: Sl. No. | B6: Name of the student | C6: USN | D6: Section | E6: IA TEST-1 | F6: IA TEST-2 | G6: IA TEST-3 | I6: COURSE OUTCOMES
E7: Q1 or Q2 / Q3 or Q4 | F7: Q1 or Q2 / Q3 or Q4 | G7: Q1 or Q2 | H7: Q3 or Q4 | I7: IA TEST-1 | K7: IA TEST-2 | M7: IA TEST-3
E8: CO1 | F8: CO2 | G8: CO5 | H8: CO3 | I8: CO1 | K8: CO2 | M8: CO3 | O8: CO5
A9: Max. Marks | D9: ------ | E9: 30 | F9: 30 | G9: 15 | H9: 15 | I9: %age | J9: Y/N | K9: %age | L9: Y/N | M9: %age | N9: Y/N | O9: %age | P9: Y/N
A10: 1 | B10: ANNAPURNA SINGH | C10: 1SG15EE005 | D10: A | E10: 8 | F10: 12 | G10: 6 | H10: 7 | I10: =IF(E10="AB",0,IF(E10="-",0,(E10/30)*100)) -> 26.666667 | J10: =IF(I10<60,"N","Y") -> N | K10: =IF(F10="AB",0,IF(F10="-",0,(F10/30)*100)) -> 40 | L10: =IF(K10<60,"N","Y") -> N | M10: =IF(H10="AB",0,IF(H10="-",0,(H10/15)*100)) -> 46.666667 | N10: =IF(M10<60,"N","Y") -> N | O10: =IF(G10="AB",0,IF(G10="-",0,(G10/15)*100)) -> 40 | P10: =IF(O10<60,"N","Y") -> N
A11: 2 | B11: ANTONY ROSHAN JOY D'SOUZA | C11: 1SG15EE006 | D11: A | E11: 8 | F11: 12 | G11: 5.5 | H11: 7.5 | I11: =IF(E11="AB",0,IF(E11="-",0,(E11/30)*100)) -> 26.666667 | J11: =IF(I11<60,"N","Y") -> N | K11: =IF(F11="AB",0,IF(F11="-",0,(F11/30)*100)) -> 40 | L11: =IF(K11<60,"N","Y") -> N | M11: =IF(H11="AB",0,IF(H11="-",0,(H11/15)*100)) -> 50 | N11: =IF(M11<60,"N","Y") -> N | O11: =IF(G11="AB",0,IF(G11="-",0,(G11/15)*100)) -> 36.666667 | P11: =IF(O11<60,"N","Y") -> N
A12: 3 | B12: ANUP H V | C12: 1SG15EE007 | D12: A | E12: 23 | F12: 17 | G12: 13.5 | H12: 11.5 | I12: =IF(E12="AB",0,IF(E12="-",0,(E12/30)*100)) -> 76.666667 | J12: =IF(I12<60,"N","Y") -> Y | K12: =IF(F12="AB",0,IF(F12="-",0,(F12/30)*100)) -> 56.666667 | L12: =IF(K12<60,"N","Y") -> N | M12: =IF(H12="AB",0,IF(H12="-",0,(H12/15)*100)) -> 76.666667 | N12: =IF(M12<60,"N","Y") -> Y | O12: =IF(G12="AB",0,IF(G12="-",0,(G12/15)*100)) -> 90 | P12: =IF(O12<60,"N","Y") -> Y
A13: 4 | B13: ANUSHA B | C13: 1SG15EE008 | D13: A | E13: 2 | F13: 8 | G13: 9.5 | H13: 13.5 | I13: =IF(E13="AB",0,IF(E13="-",0,(E13/30)*100)) -> 6.6666667 | J13: =IF(I13<60,"N","Y") -> N | K13: =IF(F13="AB",0,IF(F13="-",0,(F13/30)*100)) -> 26.666667 | L13: =IF(K13<60,"N","Y") -> N | M13: =IF(H13="AB",0,IF(H13="-",0,(H13/15)*100)) -> 90 | N13: =IF(M13<60,"N","Y") -> Y | O13: =IF(G13="AB",0,IF(G13="-",0,(G13/15)*100)) -> 63.333333 | P13: =IF(O13<60,"N","Y") -> Y
A14: 5 | B14: ANUSHA K | C14: 1SG15EE009 | D14: A | E14: 16 | F14: 11 | G14: 6 | H14: 10 | I14: =IF(E14="AB",0,IF(E14="-",0,(E14/30)*100)) -> 53.333333 | J14: =IF(I14<60,"N","Y") -> N | K14: =IF(F14="AB",0,IF(F14="-",0,(F14/30)*100)) -> 36.666667 | L14: =IF(K14<60,"N","Y") -> N | M14: =IF(H14="AB",0,IF(H14="-",0,(H14/15)*100)) -> 66.666667 | N14: =IF(M14<60,"N","Y") -> Y | O14: =IF(G14="AB",0,IF(G14="-",0,(G14/15)*100)) -> 40 | P14: =IF(O14<60,"N","Y") -> N
A15: 6 | B15: APOORVA K G | C15: 1SG15EE010 | D15: A | E15: 22 | F15: 20 | G15: AB | H15: AB | I15: =IF(E15="AB",0,IF(E15="-",0,(E15/30)*100)) -> 73.333333 | J15: =IF(I15<60,"N","Y") -> Y | K15: =IF(F15="AB",0,IF(F15="-",0,(F15/30)*100)) -> 66.666667 | L15: =IF(K15<60,"N","Y") -> Y | M15: =IF(H15="AB",0,IF(H15="-",0,(H15/15)*100)) -> 0 | N15: =IF(M15<60,"N","Y") -> N | O15: =IF(G15="AB",0,IF(G15="-",0,(G15/15)*100)) -> 0 | P15: =IF(O15<60,"N","Y") -> N
A16: 7 | B16: ARPITA SHARMA | C16: 1SG15EE011 | D16: A | E16: 16 | F16: 16 | G16: - | H16: 8 | I16: =IF(E16="AB",0,IF(E16="-",0,(E16/30)*100)) -> 53.333333 | J16: =IF(I16<60,"N","Y") -> N | K16: =IF(F16="AB",0,IF(F16="-",0,(F16/30)*100)) -> 53.333333 | L16: =IF(K16<60,"N","Y") -> N | M16: =IF(H16="AB",0,IF(H16="-",0,(H16/15)*100)) -> 53.333333 | N16: =IF(M16<60,"N","Y") -> N | O16: =IF(G16="AB",0,IF(G16="-",0,(G16/15)*100)) -> 0 | P16: =IF(O16<60,"N","Y") -> N
A17: 8 | B17: ARPITHA SRINIVASA MURTHY | C17: 1SG15EE012 | D17: A | E17: 24 | F17: 10 | G17: 10 | H17: 4 | I17: =IF(E17="AB",0,IF(E17="-",0,(E17/30)*100)) -> 80 | J17: =IF(I17<60,"N","Y") -> Y | K17: =IF(F17="AB",0,IF(F17="-",0,(F17/30)*100)) -> 33.333333 | L17: =IF(K17<60,"N","Y") -> N | M17: =IF(H17="AB",0,IF(H17="-",0,(H17/15)*100)) -> 26.666667 | N17: =IF(M17<60,"N","Y") -> N | O17: =IF(G17="AB",0,IF(G17="-",0,(G17/15)*100)) -> 66.666667 | P17: =IF(O17<60,"N","Y") -> Y
A18: 9 | B18: ARUNA B P | C18: 1SG15EE013 | D18: A | E18: 15 | F18: 13 | G18: AB | H18: AB | I18: =IF(E18="AB",0,IF(E18="-",0,(E18/30)*100)) -> 50 | J18: =IF(I18<60,"N","Y") -> N | K18: =IF(F18="AB",0,IF(F18="-",0,(F18/30)*100)) -> 43.333333 | L18: =IF(K18<60,"N","Y") -> N | M18: =IF(H18="AB",0,IF(H18="-",0,(H18/15)*100)) -> 0 | N18: =IF(M18<60,"N","Y") -> N | O18: =IF(G18="AB",0,IF(G18="-",0,(G18/15)*100)) -> 0 | P18: =IF(O18<60,"N","Y") -> N
A19: 10 | B19: ATHIYA MOHAMMADI | C19: 1SG15EE014 | D19: A | E19: 22 | F19: 9 | G19: AB | H19: AB | I19: =IF(E19="AB",0,IF(E19="-",0,(E19/30)*100)) -> 73.333333 | J19: =IF(I19<60,"N","Y") -> Y | K19: =IF(F19="AB",0,IF(F19="-",0,(F19/30)*100)) -> 30 | L19: =IF(K19<60,"N","Y") -> N | M19: =IF(H19="AB",0,IF(H19="-",0,(H19/15)*100)) -> 0 | N19: =IF(M19<60,"N","Y") -> N | O19: =IF(G19="AB",0,IF(G19="-",0,(G19/15)*100)) -> 0 | P19: =IF(O19<60,"N","Y") -> N
A20: 11 | B20: BALAJI VENKATESH KALKONDA | C20: 1SG15EE015 | D20: A | E20: 2 | F20: 4 | G20: 10 | H20: 2 | I20: =IF(E20="AB",0,IF(E20="-",0,(E20/30)*100)) -> 6.6666667 | J20: =IF(I20<60,"N","Y") -> N | K20: =IF(F20="AB",0,IF(F20="-",0,(F20/30)*100)) -> 13.333333 | L20: =IF(K20<60,"N","Y") -> N | M20: =IF(H20="AB",0,IF(H20="-",0,(H20/15)*100)) -> 13.333333 | N20: =IF(M20<60,"N","Y") -> N | O20: =IF(G20="AB",0,IF(G20="-",0,(G20/15)*100)) -> 66.666667 | P20: =IF(O20<60,"N","Y") -> Y
A21: 12 | B21: C S MOHANA | C21: 1SG15EE017 | D21: A | E21: 12 | F21: 14 | G21: 8 | H21: 14 | I21: =IF(E21="AB",0,IF(E21="-",0,(E21/30)*100)) -> 40 | J21: =IF(I21<60,"N","Y") -> N | K21: =IF(F21="AB",0,IF(F21="-",0,(F21/30)*100)) -> 46.666667 | L21: =IF(K21<60,"N","Y") -> N | M21: =IF(H21="AB",0,IF(H21="-",0,(H21/15)*100)) -> 93.333333 | N21: =IF(M21<60,"N","Y") -> Y | O21: =IF(G21="AB",0,IF(G21="-",0,(G21/15)*100)) -> 53.333333 | P21: =IF(O21<60,"N","Y") -> N
A22: 13 | B22: CHAITRA S | C22: 1SG15EE019 | D22: A | E22: 20 | F22: 17 | G22: 12 | H22: 14 | I22: =IF(E22="AB",0,IF(E22="-",0,(E22/30)*100)) -> 66.666667 | J22: =IF(I22<60,"N","Y") -> Y | K22: =IF(F22="AB",0,IF(F22="-",0,(F22/30)*100)) -> 56.666667 | L22: =IF(K22<60,"N","Y") -> N | M22: =IF(H22="AB",0,IF(H22="-",0,(H22/15)*100)) -> 93.333333 | N22: =IF(M22<60,"N","Y") -> Y | O22: =IF(G22="AB",0,IF(G22="-",0,(G22/15)*100)) -> 80 | P22: =IF(O22<60,"N","Y") -> Y
A23: 14 | B23: CHANDAN G | C23: 1SG15EE020 | D23: A | E23: 4 | F23: 4 | G23: 2 | H23: 2 | I23: =IF(E23="AB",0,IF(E23="-",0,(E23/30)*100)) -> 13.333333 | J23: =IF(I23<60,"N","Y") -> N | K23: =IF(F23="AB",0,IF(F23="-",0,(F23/30)*100)) -> 13.333333 | L23: =IF(K23<60,"N","Y") -> N | M23: =IF(H23="AB",0,IF(H23="-",0,(H23/15)*100)) -> 13.333333 | N23: =IF(M23<60,"N","Y") -> N | O23: =IF(G23="AB",0,IF(G23="-",0,(G23/15)*100)) -> 13.333333 | P23: =IF(O23<60,"N","Y") -> N
A24: 15 | B24: CHANDAN GOWDA P | C24: 1SG15EE021 | D24: A | E24: 17 | F24: 14 | G24: 10 | H24: 11 | I24: =IF(E24="AB",0,IF(E24="-",0,(E24/30)*100)) -> 56.666667 | J24: =IF(I24<60,"N","Y") -> N | K24: =IF(F24="AB",0,IF(F24="-",0,(F24/30)*100)) -> 46.666667 | L24: =IF(K24<60,"N","Y") -> N | M24: =IF(H24="AB",0,IF(H24="-",0,(H24/15)*100)) -> 73.333333 | N24: =IF(M24<60,"N","Y") -> Y | O24: =IF(G24="AB",0,IF(G24="-",0,(G24/15)*100)) -> 66.666667 | P24: =IF(O24<60,"N","Y") -> Y
A25: 16 | B25: CHANDAN KUMAR | C25: 1SG15EE022 | D25: A | E25: 16 | F25: 12 | G25: 11 | H25: 9 | I25: =IF(E25="AB",0,IF(E25="-",0,(E25/30)*100)) -> 53.333333 | J25: =IF(I25<60,"N","Y") -> N | K25: =IF(F25="AB",0,IF(F25="-",0,(F25/30)*100)) -> 40 | L25: =IF(K25<60,"N","Y") -> N | M25: =IF(H25="AB",0,IF(H25="-",0,(H25/15)*100)) -> 60 | N25: =IF(M25<60,"N","Y") -> Y | O25: =IF(G25="AB",0,IF(G25="-",0,(G25/15)*100)) -> 73.333333 | P25: =IF(O25<60,"N","Y") -> Y
A26: 17 | B26: CHANDANA B | C26: 1SG15EE023 | D26: A | E26: 16 | F26: 9 | G26: 3 | H26: 9 | I26: =IF(E26="AB",0,IF(E26="-",0,(E26/30)*100)) -> 53.333333 | J26: =IF(I26<60,"N","Y") -> N | K26: =IF(F26="AB",0,IF(F26="-",0,(F26/30)*100)) -> 30 | L26: =IF(K26<60,"N","Y") -> N | M26: =IF(H26="AB",0,IF(H26="-",0,(H26/15)*100)) -> 60 | N26: =IF(M26<60,"N","Y") -> Y | O26: =IF(G26="AB",0,IF(G26="-",0,(G26/15)*100)) -> 20 | P26: =IF(O26<60,"N","Y") -> N
A27: 18 | B27: CHARITHA M C | C27: 1SG15EE024 | D27: A | E27: 29 | F27: 25 | G27: 14 | H27: 15 | I27: =IF(E27="AB",0,IF(E27="-",0,(E27/30)*100)) -> 96.666667 | J27: =IF(I27<60,"N","Y") -> Y | K27: =IF(F27="AB",0,IF(F27="-",0,(F27/30)*100)) -> 83.333333 | L27: =IF(K27<60,"N","Y") -> Y | M27: =IF(H27="AB",0,IF(H27="-",0,(H27/15)*100)) -> 100 | N27: =IF(M27<60,"N","Y") -> Y | O27: =IF(G27="AB",0,IF(G27="-",0,(G27/15)*100)) -> 93.333333 | P27: =IF(O27<60,"N","Y") -> Y
A28: 19 | B28: CHAYA K | C28: 1SG15EE025 | D28: A | E28: 15 | F28: 19 | G28: AB | H28: AB | I28: =IF(E28="AB",0,IF(E28="-",0,(E28/30)*100)) -> 50 | J28: =IF(I28<60,"N","Y") -> N | K28: =IF(F28="AB",0,IF(F28="-",0,(F28/30)*100)) -> 63.333333 | L28: =IF(K28<60,"N","Y") -> Y | M28: =IF(H28="AB",0,IF(H28="-",0,(H28/15)*100)) -> 0 | N28: =IF(M28<60,"N","Y") -> N | O28: =IF(G28="AB",0,IF(G28="-",0,(G28/15)*100)) -> 0 | P28: =IF(O28<60,"N","Y") -> N
A29: 20 | B29: D MANISH NAICKER | C29: 1SG15EE026 | D29: A | E29: 16 | F29: 15 | G29: 12 | H29: 10 | I29: =IF(E29="AB",0,IF(E29="-",0,(E29/30)*100)) -> 53.333333 | J29: =IF(I29<60,"N","Y") -> N | K29: =IF(F29="AB",0,IF(F29="-",0,(F29/30)*100)) -> 50 | L29: =IF(K29<60,"N","Y") -> N | M29: =IF(H29="AB",0,IF(H29="-",0,(H29/15)*100)) -> 66.666667 | N29: =IF(M29<60,"N","Y") -> Y | O29: =IF(G29="AB",0,IF(G29="-",0,(G29/15)*100)) -> 80 | P29: =IF(O29<60,"N","Y") -> Y
A30: 21 | B30: DARSHAN N | C30: 1SG15EE027 | D30: A | E30: AB | F30: 9 | G30: 3 | H30: 7 | I30: =IF(E30="AB",0,IF(E30="-",0,(E30/30)*100)) -> 0 | J30: =IF(I30<60,"N","Y") -> N | K30: =IF(F30="AB",0,IF(F30="-",0,(F30/30)*100)) -> 30 | L30: =IF(K30<60,"N","Y") -> N | M30: =IF(H30="AB",0,IF(H30="-",0,(H30/15)*100)) -> 46.666667 | N30: =IF(M30<60,"N","Y") -> N | O30: =IF(G30="AB",0,IF(G30="-",0,(G30/15)*100)) -> 20 | P30: =IF(O30<60,"N","Y") -> N
A31: 22 | B31: DHANUSH P | C31: 1SG15EE028 | D31: A | E31: 18 | F31: 16 | G31: 7 | H31: 12 | I31: =IF(E31="AB",0,IF(E31="-",0,(E31/30)*100)) -> 60 | J31: =IF(I31<60,"N","Y") -> Y | K31: =IF(F31="AB",0,IF(F31="-",0,(F31/30)*100)) -> 53.333333 | L31: =IF(K31<60,"N","Y") -> N | M31: =IF(H31="AB",0,IF(H31="-",0,(H31/15)*100)) -> 80 | N31: =IF(M31<60,"N","Y") -> Y | O31: =IF(G31="AB",0,IF(G31="-",0,(G31/15)*100)) -> 46.666667 | P31: =IF(O31<60,"N","Y") -> N
A32: 23 | B32: G TEJASHREE | C32: 1SG15EE029 | D32: A | E32: 17 | F32: 14 | G32: 11 | H32: 9 | I32: =IF(E32="AB",0,IF(E32="-",0,(E32/30)*100)) -> 56.666667 | J32: =IF(I32<60,"N","Y") -> N | K32: =IF(F32="AB",0,IF(F32="-",0,(F32/30)*100)) -> 46.666667 | L32: =IF(K32<60,"N","Y") -> N | M32: =IF(H32="AB",0,IF(H32="-",0,(H32/15)*100)) -> 60 | N32: =IF(M32<60,"N","Y") -> Y | O32: =IF(G32="AB",0,IF(G32="-",0,(G32/15)*100)) -> 73.333333 | P32: =IF(O32<60,"N","Y") -> Y
A33: 24 | B33: GANESH RAO S | C33: 1SG15EE031 | D33: A | E33: 21 | F33: 16 | G33: 9 | H33: 15 | I33: =IF(E33="AB",0,IF(E33="-",0,(E33/30)*100)) -> 70 | J33: =IF(I33<60,"N","Y") -> Y | K33: =IF(F33="AB",0,IF(F33="-",0,(F33/30)*100)) -> 53.333333 | L33: =IF(K33<60,"N","Y") -> N | M33: =IF(H33="AB",0,IF(H33="-",0,(H33/15)*100)) -> 100 | N33: =IF(M33<60,"N","Y") -> Y | O33: =IF(G33="AB",0,IF(G33="-",0,(G33/15)*100)) -> 60 | P33: =IF(O33<60,"N","Y") -> Y
A34: 25 | B34: GURURAJA D | C34: 1SG15EE034 | D34: A | E34: 15 | F34: 18 | G34: 9 | H34: 8 | I34: =IF(E34="AB",0,IF(E34="-",0,(E34/30)*100)) -> 50 | J34: =IF(I34<60,"N","Y") -> N | K34: =IF(F34="AB",0,IF(F34="-",0,(F34/30)*100)) -> 60 | L34: =IF(K34<60,"N","Y") -> Y | M34: =IF(H34="AB",0,IF(H34="-",0,(H34/15)*100)) -> 53.333333 | N34: =IF(M34<60,"N","Y") -> N | O34: =IF(G34="AB",0,IF(G34="-",0,(G34/15)*100)) -> 60 | P34: =IF(O34<60,"N","Y") -> Y
A35: 26 | B35: HARSHITH GOWDA S | C35: 1SG15EE035 | D35: A | E35: 14 | F35: AB | G35: 9 | H35: 5 | I35: =IF(E35="AB",0,IF(E35="-",0,(E35/30)*100)) -> 46.666667 | J35: =IF(I35<60,"N","Y") -> N | K35: =IF(F35="AB",0,IF(F35="-",0,(F35/30)*100)) -> 0 | L35: =IF(K35<60,"N","Y") -> N | M35: =IF(H35="AB",0,IF(H35="-",0,(H35/15)*100)) -> 33.333333 | N35: =IF(M35<60,"N","Y") -> N | O35: =IF(G35="AB",0,IF(G35="-",0,(G35/15)*100)) -> 60 | P35: =IF(O35<60,"N","Y") -> Y
A36: 27 | B36: HARSHITHA V | C36: 1SG15EE036 | D36: A | E36: 22 | F36: 17 | G36: 12 | H36: 15 | I36: =IF(E36="AB",0,IF(E36="-",0,(E36/30)*100)) -> 73.333333 | J36: =IF(I36<60,"N","Y") -> Y | K36: =IF(F36="AB",0,IF(F36="-",0,(F36/30)*100)) -> 56.666667 | L36: =IF(K36<60,"N","Y") -> N | M36: =IF(H36="AB",0,IF(H36="-",0,(H36/15)*100)) -> 100 | N36: =IF(M36<60,"N","Y") -> Y | O36: =IF(G36="AB",0,IF(G36="-",0,(G36/15)*100)) -> 80 | P36: =IF(O36<60,"N","Y") -> Y
A37: 28 | B37: IRENE JACOB | C37: 1SG15EE037 | D37: A | E37: 23 | F37: AB | G37: 12 | H37: 10 | I37: =IF(E37="AB",0,IF(E37="-",0,(E37/30)*100)) -> 76.666667 | J37: =IF(I37<60,"N","Y") -> Y | K37: =IF(F37="AB",0,IF(F37="-",0,(F37/30)*100)) -> 0 | L37: =IF(K37<60,"N","Y") -> N | M37: =IF(H37="AB",0,IF(H37="-",0,(H37/15)*100)) -> 66.666667 | N37: =IF(M37<60,"N","Y") -> Y | O37: =IF(G37="AB",0,IF(G37="-",0,(G37/15)*100)) -> 80 | P37: =IF(O37<60,"N","Y") -> Y
A38: 29 | B38: JEEVITHA A | C38: 1SG15EE038 | D38: A | E38: 23 | F38: 16 | G38: AB | H38: AB | I38: =IF(E38="AB",0,IF(E38="-",0,(E38/30)*100)) -> 76.666667 | J38: =IF(I38<60,"N","Y") -> Y | K38: =IF(F38="AB",0,IF(F38="-",0,(F38/30)*100)) -> 53.333333 | L38: =IF(K38<60,"N","Y") -> N | M38: =IF(H38="AB",0,IF(H38="-",0,(H38/15)*100)) -> 0 | N38: =IF(M38<60,"N","Y") -> N | O38: =IF(G38="AB",0,IF(G38="-",0,(G38/15)*100)) -> 0 | P38: =IF(O38<60,"N","Y") -> N
A39: 30 | B39: K LAVENYA | C39: 1SG15EE039 | D39: A | E39: 20 | F39: 17 | G39: 9 | H39: 13 | I39: =IF(E39="AB",0,IF(E39="-",0,(E39/30)*100)) -> 66.666667 | J39: =IF(I39<60,"N","Y") -> Y | K39: =IF(F39="AB",0,IF(F39="-",0,(F39/30)*100)) -> 56.666667 | L39: =IF(K39<60,"N","Y") -> N | M39: =IF(H39="AB",0,IF(H39="-",0,(H39/15)*100)) -> 86.666667 | N39: =IF(M39<60,"N","Y") -> Y | O39: =IF(G39="AB",0,IF(G39="-",0,(G39/15)*100)) -> 60 | P39: =IF(O39<60,"N","Y") -> Y
A40: 31 | B40: KARTHIK B | C40: 1SG15EE040 | D40: A | E40: 18 | F40: 13 | G40: 12 | H40: 7 | I40: =IF(E40="AB",0,IF(E40="-",0,(E40/30)*100)) -> 60 | J40: =IF(I40<60,"N","Y") -> Y | K40: =IF(F40="AB",0,IF(F40="-",0,(F40/30)*100)) -> 43.333333 | L40: =IF(K40<60,"N","Y") -> N | M40: =IF(H40="AB",0,IF(H40="-",0,(H40/15)*100)) -> 46.666667 | N40: =IF(M40<60,"N","Y") -> N | O40: =IF(G40="AB",0,IF(G40="-",0,(G40/15)*100)) -> 80 | P40: =IF(O40<60,"N","Y") -> Y
...

Sheet 15EE73-HVE-ASSIGNMENT CO
A1: SAPTHAGIRI COLLEGE OF ENGINEERING, BENGALURU - 57.
A2: DEPARTMENT OF ELECTRICAL AND ELECTRONICS ENGINEERING
A3: CO ATTAINMENT - ASSIGNEMENT MARKS (ODD SEM. 2018-19)
A4: Sem.: VII | C4: Subject: High voltage engg | J4: Subject Code: 15EE73
A5: Names of the faculty member: Dr.K.N.Ravi and Nagaraj H P
A6: Sl. No. | B6: Name of the student | C6: USN | D6: Section | E6: ASSIGNEMENT MARKS | G6: COURSE OUTCOMES
E7: CO4 | F7: CO6 | G7: CO4 | I7: CO6
A8: Max. Marks | D8: ------ | E8: 5 | F8: 5 | G8: %age | H8: Y/N | I8: %age | J8: Y/N
A9: 1 | B9: ANNAPURNA SINGH | C9: 1SG15EE005 | D9: A | E9: 5 | F9: 5 | G9: =IF(E9="AB",0,(E9/5)*100) -> 100 | H9: =IF(G9<80,"N","Y") -> Y | I9: =IF(F9="AB",0,(F9/5)*100) -> 100 | J9: =IF(I9<80,"N","Y") -> Y
A10: 2 | B10: ANTONY ROSHAN JOY D'SOUZA | C10: 1SG15EE006 | D10: A | E10: 5 | F10: 5 | G10: =IF(E10="AB",0,(E10/5)*100) -> 100 | H10: =IF(G10<80,"N","Y") -> Y | I10: =IF(F10="AB",0,(F10/5)*100) -> 100 | J10: =IF(I10<80,"N","Y") -> Y
A11: 3 | B11: ANUP H V | C11: 1SG15EE007 | D11: A | E11: 5 | F11: 5 | G11: =IF(E11="AB",0,(E11/5)*100) -> 100 | H11: =IF(G11<80,"N","Y") -> Y | I11: =IF(F11="AB",0,(F11/5)*100) -> 100 | J11: =IF(I11<80,"N","Y") -> Y
A12: 4 | B12: ANUSHA B | C12: 1SG15EE008 | D12: A | E12: 5 | F12: 5 | G12: =IF(E12="AB",0,(E12/5)*100) -> 100 | H12: =IF(G12<80,"N","Y") -> Y | I12: =IF(F12="AB",0,(F12/5)*100) -> 100 | J12: =IF(I12<80,"N","Y") -> Y
A13: 5 | B13: ANUSHA K | C13: 1SG15EE009 | D13: A | E13: 5 | F13: 5 | G13: =IF(E13="AB",0,(E13/5)*100) -> 100 | H13: =IF(G13<80,"N","Y") -> Y | I13: =IF(F13="AB",0,(F13/5)*100) -> 100 | J13: =IF(I13<80,"N","Y") -> Y
A14: 6 | B14: APOORVA K G | C14: 1SG15EE010 | D14: A | E14: 5 | F14: 5 | G14: =IF(E14="AB",0,(E14/5)*100) -> 100 | H14: =IF(G14<80,"N","Y") -> Y | I14: =IF(F14="AB",0,(F14/5)*100) -> 100 | J14: =IF(I14<80,"N","Y") -> Y
A15: 7 | B15: ARPITA SHARMA | C15: 1SG15EE011 | D15: A | E15: 5 | F15: 5 | G15: =IF(E15="AB",0,(E15/5)*100) -> 100 | H15: =IF(G15<80,"N","Y") -> Y | I15: =IF(F15="AB",0,(F15/5)*100) -> 100 | J15: =IF(I15<80,"N","Y") -> Y
A16: 8 | B16: ARPITHA SRINIVASA MURTHY | C16: 1SG15EE012 | D16: A | E16: 5 | F16: 5 | G16: =IF(E16="AB",0,(E16/5)*100) -> 100 | H16: =IF(G16<80,"N","Y") -> Y | I16: =IF(F16="AB",0,(F16/5)*100) -> 100 | J16: =IF(I16<80,"N","Y") -> Y
A17: 9 | B17: ARUNA B P | C17: 1SG15EE013 | D17: A | E17: 5 | F17: 5 | G17: =IF(E17="AB",0,(E17/5)*100) -> 100 | H17: =IF(G17<80,"N","Y") -> Y | I17: =IF(F17="AB",0,(F17/5)*100) -> 100 | J17: =IF(I17<80,"N","Y") -> Y
A18: 10 | B18: ATHIYA MOHAMMADI | C18: 1SG15EE014 | D18: A | E18: 5 | F18: 5 | G18: =IF(E18="AB",0,(E18/5)*100) -> 100 | H18: =IF(G18<80,"N","Y") -> Y | I18: =IF(F18="AB",0,(F18/5)*100) -> 100 | J18: =IF(I18<80,"N","Y") -> Y
A19: 11 | B19: BALAJI VENKATESH KALKONDA | C19: 1SG15EE015 | D19: A | E19: 5 | F19: 5 | G19: =IF(E19="AB",0,(E19/5)*100) -> 100 | H19: =IF(G19<80,"N","Y") -> Y | I19: =IF(F19="AB",0,(F19/5)*100) -> 100 | J19: =IF(I19<80,"N","Y") -> Y
A20: 12 | B20: C S MOHANA | C20: 1SG15EE017 | D20: A | E20: 5 | F20: 5 | G20: =IF(E20="AB",0,(E20/5)*100) -> 100 | H20: =IF(G20<80,"N","Y") -> Y | I20: =IF(F20="AB",0,(F20/5)*100) -> 100 | J20: =IF(I20<80,"N","Y") -> Y
... A106: 98 | B106: VARUN K M | C106: 1SG16EE450 | D106: B | E106: 5 | F106: 5 | G106: =IF(E106="AB",0,(E106/5)*100) -> 100 | H106: =IF(G106<80,"N","Y") -> Y | I106: =IF(F106="AB",0,(F106/5)*100) -> 100 | J106: =IF(I106<80,"N","Y") -> Y
F107: No. of Y | G107: =COUNTIF(H9:H106,"Y") -> 98 | I107: =COUNTIF(J9:J106,"Y") -> 98
F108: %age of Attainment | G108: =(G107/(A106-COUNTIF(E9:E106,"AB")))*100 -> 100 | I108: =(I107/(A106-COUNTIF(F9:F106,"AB")))*100 -> 100
B110: FOR PSA-2 (15EE71) | C110: TARGET: 90% OF STUDENTS WILL SCORE 80% OF MARKS | E110: CO4 | F110: CO6
E111: =G108 -> 100 | F111: =I108 -> 100

Sheet 15EE73-HVE-FINAL EXAM CO
A1: SAPTHAGIRI COLLEGE OF ENGINEERING, BENGALURU - 57.
A2: DEPARTMENT OF ELECTRICAL AND ELECTRONICS ENGINEERING
A3: CO ATTAINMENT - FINAL EXAM MARKS (ODD SEM. 2018-19)
A4: Sem.: VII | E4: Subject: High Voltage Engg | V4: Subject Code: 15EE73
A5: Names of the faculty member: Dr.K.N.Ravi and Nagaraj HP
A6: Sl. No. | B6: Name of the student | C6: USN | D6: Section | E6: COURSE OUTCOMES | K6: CO ATTAINMENT
E7: CO1 | F7: CO2 | G7: CO3 | H7: CO4 | I7: CO5 | J7: CO6 | K7: CO1 | M7: CO2 | O7: CO3 | Q7: CO4 | S7: CO5 | U7: CO6
A8: Max. Marks | D8: ------ | E8: 80 | F8: 80 | G8: 80 | H8: 80 | I8: 80 | J8: 80 | K8: %age | L8: Y/N | M8: %age | N8: Y/N | O8: %age | P8: Y/N | Q8: %age | R8: Y/N | S8: %age | T8: Y/N | U8: %age | V8: Y/N
A9: 1 | B9: ANNAPURNA SINGH | C9: 1SG15EE005 | D9: A | E9: 61 | F9: =E9 -> 61 | G9: =E9 -> 61 | H9: =E9 -> 61 | I9: =E9 -> 61 | J9: =E9 -> 61 | K9: =IF(E9="AB",0,(E9/80)*100) -> 76.25 | L9: =IF(K9<45,"N","Y") -> Y | M9: =IF(F9="AB",0,(F9/80)*100) -> 76.25 | N9: =IF(M9<45,"N","Y") -> Y | O9: =IF(G9="AB",0,(G9/80)*100) -> 76.25 | P9: =IF(O9<45,"N","Y") -> Y | Q9: =IF(H9="AB",0,(H9/80)*100) -> 76.25 | R9: =IF(Q9<45,"N","Y") -> Y | S9: =IF(I9="AB",0,(I9/80)*100) -> 76.25 | T9: =IF(S9<45,"N","Y") -> Y | U9: =IF(J9="AB",0,(J9/80)*100) -> 76.25 | V9: =IF(U9<45,"N","Y") -> Y
A10: 2 | B10: ANTONY ROSHAN JOY D'SOUZA | C10: 1SG15EE006 | D10: A | E10: 40 | F10: =E10 -> 40 | G10: =E10 -> 40 | H10: =E10 -> 40 | I10: =E10 -> 40 | J10: =E10 -> 40 | K10: =IF(E10="AB",0,(E10/80)*100) -> 50 | L10: =IF(K10<45,"N","Y") -> Y | M10: =IF(F10="AB",0,(F10/80)*100) -> 50 | N10: =IF(M10<45,"N","Y") -> Y | O10: =IF(G10="AB",0,(G10/80)*100) -> 50 | P10: =IF(O10<45,"N","Y") -> Y | Q10: =IF(H10="AB",0,(H10/80)*100) -> 50 | R10: =IF(Q10<45,"N","Y") -> Y | S10: =IF(I10="AB",0,(I10/80)*100) -> 50 | T10: =IF(S10<45,"N","Y") -> Y | U10: =IF(J10="AB",0,(J10/80)*100) -> 50 | V10: =IF(U10<45,"N","Y") -> Y
A11: 3 | B11: ANUP H V | C11: 1SG15EE007 | D11: A | E11: 46 | F11: =E11 -> 46 | G11: =E11 -> 46 | H11: =E11 -> 46 | I11: =E11 -> 46 | J11: =E11 -> 46 | K11: =IF(E11="AB",0,(E11/80)*100) -> 57.5 | L11: =IF(K11<45,"N","Y") -> Y | M11: =IF(F11="AB",0,(F11/80)*100) -> 57.5 | N11: =IF(M11<45,"N","Y") -> Y | O11: =IF(G11="AB",0,(G11/80)*100) -> 57.5 | P11: =IF(O11<45,"N","Y") -> Y | Q11: =IF(H11="AB",0,(H11/80)*100) -> 57.5 | R11: =IF(Q11<45,"N","Y") -> Y | S11: =IF(I11="AB",0,(I11/80)*100) -> 57.5 | T11: =IF(S11<45,"N","Y") -> Y | U11: =IF(J11="AB",0,(J11/80)*100) -> 57.5 | V11: =IF(U11<45,"N","Y") -> Y
A12: 4 | B12: ANUSHA B | C12: 1SG15EE008 | D12: A | E12: 37 | F12: =E12 -> 37 | G12: =E12 -> 37 | H12: =E12 -> 37 | I12: =E12 -> 37 | J12: =E12 -> 37 | K12: =IF(E12="AB",0,(E12/80)*100) -> 46.25 | L12: =IF(K12<45,"N","Y") -> Y | M12: =IF(F12="AB",0,(F12/80)*100) -> 46.25 | N12: =IF(M12<45,"N","Y") -> Y | O12: =IF(G12="AB",0,(G12/80)*100) -> 46.25 | P12: =IF(O12<45,"N","Y") -> Y | Q12: =IF(H12="AB",0,(H12/80)*100) -> 46.25 | R12: =IF(Q12<45,"N","Y") -> Y | S12: =IF(I12="AB",0,(I12/80)*100) -> 46.25 | T12: =IF(S12<45,"N","Y") -> Y | U12: =IF(J12="AB",0,(J12/80)*100) -> 46.25 | V12: =IF(U12<45,"N","Y") -> Y
A13: 5 | B13: ANUSHA K | C13: 1SG15EE009 | D13: A | E13: 51 | F13: =E13 -> 51 | G13: =E13 -> 51 | H13: =E13 -> 51 | I13: =E13 -> 51 | J13: =E13 -> 51 | K13: =IF(E13="AB",0,(E13/80)*100) -> 63.75 | L13: =IF(K13<45,"N","Y") -> Y | M13: =IF(F13="AB",0,(F13/80)*100) -> 63.75 | N13: =IF(M13<45,"N","Y") -> Y | O13: =IF(G13="AB",0,(G13/80)*100) -> 63.75 | P13: =IF(O13<45,"N","Y") -> Y | Q13: =IF(H13="AB",0,(H13/80)*100) -> 63.75 | R13: =IF(Q13<45,"N","Y") -> Y | S13: =IF(I13="AB",0,(I13/80)*100) -> 63.75 | T13: =IF(S13<45,"N","Y") -> Y | U13: =IF(J13="AB",0,(J13/80)*100) -> 63.75 | V13: =IF(U13<45,"N","Y") -> Y
A14: 6 | B14: APOORVA K G | C14: 1SG15EE010 | D14: A | E14: 59 | F14: =E14 -> 59 | G14: =E14 -> 59 | H14: =E14 -> 59 | I14: =E14 -> 59 | J14: =E14 -> 59 | K14: =IF(E14="AB",0,(E14/80)*100) -> 73.75 | L14: =IF(K14<45,"N","Y") -> Y | M14: =IF(F14="AB",0,(F14/80)*100) -> 73.75 | N14: =IF(M14<45,"N","Y") -> Y | O14: =IF(G14="AB",0,(G14/80)*100) -> 73.75 | P14: =IF(O14<45,"N","Y") -> Y | Q14: =IF(H14="AB",0,(H14/80)*100) -> 73.75 | R14: =IF(Q14<45,"N","Y") -> Y | S14: =IF(I14="AB",0,(I14/80)*100) -> 73.75 | T14: =IF(S14<45,"N","Y") -> Y | U14: =IF(J14="AB",0,(J14/80)*100) -> 73.75 | V14: =IF(U14<45,"N","Y") -> Y
A15: 7 | B15: ARPITA SHARMA | C15: 1SG15EE011 | D15: A | E15: 50 | F15: =E15 -> 50 | G15: =E15 -> 50 | H15: =E15 -> 50 | I15: =E15 -> 50 | J15: =E15 -> 50 | K15: =IF(E15="AB",0,(E15/80)*100) -> 62.5 | L15: =IF(K15<45,"N","Y") -> Y | M15: =IF(F15="AB",0,(F15/80)*100) -> 62.5 | N15: =IF(M15<45,"N","Y") -> Y | O15: =IF(G15="AB",0,(G15/80)*100) -> 62.5 | P15: =IF(O15<45,"N","Y") -> Y | Q15: =IF(H15="AB",0,(H15/80)*100) -> 62.5 | R15: =IF(Q15<45,"N","Y") -> Y | S15: =IF(I15="AB",0,(I15/80)*100) -> 62.5 | T15: =IF(S15<45,"N","Y") -> Y | U15: =IF(J15="AB",0,(J15/80)*100) -> 62.5 | V15: =IF(U15<45,"N","Y") -> Y
A16: 8 | B16: ARPITHA SRINIVASA MURTHY | C16: 1SG15EE012 | D16: A | E16: 56 | F16: =E16 -> 56 | G16: =E16 -> 56 | H16: =E16 -> 56 | I16: =E16 -> 56 | J16: =E16 -> 56 | K16: =IF(E16="AB",0,(E16/80)*100) -> 70 | L16: =IF(K16<45,"N","Y") -> Y | M16: =IF(F16="AB",0,(F16/80)*100) -> 70 | N16: =IF(M16<45,"N","Y") -> Y | O16: =IF(G16="AB",0,(G16/80)*100) -> 70 | P16: =IF(O16<45,"N","Y") -> Y | Q16: =IF(H16="AB",0,(H16/80)*100) -> 70 | R16: =IF(Q16<45,"N","Y") -> Y | S16: =IF(I16="AB",0,(I16/80)*100) -> 70 | T16: =IF(S16<45,"N","Y") -> Y | U16: =IF(J16="AB",0,(J16/80)*100) -> 70 | V16: =IF(U16<45,"N","Y") -> Y
A17: 9 | B17: ARUNA B P | C17: 1SG15EE013 | D17: A | E17: 46 | F17: =E17 -> 46 | G17: =E17 -> 46 | H17: =E17 -> 46 | I17: =E17 -> 46 | J17: =E17 -> 46 | K17: =IF(E17="AB",0,(E17/80)*100) -> 57.5 | L17: =IF(K17<45,"N","Y") -> Y | M17: =IF(F17="AB",0,(F17/80)*100) -> 57.5 | N17: =IF(M17<45,"N","Y") -> Y | O17: =IF(G17="AB",0,(G17/80)*100) -> 57.5 | P17: =IF(O17<45,"N","Y") -> Y | Q17: =IF(H17="AB",0,(H17/80)*100) -> 57.5 | R17: =IF(Q17<45,"N","Y") -> Y | S17: =IF(I17="AB",0,(I17/80)*100) -> 57.5 | T17: =IF(S17<45,"N","Y") -> Y | U17: =IF(J17="AB",0,(J17/80)*100) -> 57.5 | V17: =IF(U17<45,"N","Y") -> Y
A18: 10 | B18: ATHIYA MOHAMMADI | C18: 1SG15EE014 | D18: A | E18: 51 | F18: =E18 -> 51 | G18: =E18 -> 51 | H18: =E18 -> 51 | I18: =E18 -> 51 | J18: =E18 -> 51 | K18: =IF(E18="AB",0,(E18/80)*100) -> 63.75 | L18: =IF(K18<45,"N","Y") -> Y | M18: =IF(F18="AB",0,(F18/80)*100) -> 63.75 | N18: =IF(M18<45,"N","Y") -> Y | O18: =IF(G18="AB",0,(G18/80)*100) -> 63.75 | P18: =IF(O18<45,"N","Y") -> Y | Q18: =IF(H18="AB",0,(H18/80)*100) -> 63.75 | R18: =IF(Q18<45,"N","Y") -> Y | S18: =IF(I18="AB",0,(I18/80)*100) -> 63.75 | T18: =IF(S18<45,"N","Y") -> Y | U18: =IF(J18="AB",0,(J18/80)*100) -> 63.75 | V18: =IF(U18<45,"N","Y") -> Y
A19: 11 | B19: BALAJI VENKATESH KALKONDA | C19: 1SG15EE015 | D19: A | E19: 40 | F19: =E19 -> 40 | G19: =E19 -> 40 | H19: =E19 -> 40 | I19: =E19 -> 40 | J19: =E19 -> 40 | K19: =IF(E19="AB",0,(E19/80)*100) -> 50 | L19: =IF(K19<45,"N","Y") -> Y | M19: =IF(F19="AB",0,(F19/80)*100) -> 50 | N19: =IF(M19<45,"N","Y") -> Y | O19: =IF(G19="AB",0,(G19/80)*100) -> 50 | P19: =IF(O19<45,"N","Y") -> Y | Q19: =IF(H19="AB",0,(H19/80)*100) -> 50 | R19: =IF(Q19<45,"N","Y") -> Y | S19: =IF(I19="AB",0,(I19/80)*100) -> 50 | T19: =IF(S19<45,"N","Y") -> Y | U19: =IF(J19="AB",0,(J19/80)*100) -> 50 | V19: =IF(U19<45,"N","Y") -> Y
A20: 12 | B20: C S MOHANA | C20: 1SG15EE017 | D20: A | E20: 32 | F20: =E20 -> 32 | G20: =E20 -> 32 | H20: =E20 -> 32 | I20: =E20 -> 32 | J20: =E20 -> 32 | K20: =IF(E20="AB",0,(E20/80)*100) -> 40 | L20: =IF(K20<45,"N","Y") -> N | M20: =IF(F20="AB",0,(F20/80)*100) -> 40 | N20: =IF(M20<45,"N","Y") -> N | O20: =IF(G20="AB",0,(G20/80)*100) -> 40 | P20: =IF(O20<45,"N","Y") -> N | Q20: =IF(H20="AB",0,(H20/80)*100) -> 40 | R20: =IF(Q20<45,"N","Y") -> N | S20: =IF(I20="AB",0,(I20/80)*100) -> 40 | T20: =IF(S20<45,"N","Y") -> N | U20: =IF(J20="AB",0,(J20/80)*100) -> 40 | V20: =IF(U20<45,"N","Y") -> N
... A89: 81 | B89: AJAY BHAVA S | C89: 1SG16EE403 | D89: A | E89: 17 | F89: =E89 -> 17 | G89: =E89 -> 17 | H89: =E89 -> 17 | I89: =E89 -> 17 | J89: =E89 -> 17 | K89: =IF(E89="AB",0,(E89/80)*100) -> 21.25 | L89: =IF(K89<45,"N","Y") -> N | M89: =IF(F89="AB",0,(F89/80)*100) -> 21.25 | N89: =IF(M89<45,"N","Y") -> N | O89: =IF(G89="AB",0,(G89/80)*100) -> 21.25 | P89: =IF(O89<45,"N","Y") -> N | Q89: =IF(H89="AB",0,(H89/80)*100) -> 21.25 | R89: =IF(Q89<45,"N","Y") -> N | S89: =IF(I89="AB",0,(I89/80)*100) -> 21.25 | T89: =IF(S89<45,"N","Y") -> N | U89: =IF(J89="AB",0,(J89/80)*100) -> 21.25 | V89: =IF(U89<45,"N","Y") -> N
A90: 82 | B90: AKHILESH V | C90: 1SG16EE404 | D90: A | E90: AB | F90: =E90 -> AB | G90: =E90 -> AB | H90: =E90 -> AB | I90: =E90 -> AB | J90: =E90 -> AB | K90: =IF(E90="AB",0,(E90/80)*100) -> 0 | L90: =IF(K90<45,"N","Y") -> N | M90: =IF(F90="AB",0,(F90/80)*100) -> 0 | N90: =IF(M90<45,"N","Y") -> N | O90: =IF(G90="AB",0,(G90/80)*100) -> 0 | P90: =IF(O90<45,"N","Y") -> N | Q90: =IF(H90="AB",0,(H90/80)*100) -> 0 | R90: =IF(Q90<45,"N","Y") -> N | S90: =IF(I90="AB",0,(I90/80)*100) -> 0 | T90: =IF(S90<45,"N","Y") -> N | U90: =IF(J90="AB",0,(J90/80)*100) -> 0 | V90: =IF(U90<45,"N","Y") -> N
A91: 83 | B91: AKHILESH VINOD KALGUTKAR | C91: 1SG16EE405 | D91: A | E91: 38 | F91: =E91 -> 38 | G91: =E91 -> 38 | H91: =E91 -> 38 | I91: =E91 -> 38 | J91: =E91 -> 38 | K91: =IF(E91="AB",0,(E91/80)*100) -> 47.5 | L91: =IF(K91<45,"N","Y") -> Y | M91: =IF(F91="AB",0,(F91/80)*100) -> 47.5 | N91: =IF(M91<45,"N","Y") -> Y | O91: =IF(G91="AB",0,(G91/80)*100) -> 47.5 | P91: =IF(O91<45,"N","Y") -> Y | Q91: =IF(H91="AB",0,(H91/80)*100) -> 47.5 | R91: =IF(Q91<45,"N","Y") -> Y | S91: =IF(I91="AB",0,(I91/80)*100) -> 47.5 | T91: =IF(S91<45,"N","Y") -> Y | U91: =IF(J91="AB",0,(J91/80)*100) -> 47.5 | V91: =IF(U91<45,"N","Y") -> Y
A92: 84 | B92: CHANDAN K | C92: 1SG16EE409 | D92: A | E92: 36 | F92: =E92 -> 36 | G92: =E92 -> 36 | H92: =E92 -> 36 | I92: =E92 -> 36 | J92: =E92 -> 36 | K92: =IF(E92="AB",0,(E92/80)*100) -> 45 | L92: =IF(K92<45,"N","Y") -> Y | M92: =IF(F92="AB",0,(F92/80)*100) -> 45 | N92: =IF(M92<45,"N","Y") -> Y | O92: =IF(G92="AB",0,(G92/80)*100) -> 45 | P92: =IF(O92<45,"N","Y") -> Y | Q92: =IF(H92="AB",0,(H92/80)*100) -> 45 | R92: =IF(Q92<45,"N","Y") -> Y | S92: =IF(I92="AB",0,(I92/80)*100) -> 45 | T92: =IF(S92<45,"N","Y") -> Y | U92: =IF(J92="AB",0,(J92/80)*100) -> 45 | V92: =IF(U92<45,"N","Y") -> Y
A93: 85 | B93: GEETHA S | C93: 1SG16EE411 | D93: A | E93: 66 | F93: =E93 -> 66 | G93: =E93 -> 66 | H93: =E93 -> 66 | I93: =E93 -> 66 | J93: =E93 -> 66 | K93: =IF(E93="AB",0,(E93/80)*100) -> 82.5 | L93: =IF(K93<45,"N","Y") -> Y | M93: =IF(F93="AB",0,(F93/80)*100) -> 82.5 | N93: =IF(M93<45,"N","Y") -> Y | O93: =IF(G93="AB",0,(G93/80)*100) -> 82.5 | P93: =IF(O93<45,"N","Y") -> Y | Q93: =IF(H93="AB",0,(H93/80)*100) -> 82.5 | R93: =IF(Q93<45,"N","Y") -> Y | S93: =IF(I93="AB",0,(I93/80)*100) -> 82.5 | T93: =IF(S93<45,"N","Y") -> Y | U93: =IF(J93="AB",0,(J93/80)*100) -> 82.5 | V93: =IF(U93<45,"N","Y") -> Y
A94: 86 | B94: HARISH KUMAR M | C94: 1SG16EE414 | D94: A | E94: 28 | F94: =E94 -> 28 | G94: =E94 -> 28 | H94: =E94 -> 28 | I94: =E94 -> 28 | J94: =E94 -> 28 | K94: =IF(E94="AB",0,(E94/80)*100) -> 35 | L94: =IF(K94<45,"N","Y") -> N | M94: =IF(F94="AB",0,(F94/80)*100) -> 35 | N94: =IF(M94<45,"N","Y") -> N | O94: =IF(G94="AB",0,(G94/80)*100) -> 35 | P94: =IF(O94<45,"N","Y") -> N | Q94: =IF(H94="AB",0,(H94/80)*100) -> 35 | R94: =IF(Q94<45,"N","Y") -> N | S94: =IF(I94="AB",0,(I94/80)*100) -> 35 | T94: =IF(S94<45,"N","Y") -> N | U94: =IF(J94="AB",0,(J94/80)*100) -> 35 | V94: =IF(U94<45,"N","Y") -> N
A95: 87 | B95: JAYANTH M V | C95: 1SG16EE415 | D95: A | E95: 24 | F95: =E95 -> 24 | G95: =E95 -> 24 | H95: =E95 -> 24 | I95: =E95 -> 24 | J95: =E95 -> 24 | K95: =IF(E95="AB",0,(E95/80)*100) -> 30 | L95: =IF(K95<45,"N","Y") -> N | M95: =IF(F95="AB",0,(F95/80)*100) -> 30 | N95: =IF(M95<45,"N","Y") -> N | O95: =IF(G95="AB",0,(G95/80)*100) -> 30 | P95: =IF(O95<45,"N","Y") -> N | Q95: =IF(H95="AB",0,(H95/80)*100) -> 30 | R95: =IF(Q95<45,"N","Y") -> N | S95: =IF(I95="AB",0,(I95/80)*100) -> 30 | T95: =IF(S95<45,"N","Y") -> N | U95: =IF(J95="AB",0,(J95/80)*100) -> 30 | V95: =IF(U95<45,"N","Y") -> N
A96: 88 | B96: KAUSHITH GOWDA M | C96: 1SG16EE418 | D96: A | E96: 8 | F96: =E96 -> 8 | G96: =E96 -> 8 | H96: =E96 -> 8 | I96: =E96 -> 8 | J96: =E96 -> 8 | K96: =IF(E96="AB",0,(E96/80)*100) -> 10 | L96: =IF(K96<45,"N","Y") -> N | M96: =IF(F96="AB",0,(F96/80)*100) -> 10 | N96: =IF(M96<45,"N","Y") -> N | O96: =IF(G96="AB",0,(G96/80)*100) -> 10 | P96: =IF(O96<45,"N","Y") -> N | Q96: =IF(H96="AB",0,(H96/80)*100) -> 10 | R96: =IF(Q96<45,"N","Y") -> N | S96: =IF(I96="AB",0,(I96/80)*100) -> 10 | T96: =IF(S96<45,"N","Y") -> N | U96: =IF(J96="AB",0,(J96/80)*100) -> 10 | V96: =IF(U96<45,"N","Y") -> N
A97: 89 | B97: KEERTHAN KUMAR H N | C97: 1SG16EE419 | D97: A | E97: AB | F97: =E97 -> AB | G97: =E97 -> AB | H97: =E97 -> AB | I97: =E97 -> AB | J97: =E97 -> AB | K97: =IF(E97="AB",0,(E97/80)*100) -> 0 | L97: =IF(K97<45,"N","Y") -> N | M97: =IF(F97="AB",0,(F97/80)*100) -> 0 | N97: =IF(M97<45,"N","Y") -> N | O97: =IF(G97="AB",0,(G97/80)*100) -> 0 | P97: =IF(O97<45,"N","Y") -> N | Q97: =IF(H97="AB",0,(H97/80)*100) -> 0 | R97: =IF(Q97<45,"N","Y") -> N | S97: =IF(I97="AB",0,(I97/80)*100) -> 0 | T97: =IF(S97<45,"N","Y") -> N | U97: =IF(J97="AB",0,(J97/80)*100) -> 0 | V97: =IF(U97<45,"N","Y") -> N
A98: 90 | B98: KIRAN KUMAR K | C98: 1SG16EE420 | D98: A | E98: 36 | F98: =E98 -> 36 | G98: =E98 -> 36 | H98: =E98 -> 36 | I98: =E98 -> 36 | J98: =E98 -> 36 | K98: =IF(E98="AB",0,(E98/80)*100) -> 45 | L98: =IF(K98<45,"N","Y") -> Y | M98: =IF(F98="AB",0,(F98/80)*100) -> 45 | N98: =IF(M98<45,"N","Y") -> Y | O98: =IF(G98="AB",0,(G98/80)*100) -> 45 | P98: =IF(O98<45,"N","Y") -> Y | Q98: =IF(H98="AB",0,(H98/80)*100) -> 45 | R98: =IF(Q98<45,"N","Y") -> Y | S98: =IF(I98="AB",0,(I98/80)*100) -> 45 | T98: =IF(S98<45,"N","Y") -> Y | U98: =IF(J98="AB",0,(J98/80)*100) -> 45 | V98: =IF(U98<45,"N","Y") -> Y
A99: 91 | B99: KRANTHIKUMAR G S | C99: 1SG16EE422 | D99: A | E99: 30 | F99: =E99 -> 30 | G99: =E99 -> 30 | H99: =E99 -> 30 | I99: =E99 -> 30 | J99: =E99 -> 30 | K99: =IF(E99="AB",0,(E99/80)*100) -> 37.5 | L99: =IF(K99<45,"N","Y") -> N | M99: =IF(F99="AB",0,(F99/80)*100) -> 37.5 | N99: =IF(M99<45,"N","Y") -> N | O99: =IF(G99="AB",0,(G99/80)*100) -> 37.5 | P99: =IF(O99<45,"N","Y") -> N | Q99: =IF(H99="AB",0,(H99/80)*100) -> 37.5 | R99: =IF(Q99<45,"N","Y") -> N | S99: =IF(I99="AB",0,(I99/80)*100) -> 37.5 | T99: =IF(S99<45,"N","Y") -> N | U99: =IF(J99="AB",0,(J99/80)*100) -> 37.5 | V99: =IF(U99<45,"N","Y") -> N
A100: 92 | B100: LAKSHMANA H R | C100: 1SG16EE423 | D100: A | E100: 31 | F100: =E100 -> 31 | G100: =E100 -> 31 | H100: =E100 -> 31 | I100: =E100 -> 31 | J100: =E100 -> 31 | K100: =IF(E100="AB",0,(E100/80)*100) -> 38.75 | L100: =IF(K100<45,"N","Y") -> N | M100: =IF(F100="AB",0,(F100/80)*100) -> 38.75 | N100: =IF(M100<45,"N","Y") -> N | O100: =IF(G100="AB",0,(G100/80)*100) -> 38.75 | P100: =IF(O100<45,"N","Y") -> N | Q100: =IF(H100="AB",0,(H100/80)*100) -> 38.75 | R100: =IF(Q100<45,"N","Y") -> N | S100: =IF(I100="AB",0,(I100/80)*100) -> 38.75 | T100: =IF(S100<45,"N","Y") -> N | U100: =IF(J100="AB",0,(J100/80)*100) -> 38.75 | V100: =IF(U100<45,"N","Y") -> N
A101: 93 | B101: NAYANASHREE B | C101: 1SG16EE431 | D101: B | E101: 53 | F101: =E101 -> 53 | G101: =E101 -> 53 | H101: =E101 -> 53 | I101: =E101 -> 53 | J101: =E101 -> 53 | K101: =IF(E101="AB",0,(E101/80)*100) -> 66.25 | L101: =IF(K101<45,"N","Y") -> Y | M101: =IF(F101="AB",0,(F101/80)*100) -> 66.25 | N101: =IF(M101<45,"N","Y") -> Y | O101: =IF(G101="AB",0,(G101/80)*100) -> 66.25 | P101: =IF(O101<45,"N","Y") -> Y | Q101: =IF(H101="AB",0,(H101/80)*100) -> 66.25 | R101: =IF(Q101<45,"N","Y") -> Y | S101: =IF(I101="AB",0,(I101/80)*100) -> 66.25 | T101: =IF(S101<45,"N","Y") -> Y | U101: =IF(J101="AB",0,(J101/80)*100) -> 66.25 | V101: =IF(U101<45,"N","Y") -> Y
A102: 94 | B102: NILESH N GUNJIKAR | C102: 1SG16EE432 | D102: B | E102: 30 | F102: =E102 -> 30 | G102: =E102 -> 30 | H102: =E102 -> 30 | I102: =E102 -> 30 | J102: =E102 -> 30 | K102: =IF(E102="AB",0,(E102/80)*100) -> 37.5 | L102: =IF(K102<45,"N","Y") -> N | M102: =IF(F102="AB",0,(F102/80)*100) -> 37.5 | N102: =IF(M102<45,"N","Y") -> N | O102: =IF(G102="AB",0,(G102/80)*100) -> 37.5 | P102: =IF(O102<45,"N","Y") -> N | Q102: =IF(H102="AB",0,(H102/80)*100) -> 37.5 | R102: =IF(Q102<45,"N","Y") -> N | S102: =IF(I102="AB",0,(I102/80)*100) -> 37.5 | T102: =IF(S102<45,"N","Y") -> N | U102: =IF(J102="AB",0,(J102/80)*100) -> 37.5 | V102: =IF(U102<45,"N","Y") -> N
A103: 95 | B103: NITHIN G | C103: 1SG16EE434 | D103: B | E103: 39 | F103: =E103 -> 39 | G103: =E103 -> 39 | H103: =E103 -> 39 | I103: =E103 -> 39 | J103: =E103 -> 39 | K103: =IF(E103="AB",0,(E103/80)*100) -> 48.75 | L103: =IF(K103<45,"N","Y") -> Y | M103: =IF(F103="AB",0,(F103/80)*100) -> 48.75 | N103: =IF(M103<45,"N","Y") -> Y | O103: =IF(G103="AB",0,(G103/80)*100) -> 48.75 | P103: =IF(O103<45,"N","Y") -> Y | Q103: =IF(H103="AB",0,(H103/80)*100) -> 48.75 | R103: =IF(Q103<45,"N","Y") -> Y | S103: =IF(I103="AB",0,(I103/80)*100) -> 48.75 | T103: =IF(S103<45,"N","Y") -> Y | U103: =IF(J103="AB",0,(J103/80)*100) -> 48.75 | V103: =IF(U103<45,"N","Y") -> Y
A104: 96 | B104: RAKESH S | C104: 1SG16EE439 | D104: B | E104: 31 | F104: =E104 -> 31 | G104: =E104 -> 31 | H104: =E104 -> 31 | I104: =E104 -> 31 | J104: =E104 -> 31 | K104: =IF(E104="AB",0,(E104/80)*100) -> 38.75 | L104: =IF(K104<45,"N","Y") -> N | M104: =IF(F104="AB",0,(F104/80)*100) -> 38.75 | N104: =IF(M104<45,"N","Y") -> N | O104: =IF(G104="AB",0,(G104/80)*100) -> 38.75 | P104: =IF(O104<45,"N","Y") -> N | Q104: =IF(H104="AB",0,(H104/80)*100) -> 38.75 | R104: =IF(Q104<45,"N","Y") -> N | S104: =IF(I104="AB",0,(I104/80)*100) -> 38.75 | T104: =IF(S104<45,"N","Y") -> N | U104: =IF(J104="AB",0,(J104/80)*100) -> 38.75 | V104: =IF(U104<45,"N","Y") -> N
A105: 97 | B105: SHASHANK K S | C105: 1SG16EE443 | D105: B | E105: 21 | F105: =E105 -> 21 | G105: =E105 -> 21 | H105: =E105 -> 21 | I105: =E105 -> 21 | J105: =E105 -> 21 | K105: =IF(E105="AB",0,(E105/80)*100) -> 26.25 | L105: =IF(K105<45,"N","Y") -> N | M105: =IF(F105="AB",0,(F105/80)*100) -> 26.25 | N105: =IF(M105<45,"N","Y") -> N | O105: =IF(G105="AB",0,(G105/80)*100) -> 26.25 | P105: =IF(O105<45,"N","Y") -> N | Q105: =IF(H105="AB",0,(H105/80)*100) -> 26.25 | R105: =IF(Q105<45,"N","Y") -> N | S105: =IF(I105="AB",0,(I105/80)*100) -> 26.25 | T105: =IF(S105<45,"N","Y") -> N | U105: =IF(J105="AB",0,(J105/80)*100) -> 26.25 | V105: =IF(U105<45,"N","Y") -> N
A106: 98 | B106: VARUN K M | C106: 1SG16EE450 | D106: B | E106: 45 | F106: =E106 -> 45 | G106: =E106 -> 45 | H106: =E106 -> 45 | I106: =E106 -> 45 | J106: =E106 -> 45 | K106: =IF(E106="AB",0,(E106/80)*100) -> 56.25 | L106: =IF(K106<45,"N","Y") -> Y | M106: =IF(F106="AB",0,(F106/80)*100) -> 56.25 | N106: =IF(M106<45,"N","Y") -> Y | O106: =IF(G106="AB",0,(G106/80)*100) -> 56.25 | P106: =IF(O106<45,"N","Y") -> Y | Q106: =IF(H106="AB",0,(H106/80)*100) -> 56.25 | R106: =IF(Q106<45,"N","Y") -> Y | S106: =IF(I106="AB",0,(I106/80)*100) -> 56.25 | T106: =IF(S106<45,"N","Y") -> Y | U106: =IF(J106="AB",0,(J106/80)*100) -> 56.25 | V106: =IF(U106<45,"N","Y") -> Y
J107: No. of Y | K107: =COUNTIF(L9:L106,"Y") -> 73 | M107: =COUNTIF(N9:N106,"Y") -> 73 | O107: =COUNTIF(P9:P106,"Y") -> 73 | Q107: =COUNTIF(R9:R106,"Y") -> 73 | S107: =COUNTIF(T9:T106,"Y") -> 73 | U107: =COUNTIF(V9:V106,"Y") -> 73
J108: %AGE OF ATTAINMENT | K108: =(K107/(A106-COUNTIF(E9:E106,"AB")))*100 -> 76.041667 | M108: =(M107/(A106-COUNTIF(F9:F106,"AB")))*100 -> 76.041667 | O108: =(O107/(A106-COUNTIF(G9:G106,"AB")))*100 -> 76.041667 | Q108: =(Q107/(A106-COUNTIF(H9:H106,"AB")))*100 -> 76.041667 | S108: =(S107/(A106-COUNTIF(I9:I106,"AB")))*100 -> 76.041667 | U108: =(U107/(A106-COUNTIF(J9:J106,"AB")))*100 -> 76.041667
...

Sheet 15EE73-HVE-CONSOLIDATED CO
A1: SAPTHAGIRI COLLEGE OF ENGINEERING, BENGALURU - 57.
A2: DEPARTMENT OF ELECTRICAL AND ELECTRONICS ENGINEERING
A3: DIRECT ASSESSMENT METHOD - CO ATTAINMENT (ODD SEM. 2018-19)
A4: Sem.: VII | C4: Subject: High Voltage Engg | I4: Subject Code: 15EE73
A5: Names of the faculty member: Dr.K.N.Ravi and Mr.Nagaraj.H.P
B7: TARGET: 60% ATTAINMENT
B8: COs | C8: CO1 | D8: CO2 | E8: CO3 | F8: CO4 | G8: CO5 | H8: CO6
B9: IA MARKS ATTAINMENT | C9: ='15EE73-HVE-TEST CO'!E112 -> 41.052632 | D9: ='15EE73-HVE-TEST CO'!F112 -> 28.571429 | E9: ='15EE73-HVE-TEST CO'!G112 -> 40 | F9: --- | G9: ='15EE73-HVE-TEST CO'!H112 -> 41.176471 | H9: ---
B10: ASSIGN MARKS ATTAINMENT | C10: --- | D10: --- | E10: --- | F10: 100 | G10: --- | H10: 100
B11: FINAL EXAM ATTAINMENT | C11: ='15EE73-HVE-FINAL EXAM CO'!E111 -> 76.041667 | D11: ='15EE73-HVE-FINAL EXAM CO'!F111 -> 76.041667 | E11: ='15EE73-HVE-FINAL EXAM CO'!G111 -> 76.041667 | F11: ='15EE73-HVE-FINAL EXAM CO'!H111 -> 76.041667 | G11: ='15EE73-HVE-FINAL EXAM CO'!I111 -> 76.041667 | H11: ='15EE73-HVE-FINAL EXAM CO'!J111 -> 76.041667
B12: AVERAGE | C12: =AVERAGE(C9:C11) -> 58.547149 | D12: =AVERAGE(D9:D11) -> 52.306548 | E12: =AVERAGE(E9:E11) -> 58.020833 | F12: =AVERAGE(F9:F11) -> 88.020833 | G12: =AVERAGE(G9:G11) -> 58.609069 | H12: =AVERAGE(H9:H11) -> 88.020833
B33: NEXT ACADEMIC YEAR TARGET CAN BE: 62%

Sheet COURSE EXIT SURVEY RESPONSES
A1: SAPTHAGIRI COLLEGE OF ENGINEERING, BENGALURU - 57.
A2: DEPARTMENT OF ELECTRICAL AND ELECTRONICS ENGINEERING
A3: COURSE EXIT SURVEY RESPONSES (ODD SEM. 2018-19)
A4: Sem.: VII | F4: Subject: High voltage Engg | J4: Subject Code: 15EE73
A5: Names of the Faculty member: Dr.K.N.Ravi and Nagaraj HP | J5: NOTE: This survey is obtained through google Forms
A6: Sl. No. | B6: Timestamp | C6: NAME OF THE STUDENT | D6: USN | E6: Are you able to formulate network matrices and models for solving load flow problems? | F6: Are you able to perform steady state power flow analysis of power systems using numerical iterative techniques? | G6: Are you able to show knowledge of optimal operation of generators on a bus bar and optimal generation scheduling? | H6: Are you able to discuss optimal scheduling for hydro-thermal system, power system security and reliability? | I6: Are you able to analyze short circuit faults in power system networks using bus impedance matrix? | J6: Are you able to perform numerical solution of swing equation for multi-machine stability?
A7: COURSE OUTCOMES -------------------> | E7: CO1 | F7: CO2 | G7: CO3 | H7: CO4 | I7: CO5 | J7: CO6
A8: 1 | B8: 43435.488 | C8: Annapurna Singh | D8: 1sg15ee005 | E8: 4 (Very Good) | F8: 4 (Very Good) | G8: 4 (Very Good) | H8: 4 (Very Good) | I8: 4 (Very Good) | J8: 4 (Very Good)
A9: 2 | B9: 43438.584 | C9: Antony Roshan | D9: 1sg15ee006 | E9: 5 (Excellent) | F9: 5 (Excellent) | G9: 5 (Excellent) | H9: 5 (Excellent) | I9: 5 (Excellent) | J9: 5 (Excellent)
A10: 3 | B10: 43435.491 | C10: ANUP H V | D10: 1SG15EE007 | E10: 4 (Very Good) | F10: 4 (Very Good) | G10: 5 (Excellent) | H10: 3 (Good) | I10: 4 (Very Good) | J10: 3 (Good)
A11: 4 | B11: 43437.473 | C11: Anusha B | D11: 1SG15EE008 | E11: 5 (Excellent) | F11: 5 (Excellent) | G11: 5 (Excellent) | H11: 5 (Excellent) | I11: 5 (Excellent) | J11: 5 (Excellent)
A12: 5 | B12: 43435.574 | C12: Anusha. K | D12: 1sg15ee009 | E12: 5 (Excellent) | F12: 5 (Excellent) | G12: 5 (Excellent) | H12: 5 (Excellent) | I12: 5 (Excellent) | J12: 5 (Excellent)
A13: 6 | B13: 43436.516 | C13: Apoorva K.G | D13: 1SG15EE010 | E13: 5 (Excellent) | F13: 4 (Very Good) | G13: 3 (Good) | H13: 4 (Very Good) | I13: 4 (Very Good) | J13: 3 (Good)
A14: 7 | B14: 43435.312 | C14: Arpita Sharma | D14: 1sg15ee011 | E14: 4 (Very Good) | F14: 4 (Very Good) | G14: 3 (Good) | H14: 4 (Very Good) | I14: 4 (Very Good) | J14: 3 (Good)
A15: 8 | B15: 43435.428 | C15: ARPITHA SRINIVASA MURTHY | D15: 1SG15EE012 | E15: 5 (Excellent) | F15: 5 (Excellent) | G15: 5 (Excellent) | H15: 5 (Excellent) | I15: 5 (Excellent) | J15: 5 (Excellent)
A16: 9 | B16: 43435.674 | C16: Aruna | D16: 1sg15ee013 | E16: 3 (Good) | F16: 3 (Good) | G16: 3 (Good) | H16: 3 (Good) | I16: 3 (Good) | J16: 3 (Good)
A17: 10 | B17: 43435.494 | C17: Athiya mohammadi | D17: 1sg15ee014 | E17: 5 (Excellent) | F17: 5 (Excellent) | G17: 5 (Excellent) | H17: 5 (Excellent) | I17: 5 (Excellent) | J17: 5 (Excellent)
A18: 11 | B18: 43438.449 | C18: Balaji Venkatesh kalkonda | D18: 1SG15EE015 | E18: 5 (Excellent) | F18: 5 (Excellent) | G18: 5 (Excellent) | H18: 5 (Excellent) | I18: 5 (Excellent) | J18: 5 (Excellent)
A19: 12 | B19: 43435.318 | C19: C S MOHANA | D19: 1SG15EE017 | E19: 5 (Excellent) | F19: 5 (Excellent) | G19: 5 (Excellent) | H19: 5 (Excellent) | I19: 5 (Excellent) | J19: 5 (Excellent)
... A104: 97 | B104: 43435.482 | C104: Varun k m | D104: 1sg16ee450 | E104: 5 (Excellent) | F104: 5 (Excellent) | G104: 5 (Excellent) | H104: 5 (Excellent) | I104: 5 (Excellent) | J104: 5 (Excellent)
A105: No. of graded "0" | E105: =COUNTIF(E8:E104,"0 (Not at all)") -> 0 | F105: =COUNTIF(F8:F104,"0 (Not at all)") -> 0 | G105: =COUNTIF(G8:G104,"0 (Not at all)") -> 0 | H105: =COUNTIF(H8:H104,"0 (Not at all)") -> 0 | I105: =COUNTIF(I8:I104,"0 (Not at all)") -> 0 | J105: =COUNTIF(J8:J104,"0 (Not at all)") -> 1
A106: No. of graded "1" | E106: =COUNTIF(E8:E104,"1 (Fair)") -> 0 | F106: =COUNTIF(F8:F104,"1 (Fair)") -> 0 | G106: =COUNTIF(G8:G104,"1 (Fair)") -> 0 | H106: =COUNTIF(H8:H104,"1 (Fair)") -> 0 | I106: =COUNTIF(I8:I104,"1 (Fair)") -> 0 | J106: =COUNTIF(J8:J104,"1 (Fair)") -> 0
A107: No. of graded "2" | E107: =COUNTIF(E8:E104,"2 (Very Fair)") -> 0 | F107: =COUNTIF(F8:F104,"2 (Very Fair)") -> 1 | G107: =COUNTIF(G8:G104,"2 (Very Fair)") -> 1 | H107: =COUNTIF(H8:H104,"2 (Very Fair)") -> 5 | I107: =COUNTIF(I8:I104,"2 (Very Fair)") -> 0 | J107: =COUNTIF(J8:J104,"2 (Very Fair)") -> 3
A108: No. of graded "3" | E108: =COUNTIF(E8:E104,"3 (Good)") -> 9 | F108: =COUNTIF(F8:F104,"3 (Good)") -> 15 | G108: =COUNTIF(G8:G104,"3 (Good)") -> 14 | H108: =COUNTIF(H8:H104,"3 (Good)") -> 21 | I108: =COUNTIF(I8:I104,"3 (Good)") -> 12 | J108: =COUNTIF(J8:J104,"3 (Good)") -> 21
A109: No. of graded "4" | E109: =COUNTIF(E8:E104,"4 (Very Good)") -> 35 | F109: =COUNTIF(F8:F104,"4 (Very Good)") -> 33 | G109: =COUNTIF(G8:G104,"4 (Very Good)") -> 35 | H109: =COUNTIF(H8:H104,"4 (Very Good)") -> 29 | I109: =COUNTIF(I8:I104,"4 (Very Good)") -> 32 | J109: =COUNTIF(J8:J104,"4 (Very Good)") -> 27
A110: No. of graded "5" | E110: =COUNTIF(E8:E104,"5 (Excellent)") -> 53 | F110: =COUNTIF(F8:F104,"5 (Excellent)") -> 48 | G110: =COUNTIF(G8:G104,"5 (Excellent)") -> 47 | H110: =COUNTIF(H8:H104,"5 (Excellent)") -> 42 | I110: =COUNTIF(I8:I104,"5 (Excellent)") -> 53 | J110: =COUNTIF(J8:J104,"5 (Excellent)") -> 45

Sheet INDIRECT & FINAL CO ATTAINMENT
A1: SAPTHAGIRI COLLEGE OF ENGINEERING, BENGALURU - 57.
A2: DEPARTMENT OF ELECTRICAL AND ELECTRONICS ENGINEERING
A3: COURSE EXIT SURVEY RESPONSES (ODD SEM. 2018-19)
A4: Sem.: VII | E4: Subject: POWER SYSTEM ANALYSIS-2 | M4: Subject Code: 15EE73
A5: Names of the Faculty member: Dr.K.N. Ravi and Nagaraj HP | M5: NOTE: This survey is obtained through google Forms
A6: CO No. | B6: CO description | C6: Course Exit Survey Questions | D6: No. of students given the ratings | J6: Total Responses | K6: Weighted Average | L6: CO Max. Count | M6: %age CO attainment
D7: 0 | E7: 1 | F7: 2 | G7: 3 | H7: 4 | I7: 5
A8: CO1 | B8: Formulate network matrices and models for solving load flow problems. | C8: Are you able to formulate network matrices and models for solving load flow problems? | D8: 0 | E8: 0 | F8: 0 | G8: 9 | H8: 35 | I8: 53 | J8: =SUM(D8:I8) -> 97 | K8: =(E8*1+F8*2+G8*3+H8*4+I8*5)/95 -> 4.5473684 | L8: 5 | M8: =(K8/L8)*100 -> 90.947368
A9: CO2 | B9: Perform steady state power flow analysis of power systems using numerical iterative techniques and suggest a method to control voltage profile. | C9: Are you able to perform steady state power flow analysis of power systems using numerical iterative techniques? | D9: 0 | E9: 0 | F9: 1 | G9: 15 | H9: 33 | I9: 48 | J9: =SUM(D9:I9) -> 97 | K9: =(E9*1+F9*2+G9*3+H9*4+I9*5)/95 -> 4.4105263 | L9: 5 | M9: =(K9/L9)*100 -> 88.210526
A10: CO3 | B10: Show knowledge of optimal operation of generators on a bus bar, optimal unit commitment, reliability considerations and optimal generation scheduling. | C10: Are you able to show knowledge of optimal operation of generators on a bus bar and optimal generation scheduling? | D10: 0 | E10: 0 | F10: 1 | G10: 14 | H10: 35 | I10: 47 | J10: =SUM(D10:I10) -> 97 | K10: =(E10*1+F10*2+G10*3+H10*4+I10*5)/95 -> 4.4105263 | L10: 5 | M10: =(K10/L10)*100 -> 88.210526
A11: CO4 | B11: Discuss optimal scheduling for hydro-thermal system, power system security and reliability. | C11: Are you able to discuss optimal scheduling for hydro-thermal system, power system security and reliability? | D11: 0 | E11: 0 | F11: 5 | G11: 21 | H11: 29 | I11: 42 | J11: =SUM(D11:I11) -> 97 | K11: =(E11*1+F11*2+G11*3+H11*4+I11*5)/95 -> 4.2 | L11: 5 | M11: =(K11/L11)*100 -> 84
A12: CO5 | B12: Analyze short circuit faults in power system networks using bus impedance matrix. | C12: Are you able to analyze short circuit faults in power system networks using bus impedance matrix? | D12: 0 | E12: 0 | F12: 0 | G12: 12 | H12: 32 | I12: 53 | J12: =SUM(D12:I12) -> 97 | K12: =(E12*1+F12*2+G12*3+H12*4+I12*5)/95 -> 4.5157895 | L12: 5 | M12: =(K12/L12)*100 -> 90.315789
A13: CO6 | B13: Perform numerical solution of swing equation for multi-machine stability. | C13: Are you able to perform numerical solution of swing equation for multi-machine stability? | D13: 1 | E13: 0 | F13: 3 | G13: 21 | H13: 27 | I13: 45 | J13: =SUM(D13:I13) -> 97 | K13: =(E13*1+F13*2+G13*3+H13*4+I13*5)/95 -> 4.2315789 | L13: 5 | M13: =(K13/L13)*100 -> 84.631579
C15: CO Assessment method | D15: CO1 | E15: CO2 | F15: CO3 | G15: CO4 | H15: CO5 | I15: CO6
C16: Direct method (IA Test, Assignment/quiz and exam) | D16: ='15EE73-HVE-CONSOLIDATED CO'!C12 -> 58.547149 | E16: ='15EE73-HVE-CONSOLIDATED CO'!D12 -> 52.306548 | F16: ='15EE73-HVE-CONSOLIDATED CO'!E12 -> 58.020833 | G16: ='15EE73-HVE-CONSOLIDATED CO'!F12 -> 88.020833 | H16: ='15EE73-HVE-CONSOLIDATED CO'!G12 -> 58.609069 | I16: ='15EE73-HVE-CONSOLIDATED CO'!H12 -> 88.020833
C17: Weightage (80%) | D17: =D16*0.8 -> 46.837719 | E17: =E16*0.8 -> 41.845238 | F17: =F16*0.8 -> 46.416667 | G17: =G16*0.8 -> 70.416667 | H17: =H16*0.8 -> 46.887255 | I17: =I16*0.8 -> 70.416667
C18: Indirect method (Course Exit Survey) | D18: =M8 -> 90.947368 | E18: =M9 -> 88.210526 | F18: =M10 -> 88.210526 | G18: =M11 -> 84 | H18: =M12 -> 90.315789 | I18: =M13 -> 84.631579
C19: Weightage (20%) | D19: =D18*0.2 -> 18.189474 | E19: =E18*0.2 -> 17.642105 | F19: =F18*0.2 -> 17.642105 | G19: =G18*0.2 -> 16.8 | H19: =H18*0.2 -> 18.063158 | I19: =I18*0.2 -> 16.926316
C20: Final CO Attainment | D20: =D17+D19 -> 65.027193 | E20: =E17+E19 -> 59.487343 | F20: =F17+F19 -> 64.058772 | G20: =G17+G19 -> 87.216667 | H20: =H17+H19 -> 64.950413 | I20: =I17+I19 -> 87.342982

Sheet CO-PO-PSO MAPPING
A1: SAPTHAGIRI COLLEGE OF ENGINEERING, BENGALURU - 57.
A2: DEPARTMENT OF ELECTRICAL AND ELECTRONICS ENGINEERING
A3: CO-PO-PSO MAPPING (ODD SEM. 2018-19)
A4: Sem.: VII | E4: Subject: POWER SYSTEM ANALYSIS-2 | M4: Subject Code: 15EE73
A5: Names of the Faculty member: Dr.K.N. Ravi and Nagaraj HP
A7: (I) CO Attainment
A8: A: Direct assessment (80%)-Tests, Assignment, Examination
A9: B: Indirect assessment (20%)-Course end survey
B11: COs | C11: Mapping of POs | D11: Mapping of PSOs | E11: Direct Assessment | F11: Indirect Assessment | G11: Overall Attainment | H11: Target (%) | I11: Attainment
E12: (a) | F12: (b) | G12: 0.8 (a) + 0.2(b)
B13: CO1 | C13: PO1, PO2, PO3, PO5 & PO12 | D13: PSO1 & PSO3 | E13: ='15EE73-HVE-CONSOLIDATED CO'!C12 -> 58.547149 | F13: 90.947368 | G13: =(E13)*0.8+F13*0.2 -> 65.027193 | H13: 60 | I13: YES
B14: CO2 | C14: PO1, PO2, PO3, PO5 & PO12 | D14: PSO1 & PSO3 | E14: ='15EE73-HVE-CONSOLIDATED CO'!D12 -> 52.306548 | F14: 88.210526 | G14: =(E14)*0.8+F14*0.2 -> 59.487343
B15: CO3 | C15: PO1, PO2, PO3, PO5 & PO12 | D15: PSO1 & PSO3 | E15: ='15EE73-HVE-CONSOLIDATED CO'!E12 -> 58.020833 | F15: 88.210526 | G15: =(E15)*0.8+F15*0.2 -> 64.058772
B16: CO4 | C16: PO1, PO2, PO3 & PO12 | D16: PSO1 & PSO3 | E16: ='15EE73-HVE-CONSOLIDATED CO'!F12 -> 88.020833 | F16: 84 | G16: =(E16)*0.8+F16*0.2 -> 87.216667
B17: CO5 | C17: PO1, PO2, PO3, PO5 & PO12 | D17: PSO1 & PSO3 | E17: ='15EE73-HVE-CONSOLIDATED CO'!G12 -> 58.609069 | F17: 90.315789 | G17: =(E17)*0.8+F17*0.2 -> 64.950413
B18: CO6 | C18: PO1, PO2, PO3, PO5 & PO12 | D18: PSO1 & PSO3 | E18: ='15EE73-HVE-CONSOLIDATED CO'!H12 -> 88.020833 | F18: 84.631579 | G18: =(E18)*0.8+F18*0.2 -> 87.342982

Sheet PO-PSO ATTAINMENT - DIRECT
A1: SAPTHAGIRI COLLEGE OF ENGINEERING, BENGALURU - 57.
A2: DEPARTMENT OF ELECTRICAL AND ELECTRONICS ENGINEERING
A3: CO-PO-PSO MAPPING (ODD SEM. 2018-19)
A4: Sem.: VII | E4: Subject: POWER SYSTEM ANALYSIS-2 | M4: Subject Code: 15EE73 | P4: Subject Code: 15EE71
A5: Names of the Faculty member: Dr.K.N. Ravi and Nagaraj HP
A7: (II) PO-PSO Attainment
A8: A. DIRECT ASSESSMENT METHOD
A9: Mapping of Course Outcomes (COs) and Program Outcomes (POs)
A10: Note: 1 = Slight 2 = Moderate 3 = Good 4 = Excellent
A11: Course Outcomes | B11: Program Outcomes | N11: PSO
B12: PO1 | C12: PO2 | D12: PO3 | E12: PO4 | F12: PO5 | G12: PO6 | H12: PO7 | I12: PO8 | J12: PO9 | K12: PO10 | L12: PO11 | M12: PO12 | N12: PSO1 | O12: PSO2 | P12: PSO3
A13: CO1 | B13: 3 | C13: 3 | D13: 3 | E13: ---- | F13: 1 | G13: ---- | H13: ---- | I13: ---- | J13: ---- | K13: ---- | L13: ---- | M13: 3 | N13: 2 | O13: ---- | P13: 2
A14: CO2 | B14: 3 | C14: 3 | D14: 3 | E14: ---- | F14: 2 | G14: ---- | H14: ---- | I14: ---- | J14: ---- | K14: ---- | L14: ---- | M14: 3 | N14: 2 | O14: ---- | P14: 2
A15: CO3 | B15: 3 | C15: 3 | D15: 3 | E15: ---- | F15: 1 | G15: ---- | H15: ---- | I15: ---- | J15: ---- | K15: ---- | L15: ---- | M15: 3 | N15: 2 | O15: ---- | P15: 2
A16: CO4 | B16: 3 | C16: 2 | D16: 1 | E16: ---- | F16: ---- | G16: ---- | H16: ---- | I16: ---- | J16: ---- | K16: ---- | L16: ---- | M16: 3 | N16: 2 | O16: ---- | P16: 2
A17: CO5 | B17: 3 | C17: 3 | D17: 3 | E17: ---- | F17: 1 | G17: ---- | H17: ---- | I17: ---- | J17: ---- | K17: ---- | L17: ---- | M17: 3 | N17: 2 | O17: ---- | P17: 2
A18: CO6 | B18: 3 | C18: 3 | D18: 3 | E18: ---- | F18: 2 | G18: ---- | H18: ---- | I18: ---- | J18: ---- | K18: ---- | L18: ---- | M18: 3 | N18: 2 | O18: ---- | P18: 2
B19: =AVERAGE(B13:B18) -> 3 | C19: =AVERAGE(C13:C18) -> 2.8333333 | D19: =AVERAGE(D13:D18) -> 2.6666667 | E19: - | F19: =AVERAGE(F13:F18) -> 1.4 | G19: - | H19: - | I19: - | J19: - | K19: - | L19: - | M19: =AVERAGE(M13:M18) -> 3 | N19: =AVERAGE(N13:N18) -> 2 | O19: - | P19: =AVERAGE(P13:P18) -> 2
A21: Mapping of Course Outcomes (COs) and Program Outcomes (POs)
A22: Note: 1 = Slight 2 = Moderate 3 = Good 4 = Excellent
A23: Course Outcomes | C23: Program Outcomes | O23: PSO
C24: PO1 | D24: PO2 | E24: PO3 | F24: PO4 | G24: PO5 | H24: PO6 | I24: PO7 | J24: PO8 | K24: PO9 | L24: PO10 | M24: PO11 | N24: PO12 | O24: PSO1 | P24: PSO2 | Q24: PSO3
A25: CO1 | B25: ='15EE73-HVE-CONSOLIDATED CO'!C12 -> 58.547149 | C25: =(C13/4)*B25 -> 43.910362 | D25: =(D13/4)*B25 -> 43.910362 | E25: =(D13/4)*B25 -> 43.910362 | F25: - | G25: =(F13/4)*B25 -> 14.636787 | H25: - | I25: - | J25: - | K25: - | L25: - | M25: - | N25: =(M13/4)*B25 -> 43.910362 | O25: =(N13/4)*B25 -> 29.273575 | P25: - | Q25: =(P13/4)*B25 -> 29.273575
A26: CO2 | B26: ='15EE73-HVE-CONSOLIDATED CO'!D12 -> 52.306548 | C26: =(C14/4)*B26 -> 39.229911 | D26: =(D14/4)*B26 -> 39.229911 | E26: =(D14/4)*B26 -> 39.229911 | F26: - | G26: =(F14/4)*B26 -> 26.153274 | H26: - | I26: - | J26: - | K26: - | L26: - | M26: - | N26: =(M14/4)*B26 -> 39.229911 | O26: =(N14/4)*B26 -> 26.153274 | P26: - | Q26: =(P14/4)*B26 -> 26.153274
A27: CO3 | B27: ='15EE73-HVE-CONSOLIDATED CO'!E12 -> 58.020833 | C27: =(C15/4)*B27 -> 43.515625 | D27: =(D15/4)*B27 -> 43.515625 | E27: =(D15/4)*B27 -> 43.515625 | F27: - | G27: =(F15/4)*B27 -> 14.505208 | H27: - | I27: - | J27: - | K27: - | L27: - | M27: - | N27: =(M15/4)*B27 -> 43.515625 | O27: =(N15/4)*B27 -> 29.010417 | P27: - | Q27: =(P15/4)*B27 -> 29.010417
A28: CO4 | B28: ='15EE73-HVE-CONSOLIDATED CO'!F12 -> 88.020833 | C28: =(C16/4)*B28 -> 44.010417 | D28: =(D16/4)*B28 -> 22.005208 | E28: =(D16/4)*B28 -> 22.005208 | F28: - | G28: - | H28: - | I28: - | J28: - | K28: - | L28: - | M28: - | N28: =(M16/4)*B28 -> 66.015625 | O28: =(N16/4)*B28 -> 44.010417 | P28: - | Q28: =(P16/4)*B28 -> 44.010417
A29: CO5 | B29: ='15EE73-HVE-CONSOLIDATED CO'!G12 -> 58.609069 | C29: =(C17/4)*B29 -> 43.956801 | D29: =(D17/4)*B29 -> 43.956801 | E29: =(D17/4)*B29 -> 43.956801 | F29: - | G29: =(F17/4)*B29 -> 14.652267 | H29: - | I29: - | J29: - | K29: - | L29: - | M29: - | N29: =(M17/4)*B29 -> 43.956801 | O29: =(N17/4)*B29 -> 29.304534 | P29: - | Q29: =(P17/4)*B29 -> 29.304534
A30: CO6 | B30: ='15EE73-HVE-CONSOLIDATED CO'!H12 -> 88.020833 | C30: =(C18/4)*B30 -> 66.015625 | D30: =(D18/4)*B30 -> 66.015625 | E30: =(D18/4)*B30 -> 66.015625 | F30: - | G30: =(F18/4)*B30 -> 44.010417 | H30: - | I30: - | J30: - | K30: - | L30: - | M30: - | N30: =(M18/4)*B30 -> 66.015625 | O30: =(N18/4)*B30 -> 44.010417 | P30: - | Q30: =(P18/4)*B30 -> 44.010417
A31: Average | B31: =AVERAGE(B25:B30) -> 67.254211 | C31: =AVERAGE(C25:C30) -> 46.773123 | D31: =AVERAGE(D25:D30) -> 43.105589 | E31: =AVERAGE(E25:E30) -> 43.105589 | F31: - | G31: =AVERAGE(G25:G30) -> 22.791591 | H31: - | I31: - | J31: - | K31: - | L31: - | M31: - | N31: =AVERAGE(N25:N30) -> 50.440658 | O31: =AVERAGE(O25:O30) -> 33.627105 | P31: - | Q31: =AVERAGE(Q25:Q30) -> 33.627105
A33: PROGRAM OUTCOMES (POs):
A34: PO1 | B34: Engineering knowledge: Apply the knowledge of mathematics, science, engineering fundamentals, and an engineering specialization for the solution of complex engineering problems.
A35: PO2 | B35: Problem analysis: Identify, formulate, research literature, and analyze complex engineering problems reaching substantiated conclusions using first principles of mathematics, natural sciences, and engineering sciences.
A36: PO3 | B36: Design / development of solutions: Design solutions for complex engineering problems and design system components or processes that meet the specified needs with appropriate consideration for public health and safety, and cultural, societal, and environmental considerations.
A37: PO4 | B37: Conduct investigations of complex problems: Use research-based knowledge and research methods including design of experiments, analysis and interpretation of data, and synthesis of the information to provide valid conclusions.
A38: PO5 | B38: Modern tool usage: Create, select, and apply appropriate techniques, resources, and modern engineering and IT tools, including prediction and modelling to complex engineering activities, with an understanding of the limitations.
A39: PO6 | B39: The engineer and society: Apply reasoning informed by the contextual knowledge to assess societal, health, safety, legal, and cultural issues and the consequent responsibilities relevant to the professional engineering practice.
A40: PO7 | B40: Environment and sustainability: Understand the impact of the professional engineering solutions in societal and environmental contexts, and demonstrate the knowledge of, and need for sustainable development.
A41: PO8 | B41: Ethics: Apply ethical principles and commit to professional ethics and responsibilities and norms of the engineering practice.
A42: PO9 | B42: Individual and team work: Function effectively as an individual, and as a member or leader in diverse teams, and in multidisciplinary settings.
A43: PO10 | B43: Communication: Communicate effectively on complex engineering activities with the engineering community and with the society at large, such as, being able to comprehend and write effective reports and design documentation, make effective presentations, and give and receive clear instructions.
...

Sheet PO-PSO ATTAINMENT - INDIRECT
A1: SAPTHAGIRI COLLEGE OF ENGINEERING, BENGALURU - 57.
