Workbook

Sheet ATTAINMENT LEVEL
A1: Attainment Levels of COs
A2: Course Name:ELEMENTS OF CIVIL ENGINEERING Course Code:15CIV13
A3: Assessment Methods | B3: Target-Attainment Levels | D3: Attainement
A4: Internal Assessment(CIE) | B4: Level 1 | C4: 50% of students scoring more than 50% marks in internal assessment tools | D4: Level 1
B5: Level 2 | C5: 60% of students scoring more than 50% marks in internal assessment tools
B6: Level 3 | C6: 70% of students scoring more than 50% marks in internal assessment tools
A9: Assessment Methods | B9: Target-Attainment Levels | D9: Attainement
A10: University Assessment (SEE) | B10: Level 1 | C10: 60% of students scoring more than 40% marks in SEE assessment tools | D10: Level 2
B11: Level 2 | C11: 70% of students scoring more than 40% marks in SEEassessment tools
B12: Level 3 | C12: 80% of students scoring more than 40% marks in SEE assessment tools

Sheet TEST MARKS  
A1: Sapthagiri College of Engineering
A2: Department of Civil Engineering
A3: SUBJECT :ELEMENETS OF CIVIL ENGINEERING AND MECHANICS SUB CODE:15CIV13
A4: SEM : 2ND | C4: SEC : E | F4: YEAR : 2015-2016 | I4: SCHEME :2015
A5: Sl. No. | B5: Name of the student | C5: USN | D5: I INTERNALS | F5: II INTERNALS | H5: III INTERNALS | J5: ATTAINMENT (%)
D7: Q1 or 2 | E7: Q3 or 4 | F7: Q1 or 2 | G7: Q3 or 4 | H7: Q1 or 2 | I7: Q3 or 4 | J7: I | K7: II | L7: II | M7: II | N7: III
D8: CO1 | E8: CO2 | F8: CO3 | G8: CO4 | H8: CO4 | I8: CO5 | J8: CO 1 | K8: CO 2 | L8: CO 3 | M8: CO 4 | N8: CO 5
D9: 10 | E9: 10 | F9: 10 | G9: 10 | H9: 10 | I9: 10
A10: 1 | B10: ABHILASH Y | C10: 1SG15EE001 | D10: 10 | E10: 5 | F10: 4 | G10: 3 | H10: 4 | I10: 3 | J10: =IF(D10="AB",0,D10/15*100) -> 66.666667 | K10: =IF(E10="AB",0,E10/15*100) -> 33.333333 | L10: =IF(F10="AB",0,F10/15*100) -> 26.666667 | M10: =IF(G10="AB",0,G10/15*100) -> 20 | N10: =IF(H10="AB",0,H10/15*100) -> 26.666667 | O10: =IF(J10<50,"N","Y") -> Y | P10: =IF(K10<50,"N","Y") -> N | Q10: =IF(L10<50,"N","Y") -> N | R10: =IF(M10<50,"N","Y") -> N | S10: =IF(N10<50,"N","Y") -> N
A11: 2 | B11: ADITHYA G.T | C11: 1SG15EE002 | D11: 6 | E11: 5 | F11: 3 | G11: 3 | H11: 8 | I11: 6 | J11: =IF(D11="AB",0,D11/15*100) -> 40 | K11: =IF(E11="AB",0,E11/15*100) -> 33.333333 | L11: =IF(F11="AB",0,F11/15*100) -> 20 | M11: =IF(G11="AB",0,G11/15*100) -> 20 | N11: =IF(H11="AB",0,H11/15*100) -> 53.333333 | O11: =IF(J11<50,"N","Y") -> N | P11: =IF(K11<50,"N","Y") -> N | Q11: =IF(L11<50,"N","Y") -> N | R11: =IF(M11<50,"N","Y") -> N | S11: =IF(N11<50,"N","Y") -> Y
A12: 3 | B12: AJAY M | C12: 1SG15EE003 | D12: 4 | E12: 5 | F12: 2 | G12: 2 | H12: 8 | I12: 8 | J12: =IF(D12="AB",0,D12/15*100) -> 26.666667 | K12: =IF(E12="AB",0,E12/15*100) -> 33.333333 | L12: =IF(F12="AB",0,F12/15*100) -> 13.333333 | M12: =IF(G12="AB",0,G12/15*100) -> 13.333333 | N12: =IF(H12="AB",0,H12/15*100) -> 53.333333 | O12: =IF(J12<50,"N","Y") -> N | P12: =IF(K12<50,"N","Y") -> N | Q12: =IF(L12<50,"N","Y") -> N | R12: =IF(M12<50,"N","Y") -> N | S12: =IF(N12<50,"N","Y") -> Y
A13: 4 | B13: AMITH RAUNIYAR | C13: 1SG15EE004 | D13: 12 | E13: 12 | F13: 15 | G13: 15 | H13: 15 | I13: 15 | J13: =IF(D13="AB",0,D13/15*100) -> 80 | K13: =IF(E13="AB",0,E13/15*100) -> 80 | L13: =IF(F13="AB",0,F13/15*100) -> 100 | M13: =IF(G13="AB",0,G13/15*100) -> 100 | N13: =IF(H13="AB",0,H13/15*100) -> 100 | O13: =IF(J13<50,"N","Y") -> Y | P13: =IF(K13<50,"N","Y") -> Y | Q13: =IF(L13<50,"N","Y") -> Y | R13: =IF(M13<50,"N","Y") -> Y | S13: =IF(N13<50,"N","Y") -> Y
A14: 5 | B14: ANNAPURNA SINGH | C14: 1SG15EE005 | D14: 7 | E14: 5 | F14: 5 | G14: 5 | H14: AB | I14: AB | J14: =IF(D14="AB",0,D14/15*100) -> 46.666667 | K14: =IF(E14="AB",0,E14/15*100) -> 33.333333 | L14: =IF(F14="AB",0,F14/15*100) -> 33.333333 | M14: =IF(G14="AB",0,G14/15*100) -> 33.333333 | N14: =IF(H14="AB",0,H14/15*100) -> 0 | O14: =IF(J14<50,"N","Y") -> N | P14: =IF(K14<50,"N","Y") -> N | Q14: =IF(L14<50,"N","Y") -> N | R14: =IF(M14<50,"N","Y") -> N | S14: =IF(N14<50,"N","Y") -> N
A15: 6 | B15: ANTONY ROSHAN J D | C15: 1SG15EE006 | D15: AB | E15: AB | F15: 5 | G15: 5 | H15: AB | I15: AB | J15: =IF(D15="AB",0,D15/15*100) -> 0 | K15: =IF(E15="AB",0,E15/15*100) -> 0 | L15: =IF(F15="AB",0,F15/15*100) -> 33.333333 | M15: =IF(G15="AB",0,G15/15*100) -> 33.333333 | N15: =IF(H15="AB",0,H15/15*100) -> 0 | O15: =IF(J15<50,"N","Y") -> N | P15: =IF(K15<50,"N","Y") -> N | Q15: =IF(L15<50,"N","Y") -> N | R15: =IF(M15<50,"N","Y") -> N | S15: =IF(N15<50,"N","Y") -> N
A16: 7 | B16: ANUP H V | C16: 1SG15EE007 | D16: 10 | E16: 10 | F16: 9 | G16: 9 | H16: AB | I16: AB | J16: =IF(D16="AB",0,D16/15*100) -> 66.666667 | K16: =IF(E16="AB",0,E16/15*100) -> 66.666667 | L16: =IF(F16="AB",0,F16/15*100) -> 60 | M16: =IF(G16="AB",0,G16/15*100) -> 60 | N16: =IF(H16="AB",0,H16/15*100) -> 0 | O16: =IF(J16<50,"N","Y") -> Y | P16: =IF(K16<50,"N","Y") -> Y | Q16: =IF(L16<50,"N","Y") -> Y | R16: =IF(M16<50,"N","Y") -> Y | S16: =IF(N16<50,"N","Y") -> N
A17: 8 | B17: ANUSHA B | C17: 1SG15EE008 | D17: 6 | E17: 6 | F17: 10 | G17: 7 | H17: 9 | I17: 9 | J17: =IF(D17="AB",0,D17/15*100) -> 40 | K17: =IF(E17="AB",0,E17/15*100) -> 40 | L17: =IF(F17="AB",0,F17/15*100) -> 66.666667 | M17: =IF(G17="AB",0,G17/15*100) -> 46.666667 | N17: =IF(H17="AB",0,H17/15*100) -> 60 | O17: =IF(J17<50,"N","Y") -> N | P17: =IF(K17<50,"N","Y") -> N | Q17: =IF(L17<50,"N","Y") -> Y | R17: =IF(M17<50,"N","Y") -> N | S17: =IF(N17<50,"N","Y") -> Y
A18: 9 | B18: ANUSHA K | C18: 1SG15EE009 | D18: 9 | E18: 9 | F18: 9 | G18: 9 | H18: 10 | I18: 9 | J18: =IF(D18="AB",0,D18/15*100) -> 60 | K18: =IF(E18="AB",0,E18/15*100) -> 60 | L18: =IF(F18="AB",0,F18/15*100) -> 60 | M18: =IF(G18="AB",0,G18/15*100) -> 60 | N18: =IF(H18="AB",0,H18/15*100) -> 66.666667 | O18: =IF(J18<50,"N","Y") -> Y | P18: =IF(K18<50,"N","Y") -> Y | Q18: =IF(L18<50,"N","Y") -> Y | R18: =IF(M18<50,"N","Y") -> Y | S18: =IF(N18<50,"N","Y") -> Y
A19: 10 | B19: APOORVA K.G | C19: 1SG15EE010 | D19: 10 | E19: 10 | F19: 10 | G19: 7 | H19: 10 | I19: 10 | J19: =IF(D19="AB",0,D19/15*100) -> 66.666667 | K19: =IF(E19="AB",0,E19/15*100) -> 66.666667 | L19: =IF(F19="AB",0,F19/15*100) -> 66.666667 | M19: =IF(G19="AB",0,G19/15*100) -> 46.666667 | N19: =IF(H19="AB",0,H19/15*100) -> 66.666667 | O19: =IF(J19<50,"N","Y") -> Y | P19: =IF(K19<50,"N","Y") -> Y | Q19: =IF(L19<50,"N","Y") -> Y | R19: =IF(M19<50,"N","Y") -> N | S19: =IF(N19<50,"N","Y") -> Y
A20: 11 | B20: ARPITHA SHARMA | C20: 1SG15EE011 | D20: 10 | E20: 10 | F20: 10 | G20: 10 | H20: AB | I20: AB | J20: =IF(D20="AB",0,D20/15*100) -> 66.666667 | K20: =IF(E20="AB",0,E20/15*100) -> 66.666667 | L20: =IF(F20="AB",0,F20/15*100) -> 66.666667 | M20: =IF(G20="AB",0,G20/15*100) -> 66.666667 | N20: =IF(H20="AB",0,H20/15*100) -> 0 | O20: =IF(J20<50,"N","Y") -> Y | P20: =IF(K20<50,"N","Y") -> Y | Q20: =IF(L20<50,"N","Y") -> Y | R20: =IF(M20<50,"N","Y") -> Y | S20: =IF(N20<50,"N","Y") -> N
A21: 12 | B21: ARPITHA SRINIVASA MURTHY | C21: 1SG15EE012 | D21: 10 | E21: 3 | F21: 10 | G21: 3 | H21: 10 | I21: 9 | J21: =IF(D21="AB",0,D21/15*100) -> 66.666667 | K21: =IF(E21="AB",0,E21/15*100) -> 20 | L21: =IF(F21="AB",0,F21/15*100) -> 66.666667 | M21: =IF(G21="AB",0,G21/15*100) -> 20 | N21: =IF(H21="AB",0,H21/15*100) -> 66.666667 | O21: =IF(J21<50,"N","Y") -> Y | P21: =IF(K21<50,"N","Y") -> N | Q21: =IF(L21<50,"N","Y") -> Y | R21: =IF(M21<50,"N","Y") -> N | S21: =IF(N21<50,"N","Y") -> Y
A22: 13 | B22: ARUNA B.P | C22: 1SG15EE013 | D22: 10 | E22: 5 | F22: 10 | G22: 10 | H22: AB | I22: AB | J22: =IF(D22="AB",0,D22/15*100) -> 66.666667 | K22: =IF(E22="AB",0,E22/15*100) -> 33.333333 | L22: =IF(F22="AB",0,F22/15*100) -> 66.666667 | M22: =IF(G22="AB",0,G22/15*100) -> 66.666667 | N22: =IF(H22="AB",0,H22/15*100) -> 0 | O22: =IF(J22<50,"N","Y") -> Y | P22: =IF(K22<50,"N","Y") -> N | Q22: =IF(L22<50,"N","Y") -> Y | R22: =IF(M22<50,"N","Y") -> Y | S22: =IF(N22<50,"N","Y") -> N
A23: 14 | B23: ATHIYA MOHAMMADI | C23: 1SG15EE014 | D23: 10 | E23: 5 | F23: 6 | G23: 6 | H23: 10 | I23: 8 | J23: =IF(D23="AB",0,D23/15*100) -> 66.666667 | K23: =IF(E23="AB",0,E23/15*100) -> 33.333333 | L23: =IF(F23="AB",0,F23/15*100) -> 40 | M23: =IF(G23="AB",0,G23/15*100) -> 40 | N23: =IF(H23="AB",0,H23/15*100) -> 66.666667 | O23: =IF(J23<50,"N","Y") -> Y | P23: =IF(K23<50,"N","Y") -> N | Q23: =IF(L23<50,"N","Y") -> N | R23: =IF(M23<50,"N","Y") -> N | S23: =IF(N23<50,"N","Y") -> Y
A24: 15 | B24: BALAJI VENKATESH K | C24: 1SG15EE015 | D24: 6 | E24: 6 | F24: 10 | G24: 2 | H24: 10 | I24: 10 | J24: =IF(D24="AB",0,D24/15*100) -> 40 | K24: =IF(E24="AB",0,E24/15*100) -> 40 | L24: =IF(F24="AB",0,F24/15*100) -> 66.666667 | M24: =IF(G24="AB",0,G24/15*100) -> 13.333333 | N24: =IF(H24="AB",0,H24/15*100) -> 66.666667 | O24: =IF(J24<50,"N","Y") -> N | P24: =IF(K24<50,"N","Y") -> N | Q24: =IF(L24<50,"N","Y") -> Y | R24: =IF(M24<50,"N","Y") -> N | S24: =IF(N24<50,"N","Y") -> Y
A25: 16 | B25: BALRAJ M | C25: 1SG15EE016 | D25: 10 | E25: 5 | F25: 2 | G25: 2 | H25: 5 | I25: 4 | J25: =IF(D25="AB",0,D25/15*100) -> 66.666667 | K25: =IF(E25="AB",0,E25/15*100) -> 33.333333 | L25: =IF(F25="AB",0,F25/15*100) -> 13.333333 | M25: =IF(G25="AB",0,G25/15*100) -> 13.333333 | N25: =IF(H25="AB",0,H25/15*100) -> 33.333333 | O25: =IF(J25<50,"N","Y") -> Y | P25: =IF(K25<50,"N","Y") -> N | Q25: =IF(L25<50,"N","Y") -> N | R25: =IF(M25<50,"N","Y") -> N | S25: =IF(N25<50,"N","Y") -> N
A26: 17 | B26: C.S.MOHANA | C26: 1SG15EE017 | D26: 10 | E26: 6 | F26: 4 | G26: 3 | H26: 10 | I26: 8 | J26: =IF(D26="AB",0,D26/15*100) -> 66.666667 | K26: =IF(E26="AB",0,E26/15*100) -> 40 | L26: =IF(F26="AB",0,F26/15*100) -> 26.666667 | M26: =IF(G26="AB",0,G26/15*100) -> 20 | N26: =IF(H26="AB",0,H26/15*100) -> 66.666667 | O26: =IF(J26<50,"N","Y") -> Y | P26: =IF(K26<50,"N","Y") -> N | Q26: =IF(L26<50,"N","Y") -> N | R26: =IF(M26<50,"N","Y") -> N | S26: =IF(N26<50,"N","Y") -> Y
A27: 18 | B27: CHAITHRA K.R | C27: 1SG15EE018 | D27: 6 | E27: 6 | F27: 10 | G27: 4 | H27: 10 | I27: 10 | J27: =IF(D27="AB",0,D27/15*100) -> 40 | K27: =IF(E27="AB",0,E27/15*100) -> 40 | L27: =IF(F27="AB",0,F27/15*100) -> 66.666667 | M27: =IF(G27="AB",0,G27/15*100) -> 26.666667 | N27: =IF(H27="AB",0,H27/15*100) -> 66.666667 | O27: =IF(J27<50,"N","Y") -> N | P27: =IF(K27<50,"N","Y") -> N | Q27: =IF(L27<50,"N","Y") -> Y | R27: =IF(M27<50,"N","Y") -> N | S27: =IF(N27<50,"N","Y") -> Y
A28: 19 | B28: CHAITRA S | C28: 1SG15EE019 | D28: 10 | E28: 8 | F28: 10 | G28: 7 | H28: 10 | I28: 10 | J28: =IF(D28="AB",0,D28/15*100) -> 66.666667 | K28: =IF(E28="AB",0,E28/15*100) -> 53.333333 | L28: =IF(F28="AB",0,F28/15*100) -> 66.666667 | M28: =IF(G28="AB",0,G28/15*100) -> 46.666667 | N28: =IF(H28="AB",0,H28/15*100) -> 66.666667 | O28: =IF(J28<50,"N","Y") -> Y | P28: =IF(K28<50,"N","Y") -> Y | Q28: =IF(L28<50,"N","Y") -> Y | R28: =IF(M28<50,"N","Y") -> N | S28: =IF(N28<50,"N","Y") -> Y
A29: 20 | B29: CHANDAN.G | C29: 1SG15EE020 | D29: 10 | E29: 1 | F29: 5 | G29: 4 | H29: 10 | I29: 9 | J29: =IF(D29="AB",0,D29/15*100) -> 66.666667 | K29: =IF(E29="AB",0,E29/15*100) -> 6.6666667 | L29: =IF(F29="AB",0,F29/15*100) -> 33.333333 | M29: =IF(G29="AB",0,G29/15*100) -> 26.666667 | N29: =IF(H29="AB",0,H29/15*100) -> 66.666667 | O29: =IF(J29<50,"N","Y") -> Y | P29: =IF(K29<50,"N","Y") -> N | Q29: =IF(L29<50,"N","Y") -> N | R29: =IF(M29<50,"N","Y") -> N | S29: =IF(N29<50,"N","Y") -> Y
A30: 21 | B30: CHANDAN GOWDA P | C30: 1SG15EE021 | D30: 10 | E30: 6 | F30: 10 | G30: 5 | H30: AB | I30: AB | J30: =IF(D30="AB",0,D30/15*100) -> 66.666667 | K30: =IF(E30="AB",0,E30/15*100) -> 40 | L30: =IF(F30="AB",0,F30/15*100) -> 66.666667 | M30: =IF(G30="AB",0,G30/15*100) -> 33.333333 | N30: =IF(H30="AB",0,H30/15*100) -> 0 | O30: =IF(J30<50,"N","Y") -> Y | P30: =IF(K30<50,"N","Y") -> N | Q30: =IF(L30<50,"N","Y") -> Y | R30: =IF(M30<50,"N","Y") -> N | S30: =IF(N30<50,"N","Y") -> N
A31: 22 | B31: CHANDAN KUMAR | C31: 1SG15EE022 | D31: AB | E31: AB | F31: 10 | G31: 5 | H31: 10 | I31: 10 | J31: =IF(D31="AB",0,D31/15*100) -> 0 | K31: =IF(E31="AB",0,E31/15*100) -> 0 | L31: =IF(F31="AB",0,F31/15*100) -> 66.666667 | M31: =IF(G31="AB",0,G31/15*100) -> 33.333333 | N31: =IF(H31="AB",0,H31/15*100) -> 66.666667 | O31: =IF(J31<50,"N","Y") -> N | P31: =IF(K31<50,"N","Y") -> N | Q31: =IF(L31<50,"N","Y") -> Y | R31: =IF(M31<50,"N","Y") -> N | S31: =IF(N31<50,"N","Y") -> Y
A32: 23 | B32: CHANDAN B | C32: 1SG15EE023 | D32: AB | E32: AB | F32: 9 | G32: 9 | H32: 10 | I32: 9 | J32: =IF(D32="AB",0,D32/15*100) -> 0 | K32: =IF(E32="AB",0,E32/15*100) -> 0 | L32: =IF(F32="AB",0,F32/15*100) -> 60 | M32: =IF(G32="AB",0,G32/15*100) -> 60 | N32: =IF(H32="AB",0,H32/15*100) -> 66.666667 | O32: =IF(J32<50,"N","Y") -> N | P32: =IF(K32<50,"N","Y") -> N | Q32: =IF(L32<50,"N","Y") -> Y | R32: =IF(M32<50,"N","Y") -> Y | S32: =IF(N32<50,"N","Y") -> Y
A33: 24 | B33: CHARITHA M C | C33: 1SG15EE024 | D33: 10 | E33: 9 | F33: 8 | G33: 8 | H33: 9 | I33: 9 | J33: =IF(D33="AB",0,D33/15*100) -> 66.666667 | K33: =IF(E33="AB",0,E33/15*100) -> 60 | L33: =IF(F33="AB",0,F33/15*100) -> 53.333333 | M33: =IF(G33="AB",0,G33/15*100) -> 53.333333 | N33: =IF(H33="AB",0,H33/15*100) -> 60 | O33: =IF(J33<50,"N","Y") -> Y | P33: =IF(K33<50,"N","Y") -> Y | Q33: =IF(L33<50,"N","Y") -> Y | R33: =IF(M33<50,"N","Y") -> Y | S33: =IF(N33<50,"N","Y") -> Y
A34: 25 | B34: CHAYA K | C34: 1SG15EE025 | D34: 10 | E34: 5 | F34: 6 | G34: 6 | H34: 10 | I34: 9 | J34: =IF(D34="AB",0,D34/15*100) -> 66.666667 | K34: =IF(E34="AB",0,E34/15*100) -> 33.333333 | L34: =IF(F34="AB",0,F34/15*100) -> 40 | M34: =IF(G34="AB",0,G34/15*100) -> 40 | N34: =IF(H34="AB",0,H34/15*100) -> 66.666667 | O34: =IF(J34<50,"N","Y") -> Y | P34: =IF(K34<50,"N","Y") -> N | Q34: =IF(L34<50,"N","Y") -> N | R34: =IF(M34<50,"N","Y") -> N | S34: =IF(N34<50,"N","Y") -> Y
A35: 26 | B35: D.MANISH NAICKER | C35: 1SG15EE026 | D35: 10 | E35: 6 | F35: 10 | G35: 6 | H35: 10 | I35: 10 | J35: =IF(D35="AB",0,D35/15*100) -> 66.666667 | K35: =IF(E35="AB",0,E35/15*100) -> 40 | L35: =IF(F35="AB",0,F35/15*100) -> 66.666667 | M35: =IF(G35="AB",0,G35/15*100) -> 40 | N35: =IF(H35="AB",0,H35/15*100) -> 66.666667 | O35: =IF(J35<50,"N","Y") -> Y | P35: =IF(K35<50,"N","Y") -> N | Q35: =IF(L35<50,"N","Y") -> Y | R35: =IF(M35<50,"N","Y") -> N | S35: =IF(N35<50,"N","Y") -> Y
A36: 27 | B36: DARSHAN N | C36: 1SG15EE027 | D36: 3 | E36: 2 | F36: 10 | G36: 6 | H36: 10 | I36: 4 | J36: =IF(D36="AB",0,D36/15*100) -> 20 | K36: =IF(E36="AB",0,E36/15*100) -> 13.333333 | L36: =IF(F36="AB",0,F36/15*100) -> 66.666667 | M36: =IF(G36="AB",0,G36/15*100) -> 40 | N36: =IF(H36="AB",0,H36/15*100) -> 66.666667 | O36: =IF(J36<50,"N","Y") -> N | P36: =IF(K36<50,"N","Y") -> N | Q36: =IF(L36<50,"N","Y") -> Y | R36: =IF(M36<50,"N","Y") -> N | S36: =IF(N36<50,"N","Y") -> Y
A37: 28 | B37: DHANUSH P | C37: 1SG15EE028 | D37: 4 | E37: 3 | F37: 10 | G37: 8 | H37: 10 | I37: 10 | J37: =IF(D37="AB",0,D37/15*100) -> 26.666667 | K37: =IF(E37="AB",0,E37/15*100) -> 20 | L37: =IF(F37="AB",0,F37/15*100) -> 66.666667 | M37: =IF(G37="AB",0,G37/15*100) -> 53.333333 | N37: =IF(H37="AB",0,H37/15*100) -> 66.666667 | O37: =IF(J37<50,"N","Y") -> N | P37: =IF(K37<50,"N","Y") -> N | Q37: =IF(L37<50,"N","Y") -> Y | R37: =IF(M37<50,"N","Y") -> Y | S37: =IF(N37<50,"N","Y") -> Y
A38: 29 | B38: G.TEJASHREE | C38: 1SG15EE029 | D38: 10 | E38: 7 | F38: 10 | G38: 7 | H38: 10 | I38: 10 | J38: =IF(D38="AB",0,D38/15*100) -> 66.666667 | K38: =IF(E38="AB",0,E38/15*100) -> 46.666667 | L38: =IF(F38="AB",0,F38/15*100) -> 66.666667 | M38: =IF(G38="AB",0,G38/15*100) -> 46.666667 | N38: =IF(H38="AB",0,H38/15*100) -> 66.666667 | O38: =IF(J38<50,"N","Y") -> Y | P38: =IF(K38<50,"N","Y") -> N | Q38: =IF(L38<50,"N","Y") -> Y | R38: =IF(M38<50,"N","Y") -> N | S38: =IF(N38<50,"N","Y") -> Y
A39: 30 | B39: GAJENDRA N | C39: 1SG15EE030 | D39: 10 | E39: 8 | F39: 5 | G39: 5 | H39: AB | I39: AB | J39: =IF(D39="AB",0,D39/15*100) -> 66.666667 | K39: =IF(E39="AB",0,E39/15*100) -> 53.333333 | L39: =IF(F39="AB",0,F39/15*100) -> 33.333333 | M39: =IF(G39="AB",0,G39/15*100) -> 33.333333 | N39: =IF(H39="AB",0,H39/15*100) -> 0 | O39: =IF(J39<50,"N","Y") -> Y | P39: =IF(K39<50,"N","Y") -> Y | Q39: =IF(L39<50,"N","Y") -> N | R39: =IF(M39<50,"N","Y") -> N | S39: =IF(N39<50,"N","Y") -> N
A40: 31 | B40: GANESH RAO S | C40: 1SG15EE031 | D40: 3 | E40: 3 | F40: 10 | G40: 10 | H40: 10 | I40: 7 | J40: =IF(D40="AB",0,D40/15*100) -> 20 | K40: =IF(E40="AB",0,E40/15*100) -> 20 | L40: =IF(F40="AB",0,F40/15*100) -> 66.666667 | M40: =IF(G40="AB",0,G40/15*100) -> 66.666667 | N40: =IF(H40="AB",0,H40/15*100) -> 66.666667 | O40: =IF(J40<50,"N","Y") -> N | P40: =IF(K40<50,"N","Y") -> N | Q40: =IF(L40<50,"N","Y") -> Y | R40: =IF(M40<50,"N","Y") -> Y | S40: =IF(N40<50,"N","Y") -> Y
A41: 32 | B41: GAHANSHYAM N.G | C41: 1SG15EE032 | D41: 6 | E41: 6 | F41: 10 | G41: 10 | H41: 10 | I41: 7 | J41: =IF(D41="AB",0,D41/15*100) -> 40 | K41: =IF(E41="AB",0,E41/15*100) -> 40 | L41: =IF(F41="AB",0,F41/15*100) -> 66.666667 | M41: =IF(G41="AB",0,G41/15*100) -> 66.666667 | N41: =IF(H41="AB",0,H41/15*100) -> 66.666667 | O41: =IF(J41<50,"N","Y") -> N | P41: =IF(K41<50,"N","Y") -> N | Q41: =IF(L41<50,"N","Y") -> Y | R41: =IF(M41<50,"N","Y") -> Y | S41: =IF(N41<50,"N","Y") -> Y
A42: 33 | B42: GIRISH V | C42: 1SG15EE033 | D42: 6 | E42: 6 | F42: 6 | G42: 6 | H42: 1 | I42: 1 | J42: =IF(D42="AB",0,D42/15*100) -> 40 | K42: =IF(E42="AB",0,E42/15*100) -> 40 | L42: =IF(F42="AB",0,F42/15*100) -> 40 | M42: =IF(G42="AB",0,G42/15*100) -> 40 | N42: =IF(H42="AB",0,H42/15*100) -> 6.6666667 | O42: =IF(J42<50,"N","Y") -> N | P42: =IF(K42<50,"N","Y") -> N | Q42: =IF(L42<50,"N","Y") -> N | R42: =IF(M42<50,"N","Y") -> N | S42: =IF(N42<50,"N","Y") -> N
A43: 34 | B43: GURURAJA.D | C43: 1SG15EE034 | D43: 10 | E43: 1 | F43: 10 | G43: 3 | H43: 2 | I43: 1 | J43: =IF(D43="AB",0,D43/15*100) -> 66.666667 | K43: =IF(E43="AB",0,E43/15*100) -> 6.6666667 | L43: =IF(F43="AB",0,F43/15*100) -> 66.666667 | M43: =IF(G43="AB",0,G43/15*100) -> 20 | N43: =IF(H43="AB",0,H43/15*100) -> 13.333333 | O43: =IF(J43<50,"N","Y") -> Y | P43: =IF(K43<50,"N","Y") -> N | Q43: =IF(L43<50,"N","Y") -> Y | R43: =IF(M43<50,"N","Y") -> N | S43: =IF(N43<50,"N","Y") -> N
A44: 35 | B44: HARSHITHA GOWDA S | C44: 1SG15EE035 | D44: 10 | E44: 4 | F44: 10 | G44: 7 | H44: 10 | I44: 10 | J44: =IF(D44="AB",0,D44/15*100) -> 66.666667 | K44: =IF(E44="AB",0,E44/15*100) -> 26.666667 | L44: =IF(F44="AB",0,F44/15*100) -> 66.666667 | M44: =IF(G44="AB",0,G44/15*100) -> 46.666667 | N44: =IF(H44="AB",0,H44/15*100) -> 66.666667 | O44: =IF(J44<50,"N","Y") -> Y | P44: =IF(K44<50,"N","Y") -> N | Q44: =IF(L44<50,"N","Y") -> Y | R44: =IF(M44<50,"N","Y") -> N | S44: =IF(N44<50,"N","Y") -> Y
A45: 36 | B45: HARSHITHA V | C45: 1SG15EE036 | D45: 2 | E45: 2 | F45: 5 | G45: 4 | H45: 8 | I45: 7 | J45: =IF(D45="AB",0,D45/15*100) -> 13.333333 | K45: =IF(E45="AB",0,E45/15*100) -> 13.333333 | L45: =IF(F45="AB",0,F45/15*100) -> 33.333333 | M45: =IF(G45="AB",0,G45/15*100) -> 26.666667 | N45: =IF(H45="AB",0,H45/15*100) -> 53.333333 | O45: =IF(J45<50,"N","Y") -> N | P45: =IF(K45<50,"N","Y") -> N | Q45: =IF(L45<50,"N","Y") -> N | R45: =IF(M45<50,"N","Y") -> N | S45: =IF(N45<50,"N","Y") -> Y
A46: 37 | B46: IRENE JACOB | C46: 1SG15EE037 | D46: 9 | E46: 9 | F46: 10 | G46: 10 | H46: AB | I46: AB | J46: =IF(D46="AB",0,D46/15*100) -> 60 | K46: =IF(E46="AB",0,E46/15*100) -> 60 | L46: =IF(F46="AB",0,F46/15*100) -> 66.666667 | M46: =IF(G46="AB",0,G46/15*100) -> 66.666667 | N46: =IF(H46="AB",0,H46/15*100) -> 0 | O46: =IF(J46<50,"N","Y") -> Y | P46: =IF(K46<50,"N","Y") -> Y | Q46: =IF(L46<50,"N","Y") -> Y | R46: =IF(M46<50,"N","Y") -> Y | S46: =IF(N46<50,"N","Y") -> N
A47: 38 | B47: JEEVITHA A | C47: 1SG15EE038 | D47: 9 | E47: 9 | F47: 10 | G47: 10 | H47: 10 | I47: 10 | J47: =IF(D47="AB",0,D47/15*100) -> 60 | K47: =IF(E47="AB",0,E47/15*100) -> 60 | L47: =IF(F47="AB",0,F47/15*100) -> 66.666667 | M47: =IF(G47="AB",0,G47/15*100) -> 66.666667 | N47: =IF(H47="AB",0,H47/15*100) -> 66.666667 | O47: =IF(J47<50,"N","Y") -> Y | P47: =IF(K47<50,"N","Y") -> Y | Q47: =IF(L47<50,"N","Y") -> Y | R47: =IF(M47<50,"N","Y") -> Y | S47: =IF(N47<50,"N","Y") -> Y
A48: 39 | B48: K LAVENYA | C48: 1SG15EE039 | D48: 6 | E48: 6 | F48: 3 | G48: 2 | H48: 6 | I48: 5 | J48: =IF(D48="AB",0,D48/15*100) -> 40 | K48: =IF(E48="AB",0,E48/15*100) -> 40 | L48: =IF(F48="AB",0,F48/15*100) -> 20 | M48: =IF(G48="AB",0,G48/15*100) -> 13.333333 | N48: =IF(H48="AB",0,H48/15*100) -> 40 | O48: =IF(J48<50,"N","Y") -> N | P48: =IF(K48<50,"N","Y") -> N | Q48: =IF(L48<50,"N","Y") -> N | R48: =IF(M48<50,"N","Y") -> N | S48: =IF(N48<50,"N","Y") -> N
A49: 40 | B49: KARTHIK B | C49: 1SG15EE040 | D49: 10 | E49: 10 | F49: 10 | G49: 10 | H49: AB | I49: AB | J49: =IF(D49="AB",0,D49/15*100) -> 66.666667 | K49: =IF(E49="AB",0,E49/15*100) -> 66.666667 | L49: =IF(F49="AB",0,F49/15*100) -> 66.666667 | M49: =IF(G49="AB",0,G49/15*100) -> 66.666667 | N49: =IF(H49="AB",0,H49/15*100) -> 0 | O49: =IF(J49<50,"N","Y") -> Y | P49: =IF(K49<50,"N","Y") -> Y | Q49: =IF(L49<50,"N","Y") -> Y | R49: =IF(M49<50,"N","Y") -> Y | S49: =IF(N49<50,"N","Y") -> N
A50: 41 | B50: KEERTHANA R | C50: 1SG15EE041 | D50: 6 | E50: 6 | F50: 7 | G50: 6 | H50: AB | I50: AB | J50: =IF(D50="AB",0,D50/15*100) -> 40 | K50: =IF(E50="AB",0,E50/15*100) -> 40 | L50: =IF(F50="AB",0,F50/15*100) -> 46.666667 | M50: =IF(G50="AB",0,G50/15*100) -> 40 | N50: =IF(H50="AB",0,H50/15*100) -> 0 | O50: =IF(J50<50,"N","Y") -> N | P50: =IF(K50<50,"N","Y") -> N | Q50: =IF(L50<50,"N","Y") -> N | R50: =IF(M50<50,"N","Y") -> N | S50: =IF(N50<50,"N","Y") -> N
A51: 42 | B51: LOHITH S | C51: 1SG15EE042 | D51: 10 | E51: 9 | F51: 8 | G51: 7 | H51: 10 | I51: 10 | J51: =IF(D51="AB",0,D51/15*100) -> 66.666667 | K51: =IF(E51="AB",0,E51/15*100) -> 60 | L51: =IF(F51="AB",0,F51/15*100) -> 53.333333 | M51: =IF(G51="AB",0,G51/15*100) -> 46.666667 | N51: =IF(H51="AB",0,H51/15*100) -> 66.666667 | O51: =IF(J51<50,"N","Y") -> Y | P51: =IF(K51<50,"N","Y") -> Y | Q51: =IF(L51<50,"N","Y") -> Y | R51: =IF(M51<50,"N","Y") -> N | S51: =IF(N51<50,"N","Y") -> Y
A52: 43 | B52: MADHU B.K | C52: 1SG15EE043 | D52: 6 | E52: 6 | F52: 7 | G52: 7 | H52: 10 | I52: 9 | J52: =IF(D52="AB",0,D52/15*100) -> 40 | K52: =IF(E52="AB",0,E52/15*100) -> 40 | L52: =IF(F52="AB",0,F52/15*100) -> 46.666667 | M52: =IF(G52="AB",0,G52/15*100) -> 46.666667 | N52: =IF(H52="AB",0,H52/15*100) -> 66.666667 | O52: =IF(J52<50,"N","Y") -> N | P52: =IF(K52<50,"N","Y") -> N | Q52: =IF(L52<50,"N","Y") -> N | R52: =IF(M52<50,"N","Y") -> N | S52: =IF(N52<50,"N","Y") -> Y
A53: 44 | B53: MAHALAKSHMI.V | C53: 1SG15EE044 | D53: 6 | E53: 6 | F53: 6 | G53: 6 | H53: 1 | I53: 1 | J53: =IF(D53="AB",0,D53/15*100) -> 40 | K53: =IF(E53="AB",0,E53/15*100) -> 40 | L53: =IF(F53="AB",0,F53/15*100) -> 40 | M53: =IF(G53="AB",0,G53/15*100) -> 40 | N53: =IF(H53="AB",0,H53/15*100) -> 6.6666667 | O53: =IF(J53<50,"N","Y") -> N | P53: =IF(K53<50,"N","Y") -> N | Q53: =IF(L53<50,"N","Y") -> N | R53: =IF(M53<50,"N","Y") -> N | S53: =IF(N53<50,"N","Y") -> N
A54: 45 | B54: MAHENDHAR K | C54: 1SG15EE045 | D54: 5 | E54: 4 | F54: 4 | G54: 3 | H54: 8 | I54: 7 | J54: =IF(D54="AB",0,D54/15*100) -> 33.333333 | K54: =IF(E54="AB",0,E54/15*100) -> 26.666667 | L54: =IF(F54="AB",0,F54/15*100) -> 26.666667 | M54: =IF(G54="AB",0,G54/15*100) -> 20 | N54: =IF(H54="AB",0,H54/15*100) -> 53.333333 | O54: =IF(J54<50,"N","Y") -> N | P54: =IF(K54<50,"N","Y") -> N | Q54: =IF(L54<50,"N","Y") -> N | R54: =IF(M54<50,"N","Y") -> N | S54: =IF(N54<50,"N","Y") -> Y
A55: 46 | B55: MANASA H | C55: 1SG15EE046 | D55: 6 | E55: 5 | F55: 6 | G55: 6 | H55: 9 | I55: 9 | J55: =IF(D55="AB",0,D55/15*100) -> 40 | K55: =IF(E55="AB",0,E55/15*100) -> 33.333333 | L55: =IF(F55="AB",0,F55/15*100) -> 40 | M55: =IF(G55="AB",0,G55/15*100) -> 40 | N55: =IF(H55="AB",0,H55/15*100) -> 60 | O55: =IF(J55<50,"N","Y") -> N | P55: =IF(K55<50,"N","Y") -> N | Q55: =IF(L55<50,"N","Y") -> N | R55: =IF(M55<50,"N","Y") -> N | S55: =IF(N55<50,"N","Y") -> Y
A56: 47 | B56: MANISH MANJUNATH N.R | C56: 1SG15EE047 | D56: 7 | E56: 7 | F56: 9 | G56: 9 | H56: 9 | I56: 9 | J56: =IF(D56="AB",0,D56/15*100) -> 46.666667 | K56: =IF(E56="AB",0,E56/15*100) -> 46.666667 | L56: =IF(F56="AB",0,F56/15*100) -> 60 | M56: =IF(G56="AB",0,G56/15*100) -> 60 | N56: =IF(H56="AB",0,H56/15*100) -> 60 | O56: =IF(J56<50,"N","Y") -> N | P56: =IF(K56<50,"N","Y") -> N | Q56: =IF(L56<50,"N","Y") -> Y | R56: =IF(M56<50,"N","Y") -> Y | S56: =IF(N56<50,"N","Y") -> Y
A57: 48 | B57: MANJULA.S | C57: 1SG15EE048 | D57: 6 | E57: 6 | F57: 6 | G57: 6 | H57: 7 | I57: 7 | J57: =IF(D57="AB",0,D57/15*100) -> 40 | K57: =IF(E57="AB",0,E57/15*100) -> 40 | L57: =IF(F57="AB",0,F57/15*100) -> 40 | M57: =IF(G57="AB",0,G57/15*100) -> 40 | N57: =IF(H57="AB",0,H57/15*100) -> 46.666667 | O57: =IF(J57<50,"N","Y") -> N | P57: =IF(K57<50,"N","Y") -> N | Q57: =IF(L57<50,"N","Y") -> N | R57: =IF(M57<50,"N","Y") -> N | S57: =IF(N57<50,"N","Y") -> N
A58: 49 | B58: MANOHARA S | C58: 1SG15EE049 | D58: 7 | E58: 7 | F58: 5 | G58: 5 | H58: AB | I58: AB | J58: =IF(D58="AB",0,D58/15*100) -> 46.666667 | K58: =IF(E58="AB",0,E58/15*100) -> 46.666667 | L58: =IF(F58="AB",0,F58/15*100) -> 33.333333 | M58: =IF(G58="AB",0,G58/15*100) -> 33.333333 | N58: =IF(H58="AB",0,H58/15*100) -> 0 | O58: =IF(J58<50,"N","Y") -> N | P58: =IF(K58<50,"N","Y") -> N | Q58: =IF(L58<50,"N","Y") -> N | R58: =IF(M58<50,"N","Y") -> N | S58: =IF(N58<50,"N","Y") -> N
A59: 50 | B59: MANOJ B.N | C59: 1SG15EE050 | D59: 10 | E59: 9 | F59: 10 | G59: 7 | H59: 10 | I59: 10 | J59: =IF(D59="AB",0,D59/15*100) -> 66.666667 | K59: =IF(E59="AB",0,E59/15*100) -> 60 | L59: =IF(F59="AB",0,F59/15*100) -> 66.666667 | M59: =IF(G59="AB",0,G59/15*100) -> 46.666667 | N59: =IF(H59="AB",0,H59/15*100) -> 66.666667 | O59: =IF(J59<50,"N","Y") -> Y | P59: =IF(K59<50,"N","Y") -> Y | Q59: =IF(L59<50,"N","Y") -> Y | R59: =IF(M59<50,"N","Y") -> N | S59: =IF(N59<50,"N","Y") -> Y
A60: 51 | B60: MANOJ.N | C60: 1SG15EE051 | D60: 8 | E60: 7 | F60: 8 | G60: 8 | H60: 10 | I60: 9 | J60: =IF(D60="AB",0,D60/15*100) -> 53.333333 | K60: =IF(E60="AB",0,E60/15*100) -> 46.666667 | L60: =IF(F60="AB",0,F60/15*100) -> 53.333333 | M60: =IF(G60="AB",0,G60/15*100) -> 53.333333 | N60: =IF(H60="AB",0,H60/15*100) -> 66.666667 | O60: =IF(J60<50,"N","Y") -> Y | P60: =IF(K60<50,"N","Y") -> N | Q60: =IF(L60<50,"N","Y") -> Y | R60: =IF(M60<50,"N","Y") -> Y | S60: =IF(N60<50,"N","Y") -> Y
A61: 52 | B61: MEGHANA.N | C61: 1SG15EE052 | D61: 0 | E61: 1 | F61: 5 | G61: 5 | H61: 7 | I61: 7 | J61: =IF(D61="AB",0,D61/15*100) -> 0 | K61: =IF(E61="AB",0,E61/15*100) -> 6.6666667 | L61: =IF(F61="AB",0,F61/15*100) -> 33.333333 | M61: =IF(G61="AB",0,G61/15*100) -> 33.333333 | N61: =IF(H61="AB",0,H61/15*100) -> 46.666667 | O61: =IF(J61<50,"N","Y") -> N | P61: =IF(K61<50,"N","Y") -> N | Q61: =IF(L61<50,"N","Y") -> N | R61: =IF(M61<50,"N","Y") -> N | S61: =IF(N61<50,"N","Y") -> N
A62: 53 | B62: MEGHANA HULIKAL.S | C62: 1SG15EE053 | D62: 2 | E62: 2 | F62: 7 | G62: 7 | H62: 10 | I62: 9 | J62: =IF(D62="AB",0,D62/15*100) -> 13.333333 | K62: =IF(E62="AB",0,E62/15*100) -> 13.333333 | L62: =IF(F62="AB",0,F62/15*100) -> 46.666667 | M62: =IF(G62="AB",0,G62/15*100) -> 46.666667 | N62: =IF(H62="AB",0,H62/15*100) -> 66.666667 | O62: =IF(J62<50,"N","Y") -> N | P62: =IF(K62<50,"N","Y") -> N | Q62: =IF(L62<50,"N","Y") -> N | R62: =IF(M62<50,"N","Y") -> N | S62: =IF(N62<50,"N","Y") -> Y
A63: 54 | B63: MOHAMED JAFFER SAADIQ | C63: 1SG15EE054 | D63: 0 | E63: 0 | F63: 7 | G63: 7 | H63: 10 | I63: 7 | J63: =IF(D63="AB",0,D63/15*100) -> 0 | K63: =IF(E63="AB",0,E63/15*100) -> 0 | L63: =IF(F63="AB",0,F63/15*100) -> 46.666667 | M63: =IF(G63="AB",0,G63/15*100) -> 46.666667 | N63: =IF(H63="AB",0,H63/15*100) -> 66.666667 | O63: =IF(J63<50,"N","Y") -> N | P63: =IF(K63<50,"N","Y") -> N | Q63: =IF(L63<50,"N","Y") -> N | R63: =IF(M63<50,"N","Y") -> N | S63: =IF(N63<50,"N","Y") -> Y
A64: 55 | B64: MONISH.N.G | C64: 1SG15EE055 | D64: 2 | E64: 2 | F64: 7 | G64: 7 | H64: 8 | I64: 7 | J64: =IF(D64="AB",0,D64/15*100) -> 13.333333 | K64: =IF(E64="AB",0,E64/15*100) -> 13.333333 | L64: =IF(F64="AB",0,F64/15*100) -> 46.666667 | M64: =IF(G64="AB",0,G64/15*100) -> 46.666667 | N64: =IF(H64="AB",0,H64/15*100) -> 53.333333 | O64: =IF(J64<50,"N","Y") -> N | P64: =IF(K64<50,"N","Y") -> N | Q64: =IF(L64<50,"N","Y") -> N | R64: =IF(M64<50,"N","Y") -> N | S64: =IF(N64<50,"N","Y") -> Y
A65: 56 | B65: MOUNIKA G.B | C65: 1SG15EE056 | D65: 3 | E65: 2 | F65: 6 | G65: 6 | H65: 10 | I65: 7 | J65: =IF(D65="AB",0,D65/15*100) -> 20 | K65: =IF(E65="AB",0,E65/15*100) -> 13.333333 | L65: =IF(F65="AB",0,F65/15*100) -> 40 | M65: =IF(G65="AB",0,G65/15*100) -> 40 | N65: =IF(H65="AB",0,H65/15*100) -> 66.666667 | O65: =IF(J65<50,"N","Y") -> N | P65: =IF(K65<50,"N","Y") -> N | Q65: =IF(L65<50,"N","Y") -> N | R65: =IF(M65<50,"N","Y") -> N | S65: =IF(N65<50,"N","Y") -> Y
A66: 57 | B66: NAGARAJ | C66: 1SG15EE057 | D66: 10 | E66: 7 | F66: 10 | G66: 9 | H66: 10 | I66: 10 | J66: =IF(D66="AB",0,D66/15*100) -> 66.666667 | K66: =IF(E66="AB",0,E66/15*100) -> 46.666667 | L66: =IF(F66="AB",0,F66/15*100) -> 66.666667 | M66: =IF(G66="AB",0,G66/15*100) -> 60 | N66: =IF(H66="AB",0,H66/15*100) -> 66.666667 | O66: =IF(J66<50,"N","Y") -> Y | P66: =IF(K66<50,"N","Y") -> N | Q66: =IF(L66<50,"N","Y") -> Y | R66: =IF(M66<50,"N","Y") -> Y | S66: =IF(N66<50,"N","Y") -> Y
A67: 58 | B67: NAVYA.S.R | C67: 1SG15EE058 | D67: 7 | E67: 7 | F67: 9 | G67: 9 | H67: 10 | I67: 10 | J67: =IF(D67="AB",0,D67/15*100) -> 46.666667 | K67: =IF(E67="AB",0,E67/15*100) -> 46.666667 | L67: =IF(F67="AB",0,F67/15*100) -> 60 | M67: =IF(G67="AB",0,G67/15*100) -> 60 | N67: =IF(H67="AB",0,H67/15*100) -> 66.666667 | O67: =IF(J67<50,"N","Y") -> N | P67: =IF(K67<50,"N","Y") -> N | Q67: =IF(L67<50,"N","Y") -> Y | R67: =IF(M67<50,"N","Y") -> Y | S67: =IF(N67<50,"N","Y") -> Y
A68: 59 | B68: NETHRA.R | C68: 1SG15EE059 | D68: 8 | E68: 5 | F68: 6 | G68: 6 | H68: 7 | I68: 7 | J68: =IF(D68="AB",0,D68/15*100) -> 53.333333 | K68: =IF(E68="AB",0,E68/15*100) -> 33.333333 | L68: =IF(F68="AB",0,F68/15*100) -> 40 | M68: =IF(G68="AB",0,G68/15*100) -> 40 | N68: =IF(H68="AB",0,H68/15*100) -> 46.666667 | O68: =IF(J68<50,"N","Y") -> Y | P68: =IF(K68<50,"N","Y") -> N | Q68: =IF(L68<50,"N","Y") -> N | R68: =IF(M68<50,"N","Y") -> N | S68: =IF(N68<50,"N","Y") -> N
A69: 60 | B69: NITHYA.J | C69: 1SG15EE060 | D69: 4 | E69: 5 | F69: 8 | G69: 8 | H69: 10 | I69: 10 | J69: =IF(D69="AB",0,D69/15*100) -> 26.666667 | K69: =IF(E69="AB",0,E69/15*100) -> 33.333333 | L69: =IF(F69="AB",0,F69/15*100) -> 53.333333 | M69: =IF(G69="AB",0,G69/15*100) -> 53.333333 | N69: =IF(H69="AB",0,H69/15*100) -> 66.666667 | O69: =IF(J69<50,"N","Y") -> N | P69: =IF(K69<50,"N","Y") -> N | Q69: =IF(L69<50,"N","Y") -> Y | R69: =IF(M69<50,"N","Y") -> Y | S69: =IF(N69<50,"N","Y") -> Y
A70: 61 | B70: PAWAN KUMAR.D | C70: 1SG15EE061 | D70: 8 | E70: 8 | F70: 10 | G70: 10 | H70: 10 | I70: 10 | J70: =IF(D70="AB",0,D70/15*100) -> 53.333333 | K70: =IF(E70="AB",0,E70/15*100) -> 53.333333 | L70: =IF(F70="AB",0,F70/15*100) -> 66.666667 | M70: =IF(G70="AB",0,G70/15*100) -> 66.666667 | N70: =IF(H70="AB",0,H70/15*100) -> 66.666667 | O70: =IF(J70<50,"N","Y") -> Y | P70: =IF(K70<50,"N","Y") -> Y | Q70: =IF(L70<50,"N","Y") -> Y | R70: =IF(M70<50,"N","Y") -> Y | S70: =IF(N70<50,"N","Y") -> Y
... A95: 86 | B95: SRIKANT KADGI | C95: 1SG15EE086 | D95: 6 | E95: 6 | F95: 6 | G95: 6 | H95: 10 | I95: 7 | J95: =IF(D95="AB",0,D95/15*100) -> 40 | K95: =IF(E95="AB",0,E95/15*100) -> 40 | L95: =IF(F95="AB",0,F95/15*100) -> 40 | M95: =IF(G95="AB",0,G95/15*100) -> 40 | N95: =IF(H95="AB",0,H95/15*100) -> 66.666667 | O95: =IF(J95<50,"N","Y") -> N | P95: =IF(K95<50,"N","Y") -> N | Q95: =IF(L95<50,"N","Y") -> N | R95: =IF(M95<50,"N","Y") -> N | S95: =IF(N95<50,"N","Y") -> Y
A96: 87 | B96: SUBHARSH SUBH | C96: 1SG15EE087 | D96: 10 | E96: 5 | F96: 9 | G96: 9 | J96: =IF(D96="AB",0,D96/15*100) -> 66.666667 | K96: =IF(E96="AB",0,E96/15*100) -> 33.333333 | L96: =IF(F96="AB",0,F96/15*100) -> 60 | M96: =IF(G96="AB",0,G96/15*100) -> 60 | N96: =IF(H96="AB",0,H96/15*100) -> 0 | O96: =IF(J96<50,"N","Y") -> Y | P96: =IF(K96<50,"N","Y") -> N | Q96: =IF(L96<50,"N","Y") -> Y | R96: =IF(M96<50,"N","Y") -> Y | S96: =IF(N96<50,"N","Y") -> N
A97: 88 | B97: SUMANTH.S | C97: 1SG15EE088 | D97: 9 | E97: 9 | F97: 10 | G97: 9 | H97: 10 | I97: 10 | J97: =IF(D97="AB",0,D97/15*100) -> 60 | K97: =IF(E97="AB",0,E97/15*100) -> 60 | L97: =IF(F97="AB",0,F97/15*100) -> 66.666667 | M97: =IF(G97="AB",0,G97/15*100) -> 60 | N97: =IF(H97="AB",0,H97/15*100) -> 66.666667 | O97: =IF(J97<50,"N","Y") -> Y | P97: =IF(K97<50,"N","Y") -> Y | Q97: =IF(L97<50,"N","Y") -> Y | R97: =IF(M97<50,"N","Y") -> Y | S97: =IF(N97<50,"N","Y") -> Y
A98: 89 | B98: SUPRIYA.P.R | C98: 1SG15EE089 | D98: 10 | E98: 7 | F98: 10 | G98: 5 | H98: 10 | I98: 10 | J98: =IF(D98="AB",0,D98/15*100) -> 66.666667 | K98: =IF(E98="AB",0,E98/15*100) -> 46.666667 | L98: =IF(F98="AB",0,F98/15*100) -> 66.666667 | M98: =IF(G98="AB",0,G98/15*100) -> 33.333333 | N98: =IF(H98="AB",0,H98/15*100) -> 66.666667 | O98: =IF(J98<50,"N","Y") -> Y | P98: =IF(K98<50,"N","Y") -> N | Q98: =IF(L98<50,"N","Y") -> Y | R98: =IF(M98<50,"N","Y") -> N | S98: =IF(N98<50,"N","Y") -> Y
A99: 90 | B99: SURABHI.M | C99: 1SG15EE090 | D99: 0 | E99: 1 | F99: 5 | G99: 5 | H99: 8 | I99: 5 | J99: =IF(D99="AB",0,D99/15*100) -> 0 | K99: =IF(E99="AB",0,E99/15*100) -> 6.6666667 | L99: =IF(F99="AB",0,F99/15*100) -> 33.333333 | M99: =IF(G99="AB",0,G99/15*100) -> 33.333333 | N99: =IF(H99="AB",0,H99/15*100) -> 53.333333 | O99: =IF(J99<50,"N","Y") -> N | P99: =IF(K99<50,"N","Y") -> N | Q99: =IF(L99<50,"N","Y") -> N | R99: =IF(M99<50,"N","Y") -> N | S99: =IF(N99<50,"N","Y") -> Y
A100: 91 | B100: SWATHI.B.C | C100: 1SG15EE091 | D100: 6 | E100: 6 | F100: 10 | G100: 5 | H100: 8 | I100: 8 | J100: =IF(D100="AB",0,D100/15*100) -> 40 | K100: =IF(E100="AB",0,E100/15*100) -> 40 | L100: =IF(F100="AB",0,F100/15*100) -> 66.666667 | M100: =IF(G100="AB",0,G100/15*100) -> 33.333333 | N100: =IF(H100="AB",0,H100/15*100) -> 53.333333 | O100: =IF(J100<50,"N","Y") -> N | P100: =IF(K100<50,"N","Y") -> N | Q100: =IF(L100<50,"N","Y") -> Y | R100: =IF(M100<50,"N","Y") -> N | S100: =IF(N100<50,"N","Y") -> Y
A101: 92 | B101: UMESH KUMAR.B.R | C101: 1SG15EE092 | D101: 3 | E101: 2 | F101: 7 | G101: 7 | H101: 9 | I101: 9 | J101: =IF(D101="AB",0,D101/15*100) -> 20 | K101: =IF(E101="AB",0,E101/15*100) -> 13.333333 | L101: =IF(F101="AB",0,F101/15*100) -> 46.666667 | M101: =IF(G101="AB",0,G101/15*100) -> 46.666667 | N101: =IF(H101="AB",0,H101/15*100) -> 60 | O101: =IF(J101<50,"N","Y") -> N | P101: =IF(K101<50,"N","Y") -> N | Q101: =IF(L101<50,"N","Y") -> N | R101: =IF(M101<50,"N","Y") -> N | S101: =IF(N101<50,"N","Y") -> Y
A102: 93 | B102: VARUN.K.SHETTY | C102: 1SG15EE093 | D102: 3 | E102: 3 | F102: 6 | G102: 6 | H102: 8 | I102: 5 | J102: =IF(D102="AB",0,D102/15*100) -> 20 | K102: =IF(E102="AB",0,E102/15*100) -> 20 | L102: =IF(F102="AB",0,F102/15*100) -> 40 | M102: =IF(G102="AB",0,G102/15*100) -> 40 | N102: =IF(H102="AB",0,H102/15*100) -> 53.333333 | O102: =IF(J102<50,"N","Y") -> N | P102: =IF(K102<50,"N","Y") -> N | Q102: =IF(L102<50,"N","Y") -> N | R102: =IF(M102<50,"N","Y") -> N | S102: =IF(N102<50,"N","Y") -> Y
A103: 94 | B103: VIKAS KUMAR SINGH | C103: 1SG15EE094 | D103: 6 | E103: 6 | F103: 8 | G103: 5 | J103: =IF(D103="AB",0,D103/15*100) -> 40 | K103: =IF(E103="AB",0,E103/15*100) -> 40 | L103: =IF(F103="AB",0,F103/15*100) -> 53.333333 | M103: =IF(G103="AB",0,G103/15*100) -> 33.333333 | N103: =IF(H103="AB",0,H103/15*100) -> 0 | O103: =IF(J103<50,"N","Y") -> N | P103: =IF(K103<50,"N","Y") -> N | Q103: =IF(L103<50,"N","Y") -> Y | R103: =IF(M103<50,"N","Y") -> N | S103: =IF(N103<50,"N","Y") -> N
A104: 95 | B104: VINITH KUMAR.T | C104: 1SG15EE095 | D104: 6 | E104: 6 | F104: 8 | G104: 7 | H104: 8 | I104: 8 | J104: =IF(D104="AB",0,D104/15*100) -> 40 | K104: =IF(E104="AB",0,E104/15*100) -> 40 | L104: =IF(F104="AB",0,F104/15*100) -> 53.333333 | M104: =IF(G104="AB",0,G104/15*100) -> 46.666667 | N104: =IF(H104="AB",0,H104/15*100) -> 53.333333 | O104: =IF(J104<50,"N","Y") -> N | P104: =IF(K104<50,"N","Y") -> N | Q104: =IF(L104<50,"N","Y") -> Y | R104: =IF(M104<50,"N","Y") -> N | S104: =IF(N104<50,"N","Y") -> Y
A105: 96 | B105: VINUTHA.D | C105: 1SG15EE096 | D105: 7 | E105: 7 | F105: 7 | G105: 7 | H105: 10 | I105: 10 | J105: =IF(D105="AB",0,D105/15*100) -> 46.666667 | K105: =IF(E105="AB",0,E105/15*100) -> 46.666667 | L105: =IF(F105="AB",0,F105/15*100) -> 46.666667 | M105: =IF(G105="AB",0,G105/15*100) -> 46.666667 | N105: =IF(H105="AB",0,H105/15*100) -> 66.666667 | O105: =IF(J105<50,"N","Y") -> N | P105: =IF(K105<50,"N","Y") -> N | Q105: =IF(L105<50,"N","Y") -> N | R105: =IF(M105<50,"N","Y") -> N | S105: =IF(N105<50,"N","Y") -> Y
A106: 97 | B106: VISHAL.S.PUJARI | C106: 1SG15EE097 | D106: 6 | E106: 6 | F106: 7 | G106: 7 | H106: 10 | I106: 10 | J106: =IF(D106="AB",0,D106/15*100) -> 40 | K106: =IF(E106="AB",0,E106/15*100) -> 40 | L106: =IF(F106="AB",0,F106/15*100) -> 46.666667 | M106: =IF(G106="AB",0,G106/15*100) -> 46.666667 | N106: =IF(H106="AB",0,H106/15*100) -> 66.666667 | O106: =IF(J106<50,"N","Y") -> N | P106: =IF(K106<50,"N","Y") -> N | Q106: =IF(L106<50,"N","Y") -> N | R106: =IF(M106<50,"N","Y") -> N | S106: =IF(N106<50,"N","Y") -> Y
N108: NO OF Y | O108: =COUNTIF(O10:O106,"=Y") -> 44 | P108: =COUNTIF(P10:P106,"=Y") -> 18 | Q108: =COUNTIF(Q10:Q106,"=Y") -> 55 | R108: =COUNTIF(R10:R106,"=Y") -> 28 | S108: =COUNTIF(S10:S106,"=Y") -> 73
N109: ATTAINMENT | O109: =O108/97*100 -> 45.360825 | P109: =P108/97*100 -> 18.556701 | Q109: =Q108/97*100 -> 56.701031 | R109: =R108/97*100 -> 28.865979 | S109: =S108/97*100 -> 75.257732

Sheet ASSI MARKS  
A1: Sapthagiri College of Engineering
A2: Department of Civil Engineering
A3: SUBJECT :ELEMENETS OF CIVIL ENGINEERING AND MECHANICS SUB CODE:15CIV13
A4: SEM : 2ND | C4: SEC : E | F4: YEAR : 2015-2016
A5: Sl. No. | B5: Name of the student | C5: USN | D5: ASSIGNMENT | I5: ATTAINMENT (%)
I7: I | J7: II | K7: II | L7: II | M7: III
D8: CO1 | E8: CO2 | F8: CO3 | G8: CO4 | H8: CO4 | I8: CO 1 | J8: CO 2 | K8: CO 3 | L8: CO 4 | M8: CO 5
A10: 1 | B10: ABHILASH Y | C10: 1SG15EE001 | D10: 5 | E10: 5 | F10: 5 | G10: 5 | H10: 5 | I10: =IF(D10="AB",0,D10/5*100) -> 100 | J10: =IF(E10="AB",0,E10/5*100) -> 100 | K10: =IF(F10="AB",0,F10/5*100) -> 100 | L10: =IF(G10="AB",0,G10/5*100) -> 100 | M10: =IF(H10="AB",0,H10/5*100) -> 100 | N10: =IF(I10<50,"N","Y") -> Y | O10: =IF(J10<50,"N","Y") -> Y | P10: =IF(K10<50,"N","Y") -> Y | Q10: =IF(L10<50,"N","Y") -> Y | R10: =IF(M10<50,"N","Y") -> Y
A11: 2 | B11: ADITHYA G.T | C11: 1SG15EE002 | D11: 5 | E11: 5 | F11: 5 | G11: 5 | H11: 5 | I11: =IF(D11="AB",0,D11/5*100) -> 100 | J11: =IF(E11="AB",0,E11/5*100) -> 100 | K11: =IF(F11="AB",0,F11/5*100) -> 100 | L11: =IF(G11="AB",0,G11/5*100) -> 100 | M11: =IF(H11="AB",0,H11/5*100) -> 100 | N11: =IF(I11<50,"N","Y") -> Y | O11: =IF(J11<50,"N","Y") -> Y | P11: =IF(K11<50,"N","Y") -> Y | Q11: =IF(L11<50,"N","Y") -> Y | R11: =IF(M11<50,"N","Y") -> Y
A12: 3 | B12: AJAY M | C12: 1SG15EE003 | D12: 5 | E12: 5 | F12: 5 | G12: 5 | H12: 5 | I12: =IF(D12="AB",0,D12/5*100) -> 100 | J12: =IF(E12="AB",0,E12/5*100) -> 100 | K12: =IF(F12="AB",0,F12/5*100) -> 100 | L12: =IF(G12="AB",0,G12/5*100) -> 100 | M12: =IF(H12="AB",0,H12/5*100) -> 100 | N12: =IF(I12<50,"N","Y") -> Y | O12: =IF(J12<50,"N","Y") -> Y | P12: =IF(K12<50,"N","Y") -> Y | Q12: =IF(L12<50,"N","Y") -> Y | R12: =IF(M12<50,"N","Y") -> Y
A13: 4 | B13: AMITH RAUNIYAR | C13: 1SG15EE004 | D13: 5 | E13: 5 | F13: 5 | G13: 5 | H13: 5 | I13: =IF(D13="AB",0,D13/5*100) -> 100 | J13: =IF(E13="AB",0,E13/5*100) -> 100 | K13: =IF(F13="AB",0,F13/5*100) -> 100 | L13: =IF(G13="AB",0,G13/5*100) -> 100 | M13: =IF(H13="AB",0,H13/5*100) -> 100 | N13: =IF(I13<50,"N","Y") -> Y | O13: =IF(J13<50,"N","Y") -> Y | P13: =IF(K13<50,"N","Y") -> Y | Q13: =IF(L13<50,"N","Y") -> Y | R13: =IF(M13<50,"N","Y") -> Y
A14: 5 | B14: ANNAPURNA SINGH | C14: 1SG15EE005 | D14: 5 | E14: 5 | F14: 5 | G14: 5 | H14: 5 | I14: =IF(D14="AB",0,D14/5*100) -> 100 | J14: =IF(E14="AB",0,E14/5*100) -> 100 | K14: =IF(F14="AB",0,F14/5*100) -> 100 | L14: =IF(G14="AB",0,G14/5*100) -> 100 | M14: =IF(H14="AB",0,H14/5*100) -> 100 | N14: =IF(I14<50,"N","Y") -> Y | O14: =IF(J14<50,"N","Y") -> Y | P14: =IF(K14<50,"N","Y") -> Y | Q14: =IF(L14<50,"N","Y") -> Y | R14: =IF(M14<50,"N","Y") -> Y
A15: 6 | B15: ANTONY ROSHAN J D | C15: 1SG15EE006 | D15: 5 | E15: 5 | F15: 5 | G15: 5 | H15: 5 | I15: =IF(D15="AB",0,D15/5*100) -> 100 | J15: =IF(E15="AB",0,E15/5*100) -> 100 | K15: =IF(F15="AB",0,F15/5*100) -> 100 | L15: =IF(G15="AB",0,G15/5*100) -> 100 | M15: =IF(H15="AB",0,H15/5*100) -> 100 | N15: =IF(I15<50,"N","Y") -> Y | O15: =IF(J15<50,"N","Y") -> Y | P15: =IF(K15<50,"N","Y") -> Y | Q15: =IF(L15<50,"N","Y") -> Y | R15: =IF(M15<50,"N","Y") -> Y
A16: 7 | B16: ANUP H V | C16: 1SG15EE007 | D16: 5 | E16: 5 | F16: 5 | G16: 5 | H16: 5 | I16: =IF(D16="AB",0,D16/5*100) -> 100 | J16: =IF(E16="AB",0,E16/5*100) -> 100 | K16: =IF(F16="AB",0,F16/5*100) -> 100 | L16: =IF(G16="AB",0,G16/5*100) -> 100 | M16: =IF(H16="AB",0,H16/5*100) -> 100 | N16: =IF(I16<50,"N","Y") -> Y | O16: =IF(J16<50,"N","Y") -> Y | P16: =IF(K16<50,"N","Y") -> Y | Q16: =IF(L16<50,"N","Y") -> Y | R16: =IF(M16<50,"N","Y") -> Y
A17: 8 | B17: ANUSHA B | C17: 1SG15EE008 | D17: 5 | E17: 5 | F17: 5 | G17: 5 | H17: 5 | I17: =IF(D17="AB",0,D17/5*100) -> 100 | J17: =IF(E17="AB",0,E17/5*100) -> 100 | K17: =IF(F17="AB",0,F17/5*100) -> 100 | L17: =IF(G17="AB",0,G17/5*100) -> 100 | M17: =IF(H17="AB",0,H17/5*100) -> 100 | N17: =IF(I17<50,"N","Y") -> Y | O17: =IF(J17<50,"N","Y") -> Y | P17: =IF(K17<50,"N","Y") -> Y | Q17: =IF(L17<50,"N","Y") -> Y | R17: =IF(M17<50,"N","Y") -> Y
A18: 9 | B18: ANUSHA K | C18: 1SG15EE009 | D18: 5 | E18: 5 | F18: 5 | G18: 5 | H18: 5 | I18: =IF(D18="AB",0,D18/5*100) -> 100 | J18: =IF(E18="AB",0,E18/5*100) -> 100 | K18: =IF(F18="AB",0,F18/5*100) -> 100 | L18: =IF(G18="AB",0,G18/5*100) -> 100 | M18: =IF(H18="AB",0,H18/5*100) -> 100 | N18: =IF(I18<50,"N","Y") -> Y | O18: =IF(J18<50,"N","Y") -> Y | P18: =IF(K18<50,"N","Y") -> Y | Q18: =IF(L18<50,"N","Y") -> Y | R18: =IF(M18<50,"N","Y") -> Y
A19: 10 | B19: APOORVA K.G | C19: 1SG15EE010 | D19: 5 | E19: 5 | F19: 5 | G19: 5 | H19: 5 | I19: =IF(D19="AB",0,D19/5*100) -> 100 | J19: =IF(E19="AB",0,E19/5*100) -> 100 | K19: =IF(F19="AB",0,F19/5*100) -> 100 | L19: =IF(G19="AB",0,G19/5*100) -> 100 | M19: =IF(H19="AB",0,H19/5*100) -> 100 | N19: =IF(I19<50,"N","Y") -> Y | O19: =IF(J19<50,"N","Y") -> Y | P19: =IF(K19<50,"N","Y") -> Y | Q19: =IF(L19<50,"N","Y") -> Y | R19: =IF(M19<50,"N","Y") -> Y
A20: 11 | B20: ARPITHA SHARMA | C20: 1SG15EE011 | D20: 5 | E20: 5 | F20: 5 | G20: 5 | H20: 5 | I20: =IF(D20="AB",0,D20/5*100) -> 100 | J20: =IF(E20="AB",0,E20/5*100) -> 100 | K20: =IF(F20="AB",0,F20/5*100) -> 100 | L20: =IF(G20="AB",0,G20/5*100) -> 100 | M20: =IF(H20="AB",0,H20/5*100) -> 100 | N20: =IF(I20<50,"N","Y") -> Y | O20: =IF(J20<50,"N","Y") -> Y | P20: =IF(K20<50,"N","Y") -> Y | Q20: =IF(L20<50,"N","Y") -> Y | R20: =IF(M20<50,"N","Y") -> Y
A21: 12 | B21: ARPITHA SRINIVASA MURTHY | C21: 1SG15EE012 | D21: 5 | E21: 5 | F21: 5 | G21: 5 | H21: 5 | I21: =IF(D21="AB",0,D21/5*100) -> 100 | J21: =IF(E21="AB",0,E21/5*100) -> 100 | K21: =IF(F21="AB",0,F21/5*100) -> 100 | L21: =IF(G21="AB",0,G21/5*100) -> 100 | M21: =IF(H21="AB",0,H21/5*100) -> 100 | N21: =IF(I21<50,"N","Y") -> Y | O21: =IF(J21<50,"N","Y") -> Y | P21: =IF(K21<50,"N","Y") -> Y | Q21: =IF(L21<50,"N","Y") -> Y | R21: =IF(M21<50,"N","Y") -> Y
... A106: 97 | B106: VISHAL.S.PUJARI | C106: 1SG15EE097 | D106: 5 | E106: 5 | F106: 5 | G106: 5 | H106: 5 | I106: =IF(D106="AB",0,D106/5*100) -> 100 | J106: =IF(E106="AB",0,E106/5*100) -> 100 | K106: =IF(F106="AB",0,F106/5*100) -> 100 | L106: =IF(G106="AB",0,G106/5*100) -> 100 | M106: =IF(H106="AB",0,H106/5*100) -> 100 | N106: =IF(I106<50,"N","Y") -> Y | O106: =IF(J106<50,"N","Y") -> Y | P106: =IF(K106<50,"N","Y") -> Y | Q106: =IF(L106<50,"N","Y") -> Y | R106: =IF(M106<50,"N","Y") -> Y
M108: NO OF Y | N108: =COUNTIF(N10:N106,"=Y") -> 97 | O108: =COUNTIF(O10:O106,"=Y") -> 97 | P108: =COUNTIF(P10:P106,"=Y") -> 97 | Q108: =COUNTIF(Q10:Q106,"=Y") -> 97 | R108: =COUNTIF(R10:R106,"=Y") -> 97
M109: ATTAINMENT | N109: =N108/97*100 -> 100 | O109: =O108/97*100 -> 100 | P109: =P108/97*100 -> 100 | Q109: =Q108/97*100 -> 100 | R109: =R108/97*100 -> 100

Sheet FINAL EXAM
A1: Sapthagiri College of Engineering
A2: Department of Civil Engineering
A3: SUBJECT :ELEMENETS OF CIVIL ENGINEERING AND MECHANICS SUB CODE:15CIV13
A4: SEM : 2ND | C4: SEC : E | F4: YEAR : 2015-2016
A5: Sl. No. | B5: Name of the student | C5: USN | D5: EXTERNAL EXAM | I5: ATTAINMENT (%)
I7: I | J7: II | K7: II | L7: II | M7: III
D8: CO1 | E8: CO2 | F8: CO3 | G8: CO4 | H8: CO4 | I8: CO 1 | J8: CO 2 | K8: CO 3 | L8: CO 4 | M8: CO 5
D9: 10 | E9: 10 | F9: 10 | G9: 10 | H9: 10
A10: 1 | B10: ABHILASH Y | C10: 1SG15EE001 | D10: 60 | E10: 60 | F10: 60 | G10: 60 | H10: 60 | I10: =IF(D10="AB",0,D10/80*100) -> 75 | J10: =IF(E10="AB",0,E10/80*100) -> 75 | K10: =IF(F10="AB",0,F10/80*100) -> 75 | L10: =IF(G10="AB",0,G10/80*100) -> 75 | M10: =IF(H10="AB",0,H10/80*100) -> 75 | N10: =IF(I10<50,"N","Y") -> Y | O10: =IF(J10<50,"N","Y") -> Y | P10: =IF(K10<50,"N","Y") -> Y | Q10: =IF(L10<50,"N","Y") -> Y | R10: =IF(M10<50,"N","Y") -> Y
A11: 2 | B11: ADITHYA G.T | C11: 1SG15EE002 | D11: 30 | E11: 30 | F11: 30 | G11: 30 | H11: 30 | I11: =IF(D11="AB",0,D11/80*100) -> 37.5 | J11: =IF(E11="AB",0,E11/80*100) -> 37.5 | K11: =IF(F11="AB",0,F11/80*100) -> 37.5 | L11: =IF(G11="AB",0,G11/80*100) -> 37.5 | M11: =IF(H11="AB",0,H11/80*100) -> 37.5 | N11: =IF(I11<50,"N","Y") -> N | O11: =IF(J11<50,"N","Y") -> N | P11: =IF(K11<50,"N","Y") -> N | Q11: =IF(L11<50,"N","Y") -> N | R11: =IF(M11<50,"N","Y") -> N
A12: 3 | B12: AJAY M | C12: 1SG15EE003 | D12: 36 | E12: 36 | F12: 36 | G12: 36 | H12: 36 | I12: =IF(D12="AB",0,D12/80*100) -> 45 | J12: =IF(E12="AB",0,E12/80*100) -> 45 | K12: =IF(F12="AB",0,F12/80*100) -> 45 | L12: =IF(G12="AB",0,G12/80*100) -> 45 | M12: =IF(H12="AB",0,H12/80*100) -> 45 | N12: =IF(I12<50,"N","Y") -> N | O12: =IF(J12<50,"N","Y") -> N | P12: =IF(K12<50,"N","Y") -> N | Q12: =IF(L12<50,"N","Y") -> N | R12: =IF(M12<50,"N","Y") -> N
A13: 4 | B13: AMITH RAUNIYAR | C13: 1SG15EE004 | D13: 44 | E13: 44 | F13: 44 | G13: 44 | H13: 44 | I13: =IF(D13="AB",0,D13/80*100) -> 55 | J13: =IF(E13="AB",0,E13/80*100) -> 55 | K13: =IF(F13="AB",0,F13/80*100) -> 55 | L13: =IF(G13="AB",0,G13/80*100) -> 55 | M13: =IF(H13="AB",0,H13/80*100) -> 55 | N13: =IF(I13<50,"N","Y") -> Y | O13: =IF(J13<50,"N","Y") -> Y | P13: =IF(K13<50,"N","Y") -> Y | Q13: =IF(L13<50,"N","Y") -> Y | R13: =IF(M13<50,"N","Y") -> Y
A14: 5 | B14: ANNAPURNA SINGH | C14: 1SG15EE005 | D14: 60 | E14: 60 | F14: 60 | G14: 60 | H14: 60 | I14: =IF(D14="AB",0,D14/80*100) -> 75 | J14: =IF(E14="AB",0,E14/80*100) -> 75 | K14: =IF(F14="AB",0,F14/80*100) -> 75 | L14: =IF(G14="AB",0,G14/80*100) -> 75 | M14: =IF(H14="AB",0,H14/80*100) -> 75 | N14: =IF(I14<50,"N","Y") -> Y | O14: =IF(J14<50,"N","Y") -> Y | P14: =IF(K14<50,"N","Y") -> Y | Q14: =IF(L14<50,"N","Y") -> Y | R14: =IF(M14<50,"N","Y") -> Y
A15: 6 | B15: ANTONY ROSHAN J D | C15: 1SG15EE006 | D15: 36 | E15: 36 | F15: 36 | G15: 36 | H15: 36 | I15: =IF(D15="AB",0,D15/80*100) -> 45 | J15: =IF(E15="AB",0,E15/80*100) -> 45 | K15: =IF(F15="AB",0,F15/80*100) -> 45 | L15: =IF(G15="AB",0,G15/80*100) -> 45 | M15: =IF(H15="AB",0,H15/80*100) -> 45 | N15: =IF(I15<50,"N","Y") -> N | O15: =IF(J15<50,"N","Y") -> N | P15: =IF(K15<50,"N","Y") -> N | Q15: =IF(L15<50,"N","Y") -> N | R15: =IF(M15<50,"N","Y") -> N
A16: 7 | B16: ANUP H V | C16: 1SG15EE007 | D16: 52 | E16: 52 | F16: 52 | G16: 52 | H16: 52 | I16: =IF(D16="AB",0,D16/80*100) -> 65 | J16: =IF(E16="AB",0,E16/80*100) -> 65 | K16: =IF(F16="AB",0,F16/80*100) -> 65 | L16: =IF(G16="AB",0,G16/80*100) -> 65 | M16: =IF(H16="AB",0,H16/80*100) -> 65 | N16: =IF(I16<50,"N","Y") -> Y | O16: =IF(J16<50,"N","Y") -> Y | P16: =IF(K16<50,"N","Y") -> Y | Q16: =IF(L16<50,"N","Y") -> Y | R16: =IF(M16<50,"N","Y") -> Y
A17: 8 | B17: ANUSHA B | C17: 1SG15EE008 | D17: 24 | E17: 24 | F17: 24 | G17: 24 | H17: 24 | I17: =IF(D17="AB",0,D17/80*100) -> 30 | J17: =IF(E17="AB",0,E17/80*100) -> 30 | K17: =IF(F17="AB",0,F17/80*100) -> 30 | L17: =IF(G17="AB",0,G17/80*100) -> 30 | M17: =IF(H17="AB",0,H17/80*100) -> 30 | N17: =IF(I17<50,"N","Y") -> N | O17: =IF(J17<50,"N","Y") -> N | P17: =IF(K17<50,"N","Y") -> N | Q17: =IF(L17<50,"N","Y") -> N | R17: =IF(M17<50,"N","Y") -> N
A18: 9 | B18: ANUSHA K | C18: 1SG15EE009 | D18: 52 | E18: 52 | F18: 52 | G18: 52 | H18: 52 | I18: =IF(D18="AB",0,D18/80*100) -> 65 | J18: =IF(E18="AB",0,E18/80*100) -> 65 | K18: =IF(F18="AB",0,F18/80*100) -> 65 | L18: =IF(G18="AB",0,G18/80*100) -> 65 | M18: =IF(H18="AB",0,H18/80*100) -> 65 | N18: =IF(I18<50,"N","Y") -> Y | O18: =IF(J18<50,"N","Y") -> Y | P18: =IF(K18<50,"N","Y") -> Y | Q18: =IF(L18<50,"N","Y") -> Y | R18: =IF(M18<50,"N","Y") -> Y
A19: 10 | B19: APOORVA K.G | C19: 1SG15EE010 | D19: 44 | E19: 44 | F19: 44 | G19: 44 | H19: 44 | I19: =IF(D19="AB",0,D19/80*100) -> 55 | J19: =IF(E19="AB",0,E19/80*100) -> 55 | K19: =IF(F19="AB",0,F19/80*100) -> 55 | L19: =IF(G19="AB",0,G19/80*100) -> 55 | M19: =IF(H19="AB",0,H19/80*100) -> 55 | N19: =IF(I19<50,"N","Y") -> Y | O19: =IF(J19<50,"N","Y") -> Y | P19: =IF(K19<50,"N","Y") -> Y | Q19: =IF(L19<50,"N","Y") -> Y | R19: =IF(M19<50,"N","Y") -> Y
A20: 11 | B20: ARPITHA SHARMA | C20: 1SG15EE011 | D20: 52 | E20: 52 | F20: 52 | G20: 52 | H20: 52 | I20: =IF(D20="AB",0,D20/80*100) -> 65 | J20: =IF(E20="AB",0,E20/80*100) -> 65 | K20: =IF(F20="AB",0,F20/80*100) -> 65 | L20: =IF(G20="AB",0,G20/80*100) -> 65 | M20: =IF(H20="AB",0,H20/80*100) -> 65 | N20: =IF(I20<50,"N","Y") -> Y | O20: =IF(J20<50,"N","Y") -> Y | P20: =IF(K20<50,"N","Y") -> Y | Q20: =IF(L20<50,"N","Y") -> Y | R20: =IF(M20<50,"N","Y") -> Y
A21: 12 | B21: ARPITHA SRINIVASA MURTHY | C21: 1SG15EE012 | D21: 44 | E21: 44 | F21: 44 | G21: 44 | H21: 44 | I21: =IF(D21="AB",0,D21/80*100) -> 55 | J21: =IF(E21="AB",0,E21/80*100) -> 55 | K21: =IF(F21="AB",0,F21/80*100) -> 55 | L21: =IF(G21="AB",0,G21/80*100) -> 55 | M21: =IF(H21="AB",0,H21/80*100) -> 55 | N21: =IF(I21<50,"N","Y") -> Y | O21: =IF(J21<50,"N","Y") -> Y | P21: =IF(K21<50,"N","Y") -> Y | Q21: =IF(L21<50,"N","Y") -> Y | R21: =IF(M21<50,"N","Y") -> Y
... A106: 97 | B106: VISHAL.S.PUJARI | C106: 1SG15EE097 | D106: 36 | E106: 36 | F106: 36 | G106: 36 | H106: 36 | I106: =IF(D106="AB",0,D106/80*100) -> 45 | J106: =IF(E106="AB",0,E106/80*100) -> 45 | K106: =IF(F106="AB",0,F106/80*100) -> 45 | L106: =IF(G106="AB",0,G106/80*100) -> 45 | M106: =IF(H106="AB",0,H106/80*100) -> 45 | N106: =IF(I106<50,"N","Y") -> N | O106: =IF(J106<50,"N","Y") -> N | P106: =IF(K106<50,"N","Y") -> N | Q106: =IF(L106<50,"N","Y") -> N | R106: =IF(M106<50,"N","Y") -> N
M108: NO OF Y | N108: =COUNTIF(N10:N106,"=Y") -> 72 | O108: =COUNTIF(O10:O106,"=Y") -> 72 | P108: =COUNTIF(P10:P106,"=Y") -> 72 | Q108: =COUNTIF(Q10:Q106,"=Y") -> 72 | R108: =COUNTIF(R10:R106,"=Y") -> 72
M109: ATTAINMENT | N109: =N108/97*100 -> 74.226804 | O109: =O108/97*100 -> 74.226804 | P109: =P108/97*100 -> 74.226804 | Q109: =Q108/97*100 -> 74.226804 | R109: =R108/97*100 -> 74.226804

Sheet TEST -CO 
A6: Sl. No. | B6: Name of the student | C6: USN | J6: ATTAINMENT (%) | P6: Y OR N
D8: I | E8: I | F8: II | G8: II | H8: III | I8: III | J8: ='FINAL EXAM'!D110 -> 0 | K8: ='FINAL EXAM'!E110 -> 0 | L8: ='FINAL EXAM'!F110 -> 0 | M8: ='FINAL EXAM'!G110 -> 0 | N8: ='FINAL EXAM'!H110 -> 0 | O8: ='FINAL EXAM'!#REF! -> #REF! | P8: I | Q8: I | R8: II | S8: II | T8: III | U8: III
D9: CO1 | E9: CO2 | F9: CO3 | G9: CO4 | H9: CO5 | I9: CO6 | J9: CO1 | K9: CO2 | L9: =F9 -> CO3 | M9: =G9 -> CO4 | N9: =H9 -> CO5 | O9: =I9 -> CO6 | P9: =J9 -> CO1 | Q9: =K9 -> CO2 | R9: =L9 -> CO3 | S9: =M9 -> CO4 | ... U9: =O9 -> CO6
A10: ='FINAL EXAM'!A10 -> 1 | B10: ='FINAL EXAM'!B10 -> ABHILASH Y | C10: ='FINAL EXAM'!C10 -> 1SG15EE001 | D10: =SUMIF('FINAL EXAM'!$D$8:$H$8,$D$9,'FINAL EXAM'!D10:H10) -> 60 | E10: =SUMIF('FINAL EXAM'!$D$8:$H$8,$E$9,'FINAL EXAM'!D10:H10) -> 60 | F10: =SUMIF('FINAL EXAM'!$D$8:$H$8,$F$9,'FINAL EXAM'!D10:H10) -> 60 | G10: =SUMIF('FINAL EXAM'!$D$8:$H$8,$G$9,'FINAL EXAM'!D10:H10) -> 120 | H10: =SUMIF('FINAL EXAM'!$D$8:$H$8,$H$9,'FINAL EXAM'!D10:H10) -> 0 | I10: =SUMIF('FINAL EXAM'!$D$8:$H$8,$I$9,'FINAL EXAM'!D10:H10) -> 0 | J10: =D10*100/$J$8 -> #DIV/0! | K10: =E10*100/$K$8 -> #DIV/0! | L10: =F10*100/$L$8 -> #DIV/0! | M10: =G10*100/$M$8 -> #DIV/0! | N10: =H10*100/$N$8 -> #DIV/0! | O10: =I10*100/$O$8 -> #REF! | P10: =IF(J10<'FINAL EXAM'!$D$114,"N","Y") -> #DIV/0! | Q10: =IF(K10<'FINAL EXAM'!$D$114,"N","Y") -> #DIV/0! | R10: =IF(L10<'FINAL EXAM'!$D$114,"N","Y") -> #DIV/0! | S10: =IF(M10<'FINAL EXAM'!$D$114,"N","Y") -> #DIV/0! | T10: =IF(N10<'FINAL EXAM'!$D$114,"N","Y") -> #DIV/0! | U10: =IF(O10<'FINAL EXAM'!$D$114,"N","Y") -> #REF!
A11: 2 | B11: ='FINAL EXAM'!B11 -> ADITHYA G.T | C11: ='FINAL EXAM'!C11 -> 1SG15EE002 | D11: =SUMIF('FINAL EXAM'!$D$8:$H$8,$D$9,'FINAL EXAM'!D11:H11) -> 30 | E11: =SUMIF('FINAL EXAM'!$D$8:$H$8,$E$9,'FINAL EXAM'!D11:H11) -> 30 | F11: =SUMIF('FINAL EXAM'!$D$8:$H$8,$F$9,'FINAL EXAM'!D11:H11) -> 30 | G11: =SUMIF('FINAL EXAM'!$D$8:$H$8,$G$9,'FINAL EXAM'!D11:H11) -> 60 | H11: =SUMIF('FINAL EXAM'!$D$8:$H$8,$H$9,'FINAL EXAM'!D11:H11) -> 0 | I11: =SUMIF('FINAL EXAM'!$D$8:$H$8,$I$9,'FINAL EXAM'!D11:H11) -> 0 | J11: =D11*100/$J$8 -> #DIV/0! | K11: =E11*100/$K$8 -> #DIV/0! | L11: =F11*100/$L$8 -> #DIV/0! | M11: =G11*100/$M$8 -> #DIV/0! | N11: =H11*100/$N$8 -> #DIV/0! | O11: =I11*100/$O$8 -> #REF! | P11: =IF(J11<'FINAL EXAM'!$D$114,"N","Y") -> #DIV/0! | Q11: =IF(K11<'FINAL EXAM'!$D$114,"N","Y") -> #DIV/0! | R11: =IF(L11<'FINAL EXAM'!$D$114,"N","Y") -> #DIV/0! | S11: =IF(M11<'FINAL EXAM'!$D$114,"N","Y") -> #DIV/0! | T11: =IF(N11<'FINAL EXAM'!$D$114,"N","Y") -> #DIV/0! | U11: =IF(O11<'FINAL EXAM'!$D$114,"N","Y") -> #REF!
A12: 3 | B12: ='FINAL EXAM'!B12 -> AJAY M | C12: ='FINAL EXAM'!C12 -> 1SG15EE003 | D12: =SUMIF('FINAL EXAM'!$D$8:$H$8,$D$9,'FINAL EXAM'!D12:H12) -> 36 | E12: =SUMIF('FINAL EXAM'!$D$8:$H$8,$E$9,'FINAL EXAM'!D12:H12) -> 36 | F12: =SUMIF('FINAL EXAM'!$D$8:$H$8,$F$9,'FINAL EXAM'!D12:H12) -> 36 | G12: =SUMIF('FINAL EXAM'!$D$8:$H$8,$G$9,'FINAL EXAM'!D12:H12) -> 72 | H12: =SUMIF('FINAL EXAM'!$D$8:$H$8,$H$9,'FINAL EXAM'!D12:H12) -> 0 | I12: =SUMIF('FINAL EXAM'!$D$8:$H$8,$I$9,'FINAL EXAM'!D12:H12) -> 0 | J12: =D12*100/$J$8 -> #DIV/0! | K12: =E12*100/$K$8 -> #DIV/0! | L12: =F12*100/$L$8 -> #DIV/0! | M12: =G12*100/$M$8 -> #DIV/0! | N12: =H12*100/$N$8 -> #DIV/0! | O12: =I12*100/$O$8 -> #REF! | P12: =IF(J12<'FINAL EXAM'!$D$114,"N","Y") -> #DIV/0! | Q12: =IF(K12<'FINAL EXAM'!$D$114,"N","Y") -> #DIV/0! | R12: =IF(L12<'FINAL EXAM'!$D$114,"N","Y") -> #DIV/0! | S12: =IF(M12<'FINAL EXAM'!$D$114,"N","Y") -> #DIV/0! | T12: =IF(N12<'FINAL EXAM'!$D$114,"N","Y") -> #DIV/0! | U12: =IF(O12<'FINAL EXAM'!$D$114,"N","Y") -> #REF!
A13: 4 | B13: ='FINAL EXAM'!B13 -> AMITH RAUNIYAR | C13: ='FINAL EXAM'!C13 -> 1SG15EE004 | D13: =SUMIF('FINAL EXAM'!$D$8:$H$8,$D$9,'FINAL EXAM'!D13:H13) -> 44 | E13: =SUMIF('FINAL EXAM'!$D$8:$H$8,$E$9,'FINAL EXAM'!D13:H13) -> 44 | F13: =SUMIF('FINAL EXAM'!$D$8:$H$8,$F$9,'FINAL EXAM'!D13:H13) -> 44 | G13: =SUMIF('FINAL EXAM'!$D$8:$H$8,$G$9,'FINAL EXAM'!D13:H13) -> 88 | H13: =SUMIF('FINAL EXAM'!$D$8:$H$8,$H$9,'FINAL EXAM'!D13:H13) -> 0 | I13: =SUMIF('FINAL EXAM'!$D$8:$H$8,$I$9,'FINAL EXAM'!D13:H13) -> 0 | J13: =D13*100/$J$8 -> #DIV/0! | K13: =E13*100/$K$8 -> #DIV/0! | L13: =F13*100/$L$8 -> #DIV/0! | M13: =G13*100/$M$8 -> #DIV/0! | N13: =H13*100/$N$8 -> #DIV/0! | O13: =I13*100/$O$8 -> #REF! | P13: =IF(J13<'FINAL EXAM'!$D$114,"N","Y") -> #DIV/0! | Q13: =IF(K13<'FINAL EXAM'!$D$114,"N","Y") -> #DIV/0! | R13: =IF(L13<'FINAL EXAM'!$D$114,"N","Y") -> #DIV/0! | S13: =IF(M13<'FINAL EXAM'!$D$114,"N","Y") -> #DIV/0! | T13: =IF(N13<'FINAL EXAM'!$D$114,"N","Y") -> #DIV/0! | U13: =IF(O13<'FINAL EXAM'!$D$114,"N","Y") -> #REF!
A14: 5 | B14: ='FINAL EXAM'!B14 -> ANNAPURNA SINGH | C14: ='FINAL EXAM'!C14 -> 1SG15EE005 | D14: =SUMIF('FINAL EXAM'!$D$8:$H$8,$D$9,'FINAL EXAM'!D14:H14) -> 60 | E14: =SUMIF('FINAL EXAM'!$D$8:$H$8,$E$9,'FINAL EXAM'!D14:H14) -> 60 | F14: =SUMIF('FINAL EXAM'!$D$8:$H$8,$F$9,'FINAL EXAM'!D14:H14) -> 60 | G14: =SUMIF('FINAL EXAM'!$D$8:$H$8,$G$9,'FINAL EXAM'!D14:H14) -> 120 | H14: =SUMIF('FINAL EXAM'!$D$8:$H$8,$H$9,'FINAL EXAM'!D14:H14) -> 0 | I14: =SUMIF('FINAL EXAM'!$D$8:$H$8,$I$9,'FINAL EXAM'!D14:H14) -> 0 | J14: =D14*100/$J$8 -> #DIV/0! | K14: =E14*100/$K$8 -> #DIV/0! | L14: =F14*100/$L$8 -> #DIV/0! | M14: =G14*100/$M$8 -> #DIV/0! | N14: =H14*100/$N$8 -> #DIV/0! | O14: =I14*100/$O$8 -> #REF! | P14: =IF(J14<'FINAL EXAM'!$D$114,"N","Y") -> #DIV/0! | Q14: =IF(K14<'FINAL EXAM'!$D$114,"N","Y") -> #DIV/0! | R14: =IF(L14<'FINAL EXAM'!$D$114,"N","Y") -> #DIV/0! | S14: =IF(M14<'FINAL EXAM'!$D$114,"N","Y") -> #DIV/0! | T14: =IF(N14<'FINAL EXAM'!$D$114,"N","Y") -> #DIV/0! | U14: =IF(O14<'FINAL EXAM'!$D$114,"N","Y") -> #REF!
A15: 6 | B15: ='FINAL EXAM'!B15 -> ANTONY ROSHAN J D | C15: ='FINAL EXAM'!C15 -> 1SG15EE006 | D15: =SUMIF('FINAL EXAM'!$D$8:$H$8,$D$9,'FINAL EXAM'!D15:H15) -> 36 | E15: =SUMIF('FINAL EXAM'!$D$8:$H$8,$E$9,'FINAL EXAM'!D15:H15) -> 36 | F15: =SUMIF('FINAL EXAM'!$D$8:$H$8,$F$9,'FINAL EXAM'!D15:H15) -> 36 | G15: =SUMIF('FINAL EXAM'!$D$8:$H$8,$G$9,'FINAL EXAM'!D15:H15) -> 72 | H15: =SUMIF('FINAL EXAM'!$D$8:$H$8,$H$9,'FINAL EXAM'!D15:H15) -> 0 | I15: =SUMIF('FINAL EXAM'!$D$8:$H$8,$I$9,'FINAL EXAM'!D15:H15) -> 0 | J15: =D15*100/$J$8 -> #DIV/0! | K15: =E15*100/$K$8 -> #DIV/0! | L15: =F15*100/$L$8 -> #DIV/0! | M15: =G15*100/$M$8 -> #DIV/0! | N15: =H15*100/$N$8 -> #DIV/0! | O15: =I15*100/$O$8 -> #REF! | P15: =IF(J15<'FINAL EXAM'!$D$114,"N","Y") -> #DIV/0! | Q15: =IF(K15<'FINAL EXAM'!$D$114,"N","Y") -> #DIV/0! | R15: =IF(L15<'FINAL EXAM'!$D$114,"N","Y") -> #DIV/0! | S15: =IF(M15<'FINAL EXAM'!$D$114,"N","Y") -> #DIV/0! | T15: =IF(N15<'FINAL EXAM'!$D$114,"N","Y") -> #DIV/0! | U15: =IF(O15<'FINAL EXAM'!$D$114,"N","Y") -> #REF!
A16: 7 | B16: ='FINAL EXAM'!B16 -> ANUP H V | C16: =SUMIF('FINAL EXAM'!B14:G14,C15,'FINAL EXAM'!B16:G16) -> 0 | D16: =SUMIF('FINAL EXAM'!$D$8:$H$8,$D$9,'FINAL EXAM'!D16:H16) -> 52 | E16: =SUMIF('FINAL EXAM'!$D$8:$H$8,$E$9,'FINAL EXAM'!D16:H16) -> 52 | F16: =SUMIF('FINAL EXAM'!$D$8:$H$8,$F$9,'FINAL EXAM'!D16:H16) -> 52 | G16: =SUMIF('FINAL EXAM'!$D$8:$H$8,$G$9,'FINAL EXAM'!D16:H16) -> 104 | H16: =SUMIF('FINAL EXAM'!$D$8:$H$8,$H$9,'FINAL EXAM'!D16:H16) -> 0 | I16: =SUMIF('FINAL EXAM'!$D$8:$H$8,$I$9,'FINAL EXAM'!D16:H16) -> 0 | J16: =D16*100/$J$8 -> #DIV/0! | K16: =E16*100/$K$8 -> #DIV/0! | L16: =F16*100/$L$8 -> #DIV/0! | M16: =G16*100/$M$8 -> #DIV/0! | N16: =H16*100/$N$8 -> #DIV/0! | O16: =I16*100/$O$8 -> #REF! | P16: =IF(J16<'FINAL EXAM'!$D$114,"N","Y") -> #DIV/0! | Q16: =IF(K16<'FINAL EXAM'!$D$114,"N","Y") -> #DIV/0! | R16: =IF(L16<'FINAL EXAM'!$D$114,"N","Y") -> #DIV/0! | S16: =IF(M16<'FINAL EXAM'!$D$114,"N","Y") -> #DIV/0! | T16: =IF(N16<'FINAL EXAM'!$D$114,"N","Y") -> #DIV/0! | U16: =IF(O16<'FINAL EXAM'!$D$114,"N","Y") -> #REF!
A17: =SUMIF('FINAL EXAM'!A15:F15,A16,'FINAL EXAM'!A17:F17) -> 0 | B17: =SUMIF('FINAL EXAM'!B15:G15,B16,'FINAL EXAM'!B17:G17) -> 0 | C17: =SUMIF('FINAL EXAM'!C15:H15,C16,'FINAL EXAM'!C17:H17) -> 0 | D17: =SUMIF('FINAL EXAM'!$D$8:$H$8,$D$9,'FINAL EXAM'!D17:H17) -> 24 | E17: =SUMIF('FINAL EXAM'!$D$8:$H$8,$E$9,'FINAL EXAM'!D17:H17) -> 24 | F17: =SUMIF('FINAL EXAM'!$D$8:$H$8,$F$9,'FINAL EXAM'!D17:H17) -> 24 | G17: =SUMIF('FINAL EXAM'!$D$8:$H$8,$G$9,'FINAL EXAM'!D17:H17) -> 48 | H17: =SUMIF('FINAL EXAM'!$D$8:$H$8,$H$9,'FINAL EXAM'!D17:H17) -> 0 | I17: =SUMIF('FINAL EXAM'!$D$8:$H$8,$I$9,'FINAL EXAM'!D17:H17) -> 0 | J17: =D17*100/$J$8 -> #DIV/0! | K17: =E17*100/$K$8 -> #DIV/0! | L17: =F17*100/$L$8 -> #DIV/0! | M17: =G17*100/$M$8 -> #DIV/0! | N17: =H17*100/$N$8 -> #DIV/0! | O17: =I17*100/$O$8 -> #REF! | P17: =IF(J17<'FINAL EXAM'!$D$114,"N","Y") -> #DIV/0! | Q17: =IF(K17<'FINAL EXAM'!$D$114,"N","Y") -> #DIV/0! | R17: =IF(L17<'FINAL EXAM'!$D$114,"N","Y") -> #DIV/0! | S17: =IF(M17<'FINAL EXAM'!$D$114,"N","Y") -> #DIV/0! | T17: =IF(N17<'FINAL EXAM'!$D$114,"N","Y") -> #DIV/0! | U17: =IF(O17<'FINAL EXAM'!$D$114,"N","Y") -> #REF!
A18: 9 | B18: ='FINAL EXAM'!B18 -> ANUSHA K | C18: ='FINAL EXAM'!C18 -> 1SG15EE009 | D18: =SUMIF('FINAL EXAM'!$D$8:$H$8,$D$9,'FINAL EXAM'!D18:H18) -> 52 | E18: =SUMIF('FINAL EXAM'!$D$8:$H$8,$E$9,'FINAL EXAM'!D18:H18) -> 52 | F18: =SUMIF('FINAL EXAM'!$D$8:$H$8,$F$9,'FINAL EXAM'!D18:H18) -> 52 | G18: =SUMIF('FINAL EXAM'!$D$8:$H$8,$G$9,'FINAL EXAM'!D18:H18) -> 104 | H18: =SUMIF('FINAL EXAM'!$D$8:$H$8,$H$9,'FINAL EXAM'!D18:H18) -> 0 | I18: =SUMIF('FINAL EXAM'!$D$8:$H$8,$I$9,'FINAL EXAM'!D18:H18) -> 0 | J18: =D18*100/$J$8 -> #DIV/0! | K18: =E18*100/$K$8 -> #DIV/0! | L18: =F18*100/$L$8 -> #DIV/0! | M18: =G18*100/$M$8 -> #DIV/0! | N18: =H18*100/$N$8 -> #DIV/0! | O18: =I18*100/$O$8 -> #REF! | P18: =IF(J18<'FINAL EXAM'!$D$114,"N","Y") -> #DIV/0! | Q18: =IF(K18<'FINAL EXAM'!$D$114,"N","Y") -> #DIV/0! | R18: =IF(L18<'FINAL EXAM'!$D$114,"N","Y") -> #DIV/0! | S18: =IF(M18<'FINAL EXAM'!$D$114,"N","Y") -> #DIV/0! | T18: =IF(N18<'FINAL EXAM'!$D$114,"N","Y") -> #DIV/0! | U18: =IF(O18<'FINAL EXAM'!$D$114,"N","Y") -> #REF!
A19: 10 | B19: ='FINAL EXAM'!B19 -> APOORVA K.G | C19: ='FINAL EXAM'!C19 -> 1SG15EE010 | D19: =SUMIF('FINAL EXAM'!$D$8:$H$8,$D$9,'FINAL EXAM'!D19:H19) -> 44 | E19: =SUMIF('FINAL EXAM'!$D$8:$H$8,$E$9,'FINAL EXAM'!D19:H19) -> 44 | F19: =SUMIF('FINAL EXAM'!$D$8:$H$8,$F$9,'FINAL EXAM'!D19:H19) -> 44 | G19: =SUMIF('FINAL EXAM'!$D$8:$H$8,$G$9,'FINAL EXAM'!D19:H19) -> 88 | H19: =SUMIF('FINAL EXAM'!$D$8:$H$8,$H$9,'FINAL EXAM'!D19:H19) -> 0 | I19: =SUMIF('FINAL EXAM'!$D$8:$H$8,$I$9,'FINAL EXAM'!D19:H19) -> 0 | J19: =D19*100/$J$8 -> #DIV/0! | K19: =E19*100/$K$8 -> #DIV/0! | L19: =F19*100/$L$8 -> #DIV/0! | M19: =G19*100/$M$8 -> #DIV/0! | N19: =H19*100/$N$8 -> #DIV/0! | O19: =I19*100/$O$8 -> #REF! | P19: =IF(J19<'FINAL EXAM'!$D$114,"N","Y") -> #DIV/0! | Q19: =IF(K19<'FINAL EXAM'!$D$114,"N","Y") -> #DIV/0! | R19: =IF(L19<'FINAL EXAM'!$D$114,"N","Y") -> #DIV/0! | S19: =IF(M19<'FINAL EXAM'!$D$114,"N","Y") -> #DIV/0! | T19: =IF(N19<'FINAL EXAM'!$D$114,"N","Y") -> #DIV/0! | U19: =IF(O19<'FINAL EXAM'!$D$114,"N","Y") -> #REF!
A20: 11 | B20: ='FINAL EXAM'!B20 -> ARPITHA SHARMA | C20: ='FINAL EXAM'!C20 -> 1SG15EE011 | D20: =SUMIF('FINAL EXAM'!$D$8:$H$8,$D$9,'FINAL EXAM'!D20:H20) -> 52 | E20: =SUMIF('FINAL EXAM'!$D$8:$H$8,$E$9,'FINAL EXAM'!D20:H20) -> 52 | F20: =SUMIF('FINAL EXAM'!$D$8:$H$8,$F$9,'FINAL EXAM'!D20:H20) -> 52 | G20: =SUMIF('FINAL EXAM'!$D$8:$H$8,$G$9,'FINAL EXAM'!D20:H20) -> 104 | H20: =SUMIF('FINAL EXAM'!$D$8:$H$8,$H$9,'FINAL EXAM'!D20:H20) -> 0 | I20: =SUMIF('FINAL EXAM'!$D$8:$H$8,$I$9,'FINAL EXAM'!D20:H20) -> 0 | J20: =D20*100/$J$8 -> #DIV/0! | K20: =E20*100/$K$8 -> #DIV/0! | L20: =F20*100/$L$8 -> #DIV/0! | M20: =G20*100/$M$8 -> #DIV/0! | N20: =H20*100/$N$8 -> #DIV/0! | O20: =I20*100/$O$8 -> #REF! | P20: =IF(J20<'FINAL EXAM'!$D$114,"N","Y") -> #DIV/0! | Q20: =IF(K20<'FINAL EXAM'!$D$114,"N","Y") -> #DIV/0! | R20: =IF(L20<'FINAL EXAM'!$D$114,"N","Y") -> #DIV/0! | S20: =IF(M20<'FINAL EXAM'!$D$114,"N","Y") -> #DIV/0! | T20: =IF(N20<'FINAL EXAM'!$D$114,"N","Y") -> #DIV/0! | U20: =IF(O20<'FINAL EXAM'!$D$114,"N","Y") -> #REF!
A21: 12 | B21: ='FINAL EXAM'!B21 -> ARPITHA SRINIVASA MURTHY | C21: ='FINAL EXAM'!C21 -> 1SG15EE012 | D21: =SUMIF('FINAL EXAM'!$D$8:$H$8,$D$9,'FINAL EXAM'!D21:H21) -> 44 | E21: =SUMIF('FINAL EXAM'!$D$8:$H$8,$E$9,'FINAL EXAM'!D21:H21) -> 44 | F21: =SUMIF('FINAL EXAM'!$D$8:$H$8,$F$9,'FINAL EXAM'!D21:H21) -> 44 | G21: =SUMIF('FINAL EXAM'!$D$8:$H$8,$G$9,'FINAL EXAM'!D21:H21) -> 88 | H21: =SUMIF('FINAL EXAM'!$D$8:$H$8,$H$9,'FINAL EXAM'!D21:H21) -> 0 | I21: =SUMIF('FINAL EXAM'!$D$8:$H$8,$I$9,'FINAL EXAM'!D21:H21) -> 0 | J21: =D21*100/$J$8 -> #DIV/0! | K21: =E21*100/$K$8 -> #DIV/0! | L21: =F21*100/$L$8 -> #DIV/0! | M21: =G21*100/$M$8 -> #DIV/0! | N21: =H21*100/$N$8 -> #DIV/0! | O21: =I21*100/$O$8 -> #REF! | P21: =IF(J21<'FINAL EXAM'!$D$114,"N","Y") -> #DIV/0! | Q21: =IF(K21<'FINAL EXAM'!$D$114,"N","Y") -> #DIV/0! | R21: =IF(L21<'FINAL EXAM'!$D$114,"N","Y") -> #DIV/0! | S21: =IF(M21<'FINAL EXAM'!$D$114,"N","Y") -> #DIV/0! | T21: =IF(N21<'FINAL EXAM'!$D$114,"N","Y") -> #DIV/0! | U21: =IF(O21<'FINAL EXAM'!$D$114,"N","Y") -> #REF!
A22: 13 | B22: ='FINAL EXAM'!B22 -> ARUNA B.P | C22: ='FINAL EXAM'!C22 -> 1SG15EE013 | D22: =SUMIF('FINAL EXAM'!$D$8:$H$8,$D$9,'FINAL EXAM'!D22:H22) -> 30 | E22: =SUMIF('FINAL EXAM'!$D$8:$H$8,$E$9,'FINAL EXAM'!D22:H22) -> 30 | F22: =SUMIF('FINAL EXAM'!$D$8:$H$8,$F$9,'FINAL EXAM'!D22:H22) -> 30 | G22: =SUMIF('FINAL EXAM'!$D$8:$H$8,$G$9,'FINAL EXAM'!D22:H22) -> 60 | H22: =SUMIF('FINAL EXAM'!$D$8:$H$8,$H$9,'FINAL EXAM'!D22:H22) -> 0 | I22: =SUMIF('FINAL EXAM'!$D$8:$H$8,$I$9,'FINAL EXAM'!D22:H22) -> 0 | J22: =D22*100/$J$8 -> #DIV/0! | K22: =E22*100/$K$8 -> #DIV/0! | L22: =F22*100/$L$8 -> #DIV/0! | M22: =G22*100/$M$8 -> #DIV/0! | N22: =H22*100/$N$8 -> #DIV/0! | O22: =I22*100/$O$8 -> #REF! | P22: =IF(J22<'FINAL EXAM'!$D$114,"N","Y") -> #DIV/0! | Q22: =IF(K22<'FINAL EXAM'!$D$114,"N","Y") -> #DIV/0! | R22: =IF(L22<'FINAL EXAM'!$D$114,"N","Y") -> #DIV/0! | S22: =IF(M22<'FINAL EXAM'!$D$114,"N","Y") -> #DIV/0! | T22: =IF(N22<'FINAL EXAM'!$D$114,"N","Y") -> #DIV/0! | U22: =IF(O22<'FINAL EXAM'!$D$114,"N","Y") -> #REF!
A23: 14 | B23: ='FINAL EXAM'!B23 -> ATHIYA MOHAMMADI | C23: ='FINAL EXAM'!C23 -> 1SG15EE014 | D23: =SUMIF('FINAL EXAM'!$D$8:$H$8,$D$9,'FINAL EXAM'!D23:H23) -> 52 | E23: =SUMIF('FINAL EXAM'!$D$8:$H$8,$E$9,'FINAL EXAM'!D23:H23) -> 52 | F23: =SUMIF('FINAL EXAM'!$D$8:$H$8,$F$9,'FINAL EXAM'!D23:H23) -> 52 | G23: =SUMIF('FINAL EXAM'!$D$8:$H$8,$G$9,'FINAL EXAM'!D23:H23) -> 104 | H23: =SUMIF('FINAL EXAM'!$D$8:$H$8,$H$9,'FINAL EXAM'!D23:H23) -> 0 | I23: =SUMIF('FINAL EXAM'!$D$8:$H$8,$I$9,'FINAL EXAM'!D23:H23) -> 0 | J23: =D23*100/$J$8 -> #DIV/0! | K23: =E23*100/$K$8 -> #DIV/0! | L23: =F23*100/$L$8 -> #DIV/0! | M23: =G23*100/$M$8 -> #DIV/0! | N23: =H23*100/$N$8 -> #DIV/0! | O23: =I23*100/$O$8 -> #REF! | P23: =IF(J23<'FINAL EXAM'!$D$114,"N","Y") -> #DIV/0! | Q23: =IF(K23<'FINAL EXAM'!$D$114,"N","Y") -> #DIV/0! | R23: =IF(L23<'FINAL EXAM'!$D$114,"N","Y") -> #DIV/0! | S23: =IF(M23<'FINAL EXAM'!$D$114,"N","Y") -> #DIV/0! | T23: =IF(N23<'FINAL EXAM'!$D$114,"N","Y") -> #DIV/0! | U23: =IF(O23<'FINAL EXAM'!$D$114,"N","Y") -> #REF!
A24: 15 | B24: ='FINAL EXAM'!B24 -> BALAJI VENKATESH K | C24: ='FINAL EXAM'!C24 -> 1SG15EE015 | D24: =SUMIF('FINAL EXAM'!$D$8:$H$8,$D$9,'FINAL EXAM'!D24:H24) -> 44 | E24: =SUMIF('FINAL EXAM'!$D$8:$H$8,$E$9,'FINAL EXAM'!D24:H24) -> 44 | F24: =SUMIF('FINAL EXAM'!$D$8:$H$8,$F$9,'FINAL EXAM'!D24:H24) -> 44 | G24: =SUMIF('FINAL EXAM'!$D$8:$H$8,$G$9,'FINAL EXAM'!D24:H24) -> 88 | H24: =SUMIF('FINAL EXAM'!$D$8:$H$8,$H$9,'FINAL EXAM'!D24:H24) -> 0 | I24: =SUMIF('FINAL EXAM'!$D$8:$H$8,$I$9,'FINAL EXAM'!D24:H24) -> 0 | J24: =D24*100/$J$8 -> #DIV/0! | K24: =E24*100/$K$8 -> #DIV/0! | L24: =F24*100/$L$8 -> #DIV/0! | M24: =G24*100/$M$8 -> #DIV/0! | N24: =H24*100/$N$8 -> #DIV/0! | O24: =I24*100/$O$8 -> #REF! | P24: =IF(J24<'FINAL EXAM'!$D$114,"N","Y") -> #DIV/0! | Q24: =IF(K24<'FINAL EXAM'!$D$114,"N","Y") -> #DIV/0! | R24: =IF(L24<'FINAL EXAM'!$D$114,"N","Y") -> #DIV/0! | S24: =IF(M24<'FINAL EXAM'!$D$114,"N","Y") -> #DIV/0! | T24: =IF(N24<'FINAL EXAM'!$D$114,"N","Y") -> #DIV/0! | U24: =IF(O24<'FINAL EXAM'!$D$114,"N","Y") -> #REF!
A25: 16 | B25: ='FINAL EXAM'!B25 -> BALRAJ M | C25: ='FINAL EXAM'!C25 -> 1SG15EE016 | D25: =SUMIF('FINAL EXAM'!$D$8:$H$8,$D$9,'FINAL EXAM'!D25:H25) -> 60 | E25: =SUMIF('FINAL EXAM'!$D$8:$H$8,$E$9,'FINAL EXAM'!D25:H25) -> 60 | F25: =SUMIF('FINAL EXAM'!$D$8:$H$8,$F$9,'FINAL EXAM'!D25:H25) -> 60 | G25: =SUMIF('FINAL EXAM'!$D$8:$H$8,$G$9,'FINAL EXAM'!D25:H25) -> 120 | H25: =SUMIF('FINAL EXAM'!$D$8:$H$8,$H$9,'FINAL EXAM'!D25:H25) -> 0 | I25: =SUMIF('FINAL EXAM'!$D$8:$H$8,$I$9,'FINAL EXAM'!D25:H25) -> 0 | J25: =D25*100/$J$8 -> #DIV/0! | K25: =E25*100/$K$8 -> #DIV/0! | L25: =F25*100/$L$8 -> #DIV/0! | M25: =G25*100/$M$8 -> #DIV/0! | N25: =H25*100/$N$8 -> #DIV/0! | O25: =I25*100/$O$8 -> #REF! | P25: =IF(J25<'FINAL EXAM'!$D$114,"N","Y") -> #DIV/0! | Q25: =IF(K25<'FINAL EXAM'!$D$114,"N","Y") -> #DIV/0! | R25: =IF(L25<'FINAL EXAM'!$D$114,"N","Y") -> #DIV/0! | S25: =IF(M25<'FINAL EXAM'!$D$114,"N","Y") -> #DIV/0! | T25: =IF(N25<'FINAL EXAM'!$D$114,"N","Y") -> #DIV/0! | U25: =IF(O25<'FINAL EXAM'!$D$114,"N","Y") -> #REF!
A26: 17 | B26: ='FINAL EXAM'!B26 -> C.S.MOHANA | C26: ='FINAL EXAM'!C26 -> 1SG15EE017 | D26: =SUMIF('FINAL EXAM'!$D$8:$H$8,$D$9,'FINAL EXAM'!D26:H26) -> 44 | E26: =SUMIF('FINAL EXAM'!$D$8:$H$8,$E$9,'FINAL EXAM'!D26:H26) -> 44 | F26: =SUMIF('FINAL EXAM'!$D$8:$H$8,$F$9,'FINAL EXAM'!D26:H26) -> 44 | G26: =SUMIF('FINAL EXAM'!$D$8:$H$8,$G$9,'FINAL EXAM'!D26:H26) -> 88 | H26: =SUMIF('FINAL EXAM'!$D$8:$H$8,$H$9,'FINAL EXAM'!D26:H26) -> 0 | I26: =SUMIF('FINAL EXAM'!$D$8:$H$8,$I$9,'FINAL EXAM'!D26:H26) -> 0 | J26: =D26*100/$J$8 -> #DIV/0! | K26: =E26*100/$K$8 -> #DIV/0! | L26: =F26*100/$L$8 -> #DIV/0! | M26: =G26*100/$M$8 -> #DIV/0! | N26: =H26*100/$N$8 -> #DIV/0! | O26: =I26*100/$O$8 -> #REF! | P26: =IF(J26<'FINAL EXAM'!$D$114,"N","Y") -> #DIV/0! | Q26: =IF(K26<'FINAL EXAM'!$D$114,"N","Y") -> #DIV/0! | R26: =IF(L26<'FINAL EXAM'!$D$114,"N","Y") -> #DIV/0! | S26: =IF(M26<'FINAL EXAM'!$D$114,"N","Y") -> #DIV/0! | T26: =IF(N26<'FINAL EXAM'!$D$114,"N","Y") -> #DIV/0! | U26: =IF(O26<'FINAL EXAM'!$D$114,"N","Y") -> #REF!
A27: 18 | B27: ='FINAL EXAM'!B27 -> CHAITHRA K.R | C27: ='FINAL EXAM'!C27 -> 1SG15EE018 | D27: =SUMIF('FINAL EXAM'!$D$8:$H$8,$D$9,'FINAL EXAM'!D27:H27) -> 30 | E27: =SUMIF('FINAL EXAM'!$D$8:$H$8,$E$9,'FINAL EXAM'!D27:H27) -> 30 | F27: =SUMIF('FINAL EXAM'!$D$8:$H$8,$F$9,'FINAL EXAM'!D27:H27) -> 30 | G27: =SUMIF('FINAL EXAM'!$D$8:$H$8,$G$9,'FINAL EXAM'!D27:H27) -> 60 | H27: =SUMIF('FINAL EXAM'!$D$8:$H$8,$H$9,'FINAL EXAM'!D27:H27) -> 0 | I27: =SUMIF('FINAL EXAM'!$D$8:$H$8,$I$9,'FINAL EXAM'!D27:H27) -> 0 | J27: =D27*100/$J$8 -> #DIV/0! | K27: =E27*100/$K$8 -> #DIV/0! | L27: =F27*100/$L$8 -> #DIV/0! | M27: =G27*100/$M$8 -> #DIV/0! | N27: =H27*100/$N$8 -> #DIV/0! | O27: =I27*100/$O$8 -> #REF! | P27: =IF(J27<'FINAL EXAM'!$D$114,"N","Y") -> #DIV/0! | Q27: =IF(K27<'FINAL EXAM'!$D$114,"N","Y") -> #DIV/0! | R27: =IF(L27<'FINAL EXAM'!$D$114,"N","Y") -> #DIV/0! | S27: =IF(M27<'FINAL EXAM'!$D$114,"N","Y") -> #DIV/0! | T27: =IF(N27<'FINAL EXAM'!$D$114,"N","Y") -> #DIV/0! | U27: =IF(O27<'FINAL EXAM'!$D$114,"N","Y") -> #REF!
A28: 19 | B28: ='FINAL EXAM'!B28 -> CHAITRA S | C28: ='FINAL EXAM'!C28 -> 1SG15EE019 | D28: =SUMIF('FINAL EXAM'!$D$8:$H$8,$D$9,'FINAL EXAM'!D28:H28) -> 30 | E28: =SUMIF('FINAL EXAM'!$D$8:$H$8,$E$9,'FINAL EXAM'!D28:H28) -> 30 | F28: =SUMIF('FINAL EXAM'!$D$8:$H$8,$F$9,'FINAL EXAM'!D28:H28) -> 30 | G28: =SUMIF('FINAL EXAM'!$D$8:$H$8,$G$9,'FINAL EXAM'!D28:H28) -> 60 | H28: =SUMIF('FINAL EXAM'!$D$8:$H$8,$H$9,'FINAL EXAM'!D28:H28) -> 0 | I28: =SUMIF('FINAL EXAM'!$D$8:$H$8,$I$9,'FINAL EXAM'!D28:H28) -> 0 | J28: =D28*100/$J$8 -> #DIV/0! | K28: =E28*100/$K$8 -> #DIV/0! | L28: =F28*100/$L$8 -> #DIV/0! | M28: =G28*100/$M$8 -> #DIV/0! | N28: =H28*100/$N$8 -> #DIV/0! | O28: =I28*100/$O$8 -> #REF! | P28: =IF(J28<'FINAL EXAM'!$D$114,"N","Y") -> #DIV/0! | Q28: =IF(K28<'FINAL EXAM'!$D$114,"N","Y") -> #DIV/0! | R28: =IF(L28<'FINAL EXAM'!$D$114,"N","Y") -> #DIV/0! | S28: =IF(M28<'FINAL EXAM'!$D$114,"N","Y") -> #DIV/0! | T28: =IF(N28<'FINAL EXAM'!$D$114,"N","Y") -> #DIV/0! | U28: =IF(O28<'FINAL EXAM'!$D$114,"N","Y") -> #REF!
A29: 20 | B29: ='FINAL EXAM'!B29 -> CHANDAN.G | C29: ='FINAL EXAM'!C29 -> 1SG15EE020 | D29: =SUMIF('FINAL EXAM'!$D$8:$H$8,$D$9,'FINAL EXAM'!D29:H29) -> 52 | E29: =SUMIF('FINAL EXAM'!$D$8:$H$8,$E$9,'FINAL EXAM'!D29:H29) -> 52 | F29: =SUMIF('FINAL EXAM'!$D$8:$H$8,$F$9,'FINAL EXAM'!D29:H29) -> 52 | G29: =SUMIF('FINAL EXAM'!$D$8:$H$8,$G$9,'FINAL EXAM'!D29:H29) -> 104 | H29: =SUMIF('FINAL EXAM'!$D$8:$H$8,$H$9,'FINAL EXAM'!D29:H29) -> 0 | I29: =SUMIF('FINAL EXAM'!$D$8:$H$8,$I$9,'FINAL EXAM'!D29:H29) -> 0 | J29: =D29*100/$J$8 -> #DIV/0! | K29: =E29*100/$K$8 -> #DIV/0! | L29: =F29*100/$L$8 -> #DIV/0! | M29: =G29*100/$M$8 -> #DIV/0! | N29: =H29*100/$N$8 -> #DIV/0! | O29: =I29*100/$O$8 -> #REF! | P29: =IF(J29<'FINAL EXAM'!$D$114,"N","Y") -> #DIV/0! | Q29: =IF(K29<'FINAL EXAM'!$D$114,"N","Y") -> #DIV/0! | R29: =IF(L29<'FINAL EXAM'!$D$114,"N","Y") -> #DIV/0! | S29: =IF(M29<'FINAL EXAM'!$D$114,"N","Y") -> #DIV/0! | T29: =IF(N29<'FINAL EXAM'!$D$114,"N","Y") -> #DIV/0! | U29: =IF(O29<'FINAL EXAM'!$D$114,"N","Y") -> #REF!
... A106: 97 | B106: ='FINAL EXAM'!B106 -> VISHAL.S.PUJARI | C106: ='FINAL EXAM'!C106 -> 1SG15EE097 | D106: =SUMIF('FINAL EXAM'!$D$8:$H$8,$D$9,'FINAL EXAM'!D106:H106) -> 36 | E106: =SUMIF('FINAL EXAM'!$D$8:$H$8,$E$9,'FINAL EXAM'!D106:H106) -> 36 | F106: =SUMIF('FINAL EXAM'!$D$8:$H$8,$F$9,'FINAL EXAM'!D106:H106) -> 36 | G106: =SUMIF('FINAL EXAM'!$D$8:$H$8,$G$9,'FINAL EXAM'!D106:H106) -> 72 | H106: =SUMIF('FINAL EXAM'!$D$8:$H$8,$H$9,'FINAL EXAM'!D106:H106) -> 0 | I106: =SUMIF('FINAL EXAM'!$D$8:$H$8,$I$9,'FINAL EXAM'!D106:H106) -> 0 | J106: =D106*100/$J$8 -> #DIV/0! | K106: =E106*100/$K$8 -> #DIV/0! | L106: =F106*100/$L$8 -> #DIV/0! | M106: =G106*100/$M$8 -> #DIV/0! | N106: =H106*100/$N$8 -> #DIV/0! | O106: =I106*100/$O$8 -> #REF! | P106: =IF(J106<'FINAL EXAM'!$D$114,"N","Y") -> #DIV/0! | Q106: =IF(K106<'FINAL EXAM'!$D$114,"N","Y") -> #DIV/0! | R106: =IF(L106<'FINAL EXAM'!$D$114,"N","Y") -> #DIV/0! | S106: =IF(M106<'FINAL EXAM'!$D$114,"N","Y") -> #DIV/0! | T106: =IF(N106<'FINAL EXAM'!$D$114,"N","Y") -> #DIV/0! | U106: =IF(O106<'FINAL EXAM'!$D$114,"N","Y") -> #REF!
A107: 98 | B107: ='FINAL EXAM'!#REF! -> #REF! | C107: ='FINAL EXAM'!#REF! -> #REF! | D107: =SUMIF('FINAL EXAM'!$D$8:$H$8,$D$9,'FINAL EXAM'!#REF!) -> #REF! | E107: =SUMIF('FINAL EXAM'!$D$8:$H$8,$E$9,'FINAL EXAM'!#REF!) -> #REF! | F107: =SUMIF('FINAL EXAM'!$D$8:$H$8,$F$9,'FINAL EXAM'!#REF!) -> #REF! | G107: =SUMIF('FINAL EXAM'!$D$8:$H$8,$G$9,'FINAL EXAM'!#REF!) -> #REF! | H107: =SUMIF('FINAL EXAM'!$D$8:$H$8,$H$9,'FINAL EXAM'!#REF!) -> #REF! | I107: =SUMIF('FINAL EXAM'!$D$8:$H$8,$I$9,'FINAL EXAM'!#REF!) -> #REF! | J107: =D107*100/$J$8 -> #REF! | K107: =E107*100/$K$8 -> #REF! | L107: =F107*100/$L$8 -> #REF! | M107: =G107*100/$M$8 -> #REF! | N107: =H107*100/$N$8 -> #REF! | O107: =I107*100/$O$8 -> #REF! | P107: =IF(J107<'FINAL EXAM'!$D$114,"N","Y") -> #REF! | Q107: =IF(K107<'FINAL EXAM'!$D$114,"N","Y") -> #REF! | R107: =IF(L107<'FINAL EXAM'!$D$114,"N","Y") -> #REF! | S107: =IF(M107<'FINAL EXAM'!$D$114,"N","Y") -> #REF! | T107: =IF(N107<'FINAL EXAM'!$D$114,"N","Y") -> #REF! | U107: =IF(O107<'FINAL EXAM'!$D$114,"N","Y") -> #REF!
A108: 99 | B108: ='FINAL EXAM'!#REF! -> #REF! | C108: ='FINAL EXAM'!#REF! -> #REF! | D108: =SUMIF('FINAL EXAM'!$D$8:$H$8,$D$9,'FINAL EXAM'!#REF!) -> #REF! | E108: =SUMIF('FINAL EXAM'!$D$8:$H$8,$E$9,'FINAL EXAM'!#REF!) -> #REF! | F108: =SUMIF('FINAL EXAM'!$D$8:$H$8,$F$9,'FINAL EXAM'!#REF!) -> #REF! | G108: =SUMIF('FINAL EXAM'!$D$8:$H$8,$G$9,'FINAL EXAM'!#REF!) -> #REF! | H108: =SUMIF('FINAL EXAM'!$D$8:$H$8,$H$9,'FINAL EXAM'!#REF!) -> #REF! | I108: =SUMIF('FINAL EXAM'!$D$8:$H$8,$I$9,'FINAL EXAM'!#REF!) -> #REF! | J108: =D108*100/$J$8 -> #REF! | K108: =E108*100/$K$8 -> #REF! | L108: =F108*100/$L$8 -> #REF! | M108: =G108*100/$M$8 -> #REF! | N108: =H108*100/$N$8 -> #REF! | O108: =I108*100/$O$8 -> #REF! | P108: =IF(J108<'FINAL EXAM'!$D$114,"N","Y") -> #REF! | Q108: =IF(K108<'FINAL EXAM'!$D$114,"N","Y") -> #REF! | R108: =IF(L108<'FINAL EXAM'!$D$114,"N","Y") -> #REF! | S108: =IF(M108<'FINAL EXAM'!$D$114,"N","Y") -> #REF! | T108: =IF(N108<'FINAL EXAM'!$D$114,"N","Y") -> #REF! | U108: =IF(O108<'FINAL EXAM'!$D$114,"N","Y") -> #REF!
A109: 100 | B109: ='FINAL EXAM'!#REF! -> #REF! | C109: ='FINAL EXAM'!#REF! -> #REF! | D109: =SUMIF('FINAL EXAM'!$D$8:$H$8,$D$9,'FINAL EXAM'!#REF!) -> #REF! | E109: =SUMIF('FINAL EXAM'!$D$8:$H$8,$E$9,'FINAL EXAM'!#REF!) -> #REF! | F109: =SUMIF('FINAL EXAM'!$D$8:$H$8,$F$9,'FINAL EXAM'!#REF!) -> #REF! | G109: =SUMIF('FINAL EXAM'!$D$8:$H$8,$G$9,'FINAL EXAM'!#REF!) -> #REF! | H109: =SUMIF('FINAL EXAM'!$D$8:$H$8,$H$9,'FINAL EXAM'!#REF!) -> #REF! | I109: =SUMIF('FINAL EXAM'!$D$8:$H$8,$I$9,'FINAL EXAM'!#REF!) -> #REF! | J109: =D109*100/$J$8 -> #REF! | K109: =E109*100/$K$8 -> #REF! | L109: =F109*100/$L$8 -> #REF! | M109: =G109*100/$M$8 -> #REF! | N109: =H109*100/$N$8 -> #REF! | O109: =I109*100/$O$8 -> #REF! | P109: =IF(J109<'FINAL EXAM'!$D$114,"N","Y") -> #REF! | Q109: =IF(K109<'FINAL EXAM'!$D$114,"N","Y") -> #REF! | R109: =IF(L109<'FINAL EXAM'!$D$114,"N","Y") -> #REF! | S109: =IF(M109<'FINAL EXAM'!$D$114,"N","Y") -> #REF! | T109: =IF(N109<'FINAL EXAM'!$D$114,"N","Y") -> #REF! | U109: =IF(O109<'FINAL EXAM'!$D$114,"N","Y") -> #REF!
A110: 101 | B110: ='FINAL EXAM'!#REF! -> #REF! | C110: ='FINAL EXAM'!#REF! -> #REF! | D110: =SUMIF('FINAL EXAM'!$D$8:$H$8,$D$9,'FINAL EXAM'!#REF!) -> #REF! | E110: =SUMIF('FINAL EXAM'!$D$8:$H$8,$E$9,'FINAL EXAM'!#REF!) -> #REF! | F110: =SUMIF('FINAL EXAM'!$D$8:$H$8,$F$9,'FINAL EXAM'!#REF!) -> #REF! | G110: =SUMIF('FINAL EXAM'!$D$8:$H$8,$G$9,'FINAL EXAM'!#REF!) -> #REF! | H110: =SUMIF('FINAL EXAM'!$D$8:$H$8,$H$9,'FINAL EXAM'!#REF!) -> #REF! | I110: =SUMIF('FINAL EXAM'!$D$8:$H$8,$I$9,'FINAL EXAM'!#REF!) -> #REF! | J110: =D110*100/$J$8 -> #REF! | K110: =E110*100/$K$8 -> #REF! | L110: =F110*100/$L$8 -> #REF! | M110: =G110*100/$M$8 -> #REF! | N110: =H110*100/$N$8 -> #REF! | O110: =I110*100/$O$8 -> #REF! | P110: =IF(J110<'FINAL EXAM'!$D$114,"N","Y") -> #REF! | Q110: =IF(K110<'FINAL EXAM'!$D$114,"N","Y") -> #REF! | R110: =IF(L110<'FINAL EXAM'!$D$114,"N","Y") -> #REF! | S110: =IF(M110<'FINAL EXAM'!$D$114,"N","Y") -> #REF! | T110: =IF(N110<'FINAL EXAM'!$D$114,"N","Y") -> #REF! | U110: =IF(O110<'FINAL EXAM'!$D$114,"N","Y") -> #REF!
A111: 102 | B111: ='FINAL EXAM'!#REF! -> #REF! | C111: ='FINAL EXAM'!#REF! -> #REF! | D111: =SUMIF('FINAL EXAM'!$D$8:$H$8,$D$9,'FINAL EXAM'!#REF!) -> #REF! | E111: =SUMIF('FINAL EXAM'!$D$8:$H$8,$E$9,'FINAL EXAM'!#REF!) -> #REF! | F111: =SUMIF('FINAL EXAM'!$D$8:$H$8,$F$9,'FINAL EXAM'!#REF!) -> #REF! | G111: =SUMIF('FINAL EXAM'!$D$8:$H$8,$G$9,'FINAL EXAM'!#REF!) -> #REF! | H111: =SUMIF('FINAL EXAM'!$D$8:$H$8,$H$9,'FINAL EXAM'!#REF!) -> #REF! | I111: =SUMIF('FINAL EXAM'!$D$8:$H$8,$I$9,'FINAL EXAM'!#REF!) -> #REF! | J111: =D111*100/$J$8 -> #REF! | K111: =E111*100/$K$8 -> #REF! | L111: =F111*100/$L$8 -> #REF! | M111: =G111*100/$M$8 -> #REF! | N111: =H111*100/$N$8 -> #REF! | O111: =I111*100/$O$8 -> #REF! | P111: =IF(J111<'FINAL EXAM'!$D$114,"N","Y") -> #REF! | Q111: =IF(K111<'FINAL EXAM'!$D$114,"N","Y") -> #REF! | R111: =IF(L111<'FINAL EXAM'!$D$114,"N","Y") -> #REF! | S111: =IF(M111<'FINAL EXAM'!$D$114,"N","Y") -> #REF! | T111: =IF(N111<'FINAL EXAM'!$D$114,"N","Y") -> #REF! | U111: =IF(O111<'FINAL EXAM'!$D$114,"N","Y") -> #REF!
A112: 103 | B112: ='FINAL EXAM'!#REF! -> #REF! | C112: ='FINAL EXAM'!#REF! -> #REF! | D112: =SUMIF('FINAL EXAM'!$D$8:$H$8,$D$9,'FINAL EXAM'!#REF!) -> #REF! | E112: =SUMIF('FINAL EXAM'!$D$8:$H$8,$E$9,'FINAL EXAM'!#REF!) -> #REF! | F112: =SUMIF('FINAL EXAM'!$D$8:$H$8,$F$9,'FINAL EXAM'!#REF!) -> #REF! | G112: =SUMIF('FINAL EXAM'!$D$8:$H$8,$G$9,'FINAL EXAM'!#REF!) -> #REF! | H112: =SUMIF('FINAL EXAM'!$D$8:$H$8,$H$9,'FINAL EXAM'!#REF!) -> #REF! | I112: =SUMIF('FINAL EXAM'!$D$8:$H$8,$I$9,'FINAL EXAM'!#REF!) -> #REF! | J112: =D112*100/$J$8 -> #REF! | K112: =E112*100/$K$8 -> #REF! | L112: =F112*100/$L$8 -> #REF! | M112: =G112*100/$M$8 -> #REF! | N112: =H112*100/$N$8 -> #REF! | O112: =I112*100/$O$8 -> #REF! | P112: =IF(J112<'FINAL EXAM'!$D$114,"N","Y") -> #REF! | Q112: =IF(K112<'FINAL EXAM'!$D$114,"N","Y") -> #REF! | R112: =IF(L112<'FINAL EXAM'!$D$114,"N","Y") -> #REF! | S112: =IF(M112<'FINAL EXAM'!$D$114,"N","Y") -> #REF! | T112: =IF(N112<'FINAL EXAM'!$D$114,"N","Y") -> #REF! | U112: =IF(O112<'FINAL EXAM'!$D$114,"N","Y") -> #REF!
A113: 104 | B113: ='FINAL EXAM'!#REF! -> #REF! | C113: ='FINAL EXAM'!#REF! -> #REF! | D113: =SUMIF('FINAL EXAM'!$D$8:$H$8,$D$9,'FINAL EXAM'!#REF!) -> #REF! | E113: =SUMIF('FINAL EXAM'!$D$8:$H$8,$E$9,'FINAL EXAM'!#REF!) -> #REF! | F113: =SUMIF('FINAL EXAM'!$D$8:$H$8,$F$9,'FINAL EXAM'!#REF!) -> #REF! | G113: =SUMIF('FINAL EXAM'!$D$8:$H$8,$G$9,'FINAL EXAM'!#REF!) -> #REF! | H113: =SUMIF('FINAL EXAM'!$D$8:$H$8,$H$9,'FINAL EXAM'!#REF!) -> #REF! | I113: =SUMIF('FINAL EXAM'!$D$8:$H$8,$I$9,'FINAL EXAM'!#REF!) -> #REF! | J113: =D113*100/$J$8 -> #REF! | K113: =E113*100/$K$8 -> #REF! | L113: =F113*100/$L$8 -> #REF! | M113: =G113*100/$M$8 -> #REF! | N113: =H113*100/$N$8 -> #REF! | O113: =I113*100/$O$8 -> #REF! | P113: =IF(J113<'FINAL EXAM'!$D$114,"N","Y") -> #REF! | Q113: =IF(K113<'FINAL EXAM'!$D$114,"N","Y") -> #REF! | R113: =IF(L113<'FINAL EXAM'!$D$114,"N","Y") -> #REF! | S113: =IF(M113<'FINAL EXAM'!$D$114,"N","Y") -> #REF! | T113: =IF(N113<'FINAL EXAM'!$D$114,"N","Y") -> #REF! | U113: =IF(O113<'FINAL EXAM'!$D$114,"N","Y") -> #REF!
A114: 105 | B114: ='FINAL EXAM'!#REF! -> #REF! | C114: ='FINAL EXAM'!#REF! -> #REF! | D114: =SUMIF('FINAL EXAM'!$D$8:$H$8,$D$9,'FINAL EXAM'!#REF!) -> #REF! | E114: =SUMIF('FINAL EXAM'!$D$8:$H$8,$E$9,'FINAL EXAM'!#REF!) -> #REF! | F114: =SUMIF('FINAL EXAM'!$D$8:$H$8,$F$9,'FINAL EXAM'!#REF!) -> #REF! | G114: =SUMIF('FINAL EXAM'!$D$8:$H$8,$G$9,'FINAL EXAM'!#REF!) -> #REF! | H114: =SUMIF('FINAL EXAM'!$D$8:$H$8,$H$9,'FINAL EXAM'!#REF!) -> #REF! | I114: =SUMIF('FINAL EXAM'!$D$8:$H$8,$I$9,'FINAL EXAM'!#REF!) -> #REF! | J114: =D114*100/$J$8 -> #REF! | K114: =E114*100/$K$8 -> #REF! | L114: =F114*100/$L$8 -> #REF! | M114: =G114*100/$M$8 -> #REF! | N114: =H114*100/$N$8 -> #REF! | O114: =I114*100/$O$8 -> #REF! | P114: =IF(J114<'FINAL EXAM'!$D$114,"N","Y") -> #REF! | Q114: =IF(K114<'FINAL EXAM'!$D$114,"N","Y") -> #REF! | R114: =IF(L114<'FINAL EXAM'!$D$114,"N","Y") -> #REF! | S114: =IF(M114<'FINAL EXAM'!$D$114,"N","Y") -> #REF! | T114: =IF(N114<'FINAL EXAM'!$D$114,"N","Y") -> #REF! | U114: =IF(O114<'FINAL EXAM'!$D$114,"N","Y") -> #REF!
A115: 106 | B115: ='FINAL EXAM'!#REF! -> #REF! | C115: ='FINAL EXAM'!#REF! -> #REF! | D115: =SUMIF('FINAL EXAM'!$D$8:$H$8,$D$9,'FINAL EXAM'!#REF!) -> #REF! | E115: =SUMIF('FINAL EXAM'!$D$8:$H$8,$E$9,'FINAL EXAM'!#REF!) -> #REF! | F115: =SUMIF('FINAL EXAM'!$D$8:$H$8,$F$9,'FINAL EXAM'!#REF!) -> #REF! | G115: =SUMIF('FINAL EXAM'!$D$8:$H$8,$G$9,'FINAL EXAM'!#REF!) -> #REF! | H115: =SUMIF('FINAL EXAM'!$D$8:$H$8,$H$9,'FINAL EXAM'!#REF!) -> #REF! | I115: =SUMIF('FINAL EXAM'!$D$8:$H$8,$I$9,'FINAL EXAM'!#REF!) -> #REF! | J115: =D115*100/$J$8 -> #REF! | K115: =E115*100/$K$8 -> #REF! | L115: =F115*100/$L$8 -> #REF! | M115: =G115*100/$M$8 -> #REF! | N115: =H115*100/$N$8 -> #REF! | O115: =I115*100/$O$8 -> #REF! | P115: =IF(J115<'FINAL EXAM'!$D$114,"N","Y") -> #REF! | Q115: =IF(K115<'FINAL EXAM'!$D$114,"N","Y") -> #REF! | R115: =IF(L115<'FINAL EXAM'!$D$114,"N","Y") -> #REF! | S115: =IF(M115<'FINAL EXAM'!$D$114,"N","Y") -> #REF! | T115: =IF(N115<'FINAL EXAM'!$D$114,"N","Y") -> #REF! | U115: =IF(O115<'FINAL EXAM'!$D$114,"N","Y") -> #REF!
A116: 107 | B116: ='FINAL EXAM'!#REF! -> #REF! | C116: ='FINAL EXAM'!#REF! -> #REF! | D116: =SUMIF('FINAL EXAM'!$D$8:$H$8,$D$9,'FINAL EXAM'!#REF!) -> #REF! | E116: =SUMIF('FINAL EXAM'!$D$8:$H$8,$E$9,'FINAL EXAM'!#REF!) -> #REF! | F116: =SUMIF('FINAL EXAM'!$D$8:$H$8,$F$9,'FINAL EXAM'!#REF!) -> #REF! | G116: =SUMIF('FINAL EXAM'!$D$8:$H$8,$G$9,'FINAL EXAM'!#REF!) -> #REF! | H116: =SUMIF('FINAL EXAM'!$D$8:$H$8,$H$9,'FINAL EXAM'!#REF!) -> #REF! | I116: =SUMIF('FINAL EXAM'!$D$8:$H$8,$I$9,'FINAL EXAM'!#REF!) -> #REF! | J116: =D116*100/$J$8 -> #REF! | K116: =E116*100/$K$8 -> #REF! | L116: =F116*100/$L$8 -> #REF! | M116: =G116*100/$M$8 -> #REF! | N116: =H116*100/$N$8 -> #REF! | O116: =I116*100/$O$8 -> #REF! | P116: =IF(J116<'FINAL EXAM'!$D$114,"N","Y") -> #REF! | Q116: =IF(K116<'FINAL EXAM'!$D$114,"N","Y") -> #REF! | R116: =IF(L116<'FINAL EXAM'!$D$114,"N","Y") -> #REF! | S116: =IF(M116<'FINAL EXAM'!$D$114,"N","Y") -> #REF! | T116: =IF(N116<'FINAL EXAM'!$D$114,"N","Y") -> #REF! | U116: =IF(O116<'FINAL EXAM'!$D$114,"N","Y") -> #REF!
A117: 108 | B117: ='FINAL EXAM'!#REF! -> #REF! | C117: ='FINAL EXAM'!#REF! -> #REF! | D117: =SUMIF('FINAL EXAM'!$D$8:$H$8,$D$9,'FINAL EXAM'!#REF!) -> #REF! | E117: =SUMIF('FINAL EXAM'!$D$8:$H$8,$E$9,'FINAL EXAM'!#REF!) -> #REF! | F117: =SUMIF('FINAL EXAM'!$D$8:$H$8,$F$9,'FINAL EXAM'!#REF!) -> #REF! | G117: =SUMIF('FINAL EXAM'!$D$8:$H$8,$G$9,'FINAL EXAM'!#REF!) -> #REF! | H117: =SUMIF('FINAL EXAM'!$D$8:$H$8,$H$9,'FINAL EXAM'!#REF!) -> #REF! | I117: =SUMIF('FINAL EXAM'!$D$8:$H$8,$I$9,'FINAL EXAM'!#REF!) -> #REF! | J117: =D117*100/$J$8 -> #REF! | K117: =E117*100/$K$8 -> #REF! | L117: =F117*100/$L$8 -> #REF! | M117: =G117*100/$M$8 -> #REF! | N117: =H117*100/$N$8 -> #REF! | O117: =I117*100/$O$8 -> #REF! | P117: =IF(J117<'FINAL EXAM'!$D$114,"N","Y") -> #REF! | Q117: =IF(K117<'FINAL EXAM'!$D$114,"N","Y") -> #REF! | R117: =IF(L117<'FINAL EXAM'!$D$114,"N","Y") -> #REF! | S117: =IF(M117<'FINAL EXAM'!$D$114,"N","Y") -> #REF! | T117: =IF(N117<'FINAL EXAM'!$D$114,"N","Y") -> #REF! | U117: =IF(O117<'FINAL EXAM'!$D$114,"N","Y") -> #REF!
A118: 109 | B118: ='FINAL EXAM'!#REF! -> #REF! | C118: ='FINAL EXAM'!#REF! -> #REF! | D118: =SUMIF('FINAL EXAM'!$D$8:$H$8,$D$9,'FINAL EXAM'!#REF!) -> #REF! | E118: =SUMIF('FINAL EXAM'!$D$8:$H$8,$E$9,'FINAL EXAM'!#REF!) -> #REF! | F118: =SUMIF('FINAL EXAM'!$D$8:$H$8,$F$9,'FINAL EXAM'!#REF!) -> #REF! | G118: =SUMIF('FINAL EXAM'!$D$8:$H$8,$G$9,'FINAL EXAM'!#REF!) -> #REF! | H118: =SUMIF('FINAL EXAM'!$D$8:$H$8,$H$9,'FINAL EXAM'!#REF!) -> #REF! | I118: =SUMIF('FINAL EXAM'!$D$8:$H$8,$I$9,'FINAL EXAM'!#REF!) -> #REF! | J118: =D118*100/$J$8 -> #REF! | K118: =E118*100/$K$8 -> #REF! | L118: =F118*100/$L$8 -> #REF! | M118: =G118*100/$M$8 -> #REF! | N118: =H118*100/$N$8 -> #REF! | O118: =I118*100/$O$8 -> #REF! | P118: =IF(J118<'FINAL EXAM'!$D$114,"N","Y") -> #REF! | Q118: =IF(K118<'FINAL EXAM'!$D$114,"N","Y") -> #REF! | R118: =IF(L118<'FINAL EXAM'!$D$114,"N","Y") -> #REF! | S118: =IF(M118<'FINAL EXAM'!$D$114,"N","Y") -> #REF! | T118: =IF(N118<'FINAL EXAM'!$D$114,"N","Y") -> #REF! | U118: =IF(O118<'FINAL EXAM'!$D$114,"N","Y") -> #REF!
... A129: 120 | B129: ='FINAL EXAM'!#REF! -> #REF! | C129: ='FINAL EXAM'!#REF! -> #REF! | D129: =SUMIF('FINAL EXAM'!$D$8:$H$8,$D$9,'FINAL EXAM'!#REF!) -> #REF! | E129: =SUMIF('FINAL EXAM'!$D$8:$H$8,$E$9,'FINAL EXAM'!#REF!) -> #REF! | F129: =SUMIF('FINAL EXAM'!$D$8:$H$8,$F$9,'FINAL EXAM'!#REF!) -> #REF! | G129: =SUMIF('FINAL EXAM'!$D$8:$H$8,$G$9,'FINAL EXAM'!#REF!) -> #REF! | H129: =SUMIF('FINAL EXAM'!$D$8:$H$8,$H$9,'FINAL EXAM'!#REF!) -> #REF! | I129: =SUMIF('FINAL EXAM'!$D$8:$H$8,$I$9,'FINAL EXAM'!#REF!) -> #REF! | J129: =D129*100/$J$8 -> #REF! | K129: =E129*100/$K$8 -> #REF! | L129: =F129*100/$L$8 -> #REF! | M129: =G129*100/$M$8 -> #REF! | N129: =H129*100/$N$8 -> #REF! | O129: =I129*100/$O$8 -> #REF! | P129: =IF(J129<'FINAL EXAM'!$D$114,"N","Y") -> #REF! | Q129: =IF(K129<'FINAL EXAM'!$D$114,"N","Y") -> #REF! | R129: =IF(L129<'FINAL EXAM'!$D$114,"N","Y") -> #REF! | S129: =IF(M129<'FINAL EXAM'!$D$114,"N","Y") -> #REF! | T129: =IF(N129<'FINAL EXAM'!$D$114,"N","Y") -> #REF! | U129: =IF(O129<'FINAL EXAM'!$D$114,"N","Y") -> #REF!
O131: NO OF Y | P131: =COUNTIF(P10:P129,"Y") -> 0 | Q131: =COUNTIF(Q10:Q129,"Y") -> 0 | R131: =COUNTIF(R10:R129,"Y") -> 0 | S131: =COUNTIF(S10:S129,"Y") -> 0 | T131: =COUNTIF(T10:T129,"Y") -> 0 | U131: =COUNTIF(U10:U129,"Y") -> 0
O132: ATTAINMENT | P132: =P131/'FINAL EXAM'!$D$113 -> #DIV/0! | Q132: =Q131/'FINAL EXAM'!$D$113 -> #DIV/0! | R132: =R131/'FINAL EXAM'!$D$113 -> #DIV/0! | S132: =S131/'FINAL EXAM'!$D$113 -> #DIV/0! | T132: =T131/'FINAL EXAM'!$D$113 -> #DIV/0! | U132: =U131/'FINAL EXAM'!$D$113 -> #DIV/0!
O136: CO's | P136: CO1 | Q136: CO2 | R136: CO3 | S136: CO4 | T136: CO5 | U136: CO6
O137: IA MARKS ATTAINMENT | P137: =P131*100/'FINAL EXAM'!$D$113 -> #DIV/0! | Q137: =Q131*100/'FINAL EXAM'!$D$113 -> #DIV/0! | R137: =R131*100/'FINAL EXAM'!$D$113 -> #DIV/0! | S137: =S131*100/'FINAL EXAM'!$D$113 -> #DIV/0! | T137: =T131*100/'FINAL EXAM'!$D$113 -> #DIV/0! | U137: =U131*100/'FINAL EXAM'!$D$113 -> #DIV/0!

Sheet Assignment CO 
B1: Sapthagiri College of Engineering
B2: Department of Mechanical Engineering
D3: Mechanics of Materials
B4: III Semester B Section Test marks for ODD Sem 2017-18 | P4: TARGET: 90% OF STUDENTS TO SCORE 80% and ABOVE
A5: Sl. No. | B5: Name of the student | C5: USN | J5: ASSIGNMENT ATTAINMENT (%) | P5: Y OR N
D7: I | E7: II | F7: III | G7: IV | H7: V | I7: V | J7: I | K7: II | L7: III | M7: IV | N7: V | O7: V | P7: I | Q7: II | R7: III | S7: IV | T7: V | U7: V
D8: CO1 | E8: CO2 | F8: CO3 | G8: CO4 | H8: CO5 | I8: CO6 | J8: CO1 | K8: CO2 | L8: CO3 | M8: CO4 | N8: CO5 | O8: CO6 | P8: CO1 | Q8: CO2 | R8: CO3 | S8: CO4 | T8: CO5 | U8: CO6
A9: ='FINAL EXAM'!A10 -> 1 | B9: ='FINAL EXAM'!B10 -> ABHILASH Y | C9: ='FINAL EXAM'!C10 -> 1SG15EE001 | D9: ='FINAL EXAM'!#REF! -> #REF! | E9: ='FINAL EXAM'!#REF! -> #REF! | F9: ='FINAL EXAM'!#REF! -> #REF! | G9: ='FINAL EXAM'!#REF! -> #REF! | H9: ='FINAL EXAM'!#REF! -> #REF! | I9: ='FINAL EXAM'!#REF! -> #REF! | J9: =D9/'FINAL EXAM'!#REF!*100 -> #REF! | K9: =E9/'FINAL EXAM'!#REF!*100 -> #REF! | L9: =F9/'FINAL EXAM'!#REF!*100 -> #REF! | M9: =G9/'FINAL EXAM'!#REF!*100 -> #REF! | N9: =H9/'FINAL EXAM'!#REF!*100 -> #REF! | O9: =I9/'FINAL EXAM'!#REF!*100 -> #REF! | P9: =IF(J9<'FINAL EXAM'!$D$115,"N","Y") -> #REF! | Q9: =IF(K9<'FINAL EXAM'!$D$115,"N","Y") -> #REF! | R9: =IF(L9<'FINAL EXAM'!$D$115,"N","Y") -> #REF! | S9: =IF(M9<'FINAL EXAM'!$D$115,"N","Y") -> #REF! | T9: =IF(N9<'FINAL EXAM'!$D$115,"N","Y") -> #REF! | U9: =IF(O9<'FINAL EXAM'!$D$115,"N","Y") -> #REF!
A10: ='FINAL EXAM'!A11 -> 2 | B10: ='FINAL EXAM'!B11 -> ADITHYA G.T | C10: ='FINAL EXAM'!C11 -> 1SG15EE002 | D10: ='FINAL EXAM'!#REF! -> #REF! | E10: ='FINAL EXAM'!#REF! -> #REF! | F10: ='FINAL EXAM'!#REF! -> #REF! | G10: ='FINAL EXAM'!#REF! -> #REF! | H10: ='FINAL EXAM'!#REF! -> #REF! | I10: ='FINAL EXAM'!#REF! -> #REF! | J10: =D10/'FINAL EXAM'!#REF!*100 -> #REF! | K10: =E10/'FINAL EXAM'!#REF!*100 -> #REF! | L10: =F10/'FINAL EXAM'!#REF!*100 -> #REF! | M10: =G10/'FINAL EXAM'!#REF!*100 -> #REF! | N10: =H10/'FINAL EXAM'!#REF!*100 -> #REF! | O10: =I10/'FINAL EXAM'!#REF!*100 -> #REF! | P10: =IF(J10<'FINAL EXAM'!$D$115,"N","Y") -> #REF! | Q10: =IF(K10<'FINAL EXAM'!$D$115,"N","Y") -> #REF! | R10: =IF(L10<'FINAL EXAM'!$D$115,"N","Y") -> #REF! | S10: =IF(M10<'FINAL EXAM'!$D$115,"N","Y") -> #REF! | T10: =IF(N10<'FINAL EXAM'!$D$115,"N","Y") -> #REF! | U10: =IF(O10<'FINAL EXAM'!$D$115,"N","Y") -> #REF!
A11: ='FINAL EXAM'!A12 -> 3 | B11: ='FINAL EXAM'!B12 -> AJAY M | C11: ='FINAL EXAM'!C12 -> 1SG15EE003 | D11: ='FINAL EXAM'!#REF! -> #REF! | E11: ='FINAL EXAM'!#REF! -> #REF! | F11: ='FINAL EXAM'!#REF! -> #REF! | G11: ='FINAL EXAM'!#REF! -> #REF! | H11: ='FINAL EXAM'!#REF! -> #REF! | I11: ='FINAL EXAM'!#REF! -> #REF! | J11: =D11/'FINAL EXAM'!#REF!*100 -> #REF! | K11: =E11/'FINAL EXAM'!#REF!*100 -> #REF! | L11: =F11/'FINAL EXAM'!#REF!*100 -> #REF! | M11: =G11/'FINAL EXAM'!#REF!*100 -> #REF! | N11: =H11/'FINAL EXAM'!#REF!*100 -> #REF! | O11: =I11/'FINAL EXAM'!#REF!*100 -> #REF! | P11: =IF(J11<'FINAL EXAM'!$D$115,"N","Y") -> #REF! | Q11: =IF(K11<'FINAL EXAM'!$D$115,"N","Y") -> #REF! | R11: =IF(L11<'FINAL EXAM'!$D$115,"N","Y") -> #REF! | S11: =IF(M11<'FINAL EXAM'!$D$115,"N","Y") -> #REF! | T11: =IF(N11<'FINAL EXAM'!$D$115,"N","Y") -> #REF! | U11: =IF(O11<'FINAL EXAM'!$D$115,"N","Y") -> #REF!
A12: ='FINAL EXAM'!A13 -> 4 | B12: ='FINAL EXAM'!B13 -> AMITH RAUNIYAR | C12: ='FINAL EXAM'!C13 -> 1SG15EE004 | D12: ='FINAL EXAM'!#REF! -> #REF! | E12: ='FINAL EXAM'!#REF! -> #REF! | F12: ='FINAL EXAM'!#REF! -> #REF! | G12: ='FINAL EXAM'!#REF! -> #REF! | H12: ='FINAL EXAM'!#REF! -> #REF! | I12: ='FINAL EXAM'!#REF! -> #REF! | J12: =D12/'FINAL EXAM'!#REF!*100 -> #REF! | K12: =E12/'FINAL EXAM'!#REF!*100 -> #REF! | L12: =F12/'FINAL EXAM'!#REF!*100 -> #REF! | M12: =G12/'FINAL EXAM'!#REF!*100 -> #REF! | N12: =H12/'FINAL EXAM'!#REF!*100 -> #REF! | O12: =I12/'FINAL EXAM'!#REF!*100 -> #REF! | P12: =IF(J12<'FINAL EXAM'!$D$115,"N","Y") -> #REF! | Q12: =IF(K12<'FINAL EXAM'!$D$115,"N","Y") -> #REF! | R12: =IF(L12<'FINAL EXAM'!$D$115,"N","Y") -> #REF! | S12: =IF(M12<'FINAL EXAM'!$D$115,"N","Y") -> #REF! | T12: =IF(N12<'FINAL EXAM'!$D$115,"N","Y") -> #REF! | U12: =IF(O12<'FINAL EXAM'!$D$115,"N","Y") -> #REF!
A13: ='FINAL EXAM'!A14 -> 5 | B13: ='FINAL EXAM'!B14 -> ANNAPURNA SINGH | C13: ='FINAL EXAM'!C14 -> 1SG15EE005 | D13: ='FINAL EXAM'!#REF! -> #REF! | E13: ='FINAL EXAM'!#REF! -> #REF! | F13: ='FINAL EXAM'!#REF! -> #REF! | G13: ='FINAL EXAM'!#REF! -> #REF! | H13: ='FINAL EXAM'!#REF! -> #REF! | I13: ='FINAL EXAM'!#REF! -> #REF! | J13: =D13/'FINAL EXAM'!#REF!*100 -> #REF! | K13: =E13/'FINAL EXAM'!#REF!*100 -> #REF! | L13: =F13/'FINAL EXAM'!#REF!*100 -> #REF! | M13: =G13/'FINAL EXAM'!#REF!*100 -> #REF! | N13: =H13/'FINAL EXAM'!#REF!*100 -> #REF! | O13: =I13/'FINAL EXAM'!#REF!*100 -> #REF! | P13: =IF(J13<'FINAL EXAM'!$D$115,"N","Y") -> #REF! | Q13: =IF(K13<'FINAL EXAM'!$D$115,"N","Y") -> #REF! | R13: =IF(L13<'FINAL EXAM'!$D$115,"N","Y") -> #REF! | S13: =IF(M13<'FINAL EXAM'!$D$115,"N","Y") -> #REF! | T13: =IF(N13<'FINAL EXAM'!$D$115,"N","Y") -> #REF! | U13: =IF(O13<'FINAL EXAM'!$D$115,"N","Y") -> #REF!
A14: ='FINAL EXAM'!A15 -> 6 | B14: ='FINAL EXAM'!B15 -> ANTONY ROSHAN J D | C14: ='FINAL EXAM'!C15 -> 1SG15EE006 | D14: ='FINAL EXAM'!#REF! -> #REF! | E14: ='FINAL EXAM'!#REF! -> #REF! | F14: ='FINAL EXAM'!#REF! -> #REF! | G14: ='FINAL EXAM'!#REF! -> #REF! | H14: ='FINAL EXAM'!#REF! -> #REF! | I14: ='FINAL EXAM'!#REF! -> #REF! | J14: =D14/'FINAL EXAM'!#REF!*100 -> #REF! | K14: =E14/'FINAL EXAM'!#REF!*100 -> #REF! | L14: =F14/'FINAL EXAM'!#REF!*100 -> #REF! | M14: =G14/'FINAL EXAM'!#REF!*100 -> #REF! | N14: =H14/'FINAL EXAM'!#REF!*100 -> #REF! | O14: =I14/'FINAL EXAM'!#REF!*100 -> #REF! | P14: =IF(J14<'FINAL EXAM'!$D$115,"N","Y") -> #REF! | Q14: =IF(K14<'FINAL EXAM'!$D$115,"N","Y") -> #REF! | R14: =IF(L14<'FINAL EXAM'!$D$115,"N","Y") -> #REF! | S14: =IF(M14<'FINAL EXAM'!$D$115,"N","Y") -> #REF! | T14: =IF(N14<'FINAL EXAM'!$D$115,"N","Y") -> #REF! | U14: =IF(O14<'FINAL EXAM'!$D$115,"N","Y") -> #REF!
A15: ='FINAL EXAM'!A16 -> 7 | B15: ='FINAL EXAM'!B16 -> ANUP H V | C15: ='FINAL EXAM'!C16 -> 1SG15EE007 | D15: ='FINAL EXAM'!#REF! -> #REF! | E15: ='FINAL EXAM'!#REF! -> #REF! | F15: ='FINAL EXAM'!#REF! -> #REF! | G15: ='FINAL EXAM'!#REF! -> #REF! | H15: ='FINAL EXAM'!#REF! -> #REF! | I15: ='FINAL EXAM'!#REF! -> #REF! | J15: =D15/'FINAL EXAM'!#REF!*100 -> #REF! | K15: =E15/'FINAL EXAM'!#REF!*100 -> #REF! | L15: =F15/'FINAL EXAM'!#REF!*100 -> #REF! | M15: =G15/'FINAL EXAM'!#REF!*100 -> #REF! | N15: =H15/'FINAL EXAM'!#REF!*100 -> #REF! | O15: =I15/'FINAL EXAM'!#REF!*100 -> #REF! | P15: =IF(J15<'FINAL EXAM'!$D$115,"N","Y") -> #REF! | Q15: =IF(K15<'FINAL EXAM'!$D$115,"N","Y") -> #REF! | R15: =IF(L15<'FINAL EXAM'!$D$115,"N","Y") -> #REF! | S15: =IF(M15<'FINAL EXAM'!$D$115,"N","Y") -> #REF! | T15: =IF(N15<'FINAL EXAM'!$D$115,"N","Y") -> #REF! | U15: =IF(O15<'FINAL EXAM'!$D$115,"N","Y") -> #REF!
A16: ='FINAL EXAM'!A17 -> 8 | B16: ='FINAL EXAM'!B17 -> ANUSHA B | C16: ='FINAL EXAM'!C17 -> 1SG15EE008 | D16: ='FINAL EXAM'!#REF! -> #REF! | E16: ='FINAL EXAM'!#REF! -> #REF! | F16: ='FINAL EXAM'!#REF! -> #REF! | G16: ='FINAL EXAM'!#REF! -> #REF! | H16: ='FINAL EXAM'!#REF! -> #REF! | I16: ='FINAL EXAM'!#REF! -> #REF! | J16: =D16/'FINAL EXAM'!#REF!*100 -> #REF! | K16: =E16/'FINAL EXAM'!#REF!*100 -> #REF! | L16: =F16/'FINAL EXAM'!#REF!*100 -> #REF! | M16: =G16/'FINAL EXAM'!#REF!*100 -> #REF! | N16: =H16/'FINAL EXAM'!#REF!*100 -> #REF! | O16: =I16/'FINAL EXAM'!#REF!*100 -> #REF! | P16: =IF(J16<'FINAL EXAM'!$D$115,"N","Y") -> #REF! | Q16: =IF(K16<'FINAL EXAM'!$D$115,"N","Y") -> #REF! | R16: =IF(L16<'FINAL EXAM'!$D$115,"N","Y") -> #REF! | S16: =IF(M16<'FINAL EXAM'!$D$115,"N","Y") -> #REF! | T16: =IF(N16<'FINAL EXAM'!$D$115,"N","Y") -> #REF! | U16: =IF(O16<'FINAL EXAM'!$D$115,"N","Y") -> #REF!
A17: ='FINAL EXAM'!A18 -> 9 | B17: ='FINAL EXAM'!B18 -> ANUSHA K | C17: ='FINAL EXAM'!C18 -> 1SG15EE009 | D17: ='FINAL EXAM'!#REF! -> #REF! | E17: ='FINAL EXAM'!#REF! -> #REF! | F17: ='FINAL EXAM'!#REF! -> #REF! | G17: ='FINAL EXAM'!#REF! -> #REF! | H17: ='FINAL EXAM'!#REF! -> #REF! | I17: ='FINAL EXAM'!#REF! -> #REF! | J17: =D17/'FINAL EXAM'!#REF!*100 -> #REF! | K17: =E17/'FINAL EXAM'!#REF!*100 -> #REF! | L17: =F17/'FINAL EXAM'!#REF!*100 -> #REF! | M17: =G17/'FINAL EXAM'!#REF!*100 -> #REF! | N17: =H17/'FINAL EXAM'!#REF!*100 -> #REF! | O17: =I17/'FINAL EXAM'!#REF!*100 -> #REF! | P17: =IF(J17<'FINAL EXAM'!$D$115,"N","Y") -> #REF! | Q17: =IF(K17<'FINAL EXAM'!$D$115,"N","Y") -> #REF! | R17: =IF(L17<'FINAL EXAM'!$D$115,"N","Y") -> #REF! | S17: =IF(M17<'FINAL EXAM'!$D$115,"N","Y") -> #REF! | T17: =IF(N17<'FINAL EXAM'!$D$115,"N","Y") -> #REF! | U17: =IF(O17<'FINAL EXAM'!$D$115,"N","Y") -> #REF!
A18: ='FINAL EXAM'!A19 -> 10 | B18: ='FINAL EXAM'!B19 -> APOORVA K.G | C18: ='FINAL EXAM'!C19 -> 1SG15EE010 | D18: ='FINAL EXAM'!#REF! -> #REF! | E18: ='FINAL EXAM'!#REF! -> #REF! | F18: ='FINAL EXAM'!#REF! -> #REF! | G18: ='FINAL EXAM'!#REF! -> #REF! | H18: ='FINAL EXAM'!#REF! -> #REF! | I18: ='FINAL EXAM'!#REF! -> #REF! | J18: =D18/'FINAL EXAM'!#REF!*100 -> #REF! | K18: =E18/'FINAL EXAM'!#REF!*100 -> #REF! | L18: =F18/'FINAL EXAM'!#REF!*100 -> #REF! | M18: =G18/'FINAL EXAM'!#REF!*100 -> #REF! | N18: =H18/'FINAL EXAM'!#REF!*100 -> #REF! | O18: =I18/'FINAL EXAM'!#REF!*100 -> #REF! | P18: =IF(J18<'FINAL EXAM'!$D$115,"N","Y") -> #REF! | Q18: =IF(K18<'FINAL EXAM'!$D$115,"N","Y") -> #REF! | R18: =IF(L18<'FINAL EXAM'!$D$115,"N","Y") -> #REF! | S18: =IF(M18<'FINAL EXAM'!$D$115,"N","Y") -> #REF! | T18: =IF(N18<'FINAL EXAM'!$D$115,"N","Y") -> #REF! | U18: =IF(O18<'FINAL EXAM'!$D$115,"N","Y") -> #REF!
A19: ='FINAL EXAM'!A20 -> 11 | B19: ='FINAL EXAM'!B20 -> ARPITHA SHARMA | C19: ='FINAL EXAM'!C20 -> 1SG15EE011 | D19: ='FINAL EXAM'!#REF! -> #REF! | E19: ='FINAL EXAM'!#REF! -> #REF! | F19: ='FINAL EXAM'!#REF! -> #REF! | G19: ='FINAL EXAM'!#REF! -> #REF! | H19: ='FINAL EXAM'!#REF! -> #REF! | I19: ='FINAL EXAM'!#REF! -> #REF! | J19: =D19/'FINAL EXAM'!#REF!*100 -> #REF! | K19: =E19/'FINAL EXAM'!#REF!*100 -> #REF! | L19: =F19/'FINAL EXAM'!#REF!*100 -> #REF! | M19: =G19/'FINAL EXAM'!#REF!*100 -> #REF! | N19: =H19/'FINAL EXAM'!#REF!*100 -> #REF! | O19: =I19/'FINAL EXAM'!#REF!*100 -> #REF! | P19: =IF(J19<'FINAL EXAM'!$D$115,"N","Y") -> #REF! | Q19: =IF(K19<'FINAL EXAM'!$D$115,"N","Y") -> #REF! | R19: =IF(L19<'FINAL EXAM'!$D$115,"N","Y") -> #REF! | S19: =IF(M19<'FINAL EXAM'!$D$115,"N","Y") -> #REF! | T19: =IF(N19<'FINAL EXAM'!$D$115,"N","Y") -> #REF! | U19: =IF(O19<'FINAL EXAM'!$D$115,"N","Y") -> #REF!
A20: ='FINAL EXAM'!A21 -> 12 | B20: ='FINAL EXAM'!B21 -> ARPITHA SRINIVASA MURTHY | C20: ='FINAL EXAM'!C21 -> 1SG15EE012 | D20: ='FINAL EXAM'!#REF! -> #REF! | E20: ='FINAL EXAM'!#REF! -> #REF! | F20: ='FINAL EXAM'!#REF! -> #REF! | G20: ='FINAL EXAM'!#REF! -> #REF! | H20: ='FINAL EXAM'!#REF! -> #REF! | I20: ='FINAL EXAM'!#REF! -> #REF! | J20: =D20/'FINAL EXAM'!#REF!*100 -> #REF! | K20: =E20/'FINAL EXAM'!#REF!*100 -> #REF! | L20: =F20/'FINAL EXAM'!#REF!*100 -> #REF! | M20: =G20/'FINAL EXAM'!#REF!*100 -> #REF! | N20: =H20/'FINAL EXAM'!#REF!*100 -> #REF! | O20: =I20/'FINAL EXAM'!#REF!*100 -> #REF! | P20: =IF(J20<'FINAL EXAM'!$D$115,"N","Y") -> #REF! | Q20: =IF(K20<'FINAL EXAM'!$D$115,"N","Y") -> #REF! | R20: =IF(L20<'FINAL EXAM'!$D$115,"N","Y") -> #REF! | S20: =IF(M20<'FINAL EXAM'!$D$115,"N","Y") -> #REF! | T20: =IF(N20<'FINAL EXAM'!$D$115,"N","Y") -> #REF! | U20: =IF(O20<'FINAL EXAM'!$D$115,"N","Y") -> #REF!
... A105: ='FINAL EXAM'!A106 -> 97 | B105: ='FINAL EXAM'!B106 -> VISHAL.S.PUJARI | C105: ='FINAL EXAM'!C106 -> 1SG15EE097 | D105: ='FINAL EXAM'!#REF! -> #REF! | E105: ='FINAL EXAM'!#REF! -> #REF! | F105: ='FINAL EXAM'!#REF! -> #REF! | G105: ='FINAL EXAM'!#REF! -> #REF! | H105: ='FINAL EXAM'!#REF! -> #REF! | I105: ='FINAL EXAM'!#REF! -> #REF! | J105: =D105/'FINAL EXAM'!#REF!*100 -> #REF! | K105: =E105/'FINAL EXAM'!#REF!*100 -> #REF! | L105: =F105/'FINAL EXAM'!#REF!*100 -> #REF! | M105: =G105/'FINAL EXAM'!#REF!*100 -> #REF! | N105: =H105/'FINAL EXAM'!#REF!*100 -> #REF! | O105: =I105/'FINAL EXAM'!#REF!*100 -> #REF! | P105: =IF(J105<'FINAL EXAM'!$D$115,"N","Y") -> #REF! | Q105: =IF(K105<'FINAL EXAM'!$D$115,"N","Y") -> #REF! | R105: =IF(L105<'FINAL EXAM'!$D$115,"N","Y") -> #REF! | S105: =IF(M105<'FINAL EXAM'!$D$115,"N","Y") -> #REF! | T105: =IF(N105<'FINAL EXAM'!$D$115,"N","Y") -> #REF! | U105: =IF(O105<'FINAL EXAM'!$D$115,"N","Y") -> #REF!
A106: ='FINAL EXAM'!#REF! -> #REF! | B106: ='FINAL EXAM'!#REF! -> #REF! | C106: ='FINAL EXAM'!#REF! -> #REF! | D106: ='FINAL EXAM'!#REF! -> #REF! | E106: ='FINAL EXAM'!#REF! -> #REF! | F106: ='FINAL EXAM'!#REF! -> #REF! | G106: ='FINAL EXAM'!#REF! -> #REF! | H106: ='FINAL EXAM'!#REF! -> #REF! | I106: ='FINAL EXAM'!#REF! -> #REF! | J106: =D106/'FINAL EXAM'!#REF!*100 -> #REF! | K106: =E106/'FINAL EXAM'!#REF!*100 -> #REF! | L106: =F106/'FINAL EXAM'!#REF!*100 -> #REF! | M106: =G106/'FINAL EXAM'!#REF!*100 -> #REF! | N106: =H106/'FINAL EXAM'!#REF!*100 -> #REF! | O106: =I106/'FINAL EXAM'!#REF!*100 -> #REF! | P106: =IF(J106<'FINAL EXAM'!$D$115,"N","Y") -> #REF! | Q106: =IF(K106<'FINAL EXAM'!$D$115,"N","Y") -> #REF! | R106: =IF(L106<'FINAL EXAM'!$D$115,"N","Y") -> #REF! | S106: =IF(M106<'FINAL EXAM'!$D$115,"N","Y") -> #REF! | T106: =IF(N106<'FINAL EXAM'!$D$115,"N","Y") -> #REF! | U106: =IF(O106<'FINAL EXAM'!$D$115,"N","Y") -> #REF!
A107: ='FINAL EXAM'!#REF! -> #REF! | B107: ='FINAL EXAM'!#REF! -> #REF! | C107: ='FINAL EXAM'!#REF! -> #REF! | D107: ='FINAL EXAM'!#REF! -> #REF! | E107: ='FINAL EXAM'!#REF! -> #REF! | F107: ='FINAL EXAM'!#REF! -> #REF! | G107: ='FINAL EXAM'!#REF! -> #REF! | H107: ='FINAL EXAM'!#REF! -> #REF! | I107: ='FINAL EXAM'!#REF! -> #REF! | J107: =D107/'FINAL EXAM'!#REF!*100 -> #REF! | K107: =E107/'FINAL EXAM'!#REF!*100 -> #REF! | L107: =F107/'FINAL EXAM'!#REF!*100 -> #REF! | M107: =G107/'FINAL EXAM'!#REF!*100 -> #REF! | N107: =H107/'FINAL EXAM'!#REF!*100 -> #REF! | O107: =I107/'FINAL EXAM'!#REF!*100 -> #REF! | P107: =IF(J107<'FINAL EXAM'!$D$115,"N","Y") -> #REF! | Q107: =IF(K107<'FINAL EXAM'!$D$115,"N","Y") -> #REF! | R107: =IF(L107<'FINAL EXAM'!$D$115,"N","Y") -> #REF! | S107: =IF(M107<'FINAL EXAM'!$D$115,"N","Y") -> #REF! | T107: =IF(N107<'FINAL EXAM'!$D$115,"N","Y") -> #REF! | U107: =IF(O107<'FINAL EXAM'!$D$115,"N","Y") -> #REF!
A108: ='FINAL EXAM'!#REF! -> #REF! | B108: ='FINAL EXAM'!#REF! -> #REF! | C108: ='FINAL EXAM'!#REF! -> #REF! | D108: ='FINAL EXAM'!#REF! -> #REF! | E108: ='FINAL EXAM'!#REF! -> #REF! | F108: ='FINAL EXAM'!#REF! -> #REF! | G108: ='FINAL EXAM'!#REF! -> #REF! | H108: ='FINAL EXAM'!#REF! -> #REF! | I108: ='FINAL EXAM'!#REF! -> #REF! | J108: =D108/'FINAL EXAM'!#REF!*100 -> #REF! | K108: =E108/'FINAL EXAM'!#REF!*100 -> #REF! | L108: =F108/'FINAL EXAM'!#REF!*100 -> #REF! | M108: =G108/'FINAL EXAM'!#REF!*100 -> #REF! | N108: =H108/'FINAL EXAM'!#REF!*100 -> #REF! | O108: =I108/'FINAL EXAM'!#REF!*100 -> #REF! | P108: =IF(J108<'FINAL EXAM'!$D$115,"N","Y") -> #REF! | Q108: =IF(K108<'FINAL EXAM'!$D$115,"N","Y") -> #REF! | R108: =IF(L108<'FINAL EXAM'!$D$115,"N","Y") -> #REF! | S108: =IF(M108<'FINAL EXAM'!$D$115,"N","Y") -> #REF! | T108: =IF(N108<'FINAL EXAM'!$D$115,"N","Y") -> #REF! | U108: =IF(O108<'FINAL EXAM'!$D$115,"N","Y") -> #REF!
A109: ='FINAL EXAM'!#REF! -> #REF! | B109: ='FINAL EXAM'!#REF! -> #REF! | C109: ='FINAL EXAM'!#REF! -> #REF! | D109: ='FINAL EXAM'!#REF! -> #REF! | E109: ='FINAL EXAM'!#REF! -> #REF! | F109: ='FINAL EXAM'!#REF! -> #REF! | G109: ='FINAL EXAM'!#REF! -> #REF! | H109: ='FINAL EXAM'!#REF! -> #REF! | I109: ='FINAL EXAM'!#REF! -> #REF! | J109: =D109/'FINAL EXAM'!#REF!*100 -> #REF! | K109: =E109/'FINAL EXAM'!#REF!*100 -> #REF! | L109: =F109/'FINAL EXAM'!#REF!*100 -> #REF! | M109: =G109/'FINAL EXAM'!#REF!*100 -> #REF! | N109: =H109/'FINAL EXAM'!#REF!*100 -> #REF! | O109: =I109/'FINAL EXAM'!#REF!*100 -> #REF! | P109: =IF(J109<'FINAL EXAM'!$D$115,"N","Y") -> #REF! | Q109: =IF(K109<'FINAL EXAM'!$D$115,"N","Y") -> #REF! | R109: =IF(L109<'FINAL EXAM'!$D$115,"N","Y") -> #REF! | S109: =IF(M109<'FINAL EXAM'!$D$115,"N","Y") -> #REF! | T109: =IF(N109<'FINAL EXAM'!$D$115,"N","Y") -> #REF! | U109: =IF(O109<'FINAL EXAM'!$D$115,"N","Y") -> #REF!
A110: ='FINAL EXAM'!#REF! -> #REF! | B110: ='FINAL EXAM'!#REF! -> #REF! | C110: ='FINAL EXAM'!#REF! -> #REF! | D110: ='FINAL EXAM'!#REF! -> #REF! | E110: ='FINAL EXAM'!#REF! -> #REF! | F110: ='FINAL EXAM'!#REF! -> #REF! | G110: ='FINAL EXAM'!#REF! -> #REF! | H110: ='FINAL EXAM'!#REF! -> #REF! | I110: ='FINAL EXAM'!#REF! -> #REF! | J110: =D110/'FINAL EXAM'!#REF!*100 -> #REF! | K110: =E110/'FINAL EXAM'!#REF!*100 -> #REF! | L110: =F110/'FINAL EXAM'!#REF!*100 -> #REF! | M110: =G110/'FINAL EXAM'!#REF!*100 -> #REF! | N110: =H110/'FINAL EXAM'!#REF!*100 -> #REF! | O110: =I110/'FINAL EXAM'!#REF!*100 -> #REF! | P110: =IF(J110<'FINAL EXAM'!$D$115,"N","Y") -> #REF! | Q110: =IF(K110<'FINAL EXAM'!$D$115,"N","Y") -> #REF! | R110: =IF(L110<'FINAL EXAM'!$D$115,"N","Y") -> #REF! | S110: =IF(M110<'FINAL EXAM'!$D$115,"N","Y") -> #REF! | T110: =IF(N110<'FINAL EXAM'!$D$115,"N","Y") -> #REF! | U110: =IF(O110<'FINAL EXAM'!$D$115,"N","Y") -> #REF!
A111: ='FINAL EXAM'!#REF! -> #REF! | B111: ='FINAL EXAM'!#REF! -> #REF! | C111: ='FINAL EXAM'!#REF! -> #REF! | D111: ='FINAL EXAM'!#REF! -> #REF! | E111: ='FINAL EXAM'!#REF! -> #REF! | F111: ='FINAL EXAM'!#REF! -> #REF! | G111: ='FINAL EXAM'!#REF! -> #REF! | H111: ='FINAL EXAM'!#REF! -> #REF! | I111: ='FINAL EXAM'!#REF! -> #REF! | J111: =D111/'FINAL EXAM'!#REF!*100 -> #REF! | K111: =E111/'FINAL EXAM'!#REF!*100 -> #REF! | L111: =F111/'FINAL EXAM'!#REF!*100 -> #REF! | M111: =G111/'FINAL EXAM'!#REF!*100 -> #REF! | N111: =H111/'FINAL EXAM'!#REF!*100 -> #REF! | O111: =I111/'FINAL EXAM'!#REF!*100 -> #REF! | P111: =IF(J111<'FINAL EXAM'!$D$115,"N","Y") -> #REF! | Q111: =IF(K111<'FINAL EXAM'!$D$115,"N","Y") -> #REF! | R111: =IF(L111<'FINAL EXAM'!$D$115,"N","Y") -> #REF! | S111: =IF(M111<'FINAL EXAM'!$D$115,"N","Y") -> #REF! | T111: =IF(N111<'FINAL EXAM'!$D$115,"N","Y") -> #REF! | U111: =IF(O111<'FINAL EXAM'!$D$115,"N","Y") -> #REF!
A112: ='FINAL EXAM'!#REF! -> #REF! | B112: ='FINAL EXAM'!#REF! -> #REF! | C112: ='FINAL EXAM'!#REF! -> #REF! | D112: ='FINAL EXAM'!#REF! -> #REF! | E112: ='FINAL EXAM'!#REF! -> #REF! | F112: ='FINAL EXAM'!#REF! -> #REF! | G112: ='FINAL EXAM'!#REF! -> #REF! | H112: ='FINAL EXAM'!#REF! -> #REF! | I112: ='FINAL EXAM'!#REF! -> #REF! | J112: =D112/'FINAL EXAM'!#REF!*100 -> #REF! | K112: =E112/'FINAL EXAM'!#REF!*100 -> #REF! | L112: =F112/'FINAL EXAM'!#REF!*100 -> #REF! | M112: =G112/'FINAL EXAM'!#REF!*100 -> #REF! | N112: =H112/'FINAL EXAM'!#REF!*100 -> #REF! | O112: =I112/'FINAL EXAM'!#REF!*100 -> #REF! | P112: =IF(J112<'FINAL EXAM'!$D$115,"N","Y") -> #REF! | Q112: =IF(K112<'FINAL EXAM'!$D$115,"N","Y") -> #REF! | R112: =IF(L112<'FINAL EXAM'!$D$115,"N","Y") -> #REF! | S112: =IF(M112<'FINAL EXAM'!$D$115,"N","Y") -> #REF! | T112: =IF(N112<'FINAL EXAM'!$D$115,"N","Y") -> #REF! | U112: =IF(O112<'FINAL EXAM'!$D$115,"N","Y") -> #REF!
A113: ='FINAL EXAM'!#REF! -> #REF! | B113: ='FINAL EXAM'!#REF! -> #REF! | C113: ='FINAL EXAM'!#REF! -> #REF! | D113: ='FINAL EXAM'!#REF! -> #REF! | E113: ='FINAL EXAM'!#REF! -> #REF! | F113: ='FINAL EXAM'!#REF! -> #REF! | G113: ='FINAL EXAM'!#REF! -> #REF! | H113: ='FINAL EXAM'!#REF! -> #REF! | I113: ='FINAL EXAM'!#REF! -> #REF! | J113: =D113/'FINAL EXAM'!#REF!*100 -> #REF! | K113: =E113/'FINAL EXAM'!#REF!*100 -> #REF! | L113: =F113/'FINAL EXAM'!#REF!*100 -> #REF! | M113: =G113/'FINAL EXAM'!#REF!*100 -> #REF! | N113: =H113/'FINAL EXAM'!#REF!*100 -> #REF! | O113: =I113/'FINAL EXAM'!#REF!*100 -> #REF! | P113: =IF(J113<'FINAL EXAM'!$D$115,"N","Y") -> #REF! | Q113: =IF(K113<'FINAL EXAM'!$D$115,"N","Y") -> #REF! | R113: =IF(L113<'FINAL EXAM'!$D$115,"N","Y") -> #REF! | S113: =IF(M113<'FINAL EXAM'!$D$115,"N","Y") -> #REF! | T113: =IF(N113<'FINAL EXAM'!$D$115,"N","Y") -> #REF! | U113: =IF(O113<'FINAL EXAM'!$D$115,"N","Y") -> #REF!
A114: ='FINAL EXAM'!#REF! -> #REF! | B114: ='FINAL EXAM'!#REF! -> #REF! | C114: ='FINAL EXAM'!#REF! -> #REF! | D114: ='FINAL EXAM'!#REF! -> #REF! | E114: ='FINAL EXAM'!#REF! -> #REF! | F114: ='FINAL EXAM'!#REF! -> #REF! | G114: ='FINAL EXAM'!#REF! -> #REF! | H114: ='FINAL EXAM'!#REF! -> #REF! | I114: ='FINAL EXAM'!#REF! -> #REF! | J114: =D114/'FINAL EXAM'!#REF!*100 -> #REF! | K114: =E114/'FINAL EXAM'!#REF!*100 -> #REF! | L114: =F114/'FINAL EXAM'!#REF!*100 -> #REF! | M114: =G114/'FINAL EXAM'!#REF!*100 -> #REF! | N114: =H114/'FINAL EXAM'!#REF!*100 -> #REF! | O114: =I114/'FINAL EXAM'!#REF!*100 -> #REF! | P114: =IF(J114<'FINAL EXAM'!$D$115,"N","Y") -> #REF! | Q114: =IF(K114<'FINAL EXAM'!$D$115,"N","Y") -> #REF! | R114: =IF(L114<'FINAL EXAM'!$D$115,"N","Y") -> #REF! | S114: =IF(M114<'FINAL EXAM'!$D$115,"N","Y") -> #REF! | T114: =IF(N114<'FINAL EXAM'!$D$115,"N","Y") -> #REF! | U114: =IF(O114<'FINAL EXAM'!$D$115,"N","Y") -> #REF!
A115: ='FINAL EXAM'!#REF! -> #REF! | B115: ='FINAL EXAM'!#REF! -> #REF! | C115: ='FINAL EXAM'!#REF! -> #REF! | D115: ='FINAL EXAM'!#REF! -> #REF! | E115: ='FINAL EXAM'!#REF! -> #REF! | F115: ='FINAL EXAM'!#REF! -> #REF! | G115: ='FINAL EXAM'!#REF! -> #REF! | H115: ='FINAL EXAM'!#REF! -> #REF! | I115: ='FINAL EXAM'!#REF! -> #REF! | J115: =D115/'FINAL EXAM'!#REF!*100 -> #REF! | K115: =E115/'FINAL EXAM'!#REF!*100 -> #REF! | L115: =F115/'FINAL EXAM'!#REF!*100 -> #REF! | M115: =G115/'FINAL EXAM'!#REF!*100 -> #REF! | N115: =H115/'FINAL EXAM'!#REF!*100 -> #REF! | O115: =I115/'FINAL EXAM'!#REF!*100 -> #REF! | P115: =IF(J115<'FINAL EXAM'!$D$115,"N","Y") -> #REF! | Q115: =IF(K115<'FINAL EXAM'!$D$115,"N","Y") -> #REF! | R115: =IF(L115<'FINAL EXAM'!$D$115,"N","Y") -> #REF! | S115: =IF(M115<'FINAL EXAM'!$D$115,"N","Y") -> #REF! | T115: =IF(N115<'FINAL EXAM'!$D$115,"N","Y") -> #REF! | U115: =IF(O115<'FINAL EXAM'!$D$115,"N","Y") -> #REF!
A116: ='FINAL EXAM'!#REF! -> #REF! | B116: ='FINAL EXAM'!#REF! -> #REF! | C116: ='FINAL EXAM'!#REF! -> #REF! | D116: ='FINAL EXAM'!#REF! -> #REF! | E116: ='FINAL EXAM'!#REF! -> #REF! | F116: ='FINAL EXAM'!#REF! -> #REF! | G116: ='FINAL EXAM'!#REF! -> #REF! | H116: ='FINAL EXAM'!#REF! -> #REF! | I116: ='FINAL EXAM'!#REF! -> #REF! | J116: =D116/'FINAL EXAM'!#REF!*100 -> #REF! | K116: =E116/'FINAL EXAM'!#REF!*100 -> #REF! | L116: =F116/'FINAL EXAM'!#REF!*100 -> #REF! | M116: =G116/'FINAL EXAM'!#REF!*100 -> #REF! | N116: =H116/'FINAL EXAM'!#REF!*100 -> #REF! | O116: =I116/'FINAL EXAM'!#REF!*100 -> #REF! | P116: =IF(J116<'FINAL EXAM'!$D$115,"N","Y") -> #REF! | Q116: =IF(K116<'FINAL EXAM'!$D$115,"N","Y") -> #REF! | R116: =IF(L116<'FINAL EXAM'!$D$115,"N","Y") -> #REF! | S116: =IF(M116<'FINAL EXAM'!$D$115,"N","Y") -> #REF! | T116: =IF(N116<'FINAL EXAM'!$D$115,"N","Y") -> #REF! | U116: =IF(O116<'FINAL EXAM'!$D$115,"N","Y") -> #REF!
A117: ='FINAL EXAM'!#REF! -> #REF! | B117: ='FINAL EXAM'!#REF! -> #REF! | C117: ='FINAL EXAM'!#REF! -> #REF! | D117: ='FINAL EXAM'!#REF! -> #REF! | E117: ='FINAL EXAM'!#REF! -> #REF! | F117: ='FINAL EXAM'!#REF! -> #REF! | G117: ='FINAL EXAM'!#REF! -> #REF! | H117: ='FINAL EXAM'!#REF! -> #REF! | I117: ='FINAL EXAM'!#REF! -> #REF! | J117: =D117/'FINAL EXAM'!#REF!*100 -> #REF! | K117: =E117/'FINAL EXAM'!#REF!*100 -> #REF! | L117: =F117/'FINAL EXAM'!#REF!*100 -> #REF! | M117: =G117/'FINAL EXAM'!#REF!*100 -> #REF! | N117: =H117/'FINAL EXAM'!#REF!*100 -> #REF! | O117: =I117/'FINAL EXAM'!#REF!*100 -> #REF! | P117: =IF(J117<'FINAL EXAM'!$D$115,"N","Y") -> #REF! | Q117: =IF(K117<'FINAL EXAM'!$D$115,"N","Y") -> #REF! | R117: =IF(L117<'FINAL EXAM'!$D$115,"N","Y") -> #REF! | S117: =IF(M117<'FINAL EXAM'!$D$115,"N","Y") -> #REF! | T117: =IF(N117<'FINAL EXAM'!$D$115,"N","Y") -> #REF! | U117: =IF(O117<'FINAL EXAM'!$D$115,"N","Y") -> #REF!
... A128: ='FINAL EXAM'!#REF! -> #REF! | B128: ='FINAL EXAM'!#REF! -> #REF! | C128: ='FINAL EXAM'!#REF! -> #REF! | D128: ='FINAL EXAM'!#REF! -> #REF! | E128: ='FINAL EXAM'!#REF! -> #REF! | F128: ='FINAL EXAM'!#REF! -> #REF! | G128: ='FINAL EXAM'!#REF! -> #REF! | H128: ='FINAL EXAM'!#REF! -> #REF! | I128: ='FINAL EXAM'!#REF! -> #REF! | J128: =D128/'FINAL EXAM'!#REF!*100 -> #REF! | K128: =E128/'FINAL EXAM'!#REF!*100 -> #REF! | L128: =F128/'FINAL EXAM'!#REF!*100 -> #REF! | M128: =G128/'FINAL EXAM'!#REF!*100 -> #REF! | N128: =H128/'FINAL EXAM'!#REF!*100 -> #REF! | O128: =I128/'FINAL EXAM'!#REF!*100 -> #REF! | P128: =IF(J128<'FINAL EXAM'!$D$115,"N","Y") -> #REF! | Q128: =IF(K128<'FINAL EXAM'!$D$115,"N","Y") -> #REF! | R128: =IF(L128<'FINAL EXAM'!$D$115,"N","Y") -> #REF! | S128: =IF(M128<'FINAL EXAM'!$D$115,"N","Y") -> #REF! | T128: =IF(N128<'FINAL EXAM'!$D$115,"N","Y") -> #REF! | U128: =IF(O128<'FINAL EXAM'!$D$115,"N","Y") -> #REF!
O130: NO OF Y | P130: =COUNTIF(P9:P128,"Y") -> 0 | Q130: =COUNTIF(Q9:Q128,"Y") -> 0 | R130: =COUNTIF(R9:R128,"Y") -> 0 | S130: =COUNTIF(S9:S128,"Y") -> 0 | T130: =COUNTIF(T9:T128,"Y") -> 0 | U130: =COUNTIF(U9:U128,"Y") -> 0
O131: ATTAINMENT | P131: =P130/'FINAL EXAM'!$D$113*100 -> #DIV/0! | Q131: =Q130/'FINAL EXAM'!$D$113*100 -> #DIV/0! | R131: =R130/'FINAL EXAM'!$D$113*100 -> #DIV/0! | S131: =S130/'FINAL EXAM'!$D$113*100 -> #DIV/0! | T131: =T130/'FINAL EXAM'!$D$113*100 -> #DIV/0! | U131: =U130/'FINAL EXAM'!$D$113*100 -> #DIV/0!
O135: CO's | P135: CO1 | Q135: CO2 | R135: CO3 | S135: CO4 | U135: CO5
O136: ASSIGNMEENT MARKS ATTAINMENT | P136: =P131 -> #DIV/0! | Q136: =Q131 -> #DIV/0! | R136: =R131 -> #DIV/0! | S136: =S131 -> #DIV/0! | T136: =T131 -> #DIV/0! | U136: =U131 -> #DIV/0!

Sheet SEE-final exam CO
P1: TARGET: 70% OF STUDENTS TO SCORE 40% and ABOVE
A2: Sl. No. | B2: Name of the student | C2: USN | D2: EXAM MARKS OBTAINED(same for all COs) | J2: EXAMINATION ATTAINMENT (%) | P2: Y OR N
D5: CO1 | E5: CO2 | F5: CO3 | G5: CO4 | H5: CO5 | I5: CO6 | J5: CO1 | K5: CO2 | L5: CO3 | M5: CO4 | N5: CO5 | O5: CO6 | P5: CO1 | Q5: CO2 | R5: CO3 | S5: CO4 | T5: CO5 | U5: CO6
A6: ='FINAL EXAM'!A10 -> 1 | B6: ='FINAL EXAM'!B10 -> ABHILASH Y | C6: ='FINAL EXAM'!C10 -> 1SG15EE001 | D6: ='FINAL EXAM'!#REF! -> #REF! | E6: =D6 -> #REF! | F6: =E6 -> #REF! | G6: =F6 -> #REF! | H6: =G6 -> #REF! | I6: =H6 -> #REF! | J6: =D6/'FINAL EXAM'!$D$118*100 -> #REF! | K6: =E6/'FINAL EXAM'!$D$118*100 -> #REF! | L6: =F6/'FINAL EXAM'!$D$118*100 -> #REF! | M6: =G6/'FINAL EXAM'!$D$118*100 -> #REF! | N6: =H6/'FINAL EXAM'!$D$118*100 -> #REF! | O6: =I6/'FINAL EXAM'!$D$118*100 -> #REF! | P6: =IF(J6<'FINAL EXAM'!$D$116,"N","Y") -> #REF! | Q6: =IF(K6<'FINAL EXAM'!$D$116,"N","Y") -> #REF! | R6: =IF(L6<'FINAL EXAM'!$D$116,"N","Y") -> #REF! | S6: =IF(M6<'FINAL EXAM'!$D$116,"N","Y") -> #REF! | T6: =IF(N6<'FINAL EXAM'!$D$116,"N","Y") -> #REF! | U6: =IF(O6<'FINAL EXAM'!$D$116,"N","Y") -> #REF!
A7: ='FINAL EXAM'!A11 -> 2 | B7: ='FINAL EXAM'!B11 -> ADITHYA G.T | C7: ='FINAL EXAM'!C11 -> 1SG15EE002 | D7: ='FINAL EXAM'!#REF! -> #REF! | E7: =D7 -> #REF! | F7: =E7 -> #REF! | G7: =F7 -> #REF! | H7: =G7 -> #REF! | I7: =H7 -> #REF! | J7: =D7/'FINAL EXAM'!$D$118*100 -> #REF! | K7: =E7/'FINAL EXAM'!$D$118*100 -> #REF! | L7: =F7/'FINAL EXAM'!$D$118*100 -> #REF! | M7: =G7/'FINAL EXAM'!$D$118*100 -> #REF! | N7: =H7/'FINAL EXAM'!$D$118*100 -> #REF! | O7: =I7/'FINAL EXAM'!$D$118*100 -> #REF! | P7: =IF(J7<'FINAL EXAM'!$D$116,"N","Y") -> #REF! | Q7: =IF(K7<'FINAL EXAM'!$D$116,"N","Y") -> #REF! | R7: =IF(L7<'FINAL EXAM'!$D$116,"N","Y") -> #REF! | S7: =IF(M7<'FINAL EXAM'!$D$116,"N","Y") -> #REF! | T7: =IF(N7<'FINAL EXAM'!$D$116,"N","Y") -> #REF! | U7: =IF(O7<'FINAL EXAM'!$D$116,"N","Y") -> #REF!
A8: ='FINAL EXAM'!A12 -> 3 | B8: ='FINAL EXAM'!B12 -> AJAY M | C8: ='FINAL EXAM'!C12 -> 1SG15EE003 | D8: ='FINAL EXAM'!#REF! -> #REF! | E8: =D8 -> #REF! | F8: =E8 -> #REF! | G8: =F8 -> #REF! | H8: =G8 -> #REF! | I8: =H8 -> #REF! | J8: =D8/'FINAL EXAM'!$D$118*100 -> #REF! | K8: =E8/'FINAL EXAM'!$D$118*100 -> #REF! | L8: =F8/'FINAL EXAM'!$D$118*100 -> #REF! | M8: =G8/'FINAL EXAM'!$D$118*100 -> #REF! | N8: =H8/'FINAL EXAM'!$D$118*100 -> #REF! | O8: =I8/'FINAL EXAM'!$D$118*100 -> #REF! | P8: =IF(J8<'FINAL EXAM'!$D$116,"N","Y") -> #REF! | Q8: =IF(K8<'FINAL EXAM'!$D$116,"N","Y") -> #REF! | R8: =IF(L8<'FINAL EXAM'!$D$116,"N","Y") -> #REF! | S8: =IF(M8<'FINAL EXAM'!$D$116,"N","Y") -> #REF! | T8: =IF(N8<'FINAL EXAM'!$D$116,"N","Y") -> #REF! | U8: =IF(O8<'FINAL EXAM'!$D$116,"N","Y") -> #REF!
A9: ='FINAL EXAM'!A13 -> 4 | B9: ='FINAL EXAM'!B13 -> AMITH RAUNIYAR | C9: ='FINAL EXAM'!C13 -> 1SG15EE004 | D9: ='FINAL EXAM'!#REF! -> #REF! | E9: =D9 -> #REF! | F9: =E9 -> #REF! | G9: =F9 -> #REF! | H9: =G9 -> #REF! | I9: =H9 -> #REF! | J9: =D9/'FINAL EXAM'!$D$118*100 -> #REF! | K9: =E9/'FINAL EXAM'!$D$118*100 -> #REF! | L9: =F9/'FINAL EXAM'!$D$118*100 -> #REF! | M9: =G9/'FINAL EXAM'!$D$118*100 -> #REF! | N9: =H9/'FINAL EXAM'!$D$118*100 -> #REF! | O9: =I9/'FINAL EXAM'!$D$118*100 -> #REF! | P9: =IF(J9<'FINAL EXAM'!$D$116,"N","Y") -> #REF! | Q9: =IF(K9<'FINAL EXAM'!$D$116,"N","Y") -> #REF! | R9: =IF(L9<'FINAL EXAM'!$D$116,"N","Y") -> #REF! | S9: =IF(M9<'FINAL EXAM'!$D$116,"N","Y") -> #REF! | T9: =IF(N9<'FINAL EXAM'!$D$116,"N","Y") -> #REF! | U9: =IF(O9<'FINAL EXAM'!$D$116,"N","Y") -> #REF!
A10: ='FINAL EXAM'!A14 -> 5 | B10: ='FINAL EXAM'!B14 -> ANNAPURNA SINGH | C10: ='FINAL EXAM'!C14 -> 1SG15EE005 | D10: ='FINAL EXAM'!#REF! -> #REF! | E10: =D10 -> #REF! | F10: =E10 -> #REF! | G10: =F10 -> #REF! | H10: =G10 -> #REF! | I10: =H10 -> #REF! | J10: =D10/'FINAL EXAM'!$D$118*100 -> #REF! | K10: =E10/'FINAL EXAM'!$D$118*100 -> #REF! | L10: =F10/'FINAL EXAM'!$D$118*100 -> #REF! | M10: =G10/'FINAL EXAM'!$D$118*100 -> #REF! | N10: =H10/'FINAL EXAM'!$D$118*100 -> #REF! | O10: =I10/'FINAL EXAM'!$D$118*100 -> #REF! | P10: =IF(J10<'FINAL EXAM'!$D$116,"N","Y") -> #REF! | Q10: =IF(K10<'FINAL EXAM'!$D$116,"N","Y") -> #REF! | R10: =IF(L10<'FINAL EXAM'!$D$116,"N","Y") -> #REF! | S10: =IF(M10<'FINAL EXAM'!$D$116,"N","Y") -> #REF! | T10: =IF(N10<'FINAL EXAM'!$D$116,"N","Y") -> #REF! | U10: =IF(O10<'FINAL EXAM'!$D$116,"N","Y") -> #REF!
A11: ='FINAL EXAM'!A15 -> 6 | B11: ='FINAL EXAM'!B15 -> ANTONY ROSHAN J D | C11: ='FINAL EXAM'!C15 -> 1SG15EE006 | D11: ='FINAL EXAM'!#REF! -> #REF! | E11: =D11 -> #REF! | F11: =E11 -> #REF! | G11: =F11 -> #REF! | H11: =G11 -> #REF! | I11: =H11 -> #REF! | J11: =D11/'FINAL EXAM'!$D$118*100 -> #REF! | K11: =E11/'FINAL EXAM'!$D$118*100 -> #REF! | L11: =F11/'FINAL EXAM'!$D$118*100 -> #REF! | M11: =G11/'FINAL EXAM'!$D$118*100 -> #REF! | N11: =H11/'FINAL EXAM'!$D$118*100 -> #REF! | O11: =I11/'FINAL EXAM'!$D$118*100 -> #REF! | P11: =IF(J11<'FINAL EXAM'!$D$116,"N","Y") -> #REF! | Q11: =IF(K11<'FINAL EXAM'!$D$116,"N","Y") -> #REF! | R11: =IF(L11<'FINAL EXAM'!$D$116,"N","Y") -> #REF! | S11: =IF(M11<'FINAL EXAM'!$D$116,"N","Y") -> #REF! | T11: =IF(N11<'FINAL EXAM'!$D$116,"N","Y") -> #REF! | U11: =IF(O11<'FINAL EXAM'!$D$116,"N","Y") -> #REF!
A12: ='FINAL EXAM'!A16 -> 7 | B12: ='FINAL EXAM'!B16 -> ANUP H V | C12: ='FINAL EXAM'!C16 -> 1SG15EE007 | D12: ='FINAL EXAM'!#REF! -> #REF! | E12: =D12 -> #REF! | F12: =E12 -> #REF! | G12: =F12 -> #REF! | H12: =G12 -> #REF! | I12: =H12 -> #REF! | J12: =D12/'FINAL EXAM'!$D$118*100 -> #REF! | K12: =E12/'FINAL EXAM'!$D$118*100 -> #REF! | L12: =F12/'FINAL EXAM'!$D$118*100 -> #REF! | M12: =G12/'FINAL EXAM'!$D$118*100 -> #REF! | N12: =H12/'FINAL EXAM'!$D$118*100 -> #REF! | O12: =I12/'FINAL EXAM'!$D$118*100 -> #REF! | P12: =IF(J12<'FINAL EXAM'!$D$116,"N","Y") -> #REF! | Q12: =IF(K12<'FINAL EXAM'!$D$116,"N","Y") -> #REF! | R12: =IF(L12<'FINAL EXAM'!$D$116,"N","Y") -> #REF! | S12: =IF(M12<'FINAL EXAM'!$D$116,"N","Y") -> #REF! | T12: =IF(N12<'FINAL EXAM'!$D$116,"N","Y") -> #REF! | U12: =IF(O12<'FINAL EXAM'!$D$116,"N","Y") -> #REF!
A13: ='FINAL EXAM'!A17 -> 8 | B13: ='FINAL EXAM'!B17 -> ANUSHA B | C13: ='FINAL EXAM'!C17 -> 1SG15EE008 | D13: ='FINAL EXAM'!#REF! -> #REF! | E13: =D13 -> #REF! | F13: =E13 -> #REF! | G13: =F13 -> #REF! | H13: =G13 -> #REF! | I13: =H13 -> #REF! | J13: =D13/'FINAL EXAM'!$D$118*100 -> #REF! | K13: =E13/'FINAL EXAM'!$D$118*100 -> #REF! | L13: =F13/'FINAL EXAM'!$D$118*100 -> #REF! | M13: =G13/'FINAL EXAM'!$D$118*100 -> #REF! | N13: =H13/'FINAL EXAM'!$D$118*100 -> #REF! | O13: =I13/'FINAL EXAM'!$D$118*100 -> #REF! | P13: =IF(J13<'FINAL EXAM'!$D$116,"N","Y") -> #REF! | Q13: =IF(K13<'FINAL EXAM'!$D$116,"N","Y") -> #REF! | R13: =IF(L13<'FINAL EXAM'!$D$116,"N","Y") -> #REF! | S13: =IF(M13<'FINAL EXAM'!$D$116,"N","Y") -> #REF! | T13: =IF(N13<'FINAL EXAM'!$D$116,"N","Y") -> #REF! | U13: =IF(O13<'FINAL EXAM'!$D$116,"N","Y") -> #REF!
A14: ='FINAL EXAM'!A18 -> 9 | B14: ='FINAL EXAM'!B18 -> ANUSHA K | C14: ='FINAL EXAM'!C18 -> 1SG15EE009 | D14: ='FINAL EXAM'!#REF! -> #REF! | E14: =D14 -> #REF! | F14: =E14 -> #REF! | G14: =F14 -> #REF! | H14: =G14 -> #REF! | I14: =H14 -> #REF! | J14: =D14/'FINAL EXAM'!$D$118*100 -> #REF! | K14: =E14/'FINAL EXAM'!$D$118*100 -> #REF! | L14: =F14/'FINAL EXAM'!$D$118*100 -> #REF! | M14: =G14/'FINAL EXAM'!$D$118*100 -> #REF! | N14: =H14/'FINAL EXAM'!$D$118*100 -> #REF! | O14: =I14/'FINAL EXAM'!$D$118*100 -> #REF! | P14: =IF(J14<'FINAL EXAM'!$D$116,"N","Y") -> #REF! | Q14: =IF(K14<'FINAL EXAM'!$D$116,"N","Y") -> #REF! | R14: =IF(L14<'FINAL EXAM'!$D$116,"N","Y") -> #REF! | S14: =IF(M14<'FINAL EXAM'!$D$116,"N","Y") -> #REF! | T14: =IF(N14<'FINAL EXAM'!$D$116,"N","Y") -> #REF! | U14: =IF(O14<'FINAL EXAM'!$D$116,"N","Y") -> #REF!
A15: ='FINAL EXAM'!A19 -> 10 | B15: ='FINAL EXAM'!B19 -> APOORVA K.G | C15: ='FINAL EXAM'!C19 -> 1SG15EE010 | D15: ='FINAL EXAM'!#REF! -> #REF! | E15: =D15 -> #REF! | F15: =E15 -> #REF! | G15: =F15 -> #REF! | H15: =G15 -> #REF! | I15: =H15 -> #REF! | J15: =D15/'FINAL EXAM'!$D$118*100 -> #REF! | K15: =E15/'FINAL EXAM'!$D$118*100 -> #REF! | L15: =F15/'FINAL EXAM'!$D$118*100 -> #REF! | M15: =G15/'FINAL EXAM'!$D$118*100 -> #REF! | N15: =H15/'FINAL EXAM'!$D$118*100 -> #REF! | O15: =I15/'FINAL EXAM'!$D$118*100 -> #REF! | P15: =IF(J15<'FINAL EXAM'!$D$116,"N","Y") -> #REF! | Q15: =IF(K15<'FINAL EXAM'!$D$116,"N","Y") -> #REF! | R15: =IF(L15<'FINAL EXAM'!$D$116,"N","Y") -> #REF! | S15: =IF(M15<'FINAL EXAM'!$D$116,"N","Y") -> #REF! | T15: =IF(N15<'FINAL EXAM'!$D$116,"N","Y") -> #REF! | U15: =IF(O15<'FINAL EXAM'!$D$116,"N","Y") -> #REF!
A16: ='FINAL EXAM'!A20 -> 11 | B16: ='FINAL EXAM'!B20 -> ARPITHA SHARMA | C16: ='FINAL EXAM'!C20 -> 1SG15EE011 | D16: ='FINAL EXAM'!#REF! -> #REF! | E16: =D16 -> #REF! | F16: =E16 -> #REF! | G16: =F16 -> #REF! | H16: =G16 -> #REF! | I16: =H16 -> #REF! | J16: =D16/'FINAL EXAM'!$D$118*100 -> #REF! | K16: =E16/'FINAL EXAM'!$D$118*100 -> #REF! | L16: =F16/'FINAL EXAM'!$D$118*100 -> #REF! | M16: =G16/'FINAL EXAM'!$D$118*100 -> #REF! | N16: =H16/'FINAL EXAM'!$D$118*100 -> #REF! | O16: =I16/'FINAL EXAM'!$D$118*100 -> #REF! | P16: =IF(J16<'FINAL EXAM'!$D$116,"N","Y") -> #REF! | Q16: =IF(K16<'FINAL EXAM'!$D$116,"N","Y") -> #REF! | R16: =IF(L16<'FINAL EXAM'!$D$116,"N","Y") -> #REF! | S16: =IF(M16<'FINAL EXAM'!$D$116,"N","Y") -> #REF! | T16: =IF(N16<'FINAL EXAM'!$D$116,"N","Y") -> #REF! | U16: =IF(O16<'FINAL EXAM'!$D$116,"N","Y") -> #REF!
A17: ='FINAL EXAM'!A21 -> 12 | B17: ='FINAL EXAM'!B21 -> ARPITHA SRINIVASA MURTHY | C17: ='FINAL EXAM'!C21 -> 1SG15EE012 | D17: ='FINAL EXAM'!#REF! -> #REF! | E17: =D17 -> #REF! | F17: =E17 -> #REF! | G17: =F17 -> #REF! | H17: =G17 -> #REF! | I17: =H17 -> #REF! | J17: =D17/'FINAL EXAM'!$D$118*100 -> #REF! | K17: =E17/'FINAL EXAM'!$D$118*100 -> #REF! | L17: =F17/'FINAL EXAM'!$D$118*100 -> #REF! | M17: =G17/'FINAL EXAM'!$D$118*100 -> #REF! | N17: =H17/'FINAL EXAM'!$D$118*100 -> #REF! | O17: =I17/'FINAL EXAM'!$D$118*100 -> #REF! | P17: =IF(J17<'FINAL EXAM'!$D$116,"N","Y") -> #REF! | Q17: =IF(K17<'FINAL EXAM'!$D$116,"N","Y") -> #REF! | R17: =IF(L17<'FINAL EXAM'!$D$116,"N","Y") -> #REF! | S17: =IF(M17<'FINAL EXAM'!$D$116,"N","Y") -> #REF! | T17: =IF(N17<'FINAL EXAM'!$D$116,"N","Y") -> #REF! | U17: =IF(O17<'FINAL EXAM'!$D$116,"N","Y") -> #REF!
... A102: ='FINAL EXAM'!A106 -> 97 | B102: ='FINAL EXAM'!B106 -> VISHAL.S.PUJARI | C102: ='FINAL EXAM'!C106 -> 1SG15EE097 | D102: ='FINAL EXAM'!#REF! -> #REF! | E102: =D102 -> #REF! | F102: =E102 -> #REF! | G102: =F102 -> #REF! | H102: =G102 -> #REF! | I102: =H102 -> #REF! | J102: =D102/'FINAL EXAM'!$D$118*100 -> #REF! | K102: =E102/'FINAL EXAM'!$D$118*100 -> #REF! | L102: =F102/'FINAL EXAM'!$D$118*100 -> #REF! | M102: =G102/'FINAL EXAM'!$D$118*100 -> #REF! | N102: =H102/'FINAL EXAM'!$D$118*100 -> #REF! | O102: =I102/'FINAL EXAM'!$D$118*100 -> #REF! | P102: =IF(J102<'FINAL EXAM'!$D$116,"N","Y") -> #REF! | Q102: =IF(K102<'FINAL EXAM'!$D$116,"N","Y") -> #REF! | R102: =IF(L102<'FINAL EXAM'!$D$116,"N","Y") -> #REF! | S102: =IF(M102<'FINAL EXAM'!$D$116,"N","Y") -> #REF! | T102: =IF(N102<'FINAL EXAM'!$D$116,"N","Y") -> #REF! | U102: =IF(O102<'FINAL EXAM'!$D$116,"N","Y") -> #REF!
A103: ='FINAL EXAM'!#REF! -> #REF! | B103: ='FINAL EXAM'!#REF! -> #REF! | C103: ='FINAL EXAM'!#REF! -> #REF! | D103: ='FINAL EXAM'!#REF! -> #REF! | E103: =D103 -> #REF! | F103: =E103 -> #REF! | G103: =F103 -> #REF! | H103: =G103 -> #REF! | I103: =H103 -> #REF! | J103: =D103/'FINAL EXAM'!$D$118*100 -> #REF! | K103: =E103/'FINAL EXAM'!$D$118*100 -> #REF! | L103: =F103/'FINAL EXAM'!$D$118*100 -> #REF! | M103: =G103/'FINAL EXAM'!$D$118*100 -> #REF! | N103: =H103/'FINAL EXAM'!$D$118*100 -> #REF! | O103: =I103/'FINAL EXAM'!$D$118*100 -> #REF! | P103: =IF(J103<'FINAL EXAM'!$D$116,"N","Y") -> #REF! | Q103: =IF(K103<'FINAL EXAM'!$D$116,"N","Y") -> #REF! | R103: =IF(L103<'FINAL EXAM'!$D$116,"N","Y") -> #REF! | S103: =IF(M103<'FINAL EXAM'!$D$116,"N","Y") -> #REF! | T103: =IF(N103<'FINAL EXAM'!$D$116,"N","Y") -> #REF! | U103: =IF(O103<'FINAL EXAM'!$D$116,"N","Y") -> #REF!
A104: ='FINAL EXAM'!#REF! -> #REF! | B104: ='FINAL EXAM'!#REF! -> #REF! | C104: ='FINAL EXAM'!#REF! -> #REF! | D104: ='FINAL EXAM'!#REF! -> #REF! | E104: =D104 -> #REF! | F104: =E104 -> #REF! | G104: =F104 -> #REF! | H104: =G104 -> #REF! | I104: =H104 -> #REF! | J104: =D104/'FINAL EXAM'!$D$118*100 -> #REF! | K104: =E104/'FINAL EXAM'!$D$118*100 -> #REF! | L104: =F104/'FINAL EXAM'!$D$118*100 -> #REF! | M104: =G104/'FINAL EXAM'!$D$118*100 -> #REF! | N104: =H104/'FINAL EXAM'!$D$118*100 -> #REF! | O104: =I104/'FINAL EXAM'!$D$118*100 -> #REF! | P104: =IF(J104<'FINAL EXAM'!$D$116,"N","Y") -> #REF! | Q104: =IF(K104<'FINAL EXAM'!$D$116,"N","Y") -> #REF! | R104: =IF(L104<'FINAL EXAM'!$D$116,"N","Y") -> #REF! | S104: =IF(M104<'FINAL EXAM'!$D$116,"N","Y") -> #REF! | T104: =IF(N104<'FINAL EXAM'!$D$116,"N","Y") -> #REF! | U104: =IF(O104<'FINAL EXAM'!$D$116,"N","Y") -> #REF!
A105: ='FINAL EXAM'!#REF! -> #REF! | B105: ='FINAL EXAM'!#REF! -> #REF! | C105: ='FINAL EXAM'!#REF! -> #REF! | D105: ='FINAL EXAM'!#REF! -> #REF! | E105: =D105 -> #REF! | F105: =E105 -> #REF! | G105: =F105 -> #REF! | H105: =G105 -> #REF! | I105: =H105 -> #REF! | J105: =D105/'FINAL EXAM'!$D$118*100 -> #REF! | K105: =E105/'FINAL EXAM'!$D$118*100 -> #REF! | L105: =F105/'FINAL EXAM'!$D$118*100 -> #REF! | M105: =G105/'FINAL EXAM'!$D$118*100 -> #REF! | N105: =H105/'FINAL EXAM'!$D$118*100 -> #REF! | O105: =I105/'FINAL EXAM'!$D$118*100 -> #REF! | P105: =IF(J105<'FINAL EXAM'!$D$116,"N","Y") -> #REF! | Q105: =IF(K105<'FINAL EXAM'!$D$116,"N","Y") -> #REF! | R105: =IF(L105<'FINAL EXAM'!$D$116,"N","Y") -> #REF! | S105: =IF(M105<'FINAL EXAM'!$D$116,"N","Y") -> #REF! | T105: =IF(N105<'FINAL EXAM'!$D$116,"N","Y") -> #REF! | U105: =IF(O105<'FINAL EXAM'!$D$116,"N","Y") -> #REF!
A106: ='FINAL EXAM'!#REF! -> #REF! | B106: ='FINAL EXAM'!#REF! -> #REF! | C106: ='FINAL EXAM'!#REF! -> #REF! | D106: ='FINAL EXAM'!#REF! -> #REF! | E106: =D106 -> #REF! | F106: =E106 -> #REF! | G106: =F106 -> #REF! | H106: =G106 -> #REF! | I106: =H106 -> #REF! | J106: =D106/'FINAL EXAM'!$D$118*100 -> #REF! | K106: =E106/'FINAL EXAM'!$D$118*100 -> #REF! | L106: =F106/'FINAL EXAM'!$D$118*100 -> #REF! | M106: =G106/'FINAL EXAM'!$D$118*100 -> #REF! | N106: =H106/'FINAL EXAM'!$D$118*100 -> #REF! | O106: =I106/'FINAL EXAM'!$D$118*100 -> #REF! | P106: =IF(J106<'FINAL EXAM'!$D$116,"N","Y") -> #REF! | Q106: =IF(K106<'FINAL EXAM'!$D$116,"N","Y") -> #REF! | R106: =IF(L106<'FINAL EXAM'!$D$116,"N","Y") -> #REF! | S106: =IF(M106<'FINAL EXAM'!$D$116,"N","Y") -> #REF! | T106: =IF(N106<'FINAL EXAM'!$D$116,"N","Y") -> #REF! | U106: =IF(O106<'FINAL EXAM'!$D$116,"N","Y") -> #REF!
A107: ='FINAL EXAM'!#REF! -> #REF! | B107: ='FINAL EXAM'!#REF! -> #REF! | C107: ='FINAL EXAM'!#REF! -> #REF! | D107: ='FINAL EXAM'!#REF! -> #REF! | E107: =D107 -> #REF! | F107: =E107 -> #REF! | G107: =F107 -> #REF! | H107: =G107 -> #REF! | I107: =H107 -> #REF! | J107: =D107/'FINAL EXAM'!$D$118*100 -> #REF! | K107: =E107/'FINAL EXAM'!$D$118*100 -> #REF! | L107: =F107/'FINAL EXAM'!$D$118*100 -> #REF! | M107: =G107/'FINAL EXAM'!$D$118*100 -> #REF! | N107: =H107/'FINAL EXAM'!$D$118*100 -> #REF! | O107: =I107/'FINAL EXAM'!$D$118*100 -> #REF! | P107: =IF(J107<'FINAL EXAM'!$D$116,"N","Y") -> #REF! | Q107: =IF(K107<'FINAL EXAM'!$D$116,"N","Y") -> #REF! | R107: =IF(L107<'FINAL EXAM'!$D$116,"N","Y") -> #REF! | S107: =IF(M107<'FINAL EXAM'!$D$116,"N","Y") -> #REF! | T107: =IF(N107<'FINAL EXAM'!$D$116,"N","Y") -> #REF! | U107: =IF(O107<'FINAL EXAM'!$D$116,"N","Y") -> #REF!
A108: ='FINAL EXAM'!#REF! -> #REF! | B108: ='FINAL EXAM'!#REF! -> #REF! | C108: ='FINAL EXAM'!#REF! -> #REF! | D108: ='FINAL EXAM'!#REF! -> #REF! | E108: =D108 -> #REF! | F108: =E108 -> #REF! | G108: =F108 -> #REF! | H108: =G108 -> #REF! | I108: =H108 -> #REF! | J108: =D108/'FINAL EXAM'!$D$118*100 -> #REF! | K108: =E108/'FINAL EXAM'!$D$118*100 -> #REF! | L108: =F108/'FINAL EXAM'!$D$118*100 -> #REF! | M108: =G108/'FINAL EXAM'!$D$118*100 -> #REF! | N108: =H108/'FINAL EXAM'!$D$118*100 -> #REF! | O108: =I108/'FINAL EXAM'!$D$118*100 -> #REF! | P108: =IF(J108<'FINAL EXAM'!$D$116,"N","Y") -> #REF! | Q108: =IF(K108<'FINAL EXAM'!$D$116,"N","Y") -> #REF! | R108: =IF(L108<'FINAL EXAM'!$D$116,"N","Y") -> #REF! | S108: =IF(M108<'FINAL EXAM'!$D$116,"N","Y") -> #REF! | T108: =IF(N108<'FINAL EXAM'!$D$116,"N","Y") -> #REF! | U108: =IF(O108<'FINAL EXAM'!$D$116,"N","Y") -> #REF!
A109: ='FINAL EXAM'!#REF! -> #REF! | B109: ='FINAL EXAM'!#REF! -> #REF! | C109: ='FINAL EXAM'!#REF! -> #REF! | D109: ='FINAL EXAM'!#REF! -> #REF! | E109: =D109 -> #REF! | F109: =E109 -> #REF! | G109: =F109 -> #REF! | H109: =G109 -> #REF! | I109: =H109 -> #REF! | J109: =D109/'FINAL EXAM'!$D$118*100 -> #REF! | K109: =E109/'FINAL EXAM'!$D$118*100 -> #REF! | L109: =F109/'FINAL EXAM'!$D$118*100 -> #REF! | M109: =G109/'FINAL EXAM'!$D$118*100 -> #REF! | N109: =H109/'FINAL EXAM'!$D$118*100 -> #REF! | O109: =I109/'FINAL EXAM'!$D$118*100 -> #REF! | P109: =IF(J109<'FINAL EXAM'!$D$116,"N","Y") -> #REF! | Q109: =IF(K109<'FINAL EXAM'!$D$116,"N","Y") -> #REF! | R109: =IF(L109<'FINAL EXAM'!$D$116,"N","Y") -> #REF! | S109: =IF(M109<'FINAL EXAM'!$D$116,"N","Y") -> #REF! | T109: =IF(N109<'FINAL EXAM'!$D$116,"N","Y") -> #REF! | U109: =IF(O109<'FINAL EXAM'!$D$116,"N","Y") -> #REF!
A110: ='FINAL EXAM'!#REF! -> #REF! | B110: ='FINAL EXAM'!#REF! -> #REF! | C110: ='FINAL EXAM'!#REF! -> #REF! | D110: ='FINAL EXAM'!#REF! -> #REF! | E110: =D110 -> #REF! | F110: =E110 -> #REF! | G110: =F110 -> #REF! | H110: =G110 -> #REF! | I110: =H110 -> #REF! | J110: =D110/'FINAL EXAM'!$D$118*100 -> #REF! | K110: =E110/'FINAL EXAM'!$D$118*100 -> #REF! | L110: =F110/'FINAL EXAM'!$D$118*100 -> #REF! | M110: =G110/'FINAL EXAM'!$D$118*100 -> #REF! | N110: =H110/'FINAL EXAM'!$D$118*100 -> #REF! | O110: =I110/'FINAL EXAM'!$D$118*100 -> #REF! | P110: =IF(J110<'FINAL EXAM'!$D$116,"N","Y") -> #REF! | Q110: =IF(K110<'FINAL EXAM'!$D$116,"N","Y") -> #REF! | R110: =IF(L110<'FINAL EXAM'!$D$116,"N","Y") -> #REF! | S110: =IF(M110<'FINAL EXAM'!$D$116,"N","Y") -> #REF! | T110: =IF(N110<'FINAL EXAM'!$D$116,"N","Y") -> #REF! | U110: =IF(O110<'FINAL EXAM'!$D$116,"N","Y") -> #REF!
A111: ='FINAL EXAM'!#REF! -> #REF! | B111: ='FINAL EXAM'!#REF! -> #REF! | C111: ='FINAL EXAM'!#REF! -> #REF! | D111: ='FINAL EXAM'!#REF! -> #REF! | E111: =D111 -> #REF! | F111: =E111 -> #REF! | G111: =F111 -> #REF! | H111: =G111 -> #REF! | I111: =H111 -> #REF! | J111: =D111/'FINAL EXAM'!$D$118*100 -> #REF! | K111: =E111/'FINAL EXAM'!$D$118*100 -> #REF! | L111: =F111/'FINAL EXAM'!$D$118*100 -> #REF! | M111: =G111/'FINAL EXAM'!$D$118*100 -> #REF! | N111: =H111/'FINAL EXAM'!$D$118*100 -> #REF! | O111: =I111/'FINAL EXAM'!$D$118*100 -> #REF! | P111: =IF(J111<'FINAL EXAM'!$D$116,"N","Y") -> #REF! | Q111: =IF(K111<'FINAL EXAM'!$D$116,"N","Y") -> #REF! | R111: =IF(L111<'FINAL EXAM'!$D$116,"N","Y") -> #REF! | S111: =IF(M111<'FINAL EXAM'!$D$116,"N","Y") -> #REF! | T111: =IF(N111<'FINAL EXAM'!$D$116,"N","Y") -> #REF! | U111: =IF(O111<'FINAL EXAM'!$D$116,"N","Y") -> #REF!
A112: ='FINAL EXAM'!#REF! -> #REF! | B112: ='FINAL EXAM'!#REF! -> #REF! | C112: ='FINAL EXAM'!#REF! -> #REF! | D112: ='FINAL EXAM'!#REF! -> #REF! | E112: =D112 -> #REF! | F112: =E112 -> #REF! | G112: =F112 -> #REF! | H112: =G112 -> #REF! | I112: =H112 -> #REF! | J112: =D112/'FINAL EXAM'!$D$118*100 -> #REF! | K112: =E112/'FINAL EXAM'!$D$118*100 -> #REF! | L112: =F112/'FINAL EXAM'!$D$118*100 -> #REF! | M112: =G112/'FINAL EXAM'!$D$118*100 -> #REF! | N112: =H112/'FINAL EXAM'!$D$118*100 -> #REF! | O112: =I112/'FINAL EXAM'!$D$118*100 -> #REF! | P112: =IF(J112<'FINAL EXAM'!$D$116,"N","Y") -> #REF! | Q112: =IF(K112<'FINAL EXAM'!$D$116,"N","Y") -> #REF! | R112: =IF(L112<'FINAL EXAM'!$D$116,"N","Y") -> #REF! | S112: =IF(M112<'FINAL EXAM'!$D$116,"N","Y") -> #REF! | T112: =IF(N112<'FINAL EXAM'!$D$116,"N","Y") -> #REF! | U112: =IF(O112<'FINAL EXAM'!$D$116,"N","Y") -> #REF!
A113: ='FINAL EXAM'!#REF! -> #REF! | B113: ='FINAL EXAM'!#REF! -> #REF! | C113: ='FINAL EXAM'!#REF! -> #REF! | D113: ='FINAL EXAM'!#REF! -> #REF! | E113: =D113 -> #REF! | F113: =E113 -> #REF! | G113: =F113 -> #REF! | H113: =G113 -> #REF! | I113: =H113 -> #REF! | J113: =D113/'FINAL EXAM'!$D$118*100 -> #REF! | K113: =E113/'FINAL EXAM'!$D$118*100 -> #REF! | L113: =F113/'FINAL EXAM'!$D$118*100 -> #REF! | M113: =G113/'FINAL EXAM'!$D$118*100 -> #REF! | N113: =H113/'FINAL EXAM'!$D$118*100 -> #REF! | O113: =I113/'FINAL EXAM'!$D$118*100 -> #REF! | P113: =IF(J113<'FINAL EXAM'!$D$116,"N","Y") -> #REF! | Q113: =IF(K113<'FINAL EXAM'!$D$116,"N","Y") -> #REF! | R113: =IF(L113<'FINAL EXAM'!$D$116,"N","Y") -> #REF! | S113: =IF(M113<'FINAL EXAM'!$D$116,"N","Y") -> #REF! | T113: =IF(N113<'FINAL EXAM'!$D$116,"N","Y") -> #REF! | U113: =IF(O113<'FINAL EXAM'!$D$116,"N","Y") -> #REF!
A114: ='FINAL EXAM'!#REF! -> #REF! | B114: ='FINAL EXAM'!#REF! -> #REF! | C114: ='FINAL EXAM'!#REF! -> #REF! | D114: ='FINAL EXAM'!#REF! -> #REF! | E114: =D114 -> #REF! | F114: =E114 -> #REF! | G114: =F114 -> #REF! | H114: =G114 -> #REF! | I114: =H114 -> #REF! | J114: =D114/'FINAL EXAM'!$D$118*100 -> #REF! | K114: =E114/'FINAL EXAM'!$D$118*100 -> #REF! | L114: =F114/'FINAL EXAM'!$D$118*100 -> #REF! | M114: =G114/'FINAL EXAM'!$D$118*100 -> #REF! | N114: =H114/'FINAL EXAM'!$D$118*100 -> #REF! | O114: =I114/'FINAL EXAM'!$D$118*100 -> #REF! | P114: =IF(J114<'FINAL EXAM'!$D$116,"N","Y") -> #REF! | Q114: =IF(K114<'FINAL EXAM'!$D$116,"N","Y") -> #REF! | R114: =IF(L114<'FINAL EXAM'!$D$116,"N","Y") -> #REF! | S114: =IF(M114<'FINAL EXAM'!$D$116,"N","Y") -> #REF! | T114: =IF(N114<'FINAL EXAM'!$D$116,"N","Y") -> #REF! | U114: =IF(O114<'FINAL EXAM'!$D$116,"N","Y") -> #REF!
... A125: ='FINAL EXAM'!#REF! -> #REF! | B125: ='FINAL EXAM'!#REF! -> #REF! | C125: ='FINAL EXAM'!#REF! -> #REF! | D125: ='FINAL EXAM'!#REF! -> #REF! | E125: =D125 -> #REF! | F125: =E125 -> #REF! | G125: =F125 -> #REF! | H125: =G125 -> #REF! | I125: =H125 -> #REF! | J125: =D125/'FINAL EXAM'!$D$118*100 -> #REF! | K125: =E125/'FINAL EXAM'!$D$118*100 -> #REF! | L125: =F125/'FINAL EXAM'!$D$118*100 -> #REF! | M125: =G125/'FINAL EXAM'!$D$118*100 -> #REF! | N125: =H125/'FINAL EXAM'!$D$118*100 -> #REF! | O125: =I125/'FINAL EXAM'!$D$118*100 -> #REF! | P125: =IF(J125<'FINAL EXAM'!$D$116,"N","Y") -> #REF! | Q125: =IF(K125<'FINAL EXAM'!$D$116,"N","Y") -> #REF! | R125: =IF(L125<'FINAL EXAM'!$D$116,"N","Y") -> #REF! | S125: =IF(M125<'FINAL EXAM'!$D$116,"N","Y") -> #REF! | T125: =IF(N125<'FINAL EXAM'!$D$116,"N","Y") -> #REF! | U125: =IF(O125<'FINAL EXAM'!$D$116,"N","Y") -> #REF!
O127: NO OF Y | P127: =COUNTIF(P6:P125,"Y") -> 0 | Q127: =COUNTIF(Q6:Q125,"Y") -> 0 | R127: =COUNTIF(R6:R125,"Y") -> 0 | S127: =COUNTIF(S6:S125,"Y") -> 0 | T127: =COUNTIF(T6:T125,"Y") -> 0 | U127: =COUNTIF(U6:U125,"Y") -> 0
O128: ATTAINMENT | P128: =P127*100/'FINAL EXAM'!$D$113 -> #DIV/0! | Q128: =Q127*100/'FINAL EXAM'!$D$113 -> #DIV/0! | R128: =R127*100/'FINAL EXAM'!$D$113 -> #DIV/0! | S128: =S127*100/'FINAL EXAM'!$D$113 -> #DIV/0! | T128: =T127*100/'FINAL EXAM'!$D$113 -> #DIV/0! | U128: =U127*100/'FINAL EXAM'!$D$113 -> #DIV/0!
O132: CO's | P132: CO1 | Q132: CO2 | R132: CO3 | S132: CO4 | T132: CO5 | U132: CO6
O133: EXAMINATION MARKS ATTAINMENT | P133: =P128 -> #DIV/0! | Q133: =Q128 -> #DIV/0! | R133: =R128 -> #DIV/0! | S133: =S128 -> #DIV/0! | T133: =T128 -> #DIV/0! | U133: =U128 -> #DIV/0!

Sheet TOTAL CO 
B2: Equal weigtage to TEST, ASSIGNMENT & EXAM MARKS
E3: TARGET: 50% ATTAINMENT
E6: CO1 | F6: CO2 | G6: CO3 | H6: CO4 | I6: CO5 | J6: CO6
D7: IA MARKS ATTAINMENT | E7: 45.360825 | F7: 18.556701 | G7: 56.701031 | H7: 28.865979 | I7: 75.257732 | J7: ='TEST -CO '!U137 -> #DIV/0!
D8: Assignment ATTAINMENT | E8: 100 | F8: 100 | G8: 100 | H8: 100 | I8: 100 | J8: ='Assignment CO '!U136 -> #DIV/0!
D9: EXAM ATTAINMENT | E9: 74 | F9: 74 | G9: 74 | H9: 74 | I9: 74 | J9: ='SEE-final exam CO'!U133 -> #DIV/0!
D10: AVARAGE | E10: =AVERAGE(E7:E9) -> 73.120275 | F10: =AVERAGE(F7:F9) -> 64.185567 | G10: =AVERAGE(G7:G9) -> 76.900344 | H10: =AVERAGE(H7:H9) -> 67.621993 | I10: =AVERAGE(I7:I9) -> 83.085911 | J10: =AVERAGE(J7:J9) -> #DIV/0!
E14: CO1 | F14: CO2 | G14: CO3 | H14: CO4 | I14: CO5 | J14: CO6
D15: ATTAINMENT of COs | E15: =E10 -> 73.120275 | F15: =F10 -> 64.185567 | G15: =G10 -> 76.900344 | H15: =H10 -> 67.621993 | I15: =I10 -> 83.085911 | J15: =J10 -> #DIV/0!
C32: SAMPLE
D35: NEXT ACADEMIC YEAR TARGET CAN BE: 70%

Sheet FB
A1: Timestamp | B1: Name | C1: USN | D1: CO1:Are you able to explain the working of cells, batteries and fuel cells using electrochemical concepts? | E1: CO2:Are you able to identify the corrosion related problems and develop corrosion resistance materials? | F1: CO3:Are you able to identify techniques for analysis and analyze the quality parameters of chemical fuels? | G1: CO4:Are you able to demonstrate the knowledge of polymer materials for futuristic engineering applications? | H1: CO5:Are you able to identify and apply suitable waste water treatment techniques and boiler troubles ? | I1: CO5:Are you able to explain the basic concepts of nano-size particles and properties?
A2: 43264.386 | B2: Anusha.S | C2: 1sg17cv003 | D2: 4 | E2: 4 | F2: 4 | G2: 4 | H2: 5 | I2: 5
A3: 43264.387 | B3: Harshitha K Gowda | C3: 1SG17CV017 | D3: 5 | E3: 5 | F3: 5 | G3: 5 | H3: 5 | I3: 5
A4: 43264.387 | B4: Tarun N | C4: 1SG17CVO48 | D4: 5 | E4: 5 | F4: 4 | G4: 4 | H4: 5 | I4: 4
A5: 43264.388 | B5: Yashik A | C5: 1sg17cv054 | D5: 4 | E5: 4 | F5: 4 | G5: 4 | H5: 4 | I5: 4
A6: 43264.388 | B6: Harshitha R. P | C6: 1SG17CV019 | D6: 5 | E6: 5 | F6: 5 | G6: 5 | H6: 5 | I6: 5
A7: 43264.389 | B7: Yashaswi. Y. S | C7: 1SG17CV053 | D7: 5 | E7: 5 | F7: 5 | G7: 5 | H7: 5 | I7: 4
A8: 43264.391 | B8: Darshan N S | C8: 1sg17cv008 | D8: 4 | E8: 4 | F8: 4 | G8: 3 | H8: 4 | I8: 5
A9: 43264.397 | B9: Shashidhar A H | C9: 1SG17CV043 | D9: 4 | E9: 4 | F9: 5 | G9: 5 | H9: 5 | I9: 4
A10: 43264.397 | B10: Chiranth | C10: 1SG17CV007 | D10: 5 | E10: 4 | F10: 4 | G10: 5 | H10: 5 | I10: 4
A11: 43264.402 | B11: Shreejith s | C11: 1sg17cv044 | D11: 5 | E11: 5 | F11: 5 | G11: 5 | H11: 5 | I11: 5
A12: 43264.403 | B12: Harsha r | C12: 1sg17cv014 | D12: 5 | E12: 5 | F12: 5 | G12: 5 | H12: 5 | I12: 5
A13: 43264.405 | B13: Prajwal HC | C13: 1sg17cv036 | D13: 5 | E13: 5 | F13: 5 | G13: 5 | H13: 5 | I13: 5
... A42: 43272.639 | B42: Jayki Kishan Sah | C42: 1sg17cv022 | D42: 3 | E42: 3 | F42: 3 | G42: 3 | H42: 2 | I42: 2
A43: 1S | D43: =COUNTIF(D2:D42,1) -> 0 | E43: =COUNTIF(E2:E42,1) -> 0 | F43: =COUNTIF(F2:F42,1) -> 0 | G43: =COUNTIF(G2:G42,1) -> 0 | H43: =COUNTIF(H2:H42,1) -> 0 | I43: =COUNTIF(I2:I42,1) -> 0
A44: 2S | D44: =COUNTIF(D2:D42,2) -> 0 | E44: =COUNTIF(E2:E42,2) -> 0 | F44: =COUNTIF(F2:F42,2) -> 0 | G44: =COUNTIF(G2:G42,2) -> 1 | H44: =COUNTIF(H2:H42,2) -> 1 | I44: =COUNTIF(I2:I42,2) -> 1
A45: 3S | D45: =COUNTIF(D2:D42,3) -> 2 | E45: =COUNTIF(E2:E42,3) -> 3 | F45: =COUNTIF(F2:F42,3) -> 3 | G45: =COUNTIF(G2:G42,3) -> 6 | H45: =COUNTIF(H2:H42,3) -> 4 | I45: =COUNTIF(I2:I42,3) -> 1
A46: 4S | D46: =COUNTIF(D2:D42,4) -> 15 | E46: =COUNTIF(E2:E42,4) -> 15 | F46: =COUNTIF(F2:F42,4) -> 14 | G46: =COUNTIF(G2:G42,4) -> 11 | H46: =COUNTIF(H2:H42,4) -> 8 | I46: =COUNTIF(I2:I42,4) -> 14
A47: 5S | D47: =COUNTIF(D2:D42,5) -> 24 | E47: =COUNTIF(E2:E42,5) -> 23 | F47: =COUNTIF(F2:F42,5) -> 24 | G47: =COUNTIF(G2:G42,5) -> 23 | H47: =COUNTIF(H2:H42,5) -> 28 | I47: =COUNTIF(I2:I42,5) -> 25
A48: TOTAL | D48: =SUM(D43:D47) -> 41 | E48: =SUM(E43:E47) -> 41 | F48: =SUM(F43:F47) -> 41 | G48: =SUM(G43:G47) -> 41 | H48: 41 | I48: 41
B52: 1S | C52: 2S | D52: 3S | E52: 4S | F52: 5S | G52: TOTAL
B55: 0 | C55: 0 | D55: 0 | E55: 16 | F55: 27 | G55: 43
B56: 1 | C56: 3 | D56: 4 | E56: 22 | F56: 13 | G56: 43
B57: 0 | C57: 0 | D57: 1 | E57: 11 | F57: 31 | G57: 43
B58: 0 | C58: 0 | D58: 2 | E58: 12 | F58: 29 | G58: 43
B59: 0 | C59: 2 | D59: 5 | E59: 18 | F59: 18 | G59: 43

Sheet CO-PO-DIRECT
B1: Mapping of Course outcomes (COs) and Program Outcomes (POs)
B2: Note: 1 = Slight 2 = Moderate 3 = Good
B4: Course outcomes | C4: Program Outcomes | O4: PSO'S
C5: PO1 | D5: PO2 | E5: PO3 | F5: PO4 | G5: PO5 | H5: PO6 | I5: PO7 | J5: PO8 | K5: PO9 | L5: PO10 | M5: PO11 | N5: PO12 | O5: PSO1 | P5: PSO2 | Q5: PSO3
B6: CO-1 | C6: 1 | D6: 2 | E6: 2 | F6: - | G6: - | H6: - | I6: - | J6: - | K6: - | L6: - | M6: - | N6: 3 | O6: 2 | P6: 1 | Q6: -
B7: CO-2 | C7: 3 | D7: 2 | E7: 2 | F7: - | G7: - | H7: - | I7: - | J7: - | K7: - | L7: - | M7: - | N7: 2 | O7: 2 | P7: 1 | Q7: -
B8: CO-3 | C8: 3 | D8: 3 | E8: 2 | F8: - | G8: - | H8: - | I8: - | J8: - | K8: - | L8: - | M8: - | N8: 2 | O8: 2 | P8: 1 | Q8: -
B9: CO-4 | C9: 3 | D9: 3 | E9: 2 | F9: - | G9: - | H9: - | I9: - | J9: - | K9: - | L9: - | M9: - | N9: 2 | O9: 2 | P9: 1 | Q9: -
B10: CO-5 | C10: 3 | D10: 3 | E10: 3 | F10: - | G10: - | H10: - | I10: - | J10: - | K10: - | L10: - | M10: - | N10: 3 | O10: 2 | P10: 1 | Q10: -
B11: Total | C11: =(C6+C7+C8+C9+C10)/5 -> 2.6 | D11: =(D6+D7+D8+D9+D10)/5 -> 2.6 | E11: =(E6+E7+E8+E9+E10)/5 -> 2.2 | F11: - | G11: - | H11: - | I11: - | J11: - | K11: - | L11: - | M11: - | N11: =(N6+N7+N8+N9+N10)/5 -> 2.4 | O11: =(O6+O7+O8+O9+O10)/5 -> 2 | P11: =(P6+P7+P8+P9+P10)/5 -> 1 | Q11: -
B17: Mapping of Course outcomes (COs) and Program Outcomes (POs)
B18: Note: 1 = Slight 2 = Moderate 3 = Good
A20: Course outcomes | B20: CO % DIRECT | C20: Program Outcomes
C21: PO1 | D21: PO2 | E21: PO3 | F21: PO4 | G21: PO5 | H21: PO6 | I21: PO7 | J21: PO8 | K21: PO9 | L21: PO10 | M21: PO11 | N21: PO12 | O21: PSO1 | P21: PSO2 | Q21: PSO3
A22: CO-1 | B22: 73 | C22: =C6/3*B22 -> 24.333333 | D22: =D6/3*B22 -> 48.666667 | E22: =E6/3*B22 -> 48.666667 | F22: - | G22: - | H22: - | I22: - | J22: - | K22: - | L22: - | M22: - | N22: =N6/3*B22 -> 73 | O22: =O6/3*B22 -> 48.666667 | P22: =P6/3*B22 -> 24.333333 | Q22: -
A23: CO-2 | B23: 64 | C23: =C7/3*B23 -> 64 | D23: =D7/3*B23 -> 42.666667 | E23: =E7/3*B23 -> 42.666667 | F23: - | G23: - | H23: - | I23: - | J23: - | K23: - | L23: - | M23: - | N23: =N7/3*B23 -> 42.666667 | O23: =O7/3*B23 -> 42.666667 | P23: =P7/3*B23 -> 21.333333 | Q23: -
A24: CO-3 | B24: 77 | C24: =C8/3*B24 -> 77 | D24: =D8/3*B24 -> 77 | E24: =E8/3*B24 -> 51.333333 | F24: - | G24: - | H24: - | I24: - | J24: - | K24: - | L24: - | M24: - | N24: =N8/3*B24 -> 51.333333 | O24: =O8/3*B24 -> 51.333333 | P24: =P8/3*B24 -> 25.666667 | Q24: -
A25: CO-4 | B25: 68 | C25: =C9/3*B25 -> 68 | D25: =D9/3*B25 -> 68 | E25: =E9/3*B25 -> 45.333333 | F25: - | G25: - | H25: - | I25: - | J25: - | K25: - | L25: - | M25: - | N25: =N9/3*B25 -> 45.333333 | O25: =O9/3*B25 -> 45.333333 | P25: =P9/3*B25 -> 22.666667 | Q25: -
A26: CO-5 | B26: 83 | C26: =C10/3*B26 -> 83 | D26: =D10/3*B26 -> 83 | E26: =E10/3*B26 -> 83 | F26: - | G26: - | H26: - | I26: - | J26: - | K26: - | L26: - | M26: - | N26: =N10/3*B26 -> 83 | O26: =O10/3*B26 -> 55.333333 | P26: =P10/3*B26 -> 27.666667 | Q26: -
A27: CO-6 | B27: 66.666667 | C27: =($B$27/4)*#REF! -> #REF! | D27: =($B$27/4)*#REF! -> #REF! | E27: =E11/3*B27 -> 48.888889 | F27: - | G27: - | H27: - | I27: - | J27: - | K27: - | L27: - | M27: - | N27: =($B$27/4)*#REF! -> #REF! | Q27: -
A28: Total | C28: =(C22+C23+C24+C25+C26)/5 -> 63.266667 | D28: =(D22+D23+D24+D25+D26)/5 -> 63.866667 | E28: =(E22+E24+E23+E25+E26)/5 -> 54.2 | F28: - | G28: - | H28: - | I28: - | J28: - | K28: - | L28: - | M28: - | N28: =(N22+N23+N24+N25+N26)/5 -> 59.066667 | O28: =(O22+O23+O24+O25+O26)/5 -> 48.666667 | P28: =(P22+P23+P24+P25+P26)/5 -> 24.333333 | Q28: -

Sheet CO-PO-INDIRECT
B1: Mapping of Course outcomes (COs) and Program Outcomes (POs)
B2: Note: 1 = Slight 2 = Moderate 3 = Good 4 = Excellent
B4: Course outcomes | C4: Program Outcomes
C5: a | D5: b | E5: c | F5: d | G5: e | H5: f | I5: g | J5: h | K5: I | L5: J | M5: k | N5: l
C6: PO1 | D6: PO2 | E6: PO3 | F6: PO4 | G6: PO5 | H6: PO6 | I6: PO7 | J6: PO8 | K6: PO9 | L6: PO10 | M6: PO11 | N6: PO12 | O6: PSO1 | P6: PSO2
B7: CO-1 | C7: 2 | D7: - | E7: - | F7: - | G7: - | H7: - | I7: 2 | J7: - | K7: - | L7: - | M7: - | N7: -
B8: CO-2 | C8: 2 | D8: - | E8: - | F8: 2 | G8: - | H8: - | I8: 2 | J8: - | K8: - | L8: - | M8: - | N8: -
B9: CO-3 | C9: 2 | D9: - | E9: - | F9: 2 | G9: - | H9: - | I9: 2 | J9: - | K9: - | L9: - | M9: - | N9: -
B10: CO-4 | C10: 2 | D10: - | E10: - | F10: 3 | G10: - | H10: - | I10: 2 | J10: - | K10: 2 | L10: - | M10: - | N10: 3
B11: CO-5 | C11: 2 | D11: - | E11: - | F11: 3 | G11: - | H11: - | I11: 2 | J11: - | K11: 2 | L11: - | M11: - | N11: -
B12: CO-6 | C12: 2 | D12: - | E12: - | F12: - | G12: - | H12: 3 | I12: 2 | J12: - | K12: 2 | L12: - | M12: - | N12: 3
B13: Total | C13: 12 | D13: - | E13: - | F13: 10 | G13: - | H13: 3 | I13: 12 | J13: - | K13: 6 | L13: - | M13: - | N13: 6
B19: Mapping of Course outcomes (COs) and Program Outcomes (POs)
B20: Note: 1 = Slight 2 = Moderate 3 = Good 4 = Excellent
A22: Course outcomes | B22: CO % DIRECT | C22: Program Outcomes
C23: a | D23: b | E23: c | F23: d | G23: e | H23: f | I23: g | J23: h | K23: I | L23: J | M23: k | N23: l
C24: PO1 | D24: PO2 | E24: PO3 | F24: PO4 | G24: PO5 | H24: PO6 | I24: PO7 | J24: PO8 | K24: PO9 | L24: PO10 | M24: PO11 | N24: PO12
A25: CO-1 | B25: 94.871795 | C25: =(B25/4)*C7 -> 47.435897 | D25: - | E25: - | F25: - | G25: - | H25: - | I25: =($B$25/6)*I7 -> 31.623932 | J25: - | K25: - | L25: - | M25: - | N25: -
A26: CO-2 | B26: 75.641026 | C26: =($B$26/6)*C8 -> 25.213675 | D26: - | E26: - | F26: =($B$26/6)*F8 -> 25.213675 | G26: - | H26: - | I26: =($B$26/6)*I8 -> 25.213675 | J26: - | K26: - | L26: - | M26: - | N26: -
A27: CO-3 | B27: 85.897436 | C27: =(B27/6)*C9 -> 28.632479 | D27: - | E27: - | F27: - | G27: - | H27: - | I27: - | J27: - | K27: - | L27: - | M27: - | N27: -
A28: CO-4 | B28: 85.897436 | C28: =($B$28/6)*C10 -> 28.632479 | D28: - | E28: - | F28: =($B$28/6)*F10 -> 42.948718 | G28: - | H28: - | I28: =($B$28/6)*I10 -> 28.632479 | J28: - | K28: =($B$28/6)*K10 -> 28.632479 | L28: - | M28: - | N28: =($B$28/6)*N10 -> 42.948718
A29: CO-5 | B29: 69.230769 | C29: =($B$29/6)*C11 -> 23.076923 | D29: - | E29: - | F29: =($B$29/6)*F11 -> 34.615385 | G29: - | H29: - | I29: =($B$29/6)*I11 -> 23.076923 | J29: - | K29: =($B$29/6)*K11 -> 23.076923 | L29: - | M29: - | N29: -
A30: CO-6 | B30: 66.666667 | C30: =($B$30/6)*C12 -> 22.222222 | D30: - | E30: - | F30: - | G30: - | H30: - | I30: =($B$30/6)*I12 -> 22.222222 | J30: - | K30: =($B$30/6)*K12 -> 22.222222 | L30: - | M30: - | N30: =($B$30/6)*N12 -> 33.333333
A31: Total | C31: =(C25+C26+C27+C28+C29+C30)/6 -> 29.202279 | F31: =AVERAGE(F25:F30) -> 34.259259 | I31: =AVERAGE(I25:I30) -> 26.153846 | K31: =AVERAGE(K28:K30) -> 24.643875 | N31: =AVERAGE(N25:N30) -> 38.141026

Sheet C-Sec
B1: Acharya Institute of Technology
B2: Department of Computer Science and Engineering
B3: VI Semester C Section Test marks for Even Sem 2013-14
A4: Sl. No. | B4: Name of the student | C4: USN | D4: I INTERNALS | I4: II INTERNALS | Q4: III INTERNALS
I5: PART A | M5: PART B | Q5: PART A | U5: PART B
D6: 1 | E6: 2 | F6: 3 | G6: 4 | H6: 5 | I6: 1 | J6: 2 | K6: 3 | L6: 4 | M6: 5 | N6: 6 | O6: 7 | P6: 8 | Q6: 1 | R6: 2 | S6: 3 | T6: 4 | U6: 5 | V6: 6 | W6: 7 | X6: 8
D7: CO 1 | E7: CO 2 | F7: CO 3 | G7: CO 3 | H7: CO 3 | I7: CO 3 | J7: CO 3 | K7: CO 3 | L7: CO 3 | M7: CO 1 | N7: CO 4 | O7: CO 4 | P7: CO 4 | Q7: CO 4 | R7: CO 4 | S7: CO 4 | T7: CO 4 | U7: CO 4 | V7: CO 4 | W7: CO 5 | X7: CO 5
A8: 1 | B8: SRINIDHI P C | C8: 1AY11CS113 | D8: 10 | E8: 10 | F8: 7 | G8: 10 | H8: 10 | I8: 10 | J8: 10 | K8: 10 | N8: 10 | O8: 9 | Q8: 10 | T8: 9 | U8: 10 | V8: 9 | X8: 10
A9: 2 | B9: SHRUTHIKA C RAMPURE | C9: 1AY11CS114 | D9: 10 | E9: 7 | F9: 9 | G9: 9 | H9: 4 | I9: 9 | J9: 9 | K9: 9 | L9: 9 | N9: 9 | O9: 9 | P9: 10
A10: 3 | B10: SNEHA KUMARI | C10: 1AY11CS115 | D10: 10 | E10: 8 | F10: 9 | G10: 10 | H10: 9 | I10: 10 | K10: 9 | L10: 10 | N10: 9 | O10: 10 | P10: 9 | Q10: 10 | R10: 10 | S10: 10 | T10: 10 | U10: 4 | X10: 10
A11: 4 | B11: SOMEN GORAIN | C11: 1AY11CS116 | E11: 10 | F11: 9 | G11: 9 | H11: 7 | I11: 10 | K11: 10 | M11: 10 | O11: 10 | P11: 10 | Q11: 8 | S11: 10 | T11: 10 | V11: 10 | X11: 10
A12: 5 | B12: SOUVIK KUNDU | C12: 1AY11CS117 | D12: 10 | E12: 10 | F12: 9 | G12: 5 | H12: 7 | K12: 10 | L12: 7 | M12: 10 | N12: 10 | O12: 10 | R12: 10 | S12: 10 | T12: 10 | U12: 6 | V12: 10 | W12: 6
A13: 6 | B13: SOWMYA NAGARAJU | C13: 1AY11CS118 | D13: 3 | E13: 8 | F13: 10 | G13: 8 | H13: 5 | K13: 8 | L13: 10 | M13: 4 | P13: 8 | Q13: 5 | S13: 10 | T13: 10 | U13: 6 | V13: 10 | X13: 10
A14: 7 | B14: SRISTI KUMARI | C14: 1AY11CS120 | D14: 10 | E14: 3 | F14: 7 | G14: 5 | K14: 7 | L14: 7 | M14: 10 | O14: 9 | P14: 9
A15: 8 | B15: SUBAS THAPA | C15: 1AY11CS121 | D15: 7 | E15: 3 | F15: 10 | G15: 4 | H15: 6 | I15: 9 | K15: 9 | N15: 10 | O15: 10 | P15: 8 | Q15: 10 | S15: 10 | T15: 10 | V15: 10 | X15: 9
A16: 9 | B16: SUKANYA BOSE | C16: 1AY11CS122 | D16: 7 | E16: 5 | F16: 8 | I16: 3 | J16: 9 | K16: 9 | L16: 5 | M16: 6 | N16: 4 | O16: 0 | P16: 4 | Q16: 6 | S16: 9 | T16: 4 | V16: 6
A17: 10 | B17: SUMIT KUMAR | C17: 1AY11CS123 | D17: 10 | E17: 3 | F17: 8 | G17: 5 | M17: 8 | N17: 4 | O17: 10 | P17: 5 | Q17: 10 | T17: 10 | U17: 4 | W17: 10 | X17: 10
A18: 11 | B18: SUPRIYA | C18: 1AY11CS124 | D18: 7 | E18: 8 | F18: 9 | G18: 9 | H18: 7 | J18: 8 | K18: 9 | N18: 10 | O18: 6 | P18: 10 | Q18: 8 | S18: 10 | T18: 10 | U18: 8 | V18: 8 | X18: 10
A19: 12 | B19: SURENDRA D | C19: 1AY11CS125 | D19: 10 | F19: 9 | G19: 9 | H19: 7 | I19: 10 | K19: 10 | L19: 8 | M19: 10 | O19: 10 | P19: 6 | Q19: 10 | R19: 6 | S19: 10 | T19: 6 | U19: 4 | X19: 10
A20: 13 | B20: SWATI .M .S | C20: 1AY11CS127 | D20: 10 | E20: 3 | F20: 10 | G20: 4 | H20: 9 | I20: 7 | K20: 9 | L20: 5 | N20: 8 | O20: 9 | P20: 9 | Q20: 8 | R20: 8 | S20: 10 | T20: 10 | U20: 8 | V20: 8 | X20: 10
A21: 14 | B21: TAJ UNNISA | C21: 1AY11CS128 | D21: 10 | E21: 8 | F21: 9 | G21: 10 | H21: 10 | I21: 8 | J21: 9 | L21: 9 | M21: 10 | N21: 9 | O21: 10
A22: 15 | B22: TANUSHREE .Y | C22: 1AY11CS129 | D22: 10 | E22: 4 | F22: 9 | G22: 10 | H22: 6 | I22: 10 | K22: 10 | L22: 4 | N22: 8 | O22: 10 | P22: 10 | R22: 10 | S22: 10 | U22: 10 | V22: 10 | X22: 10
A23: 16 | B23: UMESH KUMAR | C23: 1AY11CS131 | I23: 7 | J23: 9 | L23: 9 | M23: 7 | N23: 4 | O23: 6 | Q23: 6 | S23: 10 | U23: 8 | V23: 10 | X23: 10
A24: 17 | B24: V PRADEEP | C24: 1AY11CS133 | D24: 2 | E24: 10 | F24: 9 | G24: 9 | H24: 10 | I24: 9 | K24: 7 | N24: 10 | O24: 4 | P24: 10
A25: 18 | B25: VISHAL KUMAR | C25: 1AY11CS135 | D25: 10 | E25: 10 | F25: 10 | G25: 10 | H25: 10 | J25: 8 | K25: 5 | M25: 10 | N25: 2 | O25: 10 | P25: 8
A26: 19 | B26: VISHNU .N | C26: 1AY11CS136 | D26: 10 | E26: 9 | F26: 9 | G26: 10 | H26: 7 | I26: 10 | J26: 10 | M26: 10 | N26: 10 | O26: 10
A27: 20 | B27: YOGESH.N | C27: 1AY11CS137 | D27: 10 | E27: 10 | F27: 9 | G27: 10 | H27: 9 | I27: 10 | J27: 10 | K27: 9 | M27: 10 | N27: 10 | O27: 10
A28: 21 | B28: SNEHA KULHALLI | C28: 1AY11CS140 | D28: 10 | E28: 3 | F28: 7 | G28: 7 | H28: 5 | I28: 5 | J28: 7 | K28: 5 | L28: 5 | N28: 6 | O28: 9 | Q28: 10 | S28: 10 | U28: 8 | V28: 6 | X28: 10
A29: 22 | B29: AKSHITHA C | C29: 1AY12CS400 | D29: 7 | F29: 9 | G29: 7 | H29: 5 | I29: 8 | K29: 8 | N29: 4 | O29: 4 | P29: 4 | Q29: 8 | S29: 8 | T29: 8 | V29: 8
A30: 23 | B30: B B VIKAS | C30: 1AY12CS401 | J30: 8 | K30: 7 | M30: 10 | N30: 4 | O30: 10 | Q30: 5 | R30: 2 | S30: 10 | T30: 5 | U30: 2 | V30: 8 | X30: 10
A31: 24 | B31: BALAJI P | C31: 1AY12CS402 | J31: 7 | N31: 6 | O31: 10 | P31: 5 | Q31: 8 | R31: 4 | S31: 10 | V31: 8 | W31: 10
A32: 25 | B32: BASANAGOUDA | C32: 1AY12CS403 | I32: 9 | J32: 7 | N32: 4 | O32: 9 | P32: 4 | R32: 8 | S32: 10 | T32: 8 | U32: 10 | V32: 8 | X32: 10
A33: 26 | B33: BASAVARAJ S | C33: 1AY12CS404 | D33: 9 | E33: 9 | I33: 8 | K33: 9 | N33: 4 | P33: 4 | Q33: 5 | S33: 10 | T33: 10 | U33: 4 | V33: 9 | X33: 10
A34: 27 | B34: DIVYA KALA M | C34: 1AY12CS405 | D34: 10 | E34: 8 | F34: 9 | G34: 9 | H34: 9 | I34: 9 | J34: 8 | M34: 10 | N34: 4 | O34: 9 | P34: 4 | Q34: 8 | R34: 8 | S34: 10 | U34: 8 | V34: 8
A35: 28 | B35: DIVYA L | C35: 1AY12CS406 | D35: 10 | E35: 2 | F35: 7 | I35: 7 | J35: 5 | N35: 4 | O35: 4 | P35: 5 | Q35: 10 | S35: 4 | T35: 10 | U35: 3 | V35: 6 | W35: 4
A36: 29 | B36: GOPAL RAJ J T | C36: 1AY12CS407 | D36: 9 | F36: 9 | G36: 9 | H36: 7 | J36: 5 | L36: 5 | N36: 4 | O36: 6 | P36: 4 | Q36: 4 | S36: 6 | U36: 8 | V36: 8 | W36: 8
A37: 30 | B37: GURURAJ M S | C37: 1AY12CS408 | D37: 9 | E37: 8 | F37: 9 | G37: 7 | H37: 7 | K37: 5 | L37: 8 | N37: 10 | O37: 7 | Q37: 8 | R37: 8 | S37: 10 | T37: 5 | U37: 5 | X37: 10
A38: 31 | B38: JHANHAVI V | C38: 1AY12CS410 | D38: 8 | E38: 5 | F38: 9 | G38: 5 | H38: 6 | I38: 9 | L38: 8 | M38: 10 | N38: 9 | O38: 9 | P38: 8 | Q38: 8 | S38: 8 | T38: 10 | U38: 8 | X38: 8
A39: 32 | B39: LOHITH R R | C39: 1AY12CS411 | F39: 6 | G39: 7 | H39: 6 | J39: 9 | K39: 10 | N39: 10 | O39: 10 | P39: 10 | Q39: 10 | R39: 8 | S39: 10 | V39: 8 | X39: 6
A40: 33 | B40: MALLIKARJUN | C40: 1AY12CS412 | I40: 4 | J40: 6 | M40: 2 | N40: 4 | O40: 5 | P40: 4 | Q40: 8 | R40: 8 | S40: 10 | T40: 3 | V40: 8
A41: 34 | B41: MANJU S | C41: 1AY12CS414 | F41: 10 | G41: 10 | H41: 3 | K41: 7 | L41: 9 | N41: 9 | O41: 9 | P41: 9 | Q41: 8 | R41: 8 | S41: 10 | T41: 10 | V41: 8
A42: 35 | B42: MEGHANA K K | C42: 1AY12CS415 | D42: 9 | F42: 7 | Q42: 5 | R42: 5 | S42: 10 | T42: 8 | V42: 8 | W42: 5 | X42: 8
A43: 36 | B43: MONICA SM | C43: 1AY12CS416 | D43: 10 | E43: 9 | F43: 5 | G43: 5 | H43: 5 | I43: 4 | L43: 4 | M43: 10 | N43: 4 | P43: 4 | Q43: 8 | R43: 10 | S43: 10 | V43: 8 | X43: 10
A44: 37 | B44: NAVEEN KUMAR K S | C44: 1AY12CS417 | K44: 5 | L44: 5 | N44: 4 | P44: 4 | Q44: 10 | S44: 10 | U44: 6 | V44: 10 | X44: 10
A45: 38 | B45: NAYANA R R | C45: 1AY12CS418 | D45: 10 | E45: 9 | G45: 6 | H45: 5 | Q45: 6 | R45: 6 | U45: 3 | V45: 4 | X45: 10
A46: 39 | B46: PAVITHRA HJ | C46: 1AY12CS419 | I46: 8 | J46: 8 | M46: 10 | N46: 4 | O46: 4 | P46: 4 | Q46: 5 | S46: 8 | T46: 8 | U46: 4 | W46: 4 | X46: 10
A47: 40 | B47: PRASHANTH V | C47: 1AY12CS420 | D47: 8 | E47: 2 | F47: 9 | G47: 9 | H47: 1 | I47: 8 | K47: 10 | N47: 9 | O47: 10 | P47: 9
A48: 41 | B48: PRAVEEN KUMAR B | C48: 1AY12CS421 | D48: 9 | E48: 6 | F48: 6 | G48: 9 | H48: 8 | I48: 8 | J48: 9 | K48: 9 | N48: 4 | P48: 4 | Q48: 5 | S48: 8 | T48: 8 | U48: 8 | X48: 8
A49: 42 | B49: PUTTARAJU B K | C49: 1AY12CS422 | D49: 8 | F49: 5 | G49: 3 | J49: 4 | K49: 4 | M49: 9 | O49: 10 | P49: 3 | S49: 10 | T49: 10 | V49: 4 | X49: 10
A50: 43 | B50: RADHAKRISHNA G | C50: 1AY12CS423 | D50: 6 | F50: 5 | G50: 5 | H50: 5 | I50: 8 | K50: 8 | N50: 4 | O50: 4 | P50: 10 | Q50: 6 | S50: 6 | T50: 6 | U50: 10 | V50: 10 | X50: 10
A51: 44 | B51: SANTHOSH KUMAR G P | C51: 1AY12CS425 | D51: 9 | E51: 7 | F51: 9 | G51: 9 | H51: 7 | I51: 7 | J51: 7 | K51: 7 | M51: 10 | N51: 4 | O51: 10 | P51: 4
A52: 45 | B52: SHREYAS P | C52: 1AY12CS426 | D52: 10 | E52: 5 | F52: 6 | G52: 5 | H52: 5 | I52: 4 | K52: 4 | M52: 9 | N52: 2 | O52: 8
A53: 46 | B53: SHRIDHAR REDDY | C53: 1AY12CS427 | K53: 3 | N53: 4 | P53: 7 | Q53: 6 | S53: 9 | T53: 10 | U53: 10 | V53: 9 | X53: 8
A54: 47 | B54: VIDYA G | C54: 1AY12CS430 | D54: 10 | E54: 9 | F54: 9 | G54: 8 | I54: 9 | J54: 7 | M54: 10 | N54: 4 | O54: 8 | S54: 10 | T54: 10 | V54: 8 | X54: 6
B56: No of students between 9-10 | D56: =COUNTIF(D6:D54,"=9")+COUNTIF(D6:D54,"=10") -> 26 | E56: =COUNTIF(E6:E54,"=9")+COUNTIF(E6:E54,"=10") -> 11 | F56: =COUNTIF(F6:F54,"=9")+COUNTIF(F6:F54,"=10") -> 24 | G56: =COUNTIF(G6:G54,"=9")+COUNTIF(G6:G54,"=10") -> 18 | H56: =COUNTIF(H6:H54,"=9")+COUNTIF(H6:H54,"=10") -> 8 | I56: =COUNTIF(I6:I54,"=9")+COUNTIF(I6:I54,"=10") -> 14 | J56: =COUNTIF(J6:J54,"=9")+COUNTIF(J6:J54,"=10") -> 9 | K56: =COUNTIF(K6:K54,"=9")+COUNTIF(K6:K54,"=10") -> 16 | ... X56: =COUNTIF(X6:X54,"=9")+COUNTIF(X6:X54,"=10") -> 22
B57: No of students between 7-8 | D57: =COUNTIF(D6:D54,"=7")+COUNTIF(D6:D54,"=8") -> 7 | E57: =COUNTIF(E6:E54,"=7")+COUNTIF(E6:E54,"=8") -> 8 | F57: =COUNTIF(F6:F54,"=7")+COUNTIF(F6:F54,"=8") -> 7 | G57: =COUNTIF(G6:G54,"=7")+COUNTIF(G6:G54,"=8") -> 6 | H57: =COUNTIF(H6:H54,"=7")+COUNTIF(H6:H54,"=8") -> 9 | I57: =COUNTIF(I6:I54,"=7")+COUNTIF(I6:I54,"=8") -> 11 | J57: =COUNTIF(J6:J54,"=7")+COUNTIF(J6:J54,"=8") -> 10 | K57: =COUNTIF(K6:K54,"=7")+COUNTIF(K6:K54,"=8") -> 8 | ... X57: =COUNTIF(X6:X54,"=7")+COUNTIF(X6:X54,"=8") -> 5
B58: No of students between 5-6 | D58: =COUNTIF(D6:D54,"=5")+COUNTIF(D6:D54,"=6") -> 1 | E58: =COUNTIF(E6:E54,"=5")+COUNTIF(E6:E54,"=6") -> 4 | F58: =COUNTIF(F6:F54,"=5")+COUNTIF(F6:F54,"=6") -> 6 | G58: =COUNTIF(G6:G54,"=5")+COUNTIF(G6:G54,"=6") -> 8 | H58: =COUNTIF(H6:H54,"=5")+COUNTIF(H6:H54,"=6") -> 12 | I58: =COUNTIF(I6:I54,"=5")+COUNTIF(I6:I54,"=6") -> 1 | J58: =COUNTIF(J6:J54,"=5")+COUNTIF(J6:J54,"=6") -> 3 | K58: =COUNTIF(K6:K54,"=5")+COUNTIF(K6:K54,"=6") -> 4 | ... X58: =COUNTIF(X6:X54,"=5")+COUNTIF(X6:X54,"=6") -> 2
B59: No of students between 3-4 | D59: =COUNTIF(D6:D54,"=3")+COUNTIF(D6:D54,"=4") -> 1 | E59: =COUNTIF(E6:E54,"=3")+COUNTIF(E6:E54,"=4") -> 6 | F59: =COUNTIF(F6:F54,"=3")+COUNTIF(F6:F54,"=4") -> 1 | G59: =COUNTIF(G6:G54,"=3")+COUNTIF(G6:G54,"=4") -> 4 | H59: =COUNTIF(H6:H54,"=3")+COUNTIF(H6:H54,"=4") -> 2 | I59: =COUNTIF(I6:I54,"=3")+COUNTIF(I6:I54,"=4") -> 4 | J59: =COUNTIF(J6:J54,"=3")+COUNTIF(J6:J54,"=4") -> 1 | K59: =COUNTIF(K6:K54,"=3")+COUNTIF(K6:K54,"=4") -> 4 | ... X59: =COUNTIF(X6:X54,"=3")+COUNTIF(X6:X54,"=4") -> 0
B60: No of students between 1-2 | D60: =COUNTIF(D6:D54,"=1")+COUNTIF(D6:D54,"=2") -> 2 | E60: =COUNTIF(E6:E54,"=1")+COUNTIF(E6:E54,"=2") -> 3 | F60: =COUNTIF(F6:F54,"=1")+COUNTIF(F6:F54,"=2") -> 0 | G60: =COUNTIF(G6:G54,"=1")+COUNTIF(G6:G54,"=2") -> 0 | H60: =COUNTIF(H6:H54,"=1")+COUNTIF(H6:H54,"=2") -> 1 | I60: =COUNTIF(I6:I54,"=1")+COUNTIF(I6:I54,"=2") -> 1 | J60: =COUNTIF(J6:J54,"=1")+COUNTIF(J6:J54,"=2") -> 1 | K60: =COUNTIF(K6:K54,"=1")+COUNTIF(K6:K54,"=2") -> 0 | ... X60: =COUNTIF(X6:X54,"=1")+COUNTIF(X6:X54,"=2") -> 0
B61: No of students scored 0 | D61: =COUNTIF(D6:D54,"=0") -> 0 | E61: =COUNTIF(E6:E54,"=0") -> 0 | F61: =COUNTIF(F6:F54,"=0") -> 0 | G61: =COUNTIF(G6:G54,"=0") -> 0 | H61: =COUNTIF(H6:H54,"=0") -> 0 | I61: =COUNTIF(I6:I54,"=0") -> 0 | J61: =COUNTIF(J6:J54,"=0") -> 0 | K61: =COUNTIF(K6:K54,"=0") -> 0 | ... X61: =COUNTIF(X6:X54,"=0") -> 0
B62: Absentees | D62: =COUNTBLANK(D6:D54) -> 11 | E62: =COUNTBLANK(E6:E54) -> 16 | F62: =COUNTBLANK(F6:F54) -> 10 | G62: =COUNTBLANK(G6:G54) -> 12 | H62: =COUNTBLANK(H6:H54) -> 16 | I62: =COUNTBLANK(I6:I54) -> 17 | J62: =COUNTBLANK(J6:J54) -> 24 | K62: =COUNTBLANK(K6:K54) -> 16 | ... X62: =COUNTBLANK(X6:X54) -> 19
B64: Attainment | D64: =((0.35*D56)+(0.3*D57)+(0.2*D58)+(0.1*D59)+(0.05*D60)+(0*D61))/(0.35*(D56+D57+D58+D59+D60+D61))*100 -> 89.57529 | E64: =((0.35*E56)+(0.3*E57)+(0.2*E58)+(0.1*E59)+(0.05*E60)+(0*E61))/(0.35*(E56+E57+E58+E59+E60+E61))*100 -> 69.642857 | F64: =((0.35*F56)+(0.3*F57)+(0.2*F58)+(0.1*F59)+(0.05*F60)+(0*F61))/(0.35*(F56+F57+F58+F59+F60+F61))*100 -> 88.721805 | G64: =((0.35*G56)+(0.3*G57)+(0.2*G58)+(0.1*G59)+(0.05*G60)+(0*G61))/(0.35*(G56+G57+G58+G59+G60+G61))*100 -> 80.15873 | H64: =((0.35*H56)+(0.3*H57)+(0.2*H58)+(0.1*H59)+(0.05*H60)+(0*H61))/(0.35*(H56+H57+H58+H59+H60+H61))*100 -> 72.767857 | I64: =((0.35*I56)+(0.3*I57)+(0.2*I58)+(0.1*I59)+(0.05*I60)+(0*I61))/(0.35*(I56+I57+I58+I59+I60+I61))*100 -> 81.56682 | J64: =((0.35*J56)+(0.3*J57)+(0.2*J58)+(0.1*J59)+(0.05*J60)+(0*J61))/(0.35*(J56+J57+J58+J59+J60+J61))*100 -> 82.142857 | K64: =((0.35*K56)+(0.3*K57)+(0.2*K58)+(0.1*K59)+(0.05*K60)+(0*K61))/(0.35*(K56+K57+K58+K59+K60+K61))*100 -> 82.142857 | ... X64: =((0.35*X56)+(0.3*X57)+(0.2*X58)+(0.1*X59)+(0.05*X60)+(0*X61))/(0.35*(X56+X57+X58+X59+X60+X61))*100 -> 94.581281

Sheet Sheet1
A1: Course outcomes-Program outcomes mapping & Attainment table:
A2: COs | B2: COs attained in % | C2: Program outcomes | V2: Total | W2: Attainment level of Program Outcomes in % (Average) | X2: Achievement
C3: a | E3: b | G3: c | I3: d | K3: e | M3: f | O3: g | Q3: h | R3: i | S3: j | T3: k | U3: l
C4: leve | D4: Attainment | E4: leve | F4: Attainment | G4: leve | H4: Attainment | I4: leve | J4: Attainment | K4: leve | L4: Attainment | M4: leve | N4: Attainment | O4: leve | P4: Attainment | X4: (Threshold Goal:70%)
A5: CO1 | B5: 85 | C5: 1 | D5: =(C5/C9)*B5 -> 10.625 | G5: 10.625
A6: CO2 | B6: 90 | C6: 2 | D6: =(C6/C9)*B6 -> 22.5 | G6: 22.5
A7: CO3 | B7: 83 | C7: 3 | D7: =(C7/C9)*B7 -> 31.125 | G7: 31.125
A8: CO4 | B8: 75 | C8: 2 | D8: =(C8/C9)*B8 -> 18.75 | G8: 18.75
A9: Total | C9: 8
A10: Note: Mapping in terms of Slight (1), Moderate(2), Good(3) and Excellent(4) levels and COs need not map all POS

Sheet Sheet2
A5: COs | B5: Avg. COs attained in % | C5: Program outcomes | O5: Attainment level of Program Outcomes in % (Average) | P5: Achievement
C6: a | D6: b | E6: c | F6: d | G6: e | H6: f | I6: g | J6: h | K6: i | L6: j | M6: k | N6: l | P6: (Threshold Goal:70%)
A7: CO1 | B7: 85 | C7: 4
A8: CO2 | B8: 90
A9: CO3 | B9: 83
A10: CO4 | B10: 75
A11: Total
A17: Subject Code : | B17: 10ME64 | C17: Title: Finite Element Methods | J17: Faculty Name: | N17: Manjunatha B.
A18: List of Course outcomes | C18: Program Outcomes | Q18: Total
C19: a | D19: b | E19: c | F19: d | G19: e | H19: f | I19: g | K19: h | L19: I | M19: J | O19: k | P19: l
A20: CO-1 | C20: 4 | D20: 2 | E20: 1 | F20: - | G20: - | H20: - | I20: - | K20: - | L20: 1 | M20: - | O20: 2 | P20: - | Q20: 9
A21: CO-2 | C21: 2 | D21: 4 | E21: 2 | F21: 2 | G21: 2 | H21: - | I21: - | K21: - | L21: - | M21: - | O21: - | P21: 3 | Q21: 15
A22: CO-3 | C22: 1 | D22: 4 | E22: 3 | F22: 2 | G22: 4 | H22: - | I22: - | K22: - | L22: - | M22: - | O22: - | P22: 3 | Q22: 17
A23: CO-4 | C23: 2 | D23: 4 | E23: 2 | F23: - | G23: - | H23: - | I23: - | K23: - | L23: - | M23: - | O23: - | P23: - | Q23: 8
A24: CO-5 | C24: - | D24: - | E24: - | F24: 2 | G24: 1 | H24: - | I24: - | K24: - | L24: 2 | M24: - | O24: 2 | P24: - | Q24: 7
A25: Total | C25: 9 | D25: 14 | E25: 7 | F25: 6 | G25: 7 | H25: - | I25: - | K25: - | L25: 3 | M25: - | O25: 4 | P25: 6 | Q25: 50
B68: a | C68: b | D68: c | E68: d | F68: e | G68: f | H68: g | I68: h | J68: i | K68: j | L68: k | M68: l
A69: co1 | B69: 4 | C69: 2 | D69: 1 | E69: - | F69: - | G69: - | H69: - | I69: - | J69: 1 | K69: - | L69: 2 | M69: - | N69: 10
A70: co2 | B70: 2 | C70: 4 | D70: 2 | E70: 2 | F70: 2 | G70: - | H70: - | I70: - | J70: - | K70: - | L70: - | M70: 3 | N70: 15
A71: co3 | B71: 1 | C71: 4 | D71: 3 | E71: 2 | F71: 4 | G71: - | H71: - | I71: - | J71: - | K71: - | L71: - | M71: 3 | N71: 17
A72: co4 | B72: 2 | C72: 4 | D72: 2 | E72: - | F72: - | G72: - | H72: - | I72: - | J72: - | K72: - | L72: - | M72: - | N72: 8
A73: co5 | B73: - | C73: - | D73: - | E73: 2 | F73: 1 | G73: - | H73: - | I73: - | J73: 2 | K73: - | L73: 2 | M73: - | N73: 7
B74: 9 | C74: 14 | D74: 8 | E74: 6 | F74: 7 | G74: - | H74: - | I74: - | J74: 3 | K74: - | L74: 4 | M74: 6 | N74: 57
B76: 85 | C76: 73 | D76: 1 | E76: - | F76: - | G76: - | H76: - | I76: - | J76: 1 | K76: - | L76: 2 | M76: - | N76: 10
B77: 85 | C77: 70 | D77: 2 | E77: 2 | F77: 2 | G77: - | H77: - | I77: - | J77: - | K77: - | L77: - | M77: 3 | N77: 15
B78: 85 | C78: 84 | D78: 3 | E78: 2 | F78: 4 | G78: - | H78: - | I78: - | J78: - | K78: - | L78: - | M78: 3 | N78: 17
B79: 85 | C79: 84 | D79: 2 | E79: - | F79: - | G79: - | H79: - | I79: - | J79: - | K79: - | L79: - | M79: - | N79: 8
B80: - | C80: - | D80: - | E80: 2 | F80: 1 | G80: - | H80: - | I80: - | J80: 2 | K80: - | L80: 2 | M80: - | N80: 7
B81: 9 | C81: 14 | D81: 8 | E81: 6 | F81: 7 | G81: - | H81: - | I81: - | J81: 3 | K81: - | L81: 4 | M81: 6 | N81: 57
B84: =IF(B69="-",0,B69)/B$74 -> 0.44444444 | C84: =IF(C69="-",0,C69)/C$74 -> 0.14285714 | D84: =IF(D69="-",0,D69)/D$74 -> 0.125 | E84: =IF(E69="-",0,E69)/E$74 -> 0 | F84: =IF(F69="-",0,F69)/F$74 -> 0 | G84: =IF(G69="-",0,G69)/G$74 -> #VALUE! | H84: =IF(H69="-",0,H69)/H$74 -> #VALUE! | I84: =IF(I69="-",0,I69)/I$74 -> #VALUE! | ... M84: =IF(M69="-",0,M69)/M$74 -> 0 | N84: 10
B85: =IF(B70="-",0,B70)/B$74 -> 0.22222222 | C85: =IF(C70="-",0,C70)/C$74 -> 0.28571429 | D85: =IF(D70="-",0,D70)/D$74 -> 0.25 | E85: =IF(E70="-",0,E70)/E$74 -> 0.33333333 | F85: =IF(F70="-",0,F70)/F$74 -> 0.28571429 | G85: =IF(G70="-",0,G70)/G$74 -> #VALUE! | H85: =IF(H70="-",0,H70)/H$74 -> #VALUE! | I85: =IF(I70="-",0,I70)/I$74 -> #VALUE! | ... M85: =IF(M70="-",0,M70)/M$74 -> 0.5 | N85: 15
B86: =IF(B71="-",0,B71)/B$74 -> 0.11111111 | C86: =IF(C71="-",0,C71)/C$74 -> 0.28571429 | D86: =IF(D71="-",0,D71)/D$74 -> 0.375 | E86: =IF(E71="-",0,E71)/E$74 -> 0.33333333 | F86: =IF(F71="-",0,F71)/F$74 -> 0.57142857 | G86: =IF(G71="-",0,G71)/G$74 -> #VALUE! | H86: =IF(H71="-",0,H71)/H$74 -> #VALUE! | I86: =IF(I71="-",0,I71)/I$74 -> #VALUE! | ... M86: =IF(M71="-",0,M71)/M$74 -> 0.5 | N86: 17
B87: =IF(B72="-",0,B72)/B$74 -> 0.22222222 | C87: =IF(C72="-",0,C72)/C$74 -> 0.28571429 | D87: =IF(D72="-",0,D72)/D$74 -> 0.25 | E87: =IF(E72="-",0,E72)/E$74 -> 0 | F87: =IF(F72="-",0,F72)/F$74 -> 0 | G87: =IF(G72="-",0,G72)/G$74 -> #VALUE! | H87: =IF(H72="-",0,H72)/H$74 -> #VALUE! | I87: =IF(I72="-",0,I72)/I$74 -> #VALUE! | ... M87: =IF(M72="-",0,M72)/M$74 -> 0 | N87: 8
B88: =IF(B73="-",0,B73)/B$74 -> 0 | C88: =IF(C73="-",0,C73)/C$74 -> 0 | D88: =IF(D73="-",0,D73)/D$74 -> 0 | E88: =IF(E73="-",0,E73)/E$74 -> 0.33333333 | F88: =IF(F73="-",0,F73)/F$74 -> 0.14285714 | G88: =IF(G73="-",0,G73)/G$74 -> #VALUE! | H88: =IF(H73="-",0,H73)/H$74 -> #VALUE! | I88: =IF(I73="-",0,I73)/I$74 -> #VALUE! | ... M88: =IF(M73="-",0,M73)/M$74 -> 0 | N88: 7
B89: =B74/B$74 -> 1 | C89: =C74/C$74 -> 1 | D89: =D74/D$74 -> 1 | E89: =E74/E$74 -> 1 | F89: =F74/F$74 -> 1 | G89: =G74/G$74 -> #VALUE! | H89: =H74/H$74 -> #VALUE! | I89: =I74/I$74 -> #VALUE! | ... M89: =M74/M$74 -> 1 | N89: 57
B92: =B84*B76 -> 37.777778 | C92: =C84*C76 -> 10.428571 | D92: =D84*D76 -> 0.125 | E92: =E84*E76 -> #VALUE! | F92: =F84*F76 -> #VALUE! | G92: =G84*G76 -> #VALUE! | H92: =H84*H76 -> #VALUE! | I92: =I84*I76 -> #VALUE! | ... M92: =M84*M76 -> #VALUE! | N92: 10
B93: =B85*B77 -> 18.888889 | C93: =C85*C77 -> 20 | D93: =D85*D77 -> 0.5 | E93: =E85*E77 -> 0.66666667 | F93: =F85*F77 -> 0.57142857 | G93: =G85*G77 -> #VALUE! | H93: =H85*H77 -> #VALUE! | I93: =I85*I77 -> #VALUE! | ... M93: =M85*M77 -> 1.5 | N93: 15
B94: =B86*B78 -> 9.4444444 | C94: =C86*C78 -> 24 | D94: =D86*D78 -> 1.125 | E94: =E86*E78 -> 0.66666667 | F94: =F86*F78 -> 2.2857143 | G94: =G86*G78 -> #VALUE! | H94: =H86*H78 -> #VALUE! | I94: =I86*I78 -> #VALUE! | ... M94: =M86*M78 -> 1.5 | N94: 17
B95: =B87*B79 -> 18.888889 | C95: =C87*C79 -> 24 | D95: =D87*D79 -> 0.5 | E95: =E87*E79 -> #VALUE! | F95: =F87*F79 -> #VALUE! | G95: =G87*G79 -> #VALUE! | H95: =H87*H79 -> #VALUE! | I95: =I87*I79 -> #VALUE! | ... M95: =M87*M79 -> #VALUE! | N95: 8
B96: =B88*IF(B80="-",0,B88) -> 0 | C96: =C88*IF(C80="-",0,C88) -> 0 | D96: =D88*IF(D80="-",0,D88) -> 0 | E96: =E88*IF(E80="-",0,E88) -> 0.11111111 | F96: =F88*IF(F80="-",0,F88) -> 0.020408163 | G96: =G88*IF(G80="-",0,G88) -> #VALUE! | H96: =H88*IF(H80="-",0,H88) -> #VALUE! | I96: =I88*IF(I80="-",0,I88) -> #VALUE! | ... M96: =M88*IF(M80="-",0,M88) -> 0 | N96: 7
B97: =SUM(B92:B96) -> 85 | C97: =SUM(C92:C96) -> 78.428571 | D97: =SUM(D92:D96) -> 2.25 | E97: =SUM(E92:E96) -> #VALUE! | F97: =SUM(F92:F96) -> #VALUE! | G97: =SUM(G92:G96) -> #VALUE! | H97: =SUM(H92:H96) -> #VALUE! | I97: =SUM(I92:I96) -> #VALUE! | ... M97: =SUM(M92:M96) -> #VALUE! | N97: 57
