Workbook

Sheet ATTAINMENT LEVEL
A1: Attainment Levels of COs
A2: Course Name:ELEMENTS OF CIVIL ENGINEERING Course Code:15CIV13
A3: Assessment Methods | B3: Target-Attainment Levels | D3: Attainement
A4: Internal Assessment(CIE) | B4: Level 1 | C4: 50% of students scoring more than 50% marks in internal assessment tools | D4: Level 1
B5: Level 2 | C5: 60% of students scoring more than 50% marks in internal assessment tools
B6: Level 3 | C6: 70% of students scoring more than 50% marks in internal assessment tools
A9: Assessment Methods | B9: Target-Attainment Levels | D9: Attainement
A10: University Assessment (SEE) | B10: Level 1 | C10: 60% of students scoring more than 40% marks in SEE assessment tools | D10: Level 2
B11: Level 2 | C11: 70% of students scoring more than 40% marks in SEEassessment tools
B12: Level 3 | C12: 80% of students scoring more than 40% marks in SEE assessment tools

Sheet TEST MARKS  
A1: Sapthagiri College of Engineering
A2: Department of Civil Engineering
A3: SUBJECT :ELEMENETS OF CIVIL ENGINEERING AND MECHANICS SUB CODE:15CIV13
A4: SEM : 2ND | C4: SEC : E | F4: YEAR : 2015-2016 | I4: SCHEME :2015
A5: Sl. No. | B5: Name of the student | C5: USN | D5: I INTERNALS | F5: II INTERNALS | H5: III INTERNALS | J5: ATTAINMENT (%)
D7: Q1 or 2 | E7: Q3 or 4 | F7: Q1 or 2 | G7: Q3 or 4 | H7: Q1 or 2 | I7: Q3 or 4 | J7: I | K7: II | L7: II | M7: II | N7: III
D8: CO1 | E8: CO2 | F8: CO3 | G8: CO4 | H8: CO4 | I8: CO5 | J8: CO 1 | K8: CO 2 | L8: CO 3 | M8: CO 4 | N8: CO 5
D9: 10 | E9: 10 | F9: 10 | G9: 10 | H9: 10 | I9: 10
A10: 1 | B10: ABHILASH Y | C10: 1SG15EE001 | D10: 10 | E10: 5 | F10: 4 | G10: 3 | H10: 4 | I10: 3 | J10: =IF(D10="AB",0,D10/15*100) -> 66.666667 | K10: =IF(E10="AB",0,E10/15*100) -> 33.333333 | L10: =IF(F10="AB",0,F10/15*100) -> 26.666667 | M10: =IF(G10="AB",0,G10/15*100) -> 20 | N10: =IF(H10="AB",0,H10/15*100) -> 26.666667 | O10: =IF(J10<50,"N","Y") -> Y | P10: =IF(K10<50,"N","Y") -> N | Q10: =IF(L10<50,"N","Y") -> N | R10: =IF(M10<50,"N","Y") -> N | S10: =IF(N10<50,"N","Y") -> N
A11: 2 | B11: ADITHYA G.T | C11: 1SG15EE002 | D11: 6 | E11: 5 | F11: 3 | G11: 3 | H11: 8 | I11: 6 | J11: =IF(D11="AB",0,D11/15*100) -> 40 | K11: =IF(E11="AB",0,E11/15*100) -> 33.333333 | L11: =IF(F11="AB",0,F11/15*100) -> 20 | M11: =IF(G11="AB",0,G11/15*100) -> 20 | N11: =IF(H11="AB",0,H11/15*100) -> 53.333333 | O11: =IF(J11<50,"N","Y") -> N | P11: =IF(K11<50,"N","Y") -> N | Q11: =IF(L11<50,"N","Y") -> N | R11: =IF(M11<50,"N","Y") -> N | S11: =IF(N11<50,"N","Y") -> Y
A12: 3 | B12: AJAY M | C12: 1SG15EE003 | D12: 4 | E12: 5 | F12: 2 | G12: 2 | H12: 8 | I12: 8 | J12: =IF(D12="AB",0,D12/15*100) -> 26.666667 | K12: =IF(E12="AB",0,E12/15*100) -> 33.333333 | L12: =IF(F12="AB",0,F12/15*100) -> 13.333333 | M12: =IF(G12="AB",0,G12/15*100) -> 13.333333 | N12: =IF(H12="AB",0,H12/15*100) -> 53.333333 | O12: =IF(J12<50,"N","Y") -> N | P12: =IF(K12<50,"N","Y") -> N | Q12: =IF(L12<50,"N","Y") -> N | R12: =IF(M12<50,"N","Y") -> N | S12: =IF(N12<50,"N","Y") -> Y
A13: 4 | B13: AMITH RAUNIYAR | C13: 1SG15EE004 | D13: 12 | E13: 12 | F13: 15 | G13: 15 | H13: 15 | I13: 15 | J13: =IF(D13="AB",0,D13/15*100) -> 80 | K13: =IF(E13="AB",0,E13/15*100) -> 80 | L13: =IF(F13="AB",0,F13/15*100) -> 100 | M13: =IF(G13="AB",0,G13/15*100) -> 100 | N13: =IF(H13="AB",0,H13/15*100) -> 100 | O13: =IF(J13<50,"N","Y") -> Y | P13: =IF(K13<50,"N","Y") -> Y | Q13: =IF(L13<50,"N","Y") -> Y | R13: =IF(M13<50,"N","Y") -> Y | S13: =IF(N13<50,"N","Y") -> Y
A14: 5 | B14: ANNAPURNA SINGH | C14: 1SG15EE005 | D14: 7 | E14: 5 | F14: 5 | G14: 5 | H14: AB | I14: AB | J14: =IF(D14="AB",0,D14/15*100) -> 46.666667 | K14: =IF(E14="AB",0,E14/15*100) -> 33.333333 | L14: =IF(F14="AB",0,F14/15*100) -> 33.333333 | M14: =IF(G14="AB",0,G14/15*100) -> 33.333333 | N14: =IF(H14="AB",0,H14/15*100) -> 0 | O14: =IF(J14<50,"N","Y") -> N | P14: =IF(K14<50,"N","Y") -> N | Q14: =IF(L14<50,"N","Y") -> N | R14: =IF(M14<50,"N","Y") -> N | S14: =IF(N14<50,"N","Y") -> N
A15: 6 | B15: ANTONY ROSHAN J D | C15: 1SG15EE006 | D15: AB | E15: AB | F15: 5 | G15: 5 | H15: AB | I15: AB | J15: =IF(D15="AB",0,D15/15*100) -> 0 | K15: =IF(E15="AB",0,E15/15*100) -> 0 | L15: =IF(F15="AB",0,F15/15*100) -> 33.333333 | M15: =IF(G15="AB",0,G15/15*100) -> 33.333333 | N15: =IF(H15="AB",0,H15/15*100) -> 0 | O15: =IF(J15<50,"N","Y") -> N | P15: =IF(K15<50,"N","Y") -> N | Q15: =IF(L15<50,"N","Y") -> N | R15: =IF(M15<50,"N","Y") -> N | S15: =IF(N15<50,"N","Y") -> N
A16: 7 | B16: ANUP H V | C16: 1SG15EE007 | D16: 10 | E16: 10 | F16: 9 | G16: 9 | H16: AB | I16: AB | J16: =IF(D16="AB",0,D16/15*100) -> 66.666667 | K16: =IF(E16="AB",0,E16/15*100) -> 66.666667 | L16: =IF(F16="AB",0,F16/15*100) -> 60 | M16: =IF(G16="AB",0,G16/15*100) -> 60 | N16: =IF(H16="AB",0,H16/15*100) -> 0 | O16: =IF(J16<50,"N","Y") -> Y | P16: =IF(K16<50,"N","Y") -> Y | Q16: =IF(L16<50,"N","Y") -> Y | R16: =IF(M16<50,"N","Y") -> Y | S16: =IF(N16<50,"N","Y") -> N
A17: 8 | B17: ANUSHA B | C17: 1SG15EE008 | D17: 6 | E17: 6 | F17: 10 | G17: 7 | H17: 9 | I17: 9 | J17: =IF(D17="AB",0,D17/15*100) -> 40 | K17: =IF(E17="AB",0,E17/15*100) -> 40 | L17: =IF(F17="AB",0,F17/15*100) -> 66.666667 | M17: =IF(G17="AB",0,G17/15*100) -> 46.666667 | N17: =IF(H17="AB",0,H17/15*100) -> 60 | O17: =IF(J17<50,"N","Y") -> N | P17: =IF(K17<50,"N","Y") -> N | Q17: =IF(L17<50,"N","Y") -> Y | R17: =IF(M17<50,"N","Y") -> N | S17: =IF(N17<50,"N","Y") -> Y
A18: 9 | B18: ANUSHA K | C18: 1SG15EE009 | D18: 9 | E18: 9 | F18: 9 | G18: 9 | H18: 10 | I18: 9 | J18: =IF(D18="AB",0,D18/15*100) -> 60 | K18: =IF(E18="AB",0,E18/15*100) -> 60 | L18: =IF(F18="AB",0,F18/15*100) -> 60 | M18: =IF(G18="AB",0,G18/15*100) -> 60 | N18: =IF(H18="AB",0,H18/15*100) -> 66.666667 | O18: =IF(J18<50,"N","Y") -> Y | P18: =IF(K18<50,"N","Y") -> Y | Q18: =IF(L18<50,"N","Y") -> Y | R18: =IF(M18<50,"N","Y") -> Y | S18: =IF(N18<50,"N","Y") -> Y
A19: 10 | B19: APOORVA K.G | C19: 1SG15EE010 | D19: 10 | E19: 10 | F19: 10 | G19: 7 | H19: 10 | I19: 10 | J19: =IF(D19="AB",0,D19/15*100) -> 66.666667 | K19: =IF(E19="AB",0,E19/15*100) -> 66.666667 | L19: =IF(F19="AB",0,F19/15*100) -> 66.666667 | M19: =IF(G19="AB",0,G19/15*100) -> 46.666667 | N19: =IF(H19="AB",0,H19/15*100) -> 66.666667 | O19: =IF(J19<50,"N","Y") -> Y | P19: =IF(K19<50,"N","Y") -> Y | Q19: =IF(L19<50,"N","Y") -> Y | R19: =IF(M19<50,"N","Y") -> N | S19: =IF(N19<50,"N","Y") -> Y
A20: 11 | B20: ARPITHA SHARMA | C20: 1SG15EE011 | D20: 10 | E20: 10 | F20: 10 | G20: 10 | H20: AB | I20: AB | J20: =IF(D20="AB",0,D20/15*100) -> 66.666667 | K20: =IF(E20="AB",0,E20/15*100) -> 66.666667 | L20: =IF(F20="AB",0,F20/15*100) -> 66.666667 | M20: =IF(G20="AB",0,G20/15*100) -> 66.666667 | N20: =IF(H20="AB",0,H20/15*100) -> 0 | O20: =IF(J20<50,"N","Y") -> Y | P20: =IF(K20<50,"N","Y") -> Y | Q20: =IF(L20<50,"N","Y") -> Y | R20: =IF(M20<50,"N","Y") -> Y | S20: =IF(N20<50,"N","Y") -> N
A21: 12 | B21: ARPITHA SRINIVASA MURTHY | C21: 1SG15EE012 | D21: 10 | E21: 3 | F21: 10 | G21: 3 | H21: 10 | I21: 9 | J21: =IF(D21="AB",0,D21/15*100) -> 66.666667 | K21: =IF(E21="AB",0,E21/15*100) -> 20 | L21: =IF(F21="AB",0,F21/15*100) -> 66.666667 | M21: =IF(G21="AB",0,G21/15*100) -> 20 | N21: =IF(H21="AB",0,H21/15*100) -> 66.666667 | O21: =IF(J21<50,"N","Y") -> Y | P21: =IF(K21<50,"N","Y") -> N | Q21: =IF(L21<50,"N","Y") -> Y | R21: =IF(M21<50,"N","Y") -> N | S21: =IF(N21<50,"N","Y") -> Y
A22: 13 | B22: ARUNA B.P | C22: 1SG15EE013 | D22: 10 | E22: 5 | F22: 10 | G22: 10 | H22: AB | I22: AB | J22: =IF(D22="AB",0,D22/15*100) -> 66.666667 | K22: =IF(E22="AB",0,E22/15*100) -> 33.333333 | L22: =IF(F22="AB",0,F22/15*100) -> 66.666667 | M22: =IF(G22="AB",0,G22/15*100) -> 66.666667 | N22: =IF(H22="AB",0,H22/15*100) -> 0 | O22: =IF(J22<50,"N","Y") -> Y | P22: =IF(K22<50,"N","Y") -> N | Q22: =IF(L22<50,"N","Y") -> Y | R22: =IF(M22<50,"N","Y") -> Y | S22: =IF(N22<50,"N","Y") -> N
A23: 14 | B23: ATHIYA MOHAMMADI | C23: 1SG15EE014 | D23: 10 | E23: 5 | F23: 6 | G23: 6 | H23: 10 | I23: 8 | J23: =IF(D23="AB",0,D23/15*100) -> 66.666667 | K23: =IF(E23="AB",0,E23/15*100) -> 33.333333 | L23: =IF(F23="AB",0,F23/15*100) -> 40 | M23: =IF(G23="AB",0,G23/15*100) -> 40 | N23: =IF(H23="AB",0,H23/15*100) -> 66.666667 | O23: =IF(J23<50,"N","Y") -> Y | P23: =IF(K23<50,"N","Y") -> N | Q23: =IF(L23<50,"N","Y") -> N | R23: =IF(M23<50,"N","Y") -> N | S23: =IF(N23<50,"N","Y") -> Y
A24: 15 | B24: BALAJI VENKATESH K | C24: 1SG15EE015 | D24: 6 | E24: 6 | F24: 10 | G24: 2 | H24: 10 | I24: 10 | J24: =IF(D24="AB",0,D24/15*100) -> 40 | K24: =IF(E24="AB",0,E24/15*100) -> 40 | L24: =IF(F24="AB",0,F24/15*100) -> 66.666667 | M24: =IF(G24="AB",0,G24/15*100) -> 13.333333 | N24: =IF(H24="AB",0,H24/15*100) -> 66.666667 | O24: =IF(J24<50,"N","Y") -> N | P24: =IF(K24<50,"N","Y") -> N | Q24: =IF(L24<50,"N","Y") -> Y | R24: =IF(M24<50,"N","Y") -> N | S24: =IF(N24<50,"N","Y") -> Y
A25: 16 | B25: BALRAJ M | C25: 1SG15EE016 | D25: 10 | E25: 5 | F25: 2 | G25: 2 | H25: 5 | I25: 4 | J25: =IF(D25="AB",0,D25/15*100) -> 66.666667 | K25: =IF(E25="AB",0,E25/15*100) -> 33.333333 | L25: =IF(F25="AB",0,F25/15*100) -> 13.333333 | M25: =IF(G25="AB",0,G25/15*100) -> 13.333333 | N25: =IF(H25="AB",0,H25/15*100) -> 33.333333 | O25: =IF(J25<50,"N","Y") -> Y | P25: =IF(K25<50,"N","Y") -> N | Q25: =IF(L25<50,"N","Y") -> N | R25: =IF(M25<50,"N","Y") -> N | S25: =IF(N25<50,"N","Y") -> N
A26: 17 | B26: C.S.MOHANA | C26: 1SG15EE017 | D26: 10 | E26: 6 | F26: 4 | G26: 3 | H26: 10 | I26: 8 | J26: =IF(D26="AB",0,D26/15*100) -> 66.666667 | K26: =IF(E26="AB",0,E26/15*100) -> 40 | L26: =IF(F26="AB",0,F26/15*100) -> 26.666667 | M26: =IF(G26="AB",0,G26/15*100) -> 20 | N26: =IF(H26="AB",0,H26/15*100) -> 66.666667 | O26: =IF(J26<50,"N","Y") -> Y | P26: =IF(K26<50,"N","Y") -> N | Q26: =IF(L26<50,"N","Y") -> N | R26: =IF(M26<50,"N","Y") -> N | S26: =IF(N26<50,"N","Y") -> Y
A27: 18 | B27: CHAITHRA K.R | C27: 1SG15EE018 | D27: 6 | E27: 6 | F27: 10 | G27: 4 | H27: 10 | I27: 10 | J27: =IF(D27="AB",0,D27/15*100) -> 40 | K27: =IF(E27="AB",0,E27/15*100) -> 40 | L27: =IF(F27="AB",0,F27/15*100) -> 66.666667 | M27: =IF(G27="AB",0,G27/15*100) -> 26.666667 | N27: =IF(H27="AB",0,H27/15*100) -> 66.666667 | O27: =IF(J27<50,"N","Y") -> N | P27: =IF(K27<50,"N","Y") -> N | Q27: =IF(L27<50,"N","Y") -> Y | R27: =IF(M27<50,"N","Y") -> N | S27: =IF(N27<50,"N","Y") -> Y
A28: 19 | B28: CHAITRA S | C28: 1SG15EE019 | D28: 10 | E28: 8 | F28: 10 | G28: 7 | H28: 10 | I28: 10 | J28: =IF(D28="AB",0,D28/15*100) -> 66.666667 | K28: =IF(E28="AB",0,E28/15*100) -> 53.333333 | L28: =IF(F28="AB",0,F28/15*100) -> 66.666667 | M28: =IF(G28="AB",0,G28/15*100) -> 46.666667 | N28: =IF(H28="AB",0,H28/15*100) -> 66.666667 | O28: =IF(J28<50,"N","Y") -> Y | P28: =IF(K28<50,"N","Y") -> Y | Q28: =IF(L28<50,"N","Y") -> Y | R28: =IF(M28<50,"N","Y") -> N | S28: =IF(N28<50,"N","Y") -> Y
A29: 20 | B29: CHANDAN.G | C29: 1SG15EE020 | D29: 10 | E29: 1 | F29: 5 | G29: 4 | H29: 10 | I29: 9 | J29: =IF(D29="AB",0,D29/15*100) -> 66.666667 | K29: =IF(E29="AB",0,E29/15*100) -> 6.6666667 | L29: =IF(F29="AB",0,F29/15*100) -> 33.333333 | M29: =IF(G29="AB",0,G29/15*100) -> 26.666667 | N29: =IF(H29="AB",0,H29/15*100) -> 66.666667 | O29: =IF(J29<50,"N","Y") -> Y | P29: =IF(K29<50,"N","Y") -> N | Q29: =IF(L29<50,"N","Y") -> N | R29: =IF(M29<50,"N","Y") -> N | S29: =IF(N29<50,"N","Y") -> Y
A30: 21 | B30: CHANDAN GOWDA P | C30: 1SG15EE021 | D30: 10 | E30: 6 | F30: 10 | G30: 5 | H30: AB | I30: AB | J30: =IF(D30="AB",0,D30/15*100) -> 66.666667 | K30: =IF(E30="AB",0,E30/15*100) -> 40 | L30: =IF(F30="AB",0,F30/15*100) -> 66.666667 | M30: =IF(G30="AB",0,G30/15*100) -> 33.333333 | N30: =IF(H30="AB",0,H30/15*100) -> 0 | O30: =IF(J30<50,"N","Y") -> Y | P30: =IF(K30<50,"N","Y") -> N | Q30: =IF(L30<50,"N","Y") -> Y | R30: =IF(M30<50,"N","Y") -> N | S30: =IF(N30<50,"N","Y") -> N
A31: 22 | B31: CHANDAN KUMAR | C31: 1SG15EE022 | D31: AB | E31: AB | F31: 10 | G31: 5 | H31: 10 | I31: 10 | J31: =IF(D31="AB",0,D31/15*100) -> 0 | K31: =IF(E31="AB",0,E31/15*100) -> 0 | L31: =IF(F31="AB",0,F31/15*100) -> 66.666667 | M31: =IF(G31="AB",0,G31/15*100) -> 33.333333 | N31: =IF(H31="AB",0,H31/15*100) -> 66.666667 | O31: =IF(J31<50,"N","Y") -> N | P31: =IF(K31<50,"N","Y") -> N | Q31: =IF(L31<50,"N","Y") -> Y | R31: =IF(M31<50,"N","Y") -> N | S31: =IF(N31<50,"N","Y") -> Y
A32: 23 | B32: CHANDAN B | C32: 1SG15EE023 | D32: AB | E32: AB | F32: 9 | G32: 9 | H32: 10 | I32: 9 | J32: =IF(D32="AB",0,D32/15*100) -> 0 | K32: =IF(E32="AB",0,E32/15*100) -> 0 | L32: =IF(F32="AB",0,F32/15*100) -> 60 | M32: =IF(G32="AB",0,G32/15*100) -> 60 | N32: =IF(H32="AB",0,H32/15*100) -> 66.666667 | O32: =IF(J32<50,"N","Y") -> N | P32: =IF(K32<50,"N","Y") -> N | Q32: =IF(L32<50,"N","Y") -> Y | R32: =IF(M32<50,"N","Y") -> Y | S32: =IF(N32<50,"N","Y") -> Y
A33: 24 | B33: CHARITHA M C | C33: 1SG15EE024 | D33: 10 | E33: 9 | F33: 8 | G33: 8 | H33: 9 | I33: 9 | J33: =IF(D33="AB",0,D33/15*100) -> 66.666667 | K33: =IF(E33="AB",0,E33/15*100) -> 60 | L33: =IF(F33="AB",0,F33/15*100) -> 53.333333 | M33: =IF(G33="AB",0,G33/15*100) -> 53.333333 | N33: =IF(H33="AB",0,H33/15*100) -> 60 | O33: =IF(J33<50,"N","Y") -> Y | P33: =IF(K33<50,"N","Y") -> Y | Q33: =IF(L33<50,"N","Y") -> Y | R33: =IF(M33<50,"N","Y") -> Y | S33: =IF(N33<50,"N","Y") -> Y
A34: 25 | B34: CHAYA K | C34: 1SG15EE025 | D34: 10 | E34: 5 | F34: 6 | G34: 6 | H34: 10 | I34: 9 | J34: =IF(D34="AB",0,D34/15*100) -> 66.666667 | K34: =IF(E34="AB",0,E34/15*100) -> 33.333333 | L34: =IF(F34="AB",0,F34/15*100) -> 40 | M34: =IF(G34="AB",0,G34/15*100) -> 40 | N34: =IF(H34="AB",0,H34/15*100) -> 66.666667 | O34: =IF(J34<50,"N","Y") -> Y | P34: =IF(K34<50,"N","Y") -> N | Q34: =IF(L34<50,"N","Y") -> N | R34: =IF(M34<50,"N","Y") -> N | S34: =IF(N34<50,"N","Y") -> Y
A35: 26 | B35: D.MANISH NAICKER | C35: 1SG15EE026 | D35: 10 | E35: 6 | F35: 10 | G35: 6 | H35: 10 | I35: 10 | J35: =IF(D35="AB",0,D35/15*100) -> 66.666667 | K35: =IF(E35="AB",0,E35/15*100) -> 40 | L35: =IF(F35="AB",0,F35/15*100) -> 66.666667 | M35: =IF(G35="AB",0,G35/15*100) -> 40 | N35: =IF(H35="AB",0,H35/15*100) -> 66.666667 | O35: =IF(J35<50,"N","Y") -> Y | P35: =IF(K35<50,"N","Y") -> N | Q35: =IF(L35<50,"N","Y") -> Y | R35: =IF(M35<50,"N","Y") -> N | S35: =IF(N35<50,"N","Y") -> Y
A36: 27 | B36: DARSHAN N | C36: 1SG15EE027 | D36: 3 | E36: 2 | F36: 10 | G36: 6 | H36: 10 | I36: 4 | J36: =IF(D36="AB",0,D36/15*100) -> 20 | K36: =IF(E36="AB",0,E36/15*100) -> 13.333333 | L36: =IF(F36="AB",0,F36/15*100) -> 66.666667 | M36: =IF(G36="AB",0,G36/15*100) -> 40 | N36: =IF(H36="AB",0,H36/15*100) -> 66.666667 | O36: =IF(J36<50,"N","Y") -> N | P36: =IF(K36<50,"N","Y") -> N | Q36: =IF(L36<50,"N","Y") -> Y | R36: =IF(M36<50,"N","Y") -> N | S36: =IF(N36<50,"N","Y") -> Y
A37: 28 | B37: DHANUSH P | C37: 1SG15EE028 | D37: 4 | E37: 3 | F37: 10 | G37: 8 | H37: 10 | I37: 10 | J37: =IF(D37="AB",0,D37/15*100) -> 26.666667 | K37: =IF(E37="AB",0,E37/15*100) -> 20 | L37: =IF(F37="AB",0,F37/15*100) -> 66.666667 | M37: =IF(G37="AB",0,G37/15*100) -> 53.333333 | N37: =IF(H37="AB",0,H37/15*100) -> 66.666667 | O37: =IF(J37<50,"N","Y") -> N | P37: =IF(K37<50,"N","Y") -> N | Q37: =IF(L37<50,"N","Y") -> Y | R37: =IF(M37<50,"N","Y") -> Y | S37: =IF(N37<50,"N","Y") -> Y
A38: 29 | B38: G.TEJASHREE | C38: 1SG15EE029 | D38: 10 | E38: 7 | F38: 10 | G38: 7 | H38: 10 | I38: 10 | J38: =IF(D38="AB",0,D38/15*100) -> 66.666667 | K38: =IF(E38="AB",0,E38/15*100) -> 46.666667 | L38: =IF(F38="AB",0,F38/15*100) -> 66.666667 | M38: =IF(G38="AB",0,G38/15*100) -> 46.666667 | N38: =IF(H38="AB",0,H38/15*100) -> 66.666667 | O38: =IF(J38<50,"N","Y") -> Y | P38: =IF(K38<50,"N","Y") -> N | Q38: =IF(L38<50,"N","Y") -> Y | R38: =IF(M38<50,"N","Y") -> N | S38: =IF(N38<50,"N","Y") -> Y
A39: 30 | B39: GAJENDRA N | C39: 1SG15EE030 | D39: 10 | E39: 8 | F39: 5 | G39: 5 | H39: AB | I39: AB | J39: =IF(D39="AB",0,D39/15*100) -> 66.666667 | K39: =IF(E39="AB",0,E39/15*100) -> 53.333333 | L39: =IF(F39="AB",0,F39/15*100) -> 33.333333 | M39: =IF(G39="AB",0,G39/15*100) -> 33.333333 | N39: =IF(H39="AB",0,H39/15*100) -> 0 | O39: =IF(J39<50,"N","Y") -> Y | P39: =IF(K39<50,"N","Y") -> Y | Q39: =IF(L39<50,"N","Y") -> N | R39: =IF(M39<50,"N","Y") -> N | S39: =IF(N39<50,"N","Y") -> N
A40: 31 | B40: GANESH RAO S | C40: 1SG15EE031 | D40: 3 | E40: 3 | F40: 10 | G40: 10 | H40: 10 | I40: 7 | J40: =IF(D40="AB",0,D40/15*100) -> 20 | K40: =IF(E40="AB",0,E40/15*100) -> 20 | L40: =IF(F40="AB",0,F40/15*100) -> 66.666667 | M40: =IF(G40="AB",0,G40/15*100) -> 66.666667 | N40: =IF(H40="AB",0,H40/15*100) -> 66.666667 | O40: =IF(J40<50,"N","Y") -> N | P40: =IF(K40<50,"N","Y") -> N | Q40: =IF(L40<50,"N","Y") -> Y | R40: =IF(M40<50,"N","Y") -> Y | S40: =IF(N40<50,"N","Y") -> Y
A41: 32 | B41: GAHANSHYAM N.G | C41: 1SG15EE032 | D41: 6 | E41: 6 | F41: 10 | G41: 10 | H41: 10 | I41: 7 | J41: =IF(D41="AB",0,D41/15*100) -> 40 | K41: =IF(E41="AB",0,E41/15*100) -> 40 | L41: =IF(F41="AB",0,F41/15*100) -> 66.666667 | M41: =IF(G41="AB",0,G41/15*100) -> 66.666667 | N41: =IF(H41="AB",0,H41/15*100) -> 66.666667 | O41: =IF(J41<50,"N","Y") -> N | P41: =IF(K41<50,"N","Y") -> N | Q41: =IF(L41<50,"N","Y") -> Y | R41: =IF(M41<50,"N","Y") -> Y | S41: =IF(N41<50,"N","Y") -> Y
...

Sheet ASSI MARKS  
A1: Sapthagiri College of Engineering
A2: Department of Civil Engineering
A3: SUBJECT :ELEMENETS OF CIVIL ENGINEERING AND MECHANICS SUB CODE:15CIV13
A4: SEM : 2ND | C4: SEC : E | F4: YEAR : 2015-2016
A5: Sl. No. | B5: Name of the student | C5: USN | D5: ASSIGNMENT | I5: ATTAINMENT (%)
I7: I | J7: II | K7: II | L7: II | M7: III
D8: CO1 | E8: CO2 | F8: CO3 | G8: CO4 | H8: CO4 | I8: CO 1 | J8: CO 2 | K8: CO 3 | L8: CO 4 | M8: CO 5
A10: 1 | B10: ABHILASH Y | C10: 1SG15EE001 | D10: 5 | E10: 5 | F10: 5 | G10: 5 | H10: 5 | I10: =IF(D10="AB",0,D10/5*100) -> 100 | J10: =IF(E10="AB",0,E10/5*100) -> 100 | K10: =IF(F10="AB",0,F10/5*100) -> 100 | L10: =IF(G10="AB",0,G10/5*100) -> 100 | M10: =IF(H10="AB",0,H10/5*100) -> 100 | N10: =IF(I10<50,"N","Y") -> Y | O10: =IF(J10<50,"N","Y") -> Y | P10: =IF(K10<50,"N","Y") -> Y | Q10: =IF(L10<50,"N","Y") -> Y | R10: =IF(M10<50,"N","Y") -> Y
A11: 2 | B11: ADITHYA G.T | C11: 1SG15EE002 | D11: 5 | E11: 5 | F11: 5 | G11: 5 | H11: 5 | I11: =IF(D11="AB",0,D11/5*100) -> 100 | J11: =IF(E11="AB",0,E11/5*100) -> 100 | K11: =IF(F11="AB",0,F11/5*100) -> 100 | L11: =IF(G11="AB",0,G11/5*100) -> 100 | M11: =IF(H11="AB",0,H11/5*100) -> 100 | N11: =IF(I11<50,"N","Y") -> Y | O11: =IF(J11<50,"N","Y") -> Y | P11: =IF(K11<50,"N","Y") -> Y | Q11: =IF(L11<50,"N","Y") -> Y | R11: =IF(M11<50,"N","Y") -> Y
A12: 3 | B12: AJAY M | C12: 1SG15EE003 | D12: 5 | E12: 5 | F12: 5 | G12: 5 | H12: 5 | I12: =IF(D12="AB",0,D12/5*100) -> 100 | J12: =IF(E12="AB",0,E12/5*100) -> 100 | K12: =IF(F12="AB",0,F12/5*100) -> 100 | L12: =IF(G12="AB",0,G12/5*100) -> 100 | M12: =IF(H12="AB",0,H12/5*100) -> 100 | N12: =IF(I12<50,"N","Y") -> Y | O12: =IF(J12<50,"N","Y") -> Y | P12: =IF(K12<50,"N","Y") -> Y | Q12: =IF(L12<50,"N","Y") -> Y | R12: =IF(M12<50,"N","Y") -> Y
A13: 4 | B13: AMITH RAUNIYAR | C13: 1SG15EE004 | D13: 5 | E13: 5 | F13: 5 | G13: 5 | H13: 5 | I13: =IF(D13="AB",0,D13/5*100) -> 100 | J13: =IF(E13="AB",0,E13/5*100) -> 100 | K13: =IF(F13="AB",0,F13/5*100) -> 100 | L13: =IF(G13="AB",0,G13/5*100) -> 100 | M13: =IF(H13="AB",0,H13/5*100) -> 100 | N13: =IF(I13<50,"N","Y") -> Y | O13: =IF(J13<50,"N","Y") -> Y | P13: =IF(K13<50,"N","Y") -> Y | Q13: =IF(L13<50,"N","Y") -> Y | R13: =IF(M13<50,"N","Y") -> Y
A14: 5 | B14: ANNAPURNA SINGH | C14: 1SG15EE005 | D14: 5 | E14: 5 | F14: 5 | G14: 5 | H14: 5 | I14: =IF(D14="AB",0,D14/5*100) -> 100 | J14: =IF(E14="AB",0,E14/5*100) -> 100 | K14: =IF(F14="AB",0,F14/5*100) -> 100 | L14: =IF(G14="AB",0,G14/5*100) -> 100 | M14: =IF(H14="AB",0,H14/5*100) -> 100 | N14: =IF(I14<50,"N","Y") -> Y | O14: =IF(J14<50,"N","Y") -> Y | P14: =IF(K14<50,"N","Y") -> Y | Q14: =IF(L14<50,"N","Y") -> Y | R14: =IF(M14<50,"N","Y") -> Y
A15: 6 | B15: ANTONY ROSHAN J D | C15: 1SG15EE006 | D15: 5 | E15: 5 | F15: 5 | G15: 5 | H15: 5 | I15: =IF(D15="AB",0,D15/5*100) -> 100 | J15: =IF(E15="AB",0,E15/5*100) -> 100 | K15: =IF(F15="AB",0,F15/5*100) -> 100 | L15: =IF(G15="AB",0,G15/5*100) -> 100 | M15: =IF(H15="AB",0,H15/5*100) -> 100 | N15: =IF(I15<50,"N","Y") -> Y | O15: =IF(J15<50,"N","Y") -> Y | P15: =IF(K15<50,"N","Y") -> Y | Q15: =IF(L15<50,"N","Y") -> Y | R15: =IF(M15<50,"N","Y") -> Y
A16: 7 | B16: ANUP H V | C16: 1SG15EE007 | D16: 5 | E16: 5 | F16: 5 | G16: 5 | H16: 5 | I16: =IF(D16="AB",0,D16/5*100) -> 100 | J16: =IF(E16="AB",0,E16/5*100) -> 100 | K16: =IF(F16="AB",0,F16/5*100) -> 100 | L16: =IF(G16="AB",0,G16/5*100) -> 100 | M16: =IF(H16="AB",0,H16/5*100) -> 100 | N16: =IF(I16<50,"N","Y") -> Y | O16: =IF(J16<50,"N","Y") -> Y | P16: =IF(K16<50,"N","Y") -> Y | Q16: =IF(L16<50,"N","Y") -> Y | R16: =IF(M16<50,"N","Y") -> Y
A17: 8 | B17: ANUSHA B | C17: 1SG15EE008 | D17: 5 | E17: 5 | F17: 5 | G17: 5 | H17: 5 | I17: =IF(D17="AB",0,D17/5*100) -> 100 | J17: =IF(E17="AB",0,E17/5*100) -> 100 | K17: =IF(F17="AB",0,F17/5*100) -> 100 | L17: =IF(G17="AB",0,G17/5*100) -> 100 | M17: =IF(H17="AB",0,H17/5*100) -> 100 | N17: =IF(I17<50,"N","Y") -> Y | O17: =IF(J17<50,"N","Y") -> Y | P17: =IF(K17<50,"N","Y") -> Y | Q17: =IF(L17<50,"N","Y") -> Y | R17: =IF(M17<50,"N","Y") -> Y
A18: 9 | B18: ANUSHA K | C18: 1SG15EE009 | D18: 5 | E18: 5 | F18: 5 | G18: 5 | H18: 5 | I18: =IF(D18="AB",0,D18/5*100) -> 100 | J18: =IF(E18="AB",0,E18/5*100) -> 100 | K18: =IF(F18="AB",0,F18/5*100) -> 100 | L18: =IF(G18="AB",0,G18/5*100) -> 100 | M18: =IF(H18="AB",0,H18/5*100) -> 100 | N18: =IF(I18<50,"N","Y") -> Y | O18: =IF(J18<50,"N","Y") -> Y | P18: =IF(K18<50,"N","Y") -> Y | Q18: =IF(L18<50,"N","Y") -> Y | R18: =IF(M18<50,"N","Y") -> Y
A19: 10 | B19: APOORVA K.G | C19: 1SG15EE010 | D19: 5 | E19: 5 | F19: 5 | G19: 5 | H19: 5 | I19: =IF(D19="AB",0,D19/5*100) -> 100 | J19: =IF(E19="AB",0,E19/5*100) -> 100 | K19: =IF(F19="AB",0,F19/5*100) -> 100 | L19: =IF(G19="AB",0,G19/5*100) -> 100 | M19: =IF(H19="AB",0,H19/5*100) -> 100 | N19: =IF(I19<50,"N","Y") -> Y | O19: =IF(J19<50,"N","Y") -> Y | P19: =IF(K19<50,"N","Y") -> Y | Q19: =IF(L19<50,"N","Y") -> Y | R19: =IF(M19<50,"N","Y") -> Y
A20: 11 | B20: ARPITHA SHARMA | C20: 1SG15EE011 | D20: 5 | E20: 5 | F20: 5 | G20: 5 | H20: 5 | I20: =IF(D20="AB",0,D20/5*100) -> 100 | J20: =IF(E20="AB",0,E20/5*100) -> 100 | K20: =IF(F20="AB",0,F20/5*100) -> 100 | L20: =IF(G20="AB",0,G20/5*100) -> 100 | M20: =IF(H20="AB",0,H20/5*100) -> 100 | N20: =IF(I20<50,"N","Y") -> Y | O20: =IF(J20<50,"N","Y") -> Y | P20: =IF(K20<50,"N","Y") -> Y | Q20: =IF(L20<50,"N","Y") -> Y | R20: =IF(M20<50,"N","Y") -> Y
A21: 12 | B21: ARPITHA SRINIVASA MURTHY | C21: 1SG15EE012 | D21: 5 | E21: 5 | F21: 5 | G21: 5 | H21: 5 | I21: =IF(D21="AB",0,D21/5*100) -> 100 | J21: =IF(E21="AB",0,E21/5*100) -> 100 | K21: =IF(F21="AB",0,F21/5*100) -> 100 | L21: =IF(G21="AB",0,G21/5*100) -> 100 | M21: =IF(H21="AB",0,H21/5*100) -> 100 | N21: =IF(I21<50,"N","Y") -> Y | O21: =IF(J21<50,"N","Y") -> Y | P21: =IF(K21<50,"N","Y") -> Y | Q21: =IF(L21<50,"N","Y") -> Y | R21: =IF(M21<50,"N","Y") -> Y
... A106: 97 | B106: VISHAL.S.PUJARI | C106: 1SG15EE097 | D106: 5 | E106: 5 | F106: 5 | G106: 5 | H106: 5 | I106: =IF(D106="AB",0,D106/5*100) -> 100 | J106: =IF(E106="AB",0,E106/5*100) -> 100 | K106: =IF(F106="AB",0,F106/5*100) -> 100 | L106: =IF(G106="AB",0,G106/5*100) -> 100 | M106: =IF(H106="AB",0,H106/5*100) -> 100 | N106: =IF(I106<50,"N","Y") -> Y | O106: =IF(J106<50,"N","Y") -> Y | P106: =IF(K106<50,"N","Y") -> Y | Q106: =IF(L106<50,"N","Y") -> Y | R106: =IF(M106<50,"N","Y") -> Y
M108: NO OF Y | N108: =COUNTIF(N10:N106,"=Y") -> 97 | O108: =COUNTIF(O10:O106,"=Y") -> 97 | P108: =COUNTIF(P10:P106,"=Y") -> 97 | Q108: =COUNTIF(Q10:Q106,"=Y") -> 97 | R108: =COUNTIF(R10:R106,"=Y") -> 97
M109: ATTAINMENT | N109: =N108/97*100 -> 100 | O109: =O108/97*100 -> 100 | P109: =P108/97*100 -> 100 | Q109: =Q108/97*100 -> 100 | R109: =R108/97*100 -> 100

Sheet FINAL EXAM
A1: Sapthagiri College of Engineering
A2: Department of Civil Engineering
A3: SUBJECT :ELEMENETS OF CIVIL ENGINEERING AND MECHANICS SUB CODE:15CIV13
A4: SEM : 2ND | C4: SEC : E | F4: YEAR : 2015-2016
A5: Sl. No. | B5: Name of the student | C5: USN | D5: EXTERNAL EXAM | I5: ATTAINMENT (%)
I7: I | J7: II | K7: II | L7: II | M7: III
D8: CO1 | E8: CO2 | F8: CO3 | G8: CO4 | H8: CO4 | I8: CO 1 | J8: CO 2 | K8: CO 3 | L8: CO 4 | M8: CO 5
D9: 10 | E9: 10 | F9: 10 | G9: 10 | H9: 10
A10: 1 | B10: ABHILASH Y | C10: 1SG15EE001 | D10: 60 | E10: 60 | F10: 60 | G10: 60 | H10: 60 | I10: =IF(D10="AB",0,D10/80*100) -> 75 | J10: =IF(E10="AB",0,E10/80*100) -> 75 | K10: =IF(F10="AB",0,F10/80*100) -> 75 | L10: =IF(G10="AB",0,G10/80*100) -> 75 | M10: =IF(H10="AB",0,H10/80*100) -> 75 | N10: =IF(I10<50,"N","Y") -> Y | O10: =IF(J10<50,"N","Y") -> Y | P10: =IF(K10<50,"N","Y") -> Y | Q10: =IF(L10<50,"N","Y") -> Y | R10: =IF(M10<50,"N","Y") -> Y
A11: 2 | B11: ADITHYA G.T | C11: 1SG15EE002 | D11: 30 | E11: 30 | F11: 30 | G11: 30 | H11: 30 | I11: =IF(D11="AB",0,D11/80*100) -> 37.5 | J11: =IF(E11="AB",0,E11/80*100) -> 37.5 | K11: =IF(F11="AB",0,F11/80*100) -> 37.5 | L11: =IF(G11="AB",0,G11/80*100) -> 37.5 | M11: =IF(H11="AB",0,H11/80*100) -> 37.5 | N11: =IF(I11<50,"N","Y") -> N | O11: =IF(J11<50,"N","Y") -> N | P11: =IF(K11<50,"N","Y") -> N | Q11: =IF(L11<50,"N","Y") -> N | R11: =IF(M11<50,"N","Y") -> N
A12: 3 | B12: AJAY M | C12: 1SG15EE003 | D12: 36 | E12: 36 | F12: 36 | G12: 36 | H12: 36 | I12: =IF(D12="AB",0,D12/80*100) -> 45 | J12: =IF(E12="AB",0,E12/80*100) -> 45 | K12: =IF(F12="AB",0,F12/80*100) -> 45 | L12: =IF(G12="AB",0,G12/80*100) -> 45 | M12: =IF(H12="AB",0,H12/80*100) -> 45 | N12: =IF(I12<50,"N","Y") -> N | O12: =IF(J12<50,"N","Y") -> N | P12: =IF(K12<50,"N","Y") -> N | Q12: =IF(L12<50,"N","Y") -> N | R12: =IF(M12<50,"N","Y") -> N
A13: 4 | B13: AMITH RAUNIYAR | C13: 1SG15EE004 | D13: 44 | E13: 44 | F13: 44 | G13: 44 | H13: 44 | I13: =IF(D13="AB",0,D13/80*100) -> 55 | J13: =IF(E13="AB",0,E13/80*100) -> 55 | K13: =IF(F13="AB",0,F13/80*100) -> 55 | L13: =IF(G13="AB",0,G13/80*100) -> 55 | M13: =IF(H13="AB",0,H13/80*100) -> 55 | N13: =IF(I13<50,"N","Y") -> Y | O13: =IF(J13<50,"N","Y") -> Y | P13: =IF(K13<50,"N","Y") -> Y | Q13: =IF(L13<50,"N","Y") -> Y | R13: =IF(M13<50,"N","Y") -> Y
A14: 5 | B14: ANNAPURNA SINGH | C14: 1SG15EE005 | D14: 60 | E14: 60 | F14: 60 | G14: 60 | H14: 60 | I14: =IF(D14="AB",0,D14/80*100) -> 75 | J14: =IF(E14="AB",0,E14/80*100) -> 75 | K14: =IF(F14="AB",0,F14/80*100) -> 75 | L14: =IF(G14="AB",0,G14/80*100) -> 75 | M14: =IF(H14="AB",0,H14/80*100) -> 75 | N14: =IF(I14<50,"N","Y") -> Y | O14: =IF(J14<50,"N","Y") -> Y | P14: =IF(K14<50,"N","Y") -> Y | Q14: =IF(L14<50,"N","Y") -> Y | R14: =IF(M14<50,"N","Y") -> Y
A15: 6 | B15: ANTONY ROSHAN J D | C15: 1SG15EE006 | D15: 36 | E15: 36 | F15: 36 | G15: 36 | H15: 36 | I15: =IF(D15="AB",0,D15/80*100) -> 45 | J15: =IF(E15="AB",0,E15/80*100) -> 45 | K15: =IF(F15="AB",0,F15/80*100) -> 45 | L15: =IF(G15="AB",0,G15/80*100) -> 45 | M15: =IF(H15="AB",0,H15/80*100) -> 45 | N15: =IF(I15<50,"N","Y") -> N | O15: =IF(J15<50,"N","Y") -> N | P15: =IF(K15<50,"N","Y") -> N | Q15: =IF(L15<50,"N","Y") -> N | R15: =IF(M15<50,"N","Y") -> N
A16: 7 | B16: ANUP H V | C16: 1SG15EE007 | D16: 52 | E16: 52 | F16: 52 | G16: 52 | H16: 52 | I16: =IF(D16="AB",0,D16/80*100) -> 65 | J16: =IF(E16="AB",0,E16/80*100) -> 65 | K16: =IF(F16="AB",0,F16/80*100) -> 65 | L16: =IF(G16="AB",0,G16/80*100) -> 65 | M16: =IF(H16="AB",0,H16/80*100) -> 65 | N16: =IF(I16<50,"N","Y") -> Y | O16: =IF(J16<50,"N","Y") -> Y | P16: =IF(K16<50,"N","Y") -> Y | Q16: =IF(L16<50,"N","Y") -> Y | R16: =IF(M16<50,"N","Y") -> Y
A17: 8 | B17: ANUSHA B | C17: 1SG15EE008 | D17: 24 | E17: 24 | F17: 24 | G17: 24 | H17: 24 | I17: =IF(D17="AB",0,D17/80*100) -> 30 | J17: =IF(E17="AB",0,E17/80*100) -> 30 | K17: =IF(F17="AB",0,F17/80*100) -> 30 | L17: =IF(G17="AB",0,G17/80*100) -> 30 | M17: =IF(H17="AB",0,H17/80*100) -> 30 | N17: =IF(I17<50,"N","Y") -> N | O17: =IF(J17<50,"N","Y") -> N | P17: =IF(K17<50,"N","Y") -> N | Q17: =IF(L17<50,"N","Y") -> N | R17: =IF(M17<50,"N","Y") -> N
A18: 9 | B18: ANUSHA K | C18: 1SG15EE009 | D18: 52 | E18: 52 | F18: 52 | G18: 52 | H18: 52 | I18: =IF(D18="AB",0,D18/80*100) -> 65 | J18: =IF(E18="AB",0,E18/80*100) -> 65 | K18: =IF(F18="AB",0,F18/80*100) -> 65 | L18: =IF(G18="AB",0,G18/80*100) -> 65 | M18: =IF(H18="AB",0,H18/80*100) -> 65 | N18: =IF(I18<50,"N","Y") -> Y | O18: =IF(J18<50,"N","Y") -> Y | P18: =IF(K18<50,"N","Y") -> Y | Q18: =IF(L18<50,"N","Y") -> Y | R18: =IF(M18<50,"N","Y") -> Y
A19: 10 | B19: APOORVA K.G | C19: 1SG15EE010 | D19: 44 | E19: 44 | F19: 44 | G19: 44 | H19: 44 | I19: =IF(D19="AB",0,D19/80*100) -> 55 | J19: =IF(E19="AB",0,E19/80*100) -> 55 | K19: =IF(F19="AB",0,F19/80*100) -> 55 | L19: =IF(G19="AB",0,G19/80*100) -> 55 | M19: =IF(H19="AB",0,H19/80*100) -> 55 | N19: =IF(I19<50,"N","Y") -> Y | O19: =IF(J19<50,"N","Y") -> Y | P19: =IF(K19<50,"N","Y") -> Y | Q19: =IF(L19<50,"N","Y") -> Y | R19: =IF(M19<50,"N","Y") -> Y
A20: 11 | B20: ARPITHA SHARMA | C20: 1SG15EE011 | D20: 52 | E20: 52 | F20: 52 | G20: 52 | H20: 52 | I20: =IF(D20="AB",0,D20/80*100) -> 65 | J20: =IF(E20="AB",0,E20/80*100) -> 65 | K20: =IF(F20="AB",0,F20/80*100) -> 65 | L20: =IF(G20="AB",0,G20/80*100) -> 65 | M20: =IF(H20="AB",0,H20/80*100) -> 65 | N20: =IF(I20<50,"N","Y") -> Y | O20: =IF(J20<50,"N","Y") -> Y | P20: =IF(K20<50,"N","Y") -> Y | Q20: =IF(L20<50,"N","Y") -> Y | R20: =IF(M20<50,"N","Y") -> Y
A21: 12 | B21: ARPITHA SRINIVASA MURTHY | C21: 1SG15EE012 | D21: 44 | E21: 44 | F21: 44 | G21: 44 | H21: 44 | I21: =IF(D21="AB",0,D21/80*100) -> 55 | J21: =IF(E21="AB",0,E21/80*100) -> 55 | K21: =IF(F21="AB",0,F21/80*100) -> 55 | L21: =IF(G21="AB",0,G21/80*100) -> 55 | M21: =IF(H21="AB",0,H21/80*100) -> 55 | N21: =IF(I21<50,"N","Y") -> Y | O21: =IF(J21<50,"N","Y") -> Y | P21: =IF(K21<50,"N","Y") -> Y | Q21: =IF(L21<50,"N","Y") -> Y | R21: =IF(M21<50,"N","Y") -> Y
... A106: 97 | B106: VISHAL.S.PUJARI | C106: 1SG15EE097 | D106: 36 | E106: 36 | F106: 36 | G106: 36 | H106: 36 | I106: =IF(D106="AB",0,D106/80*100) -> 45 | J106: =IF(E106="AB",0,E106/80*100) -> 45 | K106: =IF(F106="AB",0,F106/80*100) -> 45 | L106: =IF(G106="AB",0,G106/80*100) -> 45 | M106: =IF(H106="AB",0,H106/80*100) -> 45 | N106: =IF(I106<50,"N","Y") -> N | O106: =IF(J106<50,"N","Y") -> N | P106: =IF(K106<50,"N","Y") -> N | Q106: =IF(L106<50,"N","Y") -> N | R106: =IF(M106<50,"N","Y") -> N
M108: NO OF Y | N108: =COUNTIF(N10:N106,"=Y") -> 72 | O108: =COUNTIF(O10:O106,"=Y") -> 72 | P108: =COUNTIF(P10:P106,"=Y") -> 72 | Q108: =COUNTIF(Q10:Q106,"=Y") -> 72 | R108: =COUNTIF(R10:R106,"=Y") -> 72
M109: ATTAINMENT | N109: =N108/97*100 -> 74.226804 | O109: =O108/97*100 -> 74.226804 | P109: =P108/97*100 -> 74.226804 | Q109: =Q108/97*100 -> 74.226804 | R109: =R108/97*100 -> 74.226804

Sheet TEST -CO 
A6: Sl. No. | B6: Name of the student | C6: USN | J6: ATTAINMENT (%) | P6: Y OR N
D8: I | E8: I | F8: II | G8: II | H8: III | I8: III | J8: ='FINAL EXAM'!D110 -> 0 | K8: ='FINAL EXAM'!E110 -> 0 | L8: ='FINAL EXAM'!F110 -> 0 | M8: ='FINAL EXAM'!G110 -> 0 | N8: ='FINAL EXAM'!H110 -> 0 | O8: ='FINAL EXAM'!#REF! -> #REF! | P8: I | Q8: I | R8: II | S8: II | T8: III | U8: III
D9: CO1 | E9: CO2 | F9: CO3 | G9: CO4 | H9: CO5 | I9: CO6 | J9: CO1 | K9: CO2 | L9: =F9 -> CO3 | M9: =G9 -> CO4 | N9: =H9 -> CO5 | O9: =I9 -> CO6 | P9: =J9 -> CO1 | Q9: =K9 -> CO2 | R9: =L9 -> CO3 | S9: =M9 -> CO4 | ... U9: =O9 -> CO6
A10: ='FINAL EXAM'!A10 -> 1 | B10: ='FINAL EXAM'!B10 -> ABHILASH Y | C10: ='FINAL EXAM'!C10 -> 1SG15EE001 | D10: =SUMIF('FINAL EXAM'!$D$8:$H$8,$D$9,'FINAL EXAM'!D10:H10) -> 60 | E10: =SUMIF('FINAL EXAM'!$D$8:$H$8,$E$9,'FINAL EXAM'!D10:H10) -> 60 | F10: =SUMIF('FINAL EXAM'!$D$8:$H$8,$F$9,'FINAL EXAM'!D10:H10) -> 60 | G10: =SUMIF('FINAL EXAM'!$D$8:$H$8,$G$9,'FINAL EXAM'!D10:H10) -> 120 | H10: =SUMIF('FINAL EXAM'!$D$8:$H$8,$H$9,'FINAL EXAM'!D10:H10) -> 0 | I10: =SUMIF('FINAL EXAM'!$D$8:$H$8,$I$9,'FINAL EXAM'!D10:H10) -> 0 | J10: =D10*100/$J$8 -> #DIV/0! | K10: =E10*100/$K$8 -> #DIV/0! | L10: =F10*100/$L$8 -> #DIV/0! | M10: =G10*100/$M$8 -> #DIV/0! | N10: =H10*100/$N$8 -> #DIV/0! | O10: =I10*100/$O$8 -> #REF! | P10: =IF(J10<'FINAL EXAM'!$D$114,"N","Y") -> #DIV/0! | Q10: =IF(K10<'FINAL EXAM'!$D$114,"N","Y") -> #DIV/0! | R10: =IF(L10<'FINAL EXAM'!$D$114,"N","Y") -> #DIV/0! | S10: =IF(M10<'FINAL EXAM'!$D$114,"N","Y") -> #DIV/0! | T10: =IF(N10<'FINAL EXAM'!$D$114,"N","Y") -> #DIV/0! | U10: =IF(O10<'FINAL EXAM'!$D$114,"N","Y") -> #REF!
A11: 2 | B11: ='FINAL EXAM'!B11 -> ADITHYA G.T | C11: ='FINAL EXAM'!C11 -> 1SG15EE002 | D11: =SUMIF('FINAL EXAM'!$D$8:$H$8,$D$9,'FINAL EXAM'!D11:H11) -> 30 | E11: =SUMIF('FINAL EXAM'!$D$8:$H$8,$E$9,'FINAL EXAM'!D11:H11) -> 30 | F11: =SUMIF('FINAL EXAM'!$D$8:$H$8,$F$9,'FINAL EXAM'!D11:H11) -> 30 | G11: =SUMIF('FINAL EXAM'!$D$8:$H$8,$G$9,'FINAL EXAM'!D11:H11) -> 60 | H11: =SUMIF('FINAL EXAM'!$D$8:$H$8,$H$9,'FINAL EXAM'!D11:H11) -> 0 | I11: =SUMIF('FINAL EXAM'!$D$8:$H$8,$I$9,'FINAL EXAM'!D11:H11) -> 0 | J11: =D11*100/$J$8 -> #DIV/0! | K11: =E11*100/$K$8 -> #DIV/0! | L11: =F11*100/$L$8 -> #DIV/0! | M11: =G11*100/$M$8 -> #DIV/0! | N11: =H11*100/$N$8 -> #DIV/0! | O11: =I11*100/$O$8 -> #REF! | P11: =IF(J11<'FINAL EXAM'!$D$114,"N","Y") -> #DIV/0! | Q11: =IF(K11<'FINAL EXAM'!$D$114,"N","Y") -> #DIV/0! | R11: =IF(L11<'FINAL EXAM'!$D$114,"N","Y") -> #DIV/0! | S11: =IF(M11<'FINAL EXAM'!$D$114,"N","Y") -> #DIV/0! | T11: =IF(N11<'FINAL EXAM'!$D$114,"N","Y") -> #DIV/0! | U11: =IF(O11<'FINAL EXAM'!$D$114,"N","Y") -> #REF!
A12: 3 | B12: ='FINAL EXAM'!B12 -> AJAY M | C12: ='FINAL EXAM'!C12 -> 1SG15EE003 | D12: =SUMIF('FINAL EXAM'!$D$8:$H$8,$D$9,'FINAL EXAM'!D12:H12) -> 36 | E12: =SUMIF('FINAL EXAM'!$D$8:$H$8,$E$9,'FINAL EXAM'!D12:H12) -> 36 | F12: =SUMIF('FINAL EXAM'!$D$8:$H$8,$F$9,'FINAL EXAM'!D12:H12) -> 36 | G12: =SUMIF('FINAL EXAM'!$D$8:$H$8,$G$9,'FINAL EXAM'!D12:H12) -> 72 | H12: =SUMIF('FINAL EXAM'!$D$8:$H$8,$H$9,'FINAL EXAM'!D12:H12) -> 0 | I12: =SUMIF('FINAL EXAM'!$D$8:$H$8,$I$9,'FINAL EXAM'!D12:H12) -> 0 | J12: =D12*100/$J$8 -> #DIV/0! | K12: =E12*100/$K$8 -> #DIV/0! | L12: =F12*100/$L$8 -> #DIV/0! | M12: =G12*100/$M$8 -> #DIV/0! | N12: =H12*100/$N$8 -> #DIV/0! | O12: =I12*100/$O$8 -> #REF! | P12: =IF(J12<'FINAL EXAM'!$D$114,"N","Y") -> #DIV/0! | Q12: =IF(K12<'FINAL EXAM'!$D$114,"N","Y") -> #DIV/0! | R12: =IF(L12<'FINAL EXAM'!$D$114,"N","Y") -> #DIV/0! | S12: =IF(M12<'FINAL EXAM'!$D$114,"N","Y") -> #DIV/0! | T12: =IF(N12<'FINAL EXAM'!$D$114,"N","Y") -> #DIV/0! | U12: =IF(O12<'FINAL EXAM'!$D$114,"N","Y") -> #REF!
A13: 4 | B13: ='FINAL EXAM'!B13 -> AMITH RAUNIYAR | C13: ='FINAL EXAM'!C13 -> 1SG15EE004 | D13: =SUMIF('FINAL EXAM'!$D$8:$H$8,$D$9,'FINAL EXAM'!D13:H13) -> 44 | E13: =SUMIF('FINAL EXAM'!$D$8:$H$8,$E$9,'FINAL EXAM'!D13:H13) -> 44 | F13: =SUMIF('FINAL EXAM'!$D$8:$H$8,$F$9,'FINAL EXAM'!D13:H13) -> 44 | G13: =SUMIF('FINAL EXAM'!$D$8:$H$8,$G$9,'FINAL EXAM'!D13:H13) -> 88 | H13: =SUMIF('FINAL EXAM'!$D$8:$H$8,$H$9,'FINAL EXAM'!D13:H13) -> 0 | I13: =SUMIF('FINAL EXAM'!$D$8:$H$8,$I$9,'FINAL EXAM'!D13:H13) -> 0 | J13: =D13*100/$J$8 -> #DIV/0! | K13: =E13*100/$K$8 -> #DIV/0! | L13: =F13*100/$L$8 -> #DIV/0! | M13: =G13*100/$M$8 -> #DIV/0! | N13: =H13*100/$N$8 -> #DIV/0! | O13: =I13*100/$O$8 -> #REF! | P13: =IF(J13<'FINAL EXAM'!$D$114,"N","Y") -> #DIV/0! | Q13: =IF(K13<'FINAL EXAM'!$D$114,"N","Y") -> #DIV/0! | R13: =IF(L13<'FINAL EXAM'!$D$114,"N","Y") -> #DIV/0! | S13: =IF(M13<'FINAL EXAM'!$D$114,"N","Y") -> #DIV/0! | T13: =IF(N13<'FINAL EXAM'!$D$114,"N","Y") -> #DIV/0! | U13: =IF(O13<'FINAL EXAM'!$D$114,"N","Y") -> #REF!
A14: 5 | B14: ='FINAL EXAM'!B14 -> ANNAPURNA SINGH | C14: ='FINAL EXAM'!C14 -> 1SG15EE005 | D14: =SUMIF('FINAL EXAM'!$D$8:$H$8,$D$9,'FINAL EXAM'!D14:H14) -> 60 | E14: =SUMIF('FINAL EXAM'!$D$8:$H$8,$E$9,'FINAL EXAM'!D14:H14) -> 60 | F14: =SUMIF('FINAL EXAM'!$D$8:$H$8,$F$9,'FINAL EXAM'!D14:H14) -> 60 | G14: =SUMIF('FINAL EXAM'!$D$8:$H$8,$G$9,'FINAL EXAM'!D14:H14) -> 120 | H14: =SUMIF('FINAL EXAM'!$D$8:$H$8,$H$9,'FINAL EXAM'!D14:H14) -> 0 | I14: =SUMIF('FINAL EXAM'!$D$8:$H$8,$I$9,'FINAL EXAM'!D14:H14) -> 0 | J14: =D14*100/$J$8 -> #DIV/0! | K14: =E14*100/$K$8 -> #DIV/0! | L14: =F14*100/$L$8 -> #DIV/0! | M14: =G14*100/$M$8 -> #DIV/0! | N14: =H14*100/$N$8 -> #DIV/0! | O14: =I14*100/$O$8 -> #REF! | P14: =IF(J14<'FINAL EXAM'!$D$114,"N","Y") -> #DIV/0! | Q14: =IF(K14<'FINAL EXAM'!$D$114,"N","Y") -> #DIV/0! | R14: =IF(L14<'FINAL EXAM'!$D$114,"N","Y") -> #DIV/0! | S14: =IF(M14<'FINAL EXAM'!$D$114,"N","Y") -> #DIV/0! | T14: =IF(N14<'FINAL EXAM'!$D$114,"N","Y") -> #DIV/0! | U14: =IF(O14<'FINAL EXAM'!$D$114,"N","Y") -> #REF!
A15: 6 | B15: ='FINAL EXAM'!B15 -> ANTONY ROSHAN J D | C15: ='FINAL EXAM'!C15 -> 1SG15EE006 | D15: =SUMIF('FINAL EXAM'!$D$8:$H$8,$D$9,'FINAL EXAM'!D15:H15) -> 36 | E15: =SUMIF('FINAL EXAM'!$D$8:$H$8,$E$9,'FINAL EXAM'!D15:H15) -> 36 | F15: =SUMIF('FINAL EXAM'!$D$8:$H$8,$F$9,'FINAL EXAM'!D15:H15) -> 36 | G15: =SUMIF('FINAL EXAM'!$D$8:$H$8,$G$9,'FINAL EXAM'!D15:H15) -> 72 | H15: =SUMIF('FINAL EXAM'!$D$8:$H$8,$H$9,'FINAL EXAM'!D15:H15) -> 0 | I15: =SUMIF('FINAL EXAM'!$D$8:$H$8,$I$9,'FINAL EXAM'!D15:H15) -> 0 | J15: =D15*100/$J$8 -> #DIV/0! | K15: =E15*100/$K$8 -> #DIV/0! | L15: =F15*100/$L$8 -> #DIV/0! | M15: =G15*100/$M$8 -> #DIV/0! | N15: =H15*100/$N$8 -> #DIV/0! | O15: =I15*100/$O$8 -> #REF! | P15: =IF(J15<'FINAL EXAM'!$D$114,"N","Y") -> #DIV/0! | Q15: =IF(K15<'FINAL EXAM'!$D$114,"N","Y") -> #DIV/0! | R15: =IF(L15<'FINAL EXAM'!$D$114,"N","Y") -> #DIV/0! | S15: =IF(M15<'FINAL EXAM'!$D$114,"N","Y") -> #DIV/0! | T15: =IF(N15<'FINAL EXAM'!$D$114,"N","Y") -> #DIV/0! | U15: =IF(O15<'FINAL EXAM'!$D$114,"N","Y") -> #REF!
A16: 7 | B16: ='FINAL EXAM'!B16 -> ANUP H V | C16: =SUMIF('FINAL EXAM'!B14:G14,C15,'FINAL EXAM'!B16:G16) -> 0 | D16: =SUMIF('FINAL EXAM'!$D$8:$H$8,$D$9,'FINAL EXAM'!D16:H16) -> 52 | E16: =SUMIF('FINAL EXAM'!$D$8:$H$8,$E$9,'FINAL EXAM'!D16:H16) -> 52 | F16: =SUMIF('FINAL EXAM'!$D$8:$H$8,$F$9,'FINAL EXAM'!D16:H16) -> 52 | G16: =SUMIF('FINAL EXAM'!$D$8:$H$8,$G$9,'FINAL EXAM'!D16:H16) -> 104 | H16: =SUMIF('FINAL EXAM'!$D$8:$H$8,$H$9,'FINAL EXAM'!D16:H16) -> 0 | I16: =SUMIF('FINAL EXAM'!$D$8:$H$8,$I$9,'FINAL EXAM'!D16:H16) -> 0 | J16: =D16*100/$J$8 -> #DIV/0! | K16: =E16*100/$K$8 -> #DIV/0! | L16: =F16*100/$L$8 -> #DIV/0! | M16: =G16*100/$M$8 -> #DIV/0! | N16: =H16*100/$N$8 -> #DIV/0! | O16: =I16*100/$O$8 -> #REF! | P16: =IF(J16<'FINAL EXAM'!$D$114,"N","Y") -> #DIV/0! | Q16: =IF(K16<'FINAL EXAM'!$D$114,"N","Y") -> #DIV/0! | R16: =IF(L16<'FINAL EXAM'!$D$114,"N","Y") -> #DIV/0! | S16: =IF(M16<'FINAL EXAM'!$D$114,"N","Y") -> #DIV/0! | T16: =IF(N16<'FINAL EXAM'!$D$114,"N","Y") -> #DIV/0! | U16: =IF(O16<'FINAL EXAM'!$D$114,"N","Y") -> #REF!
A17: =SUMIF('FINAL EXAM'!A15:F15,A16,'FINAL EXAM'!A17:F17) -> 0 | B17: =SUMIF('FINAL EXAM'!B15:G15,B16,'FINAL EXAM'!B17:G17) -> 0 | C17: =SUMIF('FINAL EXAM'!C15:H15,C16,'FINAL EXAM'!C17:H17) -> 0 | D17: =SUMIF('FINAL EXAM'!$D$8:$H$8,$D$9,'FINAL EXAM'!D17:H17) -> 24 | E17: =SUMIF('FINAL EXAM'!$D$8:$H$8,$E$9,'FINAL EXAM'!D17:H17) -> 24 | F17: =SUMIF('FINAL EXAM'!$D$8:$H$8,$F$9,'FINAL EXAM'!D17:H17) -> 24 | G17: =SUMIF('FINAL EXAM'!$D$8:$H$8,$G$9,'FINAL EXAM'!D17:H17) -> 48 | H17: =SUMIF('FINAL EXAM'!$D$8:$H$8,$H$9,'FINAL EXAM'!D17:H17) -> 0 | I17: =SUMIF('FINAL EXAM'!$D$8:$H$8,$I$9,'FINAL EXAM'!D17:H17) -> 0 | J17: =D17*100/$J$8 -> #DIV/0! | K17: =E17*100/$K$8 -> #DIV/0! | L17: =F17*100/$L$8 -> #DIV/0! | M17: =G17*100/$M$8 -> #DIV/0! | N17: =H17*100/$N$8 -> #DIV/0! | O17: =I17*100/$O$8 -> #REF! | P17: =IF(J17<'FINAL EXAM'!$D$114,"N","Y") -> #DIV/0! | Q17: =IF(K17<'FINAL EXAM'!$D$114,"N","Y") -> #DIV/0! | R17: =IF(L17<'FINAL EXAM'!$D$114,"N","Y") -> #DIV/0! | S17: =IF(M17<'FINAL EXAM'!$D$114,"N","Y") -> #DIV/0! | T17: =IF(N17<'FINAL EXAM'!$D$114,"N","Y") -> #DIV/0! | U17: =IF(O17<'FINAL EXAM'!$D$114,"N","Y") -> #REF!
A18: 9 | B18: ='FINAL EXAM'!B18 -> ANUSHA K | C18: ='FINAL EXAM'!C18 -> 1SG15EE009 | D18: =SUMIF('FINAL EXAM'!$D$8:$H$8,$D$9,'FINAL EXAM'!D18:H18) -> 52 | E18: =SUMIF('FINAL EXAM'!$D$8:$H$8,$E$9,'FINAL EXAM'!D18:H18) -> 52 | F18: =SUMIF('FINAL EXAM'!$D$8:$H$8,$F$9,'FINAL EXAM'!D18:H18) -> 52 | G18: =SUMIF('FINAL EXAM'!$D$8:$H$8,$G$9,'FINAL EXAM'!D18:H18) -> 104 | H18: =SUMIF('FINAL EXAM'!$D$8:$H$8,$H$9,'FINAL EXAM'!D18:H18) -> 0 | I18: =SUMIF('FINAL EXAM'!$D$8:$H$8,$I$9,'FINAL EXAM'!D18:H18) -> 0 | J18: =D18*100/$J$8 -> #DIV/0! | K18: =E18*100/$K$8 -> #DIV/0! | L18: =F18*100/$L$8 -> #DIV/0! | M18: =G18*100/$M$8 -> #DIV/0! | N18: =H18*100/$N$8 -> #DIV/0! | O18: =I18*100/$O$8 -> #REF! | P18: =IF(J18<'FINAL EXAM'!$D$114,"N","Y") -> #DIV/0! | Q18: =IF(K18<'FINAL EXAM'!$D$114,"N","Y") -> #DIV/0! | R18: =IF(L18<'FINAL EXAM'!$D$114,"N","Y") -> #DIV/0! | S18: =IF(M18<'FINAL EXAM'!$D$114,"N","Y") -> #DIV/0! | T18: =IF(N18<'FINAL EXAM'!$D$114,"N","Y") -> #DIV/0! | U18: =IF(O18<'FINAL EXAM'!$D$114,"N","Y") -> #REF!
A19: 10 | B19: ='FINAL EXAM'!B19 -> APOORVA K.G | C19: ='FINAL EXAM'!C19 -> 1SG15EE010 | D19: =SUMIF('FINAL EXAM'!$D$8:$H$8,$D$9,'FINAL EXAM'!D19:H19) -> 44 | E19: =SUMIF('FINAL EXAM'!$D$8:$H$8,$E$9,'FINAL EXAM'!D19:H19) -> 44 | F19: =SUMIF('FINAL EXAM'!$D$8:$H$8,$F$9,'FINAL EXAM'!D19:H19) -> 44 | G19: =SUMIF('FINAL EXAM'!$D$8:$H$8,$G$9,'FINAL EXAM'!D19:H19) -> 88 | H19: =SUMIF('FINAL EXAM'!$D$8:$H$8,$H$9,'FINAL EXAM'!D19:H19) -> 0 | I19: =SUMIF('FINAL EXAM'!$D$8:$H$8,$I$9,'FINAL EXAM'!D19:H19) -> 0 | J19: =D19*100/$J$8 -> #DIV/0! | K19: =E19*100/$K$8 -> #DIV/0! | L19: =F19*100/$L$8 -> #DIV/0! | M19: =G19*100/$M$8 -> #DIV/0! | N19: =H19*100/$N$8 -> #DIV/0! | O19: =I19*100/$O$8 -> #REF! | P19: =IF(J19<'FINAL EXAM'!$D$114,"N","Y") -> #DIV/0! | Q19: =IF(K19<'FINAL EXAM'!$D$114,"N","Y") -> #DIV/0! | R19: =IF(L19<'FINAL EXAM'!$D$114,"N","Y") -> #DIV/0! | S19: =IF(M19<'FINAL EXAM'!$D$114,"N","Y") -> #DIV/0! | T19: =IF(N19<'FINAL EXAM'!$D$114,"N","Y") -> #DIV/0! | U19: =IF(O19<'FINAL EXAM'!$D$114,"N","Y") -> #REF!
A20: 11 | B20: ='FINAL EXAM'!B20 -> ARPITHA SHARMA | C20: ='FINAL EXAM'!C20 -> 1SG15EE011 | D20: =SUMIF('FINAL EXAM'!$D$8:$H$8,$D$9,'FINAL EXAM'!D20:H20) -> 52 | E20: =SUMIF('FINAL EXAM'!$D$8:$H$8,$E$9,'FINAL EXAM'!D20:H20) -> 52 | F20: =SUMIF('FINAL EXAM'!$D$8:$H$8,$F$9,'FINAL EXAM'!D20:H20) -> 52 | G20: =SUMIF('FINAL EXAM'!$D$8:$H$8,$G$9,'FINAL EXAM'!D20:H20) -> 104 | H20: =SUMIF('FINAL EXAM'!$D$8:$H$8,$H$9,'FINAL EXAM'!D20:H20) -> 0 | I20: =SUMIF('FINAL EXAM'!$D$8:$H$8,$I$9,'FINAL EXAM'!D20:H20) -> 0 | J20: =D20*100/$J$8 -> #DIV/0! | K20: =E20*100/$K$8 -> #DIV/0! | L20: =F20*100/$L$8 -> #DIV/0! | M20: =G20*100/$M$8 -> #DIV/0! | N20: =H20*100/$N$8 -> #DIV/0! | O20: =I20*100/$O$8 -> #REF! | P20: =IF(J20<'FINAL EXAM'!$D$114,"N","Y") -> #DIV/0! | Q20: =IF(K20<'FINAL EXAM'!$D$114,"N","Y") -> #DIV/0! | R20: =IF(L20<'FINAL EXAM'!$D$114,"N","Y") -> #DIV/0! | S20: =IF(M20<'FINAL EXAM'!$D$114,"N","Y") -> #DIV/0! | T20: =IF(N20<'FINAL EXAM'!$D$114,"N","Y") -> #DIV/0! | U20: =IF(O20<'FINAL EXAM'!$D$114,"N","Y") -> #REF!
A21: 12 | B21: ='FINAL EXAM'!B21 -> ARPITHA SRINIVASA MURTHY | C21: ='FINAL EXAM'!C21 -> 1SG15EE012 | D21: =SUMIF('FINAL EXAM'!$D$8:$H$8,$D$9,'FINAL EXAM'!D21:H21) -> 44 | E21: =SUMIF('FINAL EXAM'!$D$8:$H$8,$E$9,'FINAL EXAM'!D21:H21) -> 44 | F21: =SUMIF('FINAL EXAM'!$D$8:$H$8,$F$9,'FINAL EXAM'!D21:H21) -> 44 | G21: =SUMIF('FINAL EXAM'!$D$8:$H$8,$G$9,'FINAL EXAM'!D21:H21) -> 88 | H21: =SUMIF('FINAL EXAM'!$D$8:$H$8,$H$9,'FINAL EXAM'!D21:H21) -> 0 | I21: =SUMIF('FINAL EXAM'!$D$8:$H$8,$I$9,'FINAL EXAM'!D21:H21) -> 0 | J21: =D21*100/$J$8 -> #DIV/0! | K21: =E21*100/$K$8 -> #DIV/0! | L21: =F21*100/$L$8 -> #DIV/0! | M21: =G21*100/$M$8 -> #DIV/0! | N21: =H21*100/$N$8 -> #DIV/0! | O21: =I21*100/$O$8 -> #REF! | P21: =IF(J21<'FINAL EXAM'!$D$114,"N","Y") -> #DIV/0! | Q21: =IF(K21<'FINAL EXAM'!$D$114,"N","Y") -> #DIV/0! | R21: =IF(L21<'FINAL EXAM'!$D$114,"N","Y") -> #DIV/0! | S21: =IF(M21<'FINAL EXAM'!$D$114,"N","Y") -> #DIV/0! | T21: =IF(N21<'FINAL EXAM'!$D$114,"N","Y") -> #DIV/0! | U21: =IF(O21<'FINAL EXAM'!$D$114,"N","Y") -> #REF!
A22: 13 | B22: ='FINAL EXAM'!B22 -> ARUNA B.P | C22: ='FINAL EXAM'!C22 -> 1SG15EE013 | D22: =SUMIF('FINAL EXAM'!$D$8:$H$8,$D$9,'FINAL EXAM'!D22:H22) -> 30 | E22: =SUMIF('FINAL EXAM'!$D$8:$H$8,$E$9,'FINAL EXAM'!D22:H22) -> 30 | F22: =SUMIF('FINAL EXAM'!$D$8:$H$8,$F$9,'FINAL EXAM'!D22:H22) -> 30 | G22: =SUMIF('FINAL EXAM'!$D$8:$H$8,$G$9,'FINAL EXAM'!D22:H22) -> 60 | H22: =SUMIF('FINAL EXAM'!$D$8:$H$8,$H$9,'FINAL EXAM'!D22:H22) -> 0 | I22: =SUMIF('FINAL EXAM'!$D$8:$H$8,$I$9,'FINAL EXAM'!D22:H22) -> 0 | J22: =D22*100/$J$8 -> #DIV/0! | K22: =E22*100/$K$8 -> #DIV/0! | L22: =F22*100/$L$8 -> #DIV/0! | M22: =G22*100/$M$8 -> #DIV/0! | N22: =H22*100/$N$8 -> #DIV/0! | O22: =I22*100/$O$8 -> #REF! | P22: =IF(J22<'FINAL EXAM'!$D$114,"N","Y") -> #DIV/0! | Q22: =IF(K22<'FINAL EXAM'!$D$114,"N","Y") -> #DIV/0! | R22: =IF(L22<'FINAL EXAM'!$D$114,"N","Y") -> #DIV/0! | S22: =IF(M22<'FINAL EXAM'!$D$114,"N","Y") -> #DIV/0! | T22: =IF(N22<'FINAL EXAM'!$D$114,"N","Y") -> #DIV/0! | U22: =IF(O22<'FINAL EXAM'!$D$114,"N","Y") -> #REF!
A23: 14 | B23: ='FINAL EXAM'!B23 -> ATHIYA MOHAMMADI | C23: ='FINAL EXAM'!C23 -> 1SG15EE014 | D23: =SUMIF('FINAL EXAM'!$D$8:$H$8,$D$9,'FINAL EXAM'!D23:H23) -> 52 | E23: =SUMIF('FINAL EXAM'!$D$8:$H$8,$E$9,'FINAL EXAM'!D23:H23) -> 52 | F23: =SUMIF('FINAL EXAM'!$D$8:$H$8,$F$9,'FINAL EXAM'!D23:H23) -> 52 | G23: =SUMIF('FINAL EXAM'!$D$8:$H$8,$G$9,'FINAL EXAM'!D23:H23) -> 104 | H23: =SUMIF('FINAL EXAM'!$D$8:$H$8,$H$9,'FINAL EXAM'!D23:H23) -> 0 | I23: =SUMIF('FINAL EXAM'!$D$8:$H$8,$I$9,'FINAL EXAM'!D23:H23) -> 0 | J23: =D23*100/$J$8 -> #DIV/0! | K23: =E23*100/$K$8 -> #DIV/0! | L23: =F23*100/$L$8 -> #DIV/0! | M23: =G23*100/$M$8 -> #DIV/0! | N23: =H23*100/$N$8 -> #DIV/0! | O23: =I23*100/$O$8 -> #REF! | P23: =IF(J23<'FINAL EXAM'!$D$114,"N","Y") -> #DIV/0! | Q23: =IF(K23<'FINAL EXAM'!$D$114,"N","Y") -> #DIV/0! | R23: =IF(L23<'FINAL EXAM'!$D$114,"N","Y") -> #DIV/0! | S23: =IF(M23<'FINAL EXAM'!$D$114,"N","Y") -> #DIV/0! | T23: =IF(N23<'FINAL EXAM'!$D$114,"N","Y") -> #DIV/0! | U23: =IF(O23<'FINAL EXAM'!$D$114,"N","Y") -> #REF!
A24: 15 | B24: ='FINAL EXAM'!B24 -> BALAJI VENKATESH K | C24: ='FINAL EXAM'!C24 -> 1SG15EE015 | D24: =SUMIF('FINAL EXAM'!$D$8:$H$8,$D$9,'FINAL EXAM'!D24:H24) -> 44 | E24: =SUMIF('FINAL EXAM'!$D$8:$H$8,$E$9,'FINAL EXAM'!D24:H24) -> 44 | F24: =SUMIF('FINAL EXAM'!$D$8:$H$8,$F$9,'FINAL EXAM'!D24:H24) -> 44 | G24: =SUMIF('FINAL EXAM'!$D$8:$H$8,$G$9,'FINAL EXAM'!D24:H24) -> 88 | H24: =SUMIF('FINAL EXAM'!$D$8:$H$8,$H$9,'FINAL EXAM'!D24:H24) -> 0 | I24: =SUMIF('FINAL EXAM'!$D$8:$H$8,$I$9,'FINAL EXAM'!D24:H24) -> 0 | J24: =D24*100/$J$8 -> #DIV/0! | K24: =E24*100/$K$8 -> #DIV/0! | L24: =F24*100/$L$8 -> #DIV/0! | M24: =G24*100/$M$8 -> #DIV/0! | N24: =H24*100/$N$8 -> #DIV/0! | O24: =I24*100/$O$8 -> #REF! | P24: =IF(J24<'FINAL EXAM'!$D$114,"N","Y") -> #DIV/0! | Q24: =IF(K24<'FINAL EXAM'!$D$114,"N","Y") -> #DIV/0! | R24: =IF(L24<'FINAL EXAM'!$D$114,"N","Y") -> #DIV/0! | S24: =IF(M24<'FINAL EXAM'!$D$114,"N","Y") -> #DIV/0! | T24: =IF(N24<'FINAL EXAM'!$D$114,"N","Y") -> #DIV/0! | U24: =IF(O24<'FINAL EXAM'!$D$114,"N","Y") -> #REF!
A25: 16 | B25: ='FINAL EXAM'!B25 -> BALRAJ M | C25: ='FINAL EXAM'!C25 -> 1SG15EE016 | D25: =SUMIF('FINAL EXAM'!$D$8:$H$8,$D$9,'FINAL EXAM'!D25:H25) -> 60 | E25: =SUMIF('FINAL EXAM'!$D$8:$H$8,$E$9,'FINAL EXAM'!D25:H25) -> 60 | F25: =SUMIF('FINAL EXAM'!$D$8:$H$8,$F$9,'FINAL EXAM'!D25:H25) -> 60 | G25: =SUMIF('FINAL EXAM'!$D$8:$H$8,$G$9,'FINAL EXAM'!D25:H25) -> 120 | H25: =SUMIF('FINAL EXAM'!$D$8:$H$8,$H$9,'FINAL EXAM'!D25:H25) -> 0 | I25: =SUMIF('FINAL EXAM'!$D$8:$H$8,$I$9,'FINAL EXAM'!D25:H25) -> 0 | J25: =D25*100/$J$8 -> #DIV/0! | K25: =E25*100/$K$8 -> #DIV/0! | L25: =F25*100/$L$8 -> #DIV/0! | M25: =G25*100/$M$8 -> #DIV/0! | N25: =H25*100/$N$8 -> #DIV/0! | O25: =I25*100/$O$8 -> #REF! | P25: =IF(J25<'FINAL EXAM'!$D$114,"N","Y") -> #DIV/0! | Q25: =IF(K25<'FINAL EXAM'!$D$114,"N","Y") -> #DIV/0! | R25: =IF(L25<'FINAL EXAM'!$D$114,"N","Y") -> #DIV/0! | S25: =IF(M25<'FINAL EXAM'!$D$114,"N","Y") -> #DIV/0! | T25: =IF(N25<'FINAL EXAM'!$D$114,"N","Y") -> #DIV/0! | U25: =IF(O25<'FINAL EXAM'!$D$114,"N","Y") -> #REF!
A26: 17 | B26: ='FINAL EXAM'!B26 -> C.S.MOHANA | C26: ='FINAL EXAM'!C26 -> 1SG15EE017 | D26: =SUMIF('FINAL EXAM'!$D$8:$H$8,$D$9,'FINAL EXAM'!D26:H26) -> 44 | E26: =SUMIF('FINAL EXAM'!$D$8:$H$8,$E$9,'FINAL EXAM'!D26:H26) -> 44 | F26: =SUMIF('FINAL EXAM'!$D$8:$H$8,$F$9,'FINAL EXAM'!D26:H26) -> 44 | G26: =SUMIF('FINAL EXAM'!$D$8:$H$8,$G$9,'FINAL EXAM'!D26:H26) -> 88 | H26: =SUMIF('FINAL EXAM'!$D$8:$H$8,$H$9,'FINAL EXAM'!D26:H26) -> 0 | I26: =SUMIF('FINAL EXAM'!$D$8:$H$8,$I$9,'FINAL EXAM'!D26:H26) -> 0 | J26: =D26*100/$J$8 -> #DIV/0! | K26: =E26*100/$K$8 -> #DIV/0! | L26: =F26*100/$L$8 -> #DIV/0! | M26: =G26*100/$M$8 -> #DIV/0! | N26: =H26*100/$N$8 -> #DIV/0! | O26: =I26*100/$O$8 -> #REF! | P26: =IF(J26<'FINAL EXAM'!$D$114,"N","Y") -> #DIV/0! | Q26: =IF(K26<'FINAL EXAM'!$D$114,"N","Y") -> #DIV/0! | R26: =IF(L26<'FINAL EXAM'!$D$114,"N","Y") -> #DIV/0! | S26: =IF(M26<'FINAL EXAM'!$D$114,"N","Y") -> #DIV/0! | T26: =IF(N26<'FINAL EXAM'!$D$114,"N","Y") -> #DIV/0! | U26: =IF(O26<'FINAL EXAM'!$D$114,"N","Y") -> #REF!
A27: 18 | B27: ='FINAL EXAM'!B27 -> CHAITHRA K.R | C27: ='FINAL EXAM'!C27 -> 1SG15EE018 | D27: =SUMIF('FINAL EXAM'!$D$8:$H$8,$D$9,'FINAL EXAM'!D27:H27) -> 30 | E27: =SUMIF('FINAL EXAM'!$D$8:$H$8,$E$9,'FINAL EXAM'!D27:H27) -> 30 | F27: =SUMIF('FINAL EXAM'!$D$8:$H$8,$F$9,'FINAL EXAM'!D27:H27) -> 30 | G27: =SUMIF('FINAL EXAM'!$D$8:$H$8,$G$9,'FINAL EXAM'!D27:H27) -> 60 | H27: =SUMIF('FINAL EXAM'!$D$8:$H$8,$H$9,'FINAL EXAM'!D27:H27) -> 0 | I27: =SUMIF('FINAL EXAM'!$D$8:$H$8,$I$9,'FINAL EXAM'!D27:H27) -> 0 | J27: =D27*100/$J$8 -> #DIV/0! | K27: =E27*100/$K$8 -> #DIV/0! | L27: =F27*100/$L$8 -> #DIV/0! | M27: =G27*100/$M$8 -> #DIV/0! | N27: =H27*100/$N$8 -> #DIV/0! | O27: =I27*100/$O$8 -> #REF! | P27: =IF(J27<'FINAL EXAM'!$D$114,"N","Y") -> #DIV/0! | Q27: =IF(K27<'FINAL EXAM'!$D$114,"N","Y") -> #DIV/0! | R27: =IF(L27<'FINAL EXAM'!$D$114,"N","Y") -> #DIV/0! | S27: =IF(M27<'FINAL EXAM'!$D$114,"N","Y") -> #DIV/0! | T27: =IF(N27<'FINAL EXAM'!$D$114,"N","Y") -> #DIV/0! | U27: =IF(O27<'FINAL EXAM'!$D$114,"N","Y") -> #REF!
A28: 19 | B28: ='FINAL EXAM'!B28 -> CHAITRA S | C28: ='FINAL EXAM'!C28 -> 1SG15EE019 | D28: =SUMIF('FINAL EXAM'!$D$8:$H$8,$D$9,'FINAL EXAM'!D28:H28) -> 30 | E28: =SUMIF('FINAL EXAM'!$D$8:$H$8,$E$9,'FINAL EXAM'!D28:H28) -> 30 | F28: =SUMIF('FINAL EXAM'!$D$8:$H$8,$F$9,'FINAL EXAM'!D28:H28) -> 30 | G28: =SUMIF('FINAL EXAM'!$D$8:$H$8,$G$9,'FINAL EXAM'!D28:H28) -> 60 | H28: =SUMIF('FINAL EXAM'!$D$8:$H$8,$H$9,'FINAL EXAM'!D28:H28) -> 0 | I28: =SUMIF('FINAL EXAM'!$D$8:$H$8,$I$9,'FINAL EXAM'!D28:H28) -> 0 | J28: =D28*100/$J$8 -> #DIV/0! | K28: =E28*100/$K$8 -> #DIV/0! | L28: =F28*100/$L$8 -> #DIV/0! | M28: =G28*100/$M$8 -> #DIV/0! | N28: =H28*100/$N$8 -> #DIV/0! | O28: =I28*100/$O$8 -> #REF! | P28: =IF(J28<'FINAL EXAM'!$D$114,"N","Y") -> #DIV/0! | Q28: =IF(K28<'FINAL EXAM'!$D$114,"N","Y") -> #DIV/0! | R28: =IF(L28<'FINAL EXAM'!$D$114,"N","Y") -> #DIV/0! | S28: =IF(M28<'FINAL EXAM'!$D$114,"N","Y") -> #DIV/0! | T28: =IF(N28<'FINAL EXAM'!$D$114,"N","Y") -> #DIV/0! | U28: =IF(O28<'FINAL EXAM'!$D$114,"N","Y") -> #REF!
A29: 20 | B29: ='FINAL EXAM'!B29 -> CHANDAN.G | C29: ='FINAL EXAM'!C29 -> 1SG15EE020 | D29: =SUMIF('FINAL EXAM'!$D$8:$H$8,$D$9,'FINAL EXAM'!D29:H29) -> 52 | E29: =SUMIF('FINAL EXAM'!$D$8:$H$8,$E$9,'FINAL EXAM'!D29:H29) -> 52 | F29: =SUMIF('FINAL EXAM'!$D$8:$H$8,$F$9,'FINAL EXAM'!D29:H29) -> 52 | G29: =SUMIF('FINAL EXAM'!$D$8:$H$8,$G$9,'FINAL EXAM'!D29:H29) -> 104 | H29: =SUMIF('FINAL EXAM'!$D$8:$H$8,$H$9,'FINAL EXAM'!D29:H29) -> 0 | I29: =SUMIF('FINAL EXAM'!$D$8:$H$8,$I$9,'FINAL EXAM'!D29:H29) -> 0 | J29: =D29*100/$J$8 -> #DIV/0! | K29: =E29*100/$K$8 -> #DIV/0! | L29: =F29*100/$L$8 -> #DIV/0! | M29: =G29*100/$M$8 -> #DIV/0! | N29: =H29*100/$N$8 -> #DIV/0! | O29: =I29*100/$O$8 -> #REF! | P29: =IF(J29<'FINAL EXAM'!$D$114,"N","Y") -> #DIV/0! | Q29: =IF(K29<'FINAL EXAM'!$D$114,"N","Y") -> #DIV/0! | R29: =IF(L29<'FINAL EXAM'!$D$114,"N","Y") -> #DIV/0! | S29: =IF(M29<'FINAL EXAM'!$D$114,"N","Y") -> #DIV/0! | T29: =IF(N29<'FINAL EXAM'!$D$114,"N","Y") -> #DIV/0! | U29: =IF(O29<'FINAL EXAM'!$D$114,"N","Y") -> #REF!
... A106: 97 | B106: ='FINAL EXAM'!B106 -> VISHAL.S.PUJARI | C106: ='FINAL EXAM'!C106 -> 1SG15EE097 | D106: =SUMIF('FINAL EXAM'!$D$8:$H$8,$D$9,'FINAL EXAM'!D106:H106) -> 36 | E106: =SUMIF('FINAL EXAM'!$D$8:$H$8,$E$9,'FINAL EXAM'!D106:H106) -> 36 | F106: =SUMIF('FINAL EXAM'!$D$8:$H$8,$F$9,'FINAL EXAM'!D106:H106) -> 36 | G106: =SUMIF('FINAL EXAM'!$D$8:$H$8,$G$9,'FINAL EXAM'!D106:H106) -> 72 | H106: =SUMIF('FINAL EXAM'!$D$8:$H$8,$H$9,'FINAL EXAM'!D106:H106) -> 0 | I106: =SUMIF('FINAL EXAM'!$D$8:$H$8,$I$9,'FINAL EXAM'!D106:H106) -> 0 | J106: =D106*100/$J$8 -> #DIV/0! | K106: =E106*100/$K$8 -> #DIV/0! | L106: =F106*100/$L$8 -> #DIV/0! | M106: =G106*100/$M$8 -> #DIV/0! | N106: =H106*100/$N$8 -> #DIV/0! | O106: =I106*100/$O$8 -> #REF! | P106: =IF(J106<'FINAL EXAM'!$D$114,"N","Y") -> #DIV/0! | Q106: =IF(K106<'FINAL EXAM'!$D$114,"N","Y") -> #DIV/0! | R106: =IF(L106<'FINAL EXAM'!$D$114,"N","Y") -> #DIV/0! | S106: =IF(M106<'FINAL EXAM'!$D$114,"N","Y") -> #DIV/0! | T106: =IF(N106<'FINAL EXAM'!$D$114,"N","Y") -> #DIV/0! | U106: =IF(O106<'FINAL EXAM'!$D$114,"N","Y") -> #REF!
A107: 98 | B107: ='FINAL EXAM'!#REF! -> #REF! | C107: ='FINAL EXAM'!#REF! -> #REF! | D107: =SUMIF('FINAL EXAM'!$D$8:$H$8,$D$9,'FINAL EXAM'!#REF!) -> #REF! | E107: =SUMIF('FINAL EXAM'!$D$8:$H$8,$E$9,'FINAL EXAM'!#REF!) -> #REF! | F107: =SUMIF('FINAL EXAM'!$D$8:$H$8,$F$9,'FINAL EXAM'!#REF!) -> #REF! | G107: =SUMIF('FINAL EXAM'!$D$8:$H$8,$G$9,'FINAL EXAM'!#REF!) -> #REF! | H107: =SUMIF('FINAL EXAM'!$D$8:$H$8,$H$9,'FINAL EXAM'!#REF!) -> #REF! | I107: =SUMIF('FINAL EXAM'!$D$8:$H$8,$I$9,'FINAL EXAM'!#REF!) -> #REF! | J107: =D107*100/$J$8 -> #REF! | K107: =E107*100/$K$8 -> #REF! | L107: =F107*100/$L$8 -> #REF! | M107: =G107*100/$M$8 -> #REF! | N107: =H107*100/$N$8 -> #REF! | O107: =I107*100/$O$8 -> #REF! | P107: =IF(J107<'FINAL EXAM'!$D$114,"N","Y") -> #REF! | Q107: =IF(K107<'FINAL EXAM'!$D$114,"N","Y") -> #REF! | R107: =IF(L107<'FINAL EXAM'!$D$114,"N","Y") -> #REF! | S107: =IF(M107<'FINAL EXAM'!$D$114,"N","Y") -> #REF! | T107: =IF(N107<'FINAL EXAM'!$D$114,"N","Y") -> #REF! | U107: =IF(O107<'FINAL EXAM'!$D$114,"N","Y") -> #REF!
A108: 99 | B108: ='FINAL EXAM'!#REF! -> #REF! | C108: ='FINAL EXAM'!#REF! -> #REF! | D108: =SUMIF('FINAL EXAM'!$D$8:$H$8,$D$9,'FINAL EXAM'!#REF!) -> #REF! | E108: =SUMIF('FINAL EXAM'!$D$8:$H$8,$E$9,'FINAL EXAM'!#REF!) -> #REF! | F108: =SUMIF('FINAL EXAM'!$D$8:$H$8,$F$9,'FINAL EXAM'!#REF!) -> #REF! | G108: =SUMIF('FINAL EXAM'!$D$8:$H$8,$G$9,'FINAL EXAM'!#REF!) -> #REF! | H108: =SUMIF('FINAL EXAM'!$D$8:$H$8,$H$9,'FINAL EXAM'!#REF!) -> #REF! | I108: =SUMIF('FINAL EXAM'!$D$8:$H$8,$I$9,'FINAL EXAM'!#REF!) -> #REF! | J108: =D108*100/$J$8 -> #REF! | K108: =E108*100/$K$8 -> #REF! | L108: =F108*100/$L$8 -> #REF! | M108: =G108*100/$M$8 -> #REF! | N108: =H108*100/$N$8 -> #REF! | O108: =I108*100/$O$8 -> #REF! | P108: =IF(J108<'FINAL EXAM'!$D$114,"N","Y") -> #REF! | Q108: =IF(K108<'FINAL EXAM'!$D$114,"N","Y") -> #REF! | R108: =IF(L108<'FINAL EXAM'!$D$114,"N","Y") -> #REF! | S108: =IF(M108<'FINAL EXAM'!$D$114,"N","Y") -> #REF! | T108: =IF(N108<'FINAL EXAM'!$D$114,"N","Y") -> #REF! | U108: =IF(O108<'FINAL EXAM'!$D$114,"N","Y") -> #REF!
A109: 100 | B109: ='FINAL EXAM'!#REF! -> #REF! | C109: ='FINAL EXAM'!#REF! -> #REF! | D109: =SUMIF('FINAL EXAM'!$D$8:$H$8,$D$9,'FINAL EXAM'!#REF!) -> #REF! | E109: =SUMIF('FINAL EXAM'!$D$8:$H$8,$E$9,'FINAL EXAM'!#REF!) -> #REF! | F109: =SUMIF('FINAL EXAM'!$D$8:$H$8,$F$9,'FINAL EXAM'!#REF!) -> #REF! | G109: =SUMIF('FINAL EXAM'!$D$8:$H$8,$G$9,'FINAL EXAM'!#REF!) -> #REF! | H109: =SUMIF('FINAL EXAM'!$D$8:$H$8,$H$9,'FINAL EXAM'!#REF!) -> #REF! | I109: =SUMIF('FINAL EXAM'!$D$8:$H$8,$I$9,'FINAL EXAM'!#REF!) -> #REF! | J109: =D109*100/$J$8 -> #REF! | K109: =E109*100/$K$8 -> #REF! | L109: =F109*100/$L$8 -> #REF! | M109: =G109*100/$M$8 -> #REF! | N109: =H109*100/$N$8 -> #REF! | O109: =I109*100/$O$8 -> #REF! | P109: =IF(J109<'FINAL EXAM'!$D$114,"N","Y") -> #REF! | Q109: =IF(K109<'FINAL EXAM'!$D$114,"N","Y") -> #REF! | R109: =IF(L109<'FINAL EXAM'!$D$114,"N","Y") -> #REF! | S109: =IF(M109<'FINAL EXAM'!$D$114,"N","Y") -> #REF! | T109: =IF(N109<'FINAL EXAM'!$D$114,"N","Y") -> #REF! | U109: =IF(O109<'FINAL EXAM'!$D$114,"N","Y") -> #REF!
A110: 101 | B110: ='FINAL EXAM'!#REF! -> #REF! | C110: ='FINAL EXAM'!#REF! -> #REF! | D110: =SUMIF('FINAL EXAM'!$D$8:$H$8,$D$9,'FINAL EXAM'!#REF!) -> #REF! | E110: =SUMIF('FINAL EXAM'!$D$8:$H$8,$E$9,'FINAL EXAM'!#REF!) -> #REF! | F110: =SUMIF('FINAL EXAM'!$D$8:$H$8,$F$9,'FINAL EXAM'!#REF!) -> #REF! | G110: =SUMIF('FINAL EXAM'!$D$8:$H$8,$G$9,'FINAL EXAM'!#REF!) -> #REF! | H110: =SUMIF('FINAL EXAM'!$D$8:$H$8,$H$9,'FINAL EXAM'!#REF!) -> #REF! | I110: =SUMIF('FINAL EXAM'!$D$8:$H$8,$I$9,'FINAL EXAM'!#REF!) -> #REF! | J110: =D110*100/$J$8 -> #REF! | K110: =E110*100/$K$8 -> #REF! | L110: =F110*100/$L$8 -> #REF! | M110: =G110*100/$M$8 -> #REF! | N110: =H110*100/$N$8 -> #REF! | O110: =I110*100/$O$8 -> #REF! | P110: =IF(J110<'FINAL EXAM'!$D$114,"N","Y") -> #REF! | Q110: =IF(K110<'FINAL EXAM'!$D$114,"N","Y") -> #REF! | R110: =IF(L110<'FINAL EXAM'!$D$114,"N","Y") -> #REF! | S110: =IF(M110<'FINAL EXAM'!$D$114,"N","Y") -> #REF! | T110: =IF(N110<'FINAL EXAM'!$D$114,"N","Y") -> #REF! | U110: =IF(O110<'FINAL EXAM'!$D$114,"N","Y") -> #REF!
A111: 102 | B111: ='FINAL EXAM'!#REF! -> #REF! | C111: ='FINAL EXAM'!#REF! -> #REF! | D111: =SUMIF('FINAL EXAM'!$D$8:$H$8,$D$9,'FINAL EXAM'!#REF!) -> #REF! | E111: =SUMIF('FINAL EXAM'!$D$8:$H$8,$E$9,'FINAL EXAM'!#REF!) -> #REF! | F111: =SUMIF('FINAL EXAM'!$D$8:$H$8,$F$9,'FINAL EXAM'!#REF!) -> #REF! | G111: =SUMIF('FINAL EXAM'!$D$8:$H$8,$G$9,'FINAL EXAM'!#REF!) -> #REF! | H111: =SUMIF('FINAL EXAM'!$D$8:$H$8,$H$9,'FINAL EXAM'!#REF!) -> #REF! | I111: =SUMIF('FINAL EXAM'!$D$8:$H$8,$I$9,'FINAL EXAM'!#REF!) -> #REF! | J111: =D111*100/$J$8 -> #REF! | K111: =E111*100/$K$8 -> #REF! | L111: =F111*100/$L$8 -> #REF! | M111: =G111*100/$M$8 -> #REF! | N111: =H111*100/$N$8 -> #REF! | O111: =I111*100/$O$8 -> #REF! | P111: =IF(J111<'FINAL EXAM'!$D$114,"N","Y") -> #REF! | Q111: =IF(K111<'FINAL EXAM'!$D$114,"N","Y") -> #REF! | R111: =IF(L111<'FINAL EXAM'!$D$114,"N","Y") -> #REF! | S111: =IF(M111<'FINAL EXAM'!$D$114,"N","Y") -> #REF! | T111: =IF(N111<'FINAL EXAM'!$D$114,"N","Y") -> #REF! | U111: =IF(O111<'FINAL EXAM'!$D$114,"N","Y") -> #REF!
A112: 103 | B112: ='FINAL EXAM'!#REF! -> #REF! | C112: ='FINAL EXAM'!#REF! -> #REF! | D112: =SUMIF('FINAL EXAM'!$D$8:$H$8,$D$9,'FINAL EXAM'!#REF!) -> #REF! | E112: =SUMIF('FINAL EXAM'!$D$8:$H$8,$E$9,'FINAL EXAM'!#REF!) -> #REF! | F112: =SUMIF('FINAL EXAM'!$D$8:$H$8,$F$9,'FINAL EXAM'!#REF!) -> #REF! | G112: =SUMIF('FINAL EXAM'!$D$8:$H$8,$G$9,'FINAL EXAM'!#REF!) -> #REF! | H112: =SUMIF('FINAL EXAM'!$D$8:$H$8,$H$9,'FINAL EXAM'!#REF!) -> #REF! | I112: =SUMIF('FINAL EXAM'!$D$8:$H$8,$I$9,'FINAL EXAM'!#REF!) -> #REF! | J112: =D112*100/$J$8 -> #REF! | K112: =E112*100/$K$8 -> #REF! | L112: =F112*100/$L$8 -> #REF! | M112: =G112*100/$M$8 -> #REF! | N112: =H112*100/$N$8 -> #REF! | O112: =I112*100/$O$8 -> #REF! | P112: =IF(J112<'FINAL EXAM'!$D$114,"N","Y") -> #REF! | Q112: =IF(K112<'FINAL EXAM'!$D$114,"N","Y") -> #REF! | R112: =IF(L112<'FINAL EXAM'!$D$114,"N","Y") -> #REF! | S112: =IF(M112<'FINAL EXAM'!$D$114,"N","Y") -> #REF! | T112: =IF(N112<'FINAL EXAM'!$D$114,"N","Y") -> #REF! | U112: =IF(O112<'FINAL EXAM'!$D$114,"N","Y") -> #REF!
