Workbook

Sheet 15EEL77-HV LAB-DAY-TO-DAY CO
A1: SAPTHAGIRI COLLEGE OF ENGINEERING, BENGALURU - 57.
A2: DEPARTMENT OF ELECTRICAL AND ELECTRONICS ENGINEERING
A3: CO ATTAINMENT - DAY-TO-DAY EVALUATION (ODD SEM. 2018-19)
A4: Sem.: VII | G4: Subject: RELAY AND HV LAB | P4: Subject Code: 15EEL77
A5: Names of the faculty member: Dr. K N Ravi , Mr. Nagaraj H P, Mrs. RAMYA M, Mrs Manaswi K J
A6: Sl. No. | B6: Name of the student | C6: USN | D6: Section | E6: DAY-TO-DAY EVALUATION MARKS | J6: ATTAINMENT OF COURSE OUTCOMES
E7: CO1 | F7: CO2 | G7: CO3 | H7: CO4 | I7: CO5 | J7: CO1 | L7: CO2 | N7: CO3 | P7: CO4 | R7: CO5
A8: Max. Marks | E8: 30 | F8: 20 | G8: 20 | H8: 10 | I8: 20 | J8: %age | K8: Y/N | L8: %age | M8: Y/N | N8: %age | O8: Y/N | P8: %age | Q8: Y/N | R8: %age | S8: Y/N
A9: 1 | B9: ANNAPURNA SINGH | C9: 1SG15EE005 | D9: A | E9: 9.5 | F9: 9 | G9: 9 | H9: 9 | I9: 8.5 | J9: =(E9/10)*100 -> 95 | K9: =IF(J9<80,"N","Y") -> Y | L9: =(F9/10)*100 -> 90 | M9: =IF(L9<80,"N","Y") -> Y | N9: =(G9/10)*100 -> 90 | O9: =IF(N9<80,"N","Y") -> Y | P9: =(H9/10)*100 -> 90 | Q9: =IF(P9<80,"N","Y") -> Y | R9: =(I9/10)*100 -> 85 | S9: =IF(R9<80,"N","Y") -> Y
A10: 2 | B10: ANTONY ROSHAN JOY D'SOUZA | C10: 1SG15EE006 | D10: A | E10: 6 | F10: 6 | G10: 6 | H10: 7 | I10: 7 | J10: =(E10/10)*100 -> 60 | K10: =IF(J10<80,"N","Y") -> N | L10: =(F10/10)*100 -> 60 | M10: =IF(L10<80,"N","Y") -> N | N10: =(G10/10)*100 -> 60 | O10: =IF(N10<80,"N","Y") -> N | P10: =(H10/10)*100 -> 70 | Q10: =IF(P10<80,"N","Y") -> N | R10: =(I10/10)*100 -> 70 | S10: =IF(R10<80,"N","Y") -> N
A11: 3 | B11: ANUP H V | C11: 1SG15EE007 | D11: A | E11: 9 | F11: 9.5 | G11: 9.5 | H11: 10 | I11: 9 | J11: =(E11/10)*100 -> 90 | K11: =IF(J11<80,"N","Y") -> Y | L11: =(F11/10)*100 -> 95 | M11: =IF(L11<80,"N","Y") -> Y | N11: =(G11/10)*100 -> 95 | O11: =IF(N11<80,"N","Y") -> Y | P11: =(H11/10)*100 -> 100 | Q11: =IF(P11<80,"N","Y") -> Y | R11: =(I11/10)*100 -> 90 | S11: =IF(R11<80,"N","Y") -> Y
A12: 4 | B12: ANUSHA B | C12: 1SG15EE008 | D12: A | E12: 9 | F12: 9.5 | G12: 9 | H12: 9 | I12: 9.5 | J12: =(E12/10)*100 -> 90 | K12: =IF(J12<80,"N","Y") -> Y | L12: =(F12/10)*100 -> 95 | M12: =IF(L12<80,"N","Y") -> Y | N12: =(G12/10)*100 -> 90 | O12: =IF(N12<80,"N","Y") -> Y | P12: =(H12/10)*100 -> 90 | Q12: =IF(P12<80,"N","Y") -> Y | R12: =(I12/10)*100 -> 95 | S12: =IF(R12<80,"N","Y") -> Y
A13: 5 | B13: ANUSHA K | C13: 1SG15EE009 | D13: A | E13: 9 | F13: 9.5 | G13: 9 | H13: 9 | I13: 9.5 | J13: =(E13/10)*100 -> 90 | K13: =IF(J13<80,"N","Y") -> Y | L13: =(F13/10)*100 -> 95 | M13: =IF(L13<80,"N","Y") -> Y | N13: =(G13/10)*100 -> 90 | O13: =IF(N13<80,"N","Y") -> Y | P13: =(H13/10)*100 -> 90 | Q13: =IF(P13<80,"N","Y") -> Y | R13: =(I13/10)*100 -> 95 | S13: =IF(R13<80,"N","Y") -> Y
A14: 6 | B14: APOORVA K G | C14: 1SG15EE010 | D14: A | E14: 9.5 | F14: 9.5 | G14: 9.5 | H14: 10 | I14: 9 | J14: =(E14/10)*100 -> 95 | K14: =IF(J14<80,"N","Y") -> Y | L14: =(F14/10)*100 -> 95 | M14: =IF(L14<80,"N","Y") -> Y | N14: =(G14/10)*100 -> 95 | O14: =IF(N14<80,"N","Y") -> Y | P14: =(H14/10)*100 -> 100 | Q14: =IF(P14<80,"N","Y") -> Y | R14: =(I14/10)*100 -> 90 | S14: =IF(R14<80,"N","Y") -> Y
A15: 7 | B15: ARPITA SHARMA | C15: 1SG15EE011 | D15: A | E15: 9 | F15: 9 | G15: 9.5 | H15: 10 | I15: 9 | J15: =(E15/10)*100 -> 90 | K15: =IF(J15<80,"N","Y") -> Y | L15: =(F15/10)*100 -> 90 | M15: =IF(L15<80,"N","Y") -> Y | N15: =(G15/10)*100 -> 95 | O15: =IF(N15<80,"N","Y") -> Y | P15: =(H15/10)*100 -> 100 | Q15: =IF(P15<80,"N","Y") -> Y | R15: =(I15/10)*100 -> 90 | S15: =IF(R15<80,"N","Y") -> Y
A16: 8 | B16: ARPITHA SRINIVASA MURTHY | C16: 1SG15EE012 | D16: A | E16: 10 | F16: 9.5 | G16: 9.5 | H16: 10 | I16: 10 | J16: =(E16/10)*100 -> 100 | K16: =IF(J16<80,"N","Y") -> Y | L16: =(F16/10)*100 -> 95 | M16: =IF(L16<80,"N","Y") -> Y | N16: =(G16/10)*100 -> 95 | O16: =IF(N16<80,"N","Y") -> Y | P16: =(H16/10)*100 -> 100 | Q16: =IF(P16<80,"N","Y") -> Y | R16: =(I16/10)*100 -> 100 | S16: =IF(R16<80,"N","Y") -> Y
A17: 9 | B17: ARUNA B P | C17: 1SG15EE013 | D17: A | E17: 8.5 | F17: 9 | G17: 9 | H17: 10 | I17: 9 | J17: =(E17/10)*100 -> 85 | K17: =IF(J17<80,"N","Y") -> Y | L17: =(F17/10)*100 -> 90 | M17: =IF(L17<80,"N","Y") -> Y | N17: =(G17/10)*100 -> 90 | O17: =IF(N17<80,"N","Y") -> Y | P17: =(H17/10)*100 -> 100 | Q17: =IF(P17<80,"N","Y") -> Y | R17: =(I17/10)*100 -> 90 | S17: =IF(R17<80,"N","Y") -> Y
A18: 10 | B18: ATHIYA MOHAMMADI | C18: 1SG15EE014 | D18: A | E18: 9 | F18: 8.5 | G18: 9 | H18: 10 | I18: 9 | J18: =(E18/10)*100 -> 90 | K18: =IF(J18<80,"N","Y") -> Y | L18: =(F18/10)*100 -> 85 | M18: =IF(L18<80,"N","Y") -> Y | N18: =(G18/10)*100 -> 90 | O18: =IF(N18<80,"N","Y") -> Y | P18: =(H18/10)*100 -> 100 | Q18: =IF(P18<80,"N","Y") -> Y | R18: =(I18/10)*100 -> 90 | S18: =IF(R18<80,"N","Y") -> Y
A19: 11 | B19: BALAJI VENKATESH KALKONDA | C19: 1SG15EE015 | D19: A | E19: 8 | F19: 8.5 | G19: 8 | H19: 8 | I19: 8.5 | J19: =(E19/10)*100 -> 80 | K19: =IF(J19<80,"N","Y") -> Y | L19: =(F19/10)*100 -> 85 | M19: =IF(L19<80,"N","Y") -> Y | N19: =(G19/10)*100 -> 80 | O19: =IF(N19<80,"N","Y") -> Y | P19: =(H19/10)*100 -> 80 | Q19: =IF(P19<80,"N","Y") -> Y | R19: =(I19/10)*100 -> 85 | S19: =IF(R19<80,"N","Y") -> Y
A20: 12 | B20: C S MOHANA | C20: 1SG15EE017 | D20: A | E20: 9 | F20: 9.5 | G20: 9 | H20: 10 | I20: 9 | J20: =(E20/10)*100 -> 90 | K20: =IF(J20<80,"N","Y") -> Y | L20: =(F20/10)*100 -> 95 | M20: =IF(L20<80,"N","Y") -> Y | N20: =(G20/10)*100 -> 90 | O20: =IF(N20<80,"N","Y") -> Y | P20: =(H20/10)*100 -> 100 | Q20: =IF(P20<80,"N","Y") -> Y | R20: =(I20/10)*100 -> 90 | S20: =IF(R20<80,"N","Y") -> Y
... A106: 98 | B106: VARUN K M | C106: 1SG16EE450 | D106: B | E106: 8 | F106: 8 | G106: 8.5 | H106: 8 | I106: 8.5 | J106: =(E106/10)*100 -> 80 | K106: =IF(J106<80,"N","Y") -> Y | L106: =(F106/10)*100 -> 80 | M106: =IF(L106<80,"N","Y") -> Y | N106: =(G106/10)*100 -> 85 | O106: =IF(N106<80,"N","Y") -> Y | P106: =(H106/10)*100 -> 80 | Q106: =IF(P106<80,"N","Y") -> Y | R106: =(I106/10)*100 -> 85 | S106: =IF(R106<80,"N","Y") -> Y
J107: =COUNTIF(K9:K106,"Y") -> 91 | L107: =COUNTIF(M9:M106,"Y") -> 89 | N107: =COUNTIF(O9:O106,"Y") -> 89 | P107: =COUNTIF(Q9:Q106,"Y") -> 94 | R107: =COUNTIF(S9:S106,"Y") -> 93
J108: =(J107/A106)*100 -> 92.857143 | L108: =(L107/A106)*100 -> 90.816327 | N108: =(N107/A106)*100 -> 90.816327 | P108: =(P107/A106)*100 -> 95.918367 | R108: =(R107/A106)*100 -> 94.897959
B110: FOR PSS LAB (15EEL76) | C110: TARGET: 75% OF STUDENTS WILL SCORE 80% OF MARKS | E110: CO1 | F110: CO2 | G110: CO3 | H110: CO4 | I110: CO5
E111: =J108 -> 92.857143 | F111: =L108 -> 90.816327 | G111: =N108 -> 90.816327 | H111: =P108 -> 95.918367 | I111: =R108 -> 94.897959

Sheet 15EEL77-HV LAB-IA TEST CO
A1: SAPTHAGIRI COLLEGE OF ENGINEERING, BENGALURU - 57.
A2: DEPARTMENT OF ELECTRICAL AND ELECTRONICS ENGINEERING
A3: CO ATTAINMENT - IA TEST MARKS (ODD SEM. 2018-19)
A4: Sem.: VII | G4: Subject: RELAY AND HV LAB | P4: Subject Code: 15EEL77
A5: Names of the faculty member: Dr. K N Ravi , Mr. Nagaraj H P, Mrs. RAMYA M, Mrs Manaswi K J
A6: Sl. No. | B6: Name of the student | C6: USN | D6: Section | E6: INTERNAL ASSESSMENT MARKS | J6: ATTAINMENT OF COURSE OUTCOMES
E7: CO1 | F7: CO2 | G7: CO3 | H7: CO4 | I7: CO5 | J7: CO1 | L7: CO2 | N7: CO3 | P7: CO4 | R7: CO5
A8: Max. Marks | E8: 10 | F8: 10 | G8: 10 | H8: 10 | I8: 10 | J8: %age | K8: Y/N | L8: %age | M8: Y/N | N8: %age | O8: Y/N | P8: %age | Q8: Y/N | R8: %age | S8: Y/N
A9: 1 | B9: ANNAPURNA SINGH | C9: 1SG15EE005 | D9: A | E9: 8 | F9: =E9 -> 8 | G9: =F9 -> 8 | H9: =G9 -> 8 | I9: =H9 -> 8 | J9: =(E9/10)*100 -> 80 | K9: =IF(J9<60,"N","Y") -> Y | L9: =(F9/10)*100 -> 80 | M9: =IF(L9<60,"N","Y") -> Y | N9: =(G9/10)*100 -> 80 | O9: =IF(N9<60,"N","Y") -> Y | P9: =(H9/10)*100 -> 80 | Q9: =IF(P9<60,"N","Y") -> Y | R9: =(I9/10)*100 -> 80 | S9: =IF(R9<60,"N","Y") -> Y
A10: 2 | B10: ANTONY ROSHAN JOY D'SOUZA | C10: 1SG15EE006 | D10: A | E10: 7 | F10: =E10 -> 7 | G10: =F10 -> 7 | H10: =G10 -> 7 | I10: =H10 -> 7 | J10: =(E10/10)*100 -> 70 | K10: =IF(J10<60,"N","Y") -> Y | L10: =(F10/10)*100 -> 70 | M10: =IF(L10<60,"N","Y") -> Y | N10: =(G10/10)*100 -> 70 | O10: =IF(N10<60,"N","Y") -> Y | P10: =(H10/10)*100 -> 70 | Q10: =IF(P10<60,"N","Y") -> Y | R10: =(I10/10)*100 -> 70 | S10: =IF(R10<60,"N","Y") -> Y
A11: 3 | B11: ANUP H V | C11: 1SG15EE007 | D11: A | E11: 7 | F11: =E11 -> 7 | G11: =F11 -> 7 | H11: =G11 -> 7 | I11: =H11 -> 7 | J11: =(E11/10)*100 -> 70 | K11: =IF(J11<60,"N","Y") -> Y | L11: =(F11/10)*100 -> 70 | M11: =IF(L11<60,"N","Y") -> Y | N11: =(G11/10)*100 -> 70 | O11: =IF(N11<60,"N","Y") -> Y | P11: =(H11/10)*100 -> 70 | Q11: =IF(P11<60,"N","Y") -> Y | R11: =(I11/10)*100 -> 70 | S11: =IF(R11<60,"N","Y") -> Y
A12: 4 | B12: ANUSHA B | C12: 1SG15EE008 | D12: A | E12: 9 | F12: =E12 -> 9 | G12: =F12 -> 9 | H12: =G12 -> 9 | I12: =H12 -> 9 | J12: =(E12/10)*100 -> 90 | K12: =IF(J12<60,"N","Y") -> Y | L12: =(F12/10)*100 -> 90 | M12: =IF(L12<60,"N","Y") -> Y | N12: =(G12/10)*100 -> 90 | O12: =IF(N12<60,"N","Y") -> Y | P12: =(H12/10)*100 -> 90 | Q12: =IF(P12<60,"N","Y") -> Y | R12: =(I12/10)*100 -> 90 | S12: =IF(R12<60,"N","Y") -> Y
A13: 5 | B13: ANUSHA K | C13: 1SG15EE009 | D13: A | E13: 8 | F13: =E13 -> 8 | G13: =F13 -> 8 | H13: =G13 -> 8 | I13: =H13 -> 8 | J13: =(E13/10)*100 -> 80 | K13: =IF(J13<60,"N","Y") -> Y | L13: =(F13/10)*100 -> 80 | M13: =IF(L13<60,"N","Y") -> Y | N13: =(G13/10)*100 -> 80 | O13: =IF(N13<60,"N","Y") -> Y | P13: =(H13/10)*100 -> 80 | Q13: =IF(P13<60,"N","Y") -> Y | R13: =(I13/10)*100 -> 80 | S13: =IF(R13<60,"N","Y") -> Y
A14: 6 | B14: APOORVA K G | C14: 1SG15EE010 | D14: A | E14: 9 | F14: =E14 -> 9 | G14: =F14 -> 9 | H14: =G14 -> 9 | I14: =H14 -> 9 | J14: =(E14/10)*100 -> 90 | K14: =IF(J14<60,"N","Y") -> Y | L14: =(F14/10)*100 -> 90 | M14: =IF(L14<60,"N","Y") -> Y | N14: =(G14/10)*100 -> 90 | O14: =IF(N14<60,"N","Y") -> Y | P14: =(H14/10)*100 -> 90 | Q14: =IF(P14<60,"N","Y") -> Y | R14: =(I14/10)*100 -> 90 | S14: =IF(R14<60,"N","Y") -> Y
A15: 7 | B15: ARPITA SHARMA | C15: 1SG15EE011 | D15: A | E15: 9 | F15: =E15 -> 9 | G15: =F15 -> 9 | H15: =G15 -> 9 | I15: =H15 -> 9 | J15: =(E15/10)*100 -> 90 | K15: =IF(J15<60,"N","Y") -> Y | L15: =(F15/10)*100 -> 90 | M15: =IF(L15<60,"N","Y") -> Y | N15: =(G15/10)*100 -> 90 | O15: =IF(N15<60,"N","Y") -> Y | P15: =(H15/10)*100 -> 90 | Q15: =IF(P15<60,"N","Y") -> Y | R15: =(I15/10)*100 -> 90 | S15: =IF(R15<60,"N","Y") -> Y
A16: 8 | B16: ARPITHA SRINIVASA MURTHY | C16: 1SG15EE012 | D16: A | E16: 9 | F16: =E16 -> 9 | G16: =F16 -> 9 | H16: =G16 -> 9 | I16: =H16 -> 9 | J16: =(E16/10)*100 -> 90 | K16: =IF(J16<60,"N","Y") -> Y | L16: =(F16/10)*100 -> 90 | M16: =IF(L16<60,"N","Y") -> Y | N16: =(G16/10)*100 -> 90 | O16: =IF(N16<60,"N","Y") -> Y | P16: =(H16/10)*100 -> 90 | Q16: =IF(P16<60,"N","Y") -> Y | R16: =(I16/10)*100 -> 90 | S16: =IF(R16<60,"N","Y") -> Y
A17: 9 | B17: ARUNA B P | C17: 1SG15EE013 | D17: A | E17: 8 | F17: =E17 -> 8 | G17: =F17 -> 8 | H17: =G17 -> 8 | I17: =H17 -> 8 | J17: =(E17/10)*100 -> 80 | K17: =IF(J17<60,"N","Y") -> Y | L17: =(F17/10)*100 -> 80 | M17: =IF(L17<60,"N","Y") -> Y | N17: =(G17/10)*100 -> 80 | O17: =IF(N17<60,"N","Y") -> Y | P17: =(H17/10)*100 -> 80 | Q17: =IF(P17<60,"N","Y") -> Y | R17: =(I17/10)*100 -> 80 | S17: =IF(R17<60,"N","Y") -> Y
A18: 10 | B18: ATHIYA MOHAMMADI | C18: 1SG15EE014 | D18: A | E18: 9 | F18: =E18 -> 9 | G18: =F18 -> 9 | H18: =G18 -> 9 | I18: =H18 -> 9 | J18: =(E18/10)*100 -> 90 | K18: =IF(J18<60,"N","Y") -> Y | L18: =(F18/10)*100 -> 90 | M18: =IF(L18<60,"N","Y") -> Y | N18: =(G18/10)*100 -> 90 | O18: =IF(N18<60,"N","Y") -> Y | P18: =(H18/10)*100 -> 90 | Q18: =IF(P18<60,"N","Y") -> Y | R18: =(I18/10)*100 -> 90 | S18: =IF(R18<60,"N","Y") -> Y
A19: 11 | B19: BALAJI VENKATESH KALKONDA | C19: 1SG15EE015 | D19: A | E19: 8 | F19: =E19 -> 8 | G19: =F19 -> 8 | H19: =G19 -> 8 | I19: =H19 -> 8 | J19: =(E19/10)*100 -> 80 | K19: =IF(J19<60,"N","Y") -> Y | L19: =(F19/10)*100 -> 80 | M19: =IF(L19<60,"N","Y") -> Y | N19: =(G19/10)*100 -> 80 | O19: =IF(N19<60,"N","Y") -> Y | P19: =(H19/10)*100 -> 80 | Q19: =IF(P19<60,"N","Y") -> Y | R19: =(I19/10)*100 -> 80 | S19: =IF(R19<60,"N","Y") -> Y
A20: 12 | B20: C S MOHANA | C20: 1SG15EE017 | D20: A | E20: 9 | F20: =E20 -> 9 | G20: =F20 -> 9 | H20: =G20 -> 9 | I20: =H20 -> 9 | J20: =(E20/10)*100 -> 90 | K20: =IF(J20<60,"N","Y") -> Y | L20: =(F20/10)*100 -> 90 | M20: =IF(L20<60,"N","Y") -> Y | N20: =(G20/10)*100 -> 90 | O20: =IF(N20<60,"N","Y") -> Y | P20: =(H20/10)*100 -> 90 | Q20: =IF(P20<60,"N","Y") -> Y | R20: =(I20/10)*100 -> 90 | S20: =IF(R20<60,"N","Y") -> Y
... A106: 98 | B106: VARUN K M | C106: 1SG16EE450 | D106: B | E106: 8 | F106: =E106 -> 8 | G106: =F106 -> 8 | H106: =G106 -> 8 | I106: =H106 -> 8 | J106: =(E106/10)*100 -> 80 | K106: =IF(J106<60,"N","Y") -> Y | L106: =(F106/10)*100 -> 80 | M106: =IF(L106<60,"N","Y") -> Y | N106: =(G106/10)*100 -> 80 | O106: =IF(N106<60,"N","Y") -> Y | P106: =(H106/10)*100 -> 80 | Q106: =IF(P106<60,"N","Y") -> Y | R106: =(I106/10)*100 -> 80 | S106: =IF(R106<60,"N","Y") -> Y
J107: =COUNTIF(K9:K106,"Y") -> 98 | L107: =COUNTIF(M9:M106,"Y") -> 98 | N107: =COUNTIF(O9:O106,"Y") -> 98 | P107: =COUNTIF(Q9:Q106,"Y") -> 98 | R107: =COUNTIF(S9:S106,"Y") -> 98
J108: =(J107/A106)*100 -> 100 | L108: =(L107/A106)*100 -> 100 | N108: =(N107/A106)*100 -> 100 | P108: =(P107/A106)*100 -> 100 | R108: =(R107/A106)*100 -> 100
B110: FOR PSS LAB (15EEL76) | C110: TARGET: 70% OF STUDENTS WILL SCORE 60% OF MARKS | E110: CO1 | F110: CO2 | G110: CO3 | H110: CO4 | I110: CO5
E111: =J108 -> 100 | F111: =L108 -> 100 | G111: =N108 -> 100 | H111: =P108 -> 100 | I111: =R108 -> 100

Sheet 15EEL77-HV LAB-FINAL EXAM CO
A1: SAPTHAGIRI COLLEGE OF ENGINEERING, BENGALURU - 57.
A2: DEPARTMENT OF ELECTRICAL AND ELECTRONICS ENGINEERING
A3: CO ATTAINMENT - FINAL EXAM MARKS (ODD SEM. 2018-19)
A4: Sem.: VII | E4: Subject: RELAY AND HV LAB | O4: Subject Code: 15EEL77
A5: Names of the faculty member: Dr. K N Ravi , Mr. Nagaraj H P, Mrs. RAMYA M, Mrs Manaswi K J
A6: Sl. No. | B6: Name of the student | C6: USN | D6: Section | E6: FINAL EXAM MARKS OBTAINED | J6: ATTAINMENT OF COURSE OUTCOMES
E7: CO1 | F7: CO2 | G7: CO3 | H7: CO4 | I7: CO5 | J7: CO1 | L7: CO2 | N7: CO3 | P7: CO4 | R7: CO5
A8: Max. Marks | E8: 80 | F8: 80 | G8: 80 | H8: 80 | I8: 80 | J8: %age | K8: Y/N | L8: %age | M8: Y/N | N8: %age | O8: Y/N | P8: %age | Q8: Y/N | R8: %age | S8: Y/N
A9: 1 | B9: ANNAPURNA SINGH | C9: 1SG15EE005 | D9: A | E9: 70 | F9: =E9 -> 70 | G9: =E9 -> 70 | H9: =E9 -> 70 | I9: =E9 -> 70 | J9: =(E9/80)*100 -> 87.5 | K9: =IF(J9<60,"N","Y") -> Y | L9: =(F9/80)*100 -> 87.5 | M9: =IF(L9<60,"N","Y") -> Y | N9: =(G9/80)*100 -> 87.5 | O9: =IF(N9<60,"N","Y") -> Y | P9: =(H9/80)*100 -> 87.5 | Q9: =IF(P9<60,"N","Y") -> Y | R9: =(I9/80)*100 -> 87.5 | S9: =IF(R9<60,"N","Y") -> Y
A10: 2 | B10: ANTONY ROSHAN JOY D'SOUZA | C10: 1SG15EE006 | D10: A | E10: 68 | F10: =E10 -> 68 | G10: =E10 -> 68 | H10: =E10 -> 68 | I10: =E10 -> 68 | J10: =(E10/80)*100 -> 85 | K10: =IF(J10<60,"N","Y") -> Y | L10: =(F10/80)*100 -> 85 | M10: =IF(L10<60,"N","Y") -> Y | N10: =(G10/80)*100 -> 85 | O10: =IF(N10<60,"N","Y") -> Y | P10: =(H10/80)*100 -> 85 | Q10: =IF(P10<60,"N","Y") -> Y | R10: =(I10/80)*100 -> 85 | S10: =IF(R10<60,"N","Y") -> Y
A11: 3 | B11: ANUP H V | C11: 1SG15EE007 | D11: A | E11: 74 | F11: =E11 -> 74 | G11: =E11 -> 74 | H11: =E11 -> 74 | I11: =E11 -> 74 | J11: =(E11/80)*100 -> 92.5 | K11: =IF(J11<60,"N","Y") -> Y | L11: =(F11/80)*100 -> 92.5 | M11: =IF(L11<60,"N","Y") -> Y | N11: =(G11/80)*100 -> 92.5 | O11: =IF(N11<60,"N","Y") -> Y | P11: =(H11/80)*100 -> 92.5 | Q11: =IF(P11<60,"N","Y") -> Y | R11: =(I11/80)*100 -> 92.5 | S11: =IF(R11<60,"N","Y") -> Y
A12: 4 | B12: ANUSHA B | C12: 1SG15EE008 | D12: A | E12: 74 | F12: =E12 -> 74 | G12: =E12 -> 74 | H12: =E12 -> 74 | I12: =E12 -> 74 | J12: =(E12/80)*100 -> 92.5 | K12: =IF(J12<60,"N","Y") -> Y | L12: =(F12/80)*100 -> 92.5 | M12: =IF(L12<60,"N","Y") -> Y | N12: =(G12/80)*100 -> 92.5 | O12: =IF(N12<60,"N","Y") -> Y | P12: =(H12/80)*100 -> 92.5 | Q12: =IF(P12<60,"N","Y") -> Y | R12: =(I12/80)*100 -> 92.5 | S12: =IF(R12<60,"N","Y") -> Y
A13: 5 | B13: ANUSHA K | C13: 1SG15EE009 | D13: A | E13: 76 | F13: =E13 -> 76 | G13: =E13 -> 76 | H13: =E13 -> 76 | I13: =E13 -> 76 | J13: =(E13/80)*100 -> 95 | K13: =IF(J13<60,"N","Y") -> Y | L13: =(F13/80)*100 -> 95 | M13: =IF(L13<60,"N","Y") -> Y | N13: =(G13/80)*100 -> 95 | O13: =IF(N13<60,"N","Y") -> Y | P13: =(H13/80)*100 -> 95 | Q13: =IF(P13<60,"N","Y") -> Y | R13: =(I13/80)*100 -> 95 | S13: =IF(R13<60,"N","Y") -> Y
A14: 6 | B14: APOORVA K G | C14: 1SG15EE010 | D14: A | E14: 69 | F14: =E14 -> 69 | G14: =E14 -> 69 | H14: =E14 -> 69 | I14: =E14 -> 69 | J14: =(E14/80)*100 -> 86.25 | K14: =IF(J14<60,"N","Y") -> Y | L14: =(F14/80)*100 -> 86.25 | M14: =IF(L14<60,"N","Y") -> Y | N14: =(G14/80)*100 -> 86.25 | O14: =IF(N14<60,"N","Y") -> Y | P14: =(H14/80)*100 -> 86.25 | Q14: =IF(P14<60,"N","Y") -> Y | R14: =(I14/80)*100 -> 86.25 | S14: =IF(R14<60,"N","Y") -> Y
A15: 7 | B15: ARPITA SHARMA | C15: 1SG15EE011 | D15: A | E15: 72 | F15: =E15 -> 72 | G15: =E15 -> 72 | H15: =E15 -> 72 | I15: =E15 -> 72 | J15: =(E15/80)*100 -> 90 | K15: =IF(J15<60,"N","Y") -> Y | L15: =(F15/80)*100 -> 90 | M15: =IF(L15<60,"N","Y") -> Y | N15: =(G15/80)*100 -> 90 | O15: =IF(N15<60,"N","Y") -> Y | P15: =(H15/80)*100 -> 90 | Q15: =IF(P15<60,"N","Y") -> Y | R15: =(I15/80)*100 -> 90 | S15: =IF(R15<60,"N","Y") -> Y
A16: 8 | B16: ARPITHA SRINIVASA MURTHY | C16: 1SG15EE012 | D16: A | E16: 72 | F16: =E16 -> 72 | G16: =E16 -> 72 | H16: =E16 -> 72 | I16: =E16 -> 72 | J16: =(E16/80)*100 -> 90 | K16: =IF(J16<60,"N","Y") -> Y | L16: =(F16/80)*100 -> 90 | M16: =IF(L16<60,"N","Y") -> Y | N16: =(G16/80)*100 -> 90 | O16: =IF(N16<60,"N","Y") -> Y | P16: =(H16/80)*100 -> 90 | Q16: =IF(P16<60,"N","Y") -> Y | R16: =(I16/80)*100 -> 90 | S16: =IF(R16<60,"N","Y") -> Y
A17: 9 | B17: ARUNA B P | C17: 1SG15EE013 | D17: A | E17: 69 | F17: =E17 -> 69 | G17: =E17 -> 69 | H17: =E17 -> 69 | I17: =E17 -> 69 | J17: =(E17/80)*100 -> 86.25 | K17: =IF(J17<60,"N","Y") -> Y | L17: =(F17/80)*100 -> 86.25 | M17: =IF(L17<60,"N","Y") -> Y | N17: =(G17/80)*100 -> 86.25 | O17: =IF(N17<60,"N","Y") -> Y | P17: =(H17/80)*100 -> 86.25 | Q17: =IF(P17<60,"N","Y") -> Y | R17: =(I17/80)*100 -> 86.25 | S17: =IF(R17<60,"N","Y") -> Y
A18: 10 | B18: ATHIYA MOHAMMADI | C18: 1SG15EE014 | D18: A | E18: 76 | F18: =E18 -> 76 | G18: =E18 -> 76 | H18: =E18 -> 76 | I18: =E18 -> 76 | J18: =(E18/80)*100 -> 95 | K18: =IF(J18<60,"N","Y") -> Y | L18: =(F18/80)*100 -> 95 | M18: =IF(L18<60,"N","Y") -> Y | N18: =(G18/80)*100 -> 95 | O18: =IF(N18<60,"N","Y") -> Y | P18: =(H18/80)*100 -> 95 | Q18: =IF(P18<60,"N","Y") -> Y | R18: =(I18/80)*100 -> 95 | S18: =IF(R18<60,"N","Y") -> Y
A19: 11 | B19: BALAJI VENKATESH KALKONDA | C19: 1SG15EE015 | D19: A | E19: 70 | F19: =E19 -> 70 | G19: =E19 -> 70 | H19: =E19 -> 70 | I19: =E19 -> 70 | J19: =(E19/80)*100 -> 87.5 | K19: =IF(J19<60,"N","Y") -> Y | L19: =(F19/80)*100 -> 87.5 | M19: =IF(L19<60,"N","Y") -> Y | N19: =(G19/80)*100 -> 87.5 | O19: =IF(N19<60,"N","Y") -> Y | P19: =(H19/80)*100 -> 87.5 | Q19: =IF(P19<60,"N","Y") -> Y | R19: =(I19/80)*100 -> 87.5 | S19: =IF(R19<60,"N","Y") -> Y
A20: 12 | B20: C S MOHANA | C20: 1SG15EE017 | D20: A | E20: 70 | F20: =E20 -> 70 | G20: =E20 -> 70 | H20: =E20 -> 70 | I20: =E20 -> 70 | J20: =(E20/80)*100 -> 87.5 | K20: =IF(J20<60,"N","Y") -> Y | L20: =(F20/80)*100 -> 87.5 | M20: =IF(L20<60,"N","Y") -> Y | N20: =(G20/80)*100 -> 87.5 | O20: =IF(N20<60,"N","Y") -> Y | P20: =(H20/80)*100 -> 87.5 | Q20: =IF(P20<60,"N","Y") -> Y | R20: =(I20/80)*100 -> 87.5 | S20: =IF(R20<60,"N","Y") -> Y
... A106: 98 | B106: VARUN K M | C106: 1SG16EE450 | D106: B | E106: 67 | F106: =E106 -> 67 | G106: =E106 -> 67 | H106: =E106 -> 67 | I106: =E106 -> 67 | J106: =(E106/80)*100 -> 83.75 | K106: =IF(J106<60,"N","Y") -> Y | L106: =(F106/80)*100 -> 83.75 | M106: =IF(L106<60,"N","Y") -> Y | N106: =(G106/80)*100 -> 83.75 | O106: =IF(N106<60,"N","Y") -> Y | P106: =(H106/80)*100 -> 83.75 | Q106: =IF(P106<60,"N","Y") -> Y | R106: =(I106/80)*100 -> 83.75 | S106: =IF(R106<60,"N","Y") -> Y
J107: =COUNTIF(K9:K106,"Y") -> 97 | L107: =COUNTIF(M9:M106,"Y") -> 97 | N107: =COUNTIF(O9:O106,"Y") -> 97 | P107: =COUNTIF(Q9:Q106,"Y") -> 97 | R107: =COUNTIF(S9:S106,"Y") -> 97
J108: =(J107/A106)*100 -> 98.979592 | L108: =(L107/A106)*100 -> 98.979592 | N108: =(N107/A106)*100 -> 98.979592 | P108: =(P107/A106)*100 -> 98.979592 | R108: =(R107/A106)*100 -> 98.979592
B110: FOR HV LAB (15EEL77) | C110: TARGET: 90% OF STUDENTS WILL SCORE 50% OF MARKS | E110: CO1 | F110: CO2 | G110: CO3 | H110: CO4 | I110: CO5
E111: =J108 -> 98.979592 | F111: =L108 -> 98.979592 | G111: =N108 -> 98.979592 | H111: =P108 -> 98.979592 | I111: =R108 -> 98.979592

Sheet 15EEL77-HV LAB-CONSOLIDATED CO
A1: SAPTHAGIRI COLLEGE OF ENGINEERING, BENGALURU - 57.
A2: DEPARTMENT OF ELECTRICAL AND ELECTRONICS ENGINEERING
A3: DIRECT ASSESSMENT METHOD - CO ATTAINMENT (ODD SEM. 2018-19)
A4: Sem.: VII | C4: Subject: RELAY AND HV LAB | H4: Subject Code: 15EEL77
A5: Names of the faculty member: Dr. K N Ravi , Mr. Nagaraj H P, Mrs. RAMYA M, Mrs Manaswi K J
B7: TARGET: 80% ATTAINMENT
B8: COs | C8: CO1 | D8: CO2 | E8: CO3 | F8: CO4 | G8: CO5
B9: DAY-TO-DAY EVALUATION ATTAINMENT | C9: ='15EEL77-HV LAB-DAY-TO-DAY CO'!E111 -> 92.857143 | D9: ='15EEL77-HV LAB-DAY-TO-DAY CO'!F111 -> 90.816327 | E9: ='15EEL77-HV LAB-DAY-TO-DAY CO'!G111 -> 90.816327 | F9: ='15EEL77-HV LAB-DAY-TO-DAY CO'!H111 -> 95.918367 | G9: ='15EEL77-HV LAB-DAY-TO-DAY CO'!I111 -> 94.897959
B10: IA TEST MARKS ATTAINMENT | C10: ='15EEL77-HV LAB-IA TEST CO'!E111 -> 100 | D10: ='15EEL77-HV LAB-IA TEST CO'!F111 -> 100 | E10: ='15EEL77-HV LAB-IA TEST CO'!G111 -> 100 | F10: ='15EEL77-HV LAB-IA TEST CO'!H111 -> 100 | G10: ='15EEL77-HV LAB-IA TEST CO'!I111 -> 100
B11: FINAL EXAM ATTAINMENT | C11: ='15EEL77-HV LAB-FINAL EXAM CO'!E111 -> 98.979592 | D11: ='15EEL77-HV LAB-FINAL EXAM CO'!F111 -> 98.979592 | E11: ='15EEL77-HV LAB-FINAL EXAM CO'!G111 -> 98.979592 | F11: ='15EEL77-HV LAB-FINAL EXAM CO'!H111 -> 98.979592 | G11: ='15EEL77-HV LAB-FINAL EXAM CO'!I111 -> 98.979592
B12: AVERAGE | C12: =AVERAGE(C9:C11) -> 97.278912 | D12: =AVERAGE(D9:D11) -> 96.598639 | E12: =AVERAGE(E9:E11) -> 96.598639 | F12: =AVERAGE(F9:F11) -> 98.29932 | G12: =AVERAGE(G9:G11) -> 97.959184
B33: NEXT ACADEMIC YEAR TARGET CAN BE: 100%

Sheet COURSE EXIT SURVEY 
B1: SAPTHAGIRI COLLEGE OF ENGINEERING, BENGALURU - 57.
B2: DEPARTMENT OF ELECTRICAL AND ELECTRONICS ENGINEERING
B3: COURSE EXIT SURVEY RESPONSES (ODD SEM. 2018-19)
A4: Sem.: VII(A&B) | D4: Subject: Relay and HV LAB | H4: Subject Code: 15EEL77
A5: Name of the Faculty member: Dr. K N Ravi , Mr. Nagaraj H P, Mrs. RAMYA M, Mrs Manaswi K J | I5: NOTE: This survey is obtained through google Forms
A6: SL. NO. | B6: Timestamp | C6: NAME OF THE STUDENT | D6: USN | E6: Can you Experimentally verify the characteristics of over current, over voltage, under voltage and negative sequence relays both electromagnetic and static type? | F6: Can you Experimentally verify the characteristics of microprocessor based over current, over voltage, under voltage relays? | G6: Is it possible to Analyze the spark over characteristics for both uniform and non-uniform configurations using High AC and DC voltages? | H6: Can You Measure high AC and DC voltages and breakdown strength of transformer oil? | I6: Is it possible to Draw electric field and measure the capacitance of different electrode configuration models?
A7: 1 | B7: 43447.504 | C7: Abhishek. R | D7: 1sg15ee068 | E7: 5 (Excellent) | F7: 5 (Excellent) | G7: 5 (Excellent) | H7: 5 (Excellent) | I7: 5 (Excellent)
A8: 2 | B8: 43447.505 | C8: Ajay Bhava S | D8: 1sg16ee403 | E8: 5 (Excellent) | F8: 5 (Excellent) | G8: 5 (Excellent) | H8: 5 (Excellent) | I8: 5 (Excellent)
A9: 3 | B9: 43447.505 | C9: akhilesh | D9: 1sg16ee405 | E9: 5 (Excellent) | F9: 5 (Excellent) | G9: 5 (Excellent) | H9: 5 (Excellent) | I9: 5 (Excellent)
A10: 4 | B10: 43447.505 | C10: Annapurna Singh | D10: 1SG15EE005 | E10: 5 (Excellent) | F10: 5 (Excellent) | G10: 5 (Excellent) | H10: 5 (Excellent) | I10: 5 (Excellent)
A11: 5 | B11: 43447.505 | C11: Antonyms Roshan dsouza | D11: 1sg15ee006 | E11: 5 (Excellent) | F11: 5 (Excellent) | G11: 5 (Excellent) | H11: 5 (Excellent) | I11: 5 (Excellent)
A12: 6 | B12: 43447.505 | C12: Anusha. K | D12: 1sg15ee009 | E12: 5 (Excellent) | F12: 5 (Excellent) | G12: 5 (Excellent) | H12: 5 (Excellent) | I12: 5 (Excellent)
A13: 7 | B13: 43447.505 | C13: Apoorva K.G | D13: 1SG15EE010 | E13: 5 (Excellent) | F13: 5 (Excellent) | G13: 4 (Very good) | H13: 5 (Excellent) | I13: 4 (Very good)
A14: 8 | B14: 43447.505 | C14: Arpita Sharma | D14: 1sg15ee011 | E14: 5 (Excellent) | F14: 5 (Excellent) | G14: 4 (Very good) | H14: 4 (Very good) | I14: 4 (Very good)
A15: 9 | B15: 43447.505 | C15: ARPITHA SRINIVASA MURTHY | D15: 1SG15EE012 | E15: 4 (Very good) | F15: 5 (Excellent) | G15: 4 (Very good) | H15: 5 (Excellent) | I15: 4 (Very good)
A16: 10 | B16: 43447.505 | C16: Aruna | D16: 1sg15ee013 | E16: 5 (Excellent) | F16: 5 (Excellent) | G16: 5 (Excellent) | H16: 5 (Excellent) | I16: 5 (Excellent)
A17: 11 | B17: 43447.506 | C17: Athiya mohammadi | D17: 1sg15ee014 | E17: 4 (Very good) | F17: 4 (Very good) | G17: 5 (Excellent) | H17: 5 (Excellent) | I17: 5 (Excellent)
A18: 12 | B18: 43447.507 | C18: C S Mohana | D18: 1SG15EE017 | E18: 4 (Very good) | F18: 4 (Very good) | G18: 5 (Excellent) | H18: 4 (Very good) | I18: 5 (Excellent)
... A86: 80 | B86: 43450.43 | C86: Vishal pujari | D86: 1sg15ee097 | E86: 4 (Very good) | F86: 4 (Very good) | G86: 4 (Very good) | H86: 4 (Very good) | I86: 4 (Very good)
A87: No.Of Graded "0 (Not at all)" | E87: =COUNTIF(E7:E86,"0(Not at all)") -> 0 | F87: =COUNTIF(F7:F86,"0(Not at all)") -> 0 | G87: =COUNTIF(G7:G86,"0(Not at all)") -> 0 | H87: =COUNTIF(H7:H86,"0(Not at all)") -> 0 | I87: =COUNTIF(I7:I86,"0(Not at all)") -> 0
A88: No.Of Graded "1 (Poor)" | E88: =COUNTIF(E7:E86,"1(Poor)") -> 0 | F88: =COUNTIF(F7:F86,"1(Poor)") -> 0 | G88: =COUNTIF(G7:G86,"1(Poor)") -> 0 | H88: =COUNTIF(H7:H86,"1(Poor)") -> 0 | I88: =COUNTIF(I7:I86,"1(Poor)") -> 0
A89: No.Of Graded "2 (Fair)" | E89: =COUNTIF(E7:E86,"2 (Fair))") -> 0 | F89: =COUNTIF(F7:F86,"2 (Fair))") -> 0 | G89: =COUNTIF(G7:G86,"2 (Fair))") -> 0 | H89: =COUNTIF(H7:H86,"2 (Fair))") -> 0 | I89: =COUNTIF(I7:I86,"2 (Fair))") -> 0
A90: No.Of Graded "3(Satisfactory)" | E90: =COUNTIF(E7:E86,"3 (Satisfactory)") -> 1 | F90: =COUNTIF(F7:F86,"3 (Satisfactory)") -> 0 | G90: =COUNTIF(G7:G86,"3 (Satisfactory)") -> 0 | H90: =COUNTIF(H7:H86,"3 (Satisfactory)") -> 0 | I90: =COUNTIF(I7:I86,"3 (Satisfactory)") -> 0
A91: No.Of Graded "4(Very Good)" | E91: =COUNTIF(E7:E86,"4 (Very good)") -> 18 | F91: =COUNTIF(F7:F86,"4 (Very good)") -> 19 | G91: =COUNTIF(G7:G86,"4 (Very good)") -> 25 | H91: =COUNTIF(H7:H86,"4 (Very good)") -> 17 | I91: =COUNTIF(I7:I86,"4 (Very good)") -> 25
A92: No.Of Graded "5(Excellent)" | E92: =COUNTIF(E7:E86,"5 (Excellent)") -> 61 | F92: =COUNTIF(F7:F86,"5 (Excellent)") -> 61 | G92: =COUNTIF(G7:G86,"5 (Excellent)") -> 55 | H92: =COUNTIF(H7:H86,"5 (Excellent)") -> 63 | I92: =COUNTIF(I7:I86,"5 (Excellent)") -> 55

Sheet INDIRECT & FINAL CO ATTAINMENT
A1: SAPTHAGIRI COLLEGE OF ENGINEERING, BENGALURU - 57.
A2: DEPARTMENT OF ELECTRICAL AND ELECTRONICS ENGINEERING
A3: INDIRECT CO ASSESSMENT METHOD AND FINAL CO ATTAINMENT (ODD SEM. 2018-19)
A4: Sem.: VII(A&B) | E4: Subject: Relay and HV LAB | M4: Subject Code: 15EEL77
A5: Name of the Faculty member: Dr. K N Ravi , Mr. Nagaraj H P, Mrs. RAMYA M, Mrs Manaswi K J | M5: NOTE: This survey is obtained through google Forms
A6: CO No. | B6: CO description | C6: Course Exit Survey Questions | D6: No. of students given the ratings | J6: Total Responses | K6: Weighted Average | L6: CO Max. Count | M6: %age CO attainment
D7: 0 | E7: 1 | F7: 2 | G7: 3 | H7: 4 | I7: 5
A8: CO1 | B8: Experimentally verify the characteristics of over current, over voltage, under voltage and negative sequence relays both electromagnetic and static type? | C8: Can you Experimentally verify the characteristics of over current, over voltage, under voltage and negative sequence relays both electromagnetic and static type? | D8: 0 | E8: 0 | F8: 0 | G8: 1 | H8: 18 | I8: 61 | J8: 80 | K8: =(E8*1+F8*2+G8*3+H8*4+I8*5)/80 -> 4.75 | L8: 5 | M8: =(K8/L8)*100 -> 95
A9: CO2 | B9: Experimentally verify the characteristics of microprocessor based over current, over voltage, under voltage relays? | C9: Can you Experimentally verify the characteristics of microprocessor based over current, over voltage, under voltage relays? | D9: 0 | E9: 0 | F9: 0 | G9: 0 | H9: 19 | I9: 61 | J9: 80 | K9: =(E9*1+F9*2+G9*3+H9*4+I9*5)/80 -> 4.7625 | L9: 5 | M9: =(K9/L9)*100 -> 95.25
A10: CO3 | B10: Analyze the spark over characteristics for both uniform and non-uniform configurations using High AC and DC voltages? | C10: Is it possible to Analyze the spark over characteristics for both uniform and non-uniform configurations using High AC and DC voltages? | D10: 0 | E10: 0 | F10: 0 | G10: 0 | H10: 25 | I10: 55 | J10: 80 | K10: =(E10*1+F10*2+G10*3+H10*4+I10*5)/80 -> 4.6875 | L10: 5 | M10: =(K10/L10)*100 -> 93.75
A11: CO4 | B11: Measure high AC and DC voltages and breakdown strength of transformer oil? | C11: Can You Measure high AC and DC voltages and breakdown strength of transformer oil? | D11: 0 | E11: 0 | F11: 0 | G11: 0 | H11: 17 | I11: 63 | J11: 80 | K11: =(E11*1+F11*2+G11*3+H11*4+I11*5)/80 -> 4.7875 | L11: 5 | M11: =(K11/L11)*100 -> 95.75
A12: CO5 | B12: Draw electric field and measure the capacitance of different electrode configuration models? | C12: Is it possible to Draw electric field and measure the capacitance of different electrode configuration models? | D12: 0 | E12: 0 | F12: 0 | G12: 0 | H12: 25 | I12: 55 | J12: 80 | K12: =(E12*1+F12*2+G12*3+H12*4+I12*5)/80 -> 4.6875 | L12: 5 | M12: =(K12/L12)*100 -> 93.75
C15: COs | D15: CO1 | E15: CO2 | F15: CO3 | G15: CO4 | H15: CO5
C16: Weighted Average | D16: =K8 -> 4.75 | E16: =K9 -> 4.7625 | F16: =K10 -> 4.6875 | G16: =K12 -> 4.6875 | H16: =K12 -> 4.6875
C17: CO Max. count | D17: 5 | E17: 5 | F17: 5 | G17: 5 | H17: 5
C18: %age CO attainment | D18: =(D16/D17)*100 -> 95 | E18: =(E16/E17)*100 -> 95.25 | F18: =(F16/F17)*100 -> 93.75 | G18: =(G16/G17)*100 -> 93.75 | H18: =(H16/H17)*100 -> 93.75
C20: CO Assessment method | D20: CO1 | E20: CO2 | F20: CO3 | G20: CO4 | H20: CO5
C21: Direct method (IA Test, Assignment/quiz and exam) | D21: ='15EEL77-HV LAB-CONSOLIDATED CO'!C12 -> 97.278912 | E21: ='15EEL77-HV LAB-CONSOLIDATED CO'!D12 -> 96.598639 | F21: ='15EEL77-HV LAB-CONSOLIDATED CO'!E12 -> 96.598639 | G21: ='15EEL77-HV LAB-CONSOLIDATED CO'!F12 -> 98.29932 | H21: ='15EEL77-HV LAB-CONSOLIDATED CO'!G12 -> 97.959184
C22: Weightage (80%) | D22: =D21*0.8 -> 77.823129 | E22: =E21*0.8 -> 77.278912 | F22: =F21*0.8 -> 77.278912 | G22: =G21*0.8 -> 78.639456 | H22: =H21*0.8 -> 78.367347
C23: Indirect method (Course Exit Survey) | D23: =D18 -> 95 | E23: =E18 -> 95.25 | F23: =F18 -> 93.75 | G23: =G18 -> 93.75 | H23: =H18 -> 93.75
C24: Weightage (20%) | D24: =D23*0.2 -> 19 | E24: =E23*0.2 -> 19.05 | F24: =F23*0.2 -> 18.75 | G24: =G23*0.2 -> 18.75 | H24: =H23*0.2 -> 18.75
C25: Final CO Attainment | D25: =D22+D24 -> 96.823129 | E25: =E22+E24 -> 96.328912 | F25: =F22+F24 -> 96.028912 | G25: =G22+G24 -> 97.389456 | H25: =H22+H24 -> 97.117347
C28: Final CO Attainment in %age | D28: CO1 | E28: CO2 | F28: CO3 | G28: CO4 | H28: CO5
D29: =D25 -> 96.823129 | E29: =E25 -> 96.328912 | F29: =F25 -> 96.028912 | G29: =G25 -> 97.389456 | H29: =H25 -> 97.117347

Sheet CO ATTAINMENT
A1: SAPTHAGIRI COLLEGE OF ENGINEERING, BENGALURU - 57.
A2: DEPARTMENT OF ELECTRICAL AND ELECTRONICS ENGINEERING
A3: CO-PO ATTAINMENT (ODD SEM. 2018-19)
A4: Sem.: VII | C4: Subject: RELAY AND HV LAB | H4: Subject Code: 15EEL77
A5: Names of the faculty member: Dr. K N Ravi , Mr. Nagaraj H P, Mrs. RAMYA M, Mrs Manaswi K J
B6: I CO Attainment
B7: A: Direct assessment (80%)-Tests, Assignment, Examination
B8: B: Indirect assessment (20%)-Course end survey
B9: Sample
B10: COs | C10: Mapping POs | D10: Direct | E10: Indirect Assessment | F10: Overall Attainment | G10: Target (%) | H10: Attainment
D11: Assessment | E11: (b) | F11: 0.8 (a) + 0.2(b)
D12: (a)
B13: CO1 | C13: PO1, PO2, PO5, PO9, PO12. | D13: 97.278912 | E13: 95 | F13: =0.8*D13+0.2*E13 -> 96.823129 | G13: 95 | H13: YES
B14: CO2 | C14: PO1, PO2, PO3, PO9, PO12. | D14: 96.598639 | E14: 95.25 | F14: =0.8*D14+0.2*E14 -> 96.328912 | G14: 95 | H14: YES
B15: CO3 | C15: PO1, PO2, PO9, PO12. | D15: 96.598639 | E15: 93.75 | F15: =0.8*D15+0.2*E15 -> 96.028912 | G15: 95 | H15: YES
B16: CO4 | C16: PO1, PO2, PO5, PO9, PO12. | D16: 98.29932 | E16: 93.75 | F16: =0.8*D16+0.2*E16 -> 97.389456 | G16: 95 | H16: YES
B17: CO5 | C17: PO1, PO2, PO3, PO5, PO9, PO12. | D17: 97.959184 | E17: 93.75 | F17: =0.8*D17+0.2*E17 -> 97.117347 | G17: 95 | H17: YES

Sheet PO-PSO ATTAINMENT - DIRECT
B1: SAPTHAGIRI COLLEGE OF ENGINEERING, BENGALURU - 57.
B2: DEPARTMENT OF ELECTRICAL AND ELECTRONICS ENGINEERING
B3: CO-PO-PSO MAPPING (ODD SEM. 2018-19)
B4: Sem.: VII | G4: Subject: RELAY AND HV LAB | N4: Subject Code: 15EEL77
B5: Names of the faculty member: Dr. K N Ravi , Mr. Nagaraj H P, Mrs. RAMYA M, Mrs Manaswi K J
B7: (II) PO-PSO Attainment
B8: A. DIRECT ASSESSMENT METHOD
B9: Mapping of Course Outcomes (COs) and Program Outcomes (POs)
B10: Note: 1 = Slight 2 = Moderate 3 = Good 4 = Excellent
A11: Course Outcomes | C11: Program Outcomes | O11: PSO
C12: PO1 | D12: PO2 | E12: PO3 | F12: PO4 | G12: PO5 | H12: PO6 | I12: PO7 | J12: PO8 | K12: PO9 | L12: PO10 | M12: PO11 | N12: PO12 | O12: PSO1 | P12: PSO2 | Q12: PSO3
A13: CO1 | B13: 97.278912 | C13: 3 | D13: 2 | E13: --- | F13: --- | G13: 3 | H13: --- | I13: --- | J13: --- | K13: --- | L13: --- | M13: --- | N13: 2 | O13: 2 | P13: 3 | Q13: 2
A14: CO2 | B14: 96.598639 | C14: 3 | D14: 2 | E14: --- | F14: --- | G14: 3 | H14: --- | I14: --- | J14: --- | K14: --- | L14: --- | M14: --- | N14: 2 | O14: 2 | P14: 3 | Q14: 2
A15: CO3 | B15: 96.598639 | C15: 3 | D15: 2 | E15: --- | F15: --- | G15: 3 | H15: --- | I15: --- | J15: --- | K15: --- | L15: --- | M15: --- | N15: 2 | O15: 2 | P15: 3 | Q15: 2
A16: CO4 | B16: 98.29932 | C16: 3 | D16: 2 | E16: --- | F16: --- | G16: 3 | H16: --- | I16: --- | J16: --- | K16: --- | L16: --- | M16: --- | N16: 2 | O16: 2 | P16: 3 | Q16: 2
A17: CO5 | B17: 97.959184 | C17: 3 | D17: 2 | E17: 2 | F17: --- | G17: 3 | H17: --- | I17: --- | J17: --- | K17: --- | L17: --- | M17: --- | N17: 2 | O17: 3 | P17: 3 | Q17: 2
A18: Average | C18: =AVERAGE(C13:C17) -> 3 | D18: =AVERAGE(D13:D17) -> 2 | E18: =AVERAGE(E13:E17) -> 2 | F18: - | G18: =AVERAGE(G13:G17) -> 3 | H18: - | I18: - | J18: - | K18: - | L18: - | M18: - | N18: =AVERAGE(N13:N17) -> 2 | O18: =AVERAGE(O13:O17) -> 2.2 | P18: =AVERAGE(P13:P17) -> 3 | Q18: =AVERAGE(Q13:Q17) -> 2
B19: Mapping of Course Outcomes (COs) and Program Outcomes (POs)
B20: Note: 1 = Slight 2 = Moderate 3 = Good 4 = Excellent
B21: Course Outcomes | D21: Program Outcomes | P21: PSO
D22: PO1 | E22: PO2 | F22: PO3 | G22: PO4 | H22: PO5 | I22: PO6 | J22: PO7 | K22: PO8 | L22: PO9 | M22: PO10 | N22: PO11 | O22: PO12 | P22: PSO1 | Q22: PSO2 | R22: PSO3
B23: CO1 | C23: 97.278912 | D23: =(C13/4)*C23 -> 72.959184 | E23: =(D13/4)*C23 -> 48.639456 | F23: - | G23: - | H23: =(G13/4)*C23 -> 72.959184 | I23: - | J23: - | K23: - | L23: - | M23: - | N23: - | O23: =(N13/4)*C23 -> 48.639456 | P23: =(O13/4)*C23 -> 48.639456 | Q23: =(P13/4)*C23 -> 72.959184 | R23: =(Q13/4)*E23 -> 24.319728
B24: CO2 | C24: 96.598639 | D24: =(C14/4)*C24 -> 72.44898 | E24: =(D14/4)*C24 -> 48.29932 | F24: - | G24: - | H24: =(G14/4)*C24 -> 72.44898 | I24: - | J24: - | K24: - | L24: - | M24: - | N24: - | O24: =(N14/4)*C24 -> 48.29932 | P24: =(O14/4)*C24 -> 48.29932 | Q24: =(P14/4)*C24 -> 72.44898 | R24: =(Q14/4)*E24 -> 24.14966
B25: CO3 | C25: 96.598639 | D25: =(C15/4)*C25 -> 72.44898 | E25: =(D15/4)*C25 -> 48.29932 | F25: - | G25: - | H25: =(G15/4)*C25 -> 72.44898 | I25: - | J25: - | K25: - | L25: - | M25: - | N25: - | O25: =(N15/4)*C25 -> 48.29932 | P25: =(O15/4)*C25 -> 48.29932 | Q25: =(P15/4)*C25 -> 72.44898 | R25: =(Q15/4)*E25 -> 24.14966
B26: CO4 | C26: 98.29932 | D26: =(C16/4)*C26 -> 73.72449 | E26: =(D16/4)*C26 -> 49.14966 | F26: - | G26: - | H26: =(G16/4)*C26 -> 73.72449 | I26: - | J26: - | K26: - | L26: - | M26: - | N26: - | O26: =(N16/4)*C26 -> 49.14966 | P26: =(O16/4)*C26 -> 49.14966 | Q26: =(P16/4)*C26 -> 73.72449 | R26: =(Q16/4)*E26 -> 24.57483
B27: CO5 | C27: 97.959184 | D27: =(C17/4)*C27 -> 73.469388 | E27: =(D17/4)*C27 -> 48.979592 | F27: =(E17/4)*C27 -> 48.979592 | G27: - | H27: =(G17/4)*C27 -> 73.469388 | I27: - | J27: - | K27: - | L27: - | M27: - | N27: - | O27: =(N17/4)*C27 -> 48.979592 | P27: =(O17/4)*C27 -> 73.469388 | Q27: =(P17/4)*C27 -> 73.469388 | R27: =(Q17/4)*E27 -> 24.489796
B28: Average | D28: =AVERAGE(D23:D27) -> 73.010204 | E28: =AVERAGE(E23:E27) -> 48.673469 | F28: =AVERAGE(F23:F27) -> 48.979592 | G28: - | H28: =AVERAGE(H23:H27) -> 73.010204 | I28: - | J28: - | K28: - | L28: - | M28: - | N28: - | O28: =AVERAGE(O23:O27) -> 48.673469 | P28: =AVERAGE(P23:P27) -> 53.571429 | Q28: =AVERAGE(Q23:Q27) -> 73.010204 | R28: =AVERAGE(R23:R27) -> 24.336735
B30: PROGRAM OUTCOMES (POs):
B31: PO1 | C31: Engineering knowledge: Apply the knowledge of mathematics, science, engineering fundamentals, and an engineering specialization for the solution of complex engineering problems.
B32: PO2 | C32: Problem analysis: Identify, formulate, research literature, and analyze complex engineering problems reaching substantiated conclusions using first principles of mathematics, natural sciences, and engineering sciences.
B33: PO3 | C33: Design / development of solutions: Design solutions for complex engineering problems and design system components or processes that meet the specified needs with appropriate consideration for public health and safety, and cultural, societal, and environmental considerations.
B34: PO4 | C34: Conduct investigations of complex problems: Use research-based knowledge and research methods including design of experiments, analysis and interpretation of data, and synthesis of the information to provide valid conclusions.
B35: PO5 | C35: Modern tool usage: Create, select, and apply appropriate techniques, resources, and modern engineering and IT tools, including prediction and modelling to complex engineering activities, with an understanding of the limitations.
B36: PO6 | C36: The engineer and society: Apply reasoning informed by the contextual knowledge to assess societal, health, safety, legal, and cultural issues and the consequent responsibilities relevant to the professional engineering practice.
B37: PO7 | C37: Environment and sustainability: Understand the impact of the professional engineering solutions in societal and environmental contexts, and demonstrate the knowledge of, and need for sustainable development.
B38: PO8 | C38: Ethics: Apply ethical principles and commit to professional ethics and responsibilities and norms of the engineering practice.
B39: PO9 | C39: Individual and team work: Function effectively as an individual, and as a member or leader in diverse teams, and in multidisciplinary settings.
B40: PO10 | C40: Communication: Communicate effectively on complex engineering activities with the engineering community and with the society at large, such as, being able to comprehend and write effective reports and design documentation, make effective presentations, and give and receive clear instructions.
B41: PO11 | C41: Project management and finance: Demonstrate knowledge and understanding of the engineering and management principles and apply these to one’s own work, as a member and leader in a team, to manage projects and in multidisciplinary environments.
B42: PO12 | C42: Life-long learning: Recognize the need for, and have the preparation and ability to engage in independent and life-long learning in the broadest context of technological change.
...

Sheet PO-PSO ATTAINMENT - INDIRECT
B1: SAPTHAGIRI COLLEGE OF ENGINEERING, BENGALURU - 57.
B2: DEPARTMENT OF ELECTRICAL AND ELECTRONICS ENGINEERING
B3: CO-PO-PSO MAPPING (ODD SEM. 2018-19)
B4: Sem.: VII | G4: Subject: RELAY AND HV LAB | O4: Subject Code: 15EEL77
B5: Names of the faculty member: Dr. K N Ravi , Mr. Nagaraj H P, Mrs. RAMYA M, Mrs Manaswi K J
B7: (II) PO Attainment
B8: A. INDIRECT ASSESSMENT METHOD
B9: Mapping of Course Outcomes (COs) and Program Outcomes (POs)
B10: Note: 1 = Slight 2 = Moderate 3 = Good 4 = Excellent
A11: Course Outcomes | C11: Program Outcomes | O11: PSO
C12: PO1 | D12: PO2 | E12: PO3 | F12: PO4 | G12: PO5 | H12: PO6 | I12: PO7 | J12: PO8 | K12: PO9 | L12: PO10 | M12: PO11 | N12: PO12 | O12: PSO1 | P12: PSO2 | Q12: PSO3
A13: CO1 | B13: 95 | C13: 3 | D13: 2 | E13: --- | F13: --- | G13: 3 | H13: --- | I13: --- | J13: --- | K13: --- | L13: --- | M13: --- | N13: 2 | O13: 2 | P13: 3 | Q13: 2
A14: CO2 | B14: 95.25 | C14: 3 | D14: 2 | E14: --- | F14: --- | G14: 3 | H14: --- | I14: --- | J14: --- | K14: --- | L14: --- | M14: --- | N14: 2 | O14: 2 | P14: 3 | Q14: 2
A15: CO3 | B15: 93.75 | C15: 3 | D15: 2 | E15: --- | F15: --- | G15: 3 | H15: --- | I15: --- | J15: --- | K15: --- | L15: --- | M15: --- | N15: 2 | O15: 2 | P15: 3 | Q15: 2
A16: CO4 | B16: 93.75 | C16: 3 | D16: 2 | E16: --- | F16: --- | G16: 3 | H16: --- | I16: --- | J16: --- | K16: --- | L16: --- | M16: --- | N16: 2 | O16: 2 | P16: 3 | Q16: 2
A17: CO5 | B17: 93.75 | C17: 3 | D17: 2 | E17: 2 | F17: --- | G17: 3 | H17: --- | I17: --- | J17: --- | K17: --- | L17: --- | M17: --- | N17: 2 | O17: 3 | P17: 3 | Q17: 2
A18: AVERAGE | C18: =AVERAGE(C13:C17) -> 3 | D18: =AVERAGE(D13:D17) -> 2 | E18: =AVERAGE(E13:E17) -> 2 | F18: - | G18: =AVERAGE(G13:G17) -> 3 | H18: - | I18: - | J18: - | K18: - | L18: - | M18: - | N18: =AVERAGE(N13:N17) -> 2 | O18: =AVERAGE(O13:O17) -> 2.2 | P18: =AVERAGE(P13:P17) -> 3 | Q18: =AVERAGE(Q13:Q17) -> 2
B20: Mapping of Course Outcomes (COs) and Program Outcomes (POs)
B21: Note: 1 = Slight 2 = Moderate 3 = Good 4 = Excellent
B22: Course Outcomes | D22: Program Outcomes | P22: PSO
D23: PO1 | E23: PO2 | F23: PO3 | G23: PO4 | H23: PO5 | I23: PO6 | J23: PO7 | K23: PO8 | L23: PO9 | M23: PO10 | N23: PO11 | O23: PO12 | P23: PSO1 | Q23: PSO2 | R23: PSO3
B24: CO1 | C24: 95 | D24: =(C13/4)*C24 -> 71.25 | E24: =(D13/4)*C24 -> 47.5 | F24: - | G24: - | H24: =(G13/4)*C24 -> 71.25 | I24: - | J24: - | K24: - | L24: - | M24: - | N24: - | O24: =(N13/4)*C24 -> 47.5 | P24: =(O13/4)*C24 -> 47.5 | Q24: =(P13/4)*C24 -> 71.25 | R24: =(Q13/4)*C24 -> 47.5
B25: CO2 | C25: 95.25 | D25: =(C14/4)*C25 -> 71.4375 | E25: =(D14/4)*C25 -> 47.625 | F25: - | G25: - | H25: =(G14/4)*C25 -> 71.4375 | I25: - | J25: - | K25: - | L25: - | M25: - | N25: - | O25: =(N14/4)*C25 -> 47.625 | P25: =(O14/4)*C25 -> 47.625 | Q25: =(P14/4)*C25 -> 71.4375 | R25: =(Q14/4)*C25 -> 47.625
B26: CO3 | C26: 93.75 | D26: =(C15/4)*C26 -> 70.3125 | E26: =(D15/4)*C26 -> 46.875 | F26: - | G26: - | H26: =(G15/4)*C26 -> 70.3125 | I26: - | J26: - | K26: - | L26: - | M26: - | N26: - | O26: =(N15/4)*C26 -> 46.875 | P26: =(O15/4)*C26 -> 46.875 | Q26: =(P15/4)*C26 -> 70.3125 | R26: =(Q15/4)*C26 -> 46.875
B27: CO4 | C27: 93.75 | D27: =(C16/4)*C27 -> 70.3125 | E27: =(D16/4)*C27 -> 46.875 | F27: - | G27: - | H27: =(G16/4)*C27 -> 70.3125 | I27: - | J27: - | K27: - | L27: - | M27: - | N27: - | O27: =(N16/4)*C27 -> 46.875 | P27: =(O16/4)*C27 -> 46.875 | Q27: =(P16/4)*C27 -> 70.3125 | R27: =(Q16/4)*C27 -> 46.875
B28: CO5 | C28: 93.75 | D28: =(C17/4)*C28 -> 70.3125 | E28: =(D17/4)*C28 -> 46.875 | F28: =(E17/4)*C28 -> 46.875 | G28: - | H28: =(G17/4)*C28 -> 70.3125 | I28: - | J28: - | K28: - | L28: - | M28: - | N28: - | O28: =(N17/4)*C28 -> 46.875 | P28: =(O17/4)*C28 -> 70.3125 | Q28: =(P17/4)*C28 -> 70.3125 | R28: =(Q17/4)*C28 -> 46.875
B29: Average | D29: =AVERAGE(D24:D28) -> 70.725 | E29: =AVERAGE(E24:E28) -> 47.15 | F29: =AVERAGE(F24:F28) -> 46.875 | G29: - | H29: =AVERAGE(H24:H28) -> 70.725 | I29: - | J29: - | K29: - | L29: - | M29: - | N29: - | O29: =AVERAGE(O24:O28) -> 47.15 | P29: =AVERAGE(P24:P28) -> 51.8375 | Q29: =AVERAGE(Q24:Q28) -> 70.725 | R29: =AVERAGE(R24:R28) -> 47.15
B31: PROGRAM OUTCOMES (POs):
B32: PO1 | C32: Engineering knowledge: Apply the knowledge of mathematics, science, engineering fundamentals, and an engineering specialization for the solution of complex engineering problems.
B33: PO2 | C33: Problem analysis: Identify, formulate, research literature, and analyze complex engineering problems reaching substantiated conclusions using first principles of mathematics, natural sciences, and engineering sciences.
B34: PO3 | C34: Design / development of solutions: Design solutions for complex engineering problems and design system components or processes that meet the specified needs with appropriate consideration for public health and safety, and cultural, societal, and environmental considerations.
B35: PO4 | C35: Conduct investigations of complex problems: Use research-based knowledge and research methods including design of experiments, analysis and interpretation of data, and synthesis of the information to provide valid conclusions.
B36: PO5 | C36: Modern tool usage: Create, select, and apply appropriate techniques, resources, and modern engineering and IT tools, including prediction and modelling to complex engineering activities, with an understanding of the limitations.
B37: PO6 | C37: The engineer and society: Apply reasoning informed by the contextual knowledge to assess societal, health, safety, legal, and cultural issues and the consequent responsibilities relevant to the professional engineering practice.
B38: PO7 | C38: Environment and sustainability: Understand the impact of the professional engineering solutions in societal and environmental contexts, and demonstrate the knowledge of, and need for sustainable development.
B39: PO8 | C39: Ethics: Apply ethical principles and commit to professional ethics and responsibilities and norms of the engineering practice.
B40: PO9 | C40: Individual and team work: Function effectively as an individual, and as a member or leader in diverse teams, and in multidisciplinary settings.
B41: PO10 | C41: Communication: Communicate effectively on complex engineering activities with the engineering community and with the society at large, such as, being able to comprehend and write effective reports and design documentation, make effective presentations, and give and receive clear instructions.
B42: PO11 | C42: Project management and finance: Demonstrate knowledge and understanding of the engineering and management principles and apply these to one’s own work, as a member and leader in a team, to manage projects and in multidisciplinary environments.
B43: PO12 | C43: Life-long learning: Recognize the need for, and have the preparation and ability to engage in independent and life-long learning in the broadest context of technological change.
...
